{"text_format":"1","workbook":"xlsx","n_sheets":38,"sheets":["Introduction","Course List","2008-2009 Schedule","TCEs","Majors (2Y)","Majors (MMM)","Majors (1Y)","Majors (JDMBA)","Majors (MDMBA)","2 Yr Course Plan","1Y Course Plan","ACCT Info & MGMT","ACCT Info & MGMT 1Y & MMM","Analyt Consulting","Analytical Finance","Biotech","DECS","ENTR & Innovation","FINC","HEMA","HIMT","HR","INTL","MGMT & Org","MGMT & Strat","Managerial Econ","Marketing","Marketing 1Y","MKTG MGMT","MKTG MGMT 1Y","Media MGMT","OPNS","Real Estate MGMT","SCHEMA","SEEK","Tech Industry MGMT","Formulae","Professorial TCEs"],"not_rendered":{"charts":0,"images":0,"macros":1,"external_links":0,"defined_names":4,"comments":37,"pivot_tables":11},"unopened":[],"bounds":{"document_bytes":16777216,"sheet_cells":100000,"rows_first":2000,"rows_last":500,"rows_between":2000,"halvings":0,"cell_chars":16384,"cell_head_chars":4096},"cells_cut":0,"cells_raw":0,"read":"whole","date_system":"1900"}

{"sheet":"Introduction","index":0,"n_rows":24,"n_cols":4,"rows_kept":24,"cut":false,"hidden":false,"merged":[]}
[]
[]
[]
[]
[]
[]
[]
[]
[]
[]
[]
[]
[]
[]
[]
[]
[]
[]
[]
[null,null,null,"Key"]
["Major Complete","You've complete all of the requirements for the Major. Good for you."]
["Major Complete This Quarter","You'll have fulfilled the requirements for the Major at the end of the current quarter. Congratulations."]
["Major in Progress","If, over your one or two years at Kellogg you take the classes you're currently planning to enroll in, you'll complete the Major."]
["Potential Major","You've taken, are taking, or intend to take a course that fulfills a core requirement for the Major."]

{"sheet":"Course List","index":1,"n_rows":298,"n_cols":8,"rows_kept":298,"cut":false,"hidden":false,"merged":[]}
[null,"Kellogg Course List"]
[]
[]
["Reference #","Status","Term","Department","Course #","Course Name","Bid History","Credit Hours"]
[1,"Not Taken",null,"ACCT",430,"Accounting for Decision Making","Bid History",1]
[2,"Not Taken",null,"ACCT",431,"Managerial Accounting","Bid History",1]
[3,"Not Taken",null,"ACCT",432,"Information Technology in Healthcare Management","Bid History",1]
[4,"Not Taken",null,"ACCT",434,"Turbo Accounting","Bid History",1]
[6,"Not Taken",null,"ACCT",439,"Accounting for Manufacturing Management","Bid History",1]
[8,"Not Taken",null,"ACCT",442,"Strategic Managerial Accounting","Bid History",1]
[9,"Not Taken",null,"ACCT",444,"Financial Planning For Mergers and Acquisitions","Bid History",1]
[10,"Not Taken",null,"ACCT",451,"Financial Reporting & Analysis","Bid History",1]
[11,"Not Taken",null,"ACCT",452,"Financial Reporting & Analysis II","Bid History",1]
[12,"Not Taken",null,"ACCT",453,"Complex Financial Structures","Bid History",1]
[13,"Not Taken",null,"ACCT",454,"Management Lab (M-Lab)","Bid History",1]
[14,"Not Taken",null,"ACCT",455,"Accounting and Corporate Controls","Bid History",1]
[15,"Not Taken",null,"ACCT",460,"Federal Income Taxation","Bid History",1]
[16,"Not Taken",null,"ACCT",479,"Financial Assessment and Performance Evaluation of Healthcare Entities","Bid History",1]
[17,"Not Taken",null,"ACCT",499,"Independent Study","Bid History",1]
[5,"Not Taken",null,"ACCT","438-B","Accounting for Decision Making","Bid History",0.5]
[7,"Not Taken",null,"ACCT","440-A","Non Profit Financial & Budget Anaylsis","Bid History",1]
[24,"Not Taken",null,"BLAW",435,"Business Law I","Bid History",1]
[25,"Not Taken",null,"BLAW",437,"Issues In Antitrust","Bid History",1]
[26,"Not Taken",null,"BLAW",499,"Independent Study","Bid History","Input Value"]
[29,"Not Taken",null,"BLAW",913,"Not For Profit Institutions","Bid History",1]
[31,"Not Taken",null,"BLAW",916,"Managing Corporate Assets","Bid History",1]
[32,"Not Taken",null,"BLAW",917,"Business Law and Contracts","Bid History",1]
[33,"Not Taken",null,"BLAW",918,"Profiting From Technology: An Entrepreneur's Legal Guide/Securing, Developing, Exploiting Technology","Bid History",1]
[34,"Not Taken",null,"BLAW",921,"Business Law for Entrepreneurs","Bid History",1]
[27,"Not Taken",null,"BLAW","499-A","Independent Study","Bid History","Input Value"]
[28,"Not Taken",null,"BLAW","911-A","Business Law for Entrepreneurs","Bid History",0.5]
[30,"Not Taken",null,"BLAW","913-A","Not-for-Profit Institutions","Bid History",0.5]
[35,"Not Taken",null,"DECS",433,"Mathematical Methods for Management Decisions","Bid History",1]
[36,"Not Taken",null,"DECS",434,"Statistical Methods For Management Decisions","Bid History",1]
[37,"Not Taken",null,"DECS",436,"Accelerated Mathematical Methods","Bid History",1]
[38,"Not Taken",null,"DECS",437,"Accelerated Statistical Methods","Bid History",1]
[41,"Not Taken",null,"DECS",450,"Decision Analysis","Bid History",1]
[42,"Not Taken",null,"DECS",452,"Strategic Decision Making","Bid History",1]
[43,"Not Taken",null,"DECS",499,"Independent Study","Bid History","Input Value"]
[39,"Not Taken",null,"DECS","438-A","Managerial Decision Anaylsis","Bid History",0.5]
[40,"Not Taken",null,"DECS","439-B","Statistical Decision Analysis","Bid History",0.5]
[44,"Not Taken",null,"ENTR",462,"Entrepreneurship & New Venture Formulation","Bid History",1]
[45,"Not Taken",null,"ENTR",463,"Succesful Entrepreneurship","Bid History",1]
[46,"Not Taken",null,"ENTR",499,"Independent Study","Bid History","Input Value"]
[278,"Not Taken",null,"ENTR",903,"Corporate Innovation & New Ventures","Bid History",1]
[54,"Not Taken",null,"ENTR",926,"The Human Element in Private Equity Investing","Bid History",1]
[47,"Not Taken",null,"ENTR","499-A","Independent Study","Bid History",0.5]
[48,"Not Taken",null,"ENTR","499-B","Independent Study","Bid History",0.5]
[49,"Not Taken",null,"ENTR","901-A","Understanding and Managing Risk","Bid History",0.5]
[50,"Not Taken",null,"ENTR","902-A","Entrepreneurial Selling: Skills and Strategies","Bid History",0.5]
[51,"Not Taken",null,"ENTR","902-B","Entrepreneurial Selling: Skills and Strategies","Bid History",0.5]
[52,"Not Taken",null,"ENTR","903-A","Corporate Innovation & New Ventures","Bid History",0.5]
[53,"Not Taken",null,"ENTR","903-B","Corporate Innovation & New Ventures","Bid History",0.5]
[274,"Not Taken",null,"ENTR","904-A","Entrepreneurial Risk","Bid History",0.5]
[275,"Not Taken",null,"ENTR","904-B","Entrepreneurial Risk","Bid History",0.5]
[55,"Not Taken",null,"FINC",430,"Finance I","Bid History",1]
[56,"Not Taken",null,"FINC",440,"Finance I & II","Bid History",1]
[57,"Not Taken",null,"FINC",441,"Finance II","Bid History",1]
[58,"Not Taken",null,"FINC",442,"Financial Decisions","Bid History",1]
[59,"Not Taken",null,"FINC",445,"Venture Capital and Private Equity Investing","Bid History",1]
[60,"Not Taken",null,"FINC",446,"Entrepreneurial Finance","Bid History",1]
[61,"Not Taken",null,"FINC",447,"Financial Strategy and Tax Planning","Bid History",1]
[62,"Not Taken",null,"FINC",448,"Corporate Restructuring","Bid History",1]
[63,"Not Taken",null,"FINC",451,"Money Markets and the Fed","Bid History",1]
[64,"Not Taken",null,"FINC",453,"Risk Bearing Markets & Insurance","Bid History",1]
[65,"Not Taken",null,"FINC",460,"Investments","Bid History",1]
[66,"Not Taken",null,"FINC",461,"Investment Banking","Bid History",1]
[67,"Not Taken",null,"FINC",463,"Security Analysis","Bid History",1]
[68,"Not Taken",null,"FINC",464,"Fixed Income Securities","Bid History",1]
[69,"Not Taken",null,"FINC",465,"Derivative Markets I","Bid History",1]
[70,"Not Taken",null,"FINC",467,"Derivative Markets II","Bid History",1]
[71,"Not Taken",null,"FINC",470,"International Finance","Bid History",1]
[72,"Not Taken",null,"FINC",499,"Independent Study","Bid History","Input Value"]
[279,"Not Taken",null,"FINC",915,"Venture Lab (V-Lab)","Bid History",1]
[79,"Not Taken",null,"FINC",925,"Advanced Topics in Finance","Bid History",1]
[81,"Not Taken",null,"FINC",929,"Financial Institutions and Markets","Bid History",1]
[84,"Not Taken",null,"FINC",931,"Wall Street, Hedge Funds and Private Equity (LPB) Funds","Bid History",1]
[85,"Not Taken",null,"FINC",932,"Case Studies in Venture Investment and Management","Bid History",1]
[280,"Not Taken",null,"FINC",933,"Assett Management Practicum I","Bid History",1]
[290,"Not Taken",null,"FINC",935,"Assett Management Practicum III","Bid History",1]
[281,"Not Taken",null,"FINC",939,"Buyout Lab","Bid History",1]
[73,"Not Taken",null,"FINC","499-A","Independent Study","Bid History",0.5]
[74,"Not Taken",null,"FINC","499-B","Independent Study","Bid History",0.5]
[75,"Not Taken",null,"FINC","901-A","Understanding and Managing Risk","Bid History",0.5]
[76,"Not Taken",null,"FINC","918-A","Major Project and Project Finance in Emerging Markets","Bid History",0.5]
[254,"Not Taken",null,"FINC","918-B","Major Project and Project Finance in Emerging Markets","Bid History",0.5]
[289,"Not Taken",null,"FINC","919-B","Advanced Topics in International Finance","Bid History",0.5]
[77,"Not Taken",null,"FINC","921-A","Private Equity","Bid History",0.5]
[78,"Not Taken",null,"FINC","924-A","Real Options","Bid History",0.5]
[80,"Not Taken",null,"FINC","928-A","Financial Management and Strategy in Transportation","Bid History",0.5]
[82,"Not Taken",null,"FINC","930-A","Environmental Finance","Bid History",0.5]
[83,"Not Taken",null,"FINC","930-B","Environmental Finance","Bid History",0.5]
[86,"Not Taken",null,"FINC","933-C","Asset Management Practicum I","Bid History",0.5]
[87,"Not Taken",null,"FINC","934-C","Asset Management Practicum II","Bid History",0.5]
[88,"Not Taken",null,"FINC","935-C","Asset Management Practicum III","Bid History",0.5]
[89,"Not Taken",null,"FINC","936-C","Asset Management Practicum IV","Bid History",0.5]
[90,"Not Taken",null,"FINC","937-A","Microfinance & the Role of Financial Institutions in Development","Bid History",0.5]
[91,"Not Taken",null,"FINC","938-A","Due Diligence: Mergers & Acquisitions","Bid History",0.5]
[291,"Not Taken",null,"FINC","940-A","Financial Modeling for Leveraged Buyout Transactions","Bid History",0.5]
[292,"Not Taken",null,"FINC","940-B","Financial Modeling for Leveraged Buyout Transactions","Bid History",0.5]
[92,"Not Taken",null,"HEMA",440,"Introduction to the Principles and Management of Health Industry Systems","Bid History",1]
[93,"Not Taken",null,"HEMA",441,"Health Policy","Bid History",1]
[94,"Not Taken",null,"HEMA",451,"Legal Issues in Health Care Delivery","Bid History",1]
[95,"Not Taken",null,"HEMA",452,"Advanced Strategic Management in the Health Care Industry","Bid History",1]
[97,"Not Taken",null,"HEMA",453,"Managerial Challenges in the Pharmaceutical, Biotech, and Medical Devices Industries","Bid History",1]
[98,"Not Taken",null,"HEMA",455,"Special Topics in the Pharmaceutical, Biotechnology and Medical Device Industries","Bid History",1]
[18,"Not Taken",null,"HEMA",499,"Independent Study","Bid History","Input Value"]
[255,"Not Taken",null,"HEMA",512,"Health Services Management Field Study/Project Management","Bid History",1]
[266,"Not Taken",null,"HEMA",910,"Biotechnology Boot Camp","Bid History",0]
[99,"Not Taken",null,"HEMA",911,"Healthcare System Financing","Bid History",1]
[19,"Not Taken",null,"HEMA",911,"Dynamics of the Biotechnology/Life Sciences Industry","Bid History",1]
[20,"Not Taken",null,"HEMA",912,"Managing Innovation","Bid History",1]
[21,"Not Taken",null,"HEMA",913,"Biotech Business Practicum","Bid History",1]
[22,"Not Taken",null,"HEMA",914,"Biomedical Marketing","Bid History",1]
[271,"Not Taken",null,"HEMA",915,"Medical Innovations","Bid History",1]
[285,"Not Taken",null,"HEMA",916,"Medical Innovation II: Developing Biomedical Products from Patient to Market","Bid History",1]
[23,"Not Taken",null,"HEMA",919,"Biotechnology: Law, Business and Regulation","Bid History",1]
[96,"Not Taken",null,"HEMA","452-B","Advanced Strategic Management in Healthcare","Bid History",0.5]
[265,"Not Taken",null,"HEMA","913-A","An Overview of the Health Industry","Bid History",0.5]
[262,"Not Taken",null,"IEMS",490,"New Product Innovation","Bid History",1]
[263,"Not Taken",null,"IEMS",497,"Innovation Mini-courses","Bid History",1]
[100,"Not Taken",null,"IEMS","471-1","Factory Physics I","Bid History",1]
[101,"Not Taken",null,"IEMS","471-2","Factory Physics II","Bid History",1]
[102,"Not Taken",null,"INTL",442,"International Healthcare Systems","Bid History",1]
[103,"Not Taken",null,"INTL",456,"Intercultural Management","Bid History",1]
[104,"Not Taken",null,"INTL",457,"International Accounting","Bid History",1]
[105,"Not Taken",null,"INTL",460,"International Business Strategy","Bid History",1]
[106,"Not Taken",null,"INTL",466,"International Business Strategy in Non-Market Environments","Bid History",1]
[107,"Not Taken",null,"INTL",467,"International Marketing","Bid History",1]
[108,"Not Taken",null,"INTL",473,"Global Initiatives in Management (GIM)","Bid History",1]
[109,"Not Taken",null,"INTL",474,"Cross-Cultural Negotiation","Bid History",1]
[110,"Not Taken",null,"INTL",490,"Foreign Study","Bid History","Input Value"]
[112,"Not Taken",null,"INTL",499,"Independent Study","Bid History",1]
[114,"Not Taken",null,"INTL",912,"International Operations & Risk Management","Bid History",1]
[284,"Not Taken",null,"INTL",915,"Global Lab (G-Lab)","Bid History",1]
[111,"Not Taken",null,"INTL","491-B","Doing Business in Mexico","Bid History",0.5]
[113,"Not Taken",null,"INTL","499-B","Independent Study","Bid History",0.5]
[267,"Not Taken",null,"INTL","XXX","International Exchange Program","Bid History"]
[116,"Not Taken",null,"MECN",430,"Microeconomic Analysis","Bid History",1]
[117,"Not Taken",null,"MECN",436,"Turbo Microeconomic Analysis*","Bid History",1]
[120,"Not Taken",null,"MECN",441,"Competitive Strategy & Industrial Structure","Bid History",1]
[259,"Not Taken",null,"MECN",443,"Analytics of Corporate Planning & Strategy*","Bid History",1]
[121,"Not Taken",null,"MECN",446,"Pricing Strategies","Bid History",1]
[122,"Not Taken",null,"MECN",450,"Macroeconomic Analysis for Management","Bid History",1]
[123,"Not Taken",null,"MECN",451,"Business and Economic Forecasting*","Bid History",1]
[124,"Not Taken",null,"MECN",452,"International Economics","Bid History",1]
[260,"Not Taken",null,"MECN",463,"Entrepreneurial Leadership*","Bid History",1]
[125,"Not Taken",null,"MECN",499,"Independent Study","Bid History","Input Value"]
[127,"Not Taken",null,"MECN",911,"Crisis Management","Bid History",1]
[261,"Not Taken",null,"MECN",912,"Invention and Innovation*","Bid History",1]
[118,"Not Taken",null,"MECN","438-A","Microeconomic Analysis","Bid History",0.5]
[119,"Not Taken",null,"MECN","438-B","Microeconomic Analysis","Bid History",0.5]
[126,"Not Taken",null,"MECN","499-B","Independent Study","Bid History",0.5]
[128,"Not Taken",null,"MEDM",431,"Media and Integrated Marketing","Bid History",1]
[129,"Not Taken",null,"MEDM",499,"Independent Study","Bid History","Input Value"]
[130,"Not Taken",null,"MEDM",911,"Media Strategy and Implementation","Bid History",1]
[131,"Not Taken",null,"MEDM",912,"Understanding the Media and its Content","Bid History",1]
[132,"Not Taken",null,"MGMT",431,"Business Strategy","Bid History",1]
[133,"Not Taken",null,"MGMT",438,"Management of Enterprise","Bid History",1]
[134,"Not Taken",null,"MGMT",440,"Human Resource Management","Bid History",1]
[135,"Not Taken",null,"MGMT",444,"Healthcare Economics & Strategy","Bid History",1]
[136,"Not Taken",null,"MGMT",452,"Strategy & Organization","Bid History",1]
[137,"Not Taken",null,"MGMT",453,"Designing Management Strategy","Bid History",1]
[138,"Not Taken",null,"MGMT",461,"Economic Issues in Transportation","Bid History",1]
[139,"Not Taken",null,"MGMT",463,"Management of Technology","Bid History",1]
[140,"Not Taken",null,"MGMT",464,"Strategic Management of Technology and Innovation","Bid History",1]
[141,"Not Taken",null,"MGMT",465,"Small Business Management","Bid History",1]
[142,"Not Taken",null,"MGMT",467,"Strategic Business Issues in Transportation and Logistics","Bid History",1]
[144,"Not Taken",null,"MGMT",469,"Empirical Methods in Strategy","Bid History",1]
[145,"Not Taken",null,"MGMT",499,"Independent Study","Bid History",1]
[147,"Not Taken",null,"MGMT",512,"International Practicum/Cross-Cultural Management Practice","Bid History",1]
[148,"Not Taken",null,"MGMT",911,"Strategic Dilemmas in Business Design","Bid History",1]
[150,"Not Taken",null,"MGMT",914,"The Business of Intellectual Property","Bid History",1]
[151,"Not Taken",null,"MGMT",927,"Family Enterprises: Issues & Solutions","Bid History",1]
[152,"Not Taken",null,"MGMT",930,"Economics of Electronic Commerce Markets","Bid History",1]
[157,"Not Taken",null,"MGMT",934,"Managing Turnarounds","Bid History",1]
[160,"Not Taken",null,"MGMT",939,"Airline Economics, Management and Strategy","Bid History",1]
[161,"Not Taken",null,"MGMT",940,"Inudstry Evolution and the Origins of Competitive Advantage","Bid History",1]
[162,"Not Taken",null,"MGMT",941,"Issues in Air Transportation","Bid History",1]
[115,"Not Taken",null,"MGMT","499-A","Independent Study","Bid History",0.5]
[146,"Not Taken",null,"MGMT","499-B","Independent Study","Bid History",0.5]
[258,"Not Taken",null,"MGMT","512-A","International Practicum/Cross-Cultural Management Practice","Bid History",0.5]
[149,"Not Taken",null,"MGMT","913-A","Corporate Governance","Bid History",0.5]
[153,"Not Taken",null,"MGMT","931-A","Strategic Franchising","Bid History",0.5]
[154,"Not Taken",null,"MGMT","931-B","Strategic Franchising","Bid History",0.5]
[158,"Not Taken",null,"MGMT","936-A","Understanding Networked Industries","Bid History",0.5]
[159,"Not Taken",null,"MGMT","937-B","Transportation and Supply Chain Economics and Strategy","Bid History",0.5]
[163,"Not Taken",null,"MKTG",430,"Marketing Management","Bid History",1]
[164,"Not Taken",null,"MKTG",450,"Research Methods in Marketing","Bid History",1]
[165,"Not Taken",null,"MKTG",451,"Policies in Marketing Channels (Marketing Channel Strategies)","Bid History",1]
[273,"Not Taken",null,"MKTG",452,"Consumer Insight Tools","Bid History",1]
[166,"Not Taken",null,"MKTG",453,"Business Marketing","Bid History",1]
[167,"Not Taken",null,"MKTG",454,"Advertising Strategy","Bid History",1]
[168,"Not Taken",null,"MKTG",458,"Models of Consumer Behavior","Bid History",1]
[169,"Not Taken",null,"MKTG",459,"Services Marketing and Management","Bid History",1]
[170,"Not Taken",null,"MKTG",462,"Sales Promotion and Retailer Behavior","Bid History",1]
[171,"Not Taken",null,"MKTG",463,"Sales Force Management","Bid History",1]
[173,"Not Taken",null,"MKTG",465,"Introduction of New Products & Services","Bid History",1]
[174,"Not Taken",null,"MKTG",466,"Marketing Strategy","Bid History",1]
[175,"Not Taken",null,"MKTG",468,"Technology Marketing","Bid History",1]
[176,"Not Taken",null,"MKTG",499,"Independent Study","Bid History","Input Value"]
[178,"Not Taken",null,"MKTG",913,"Internet Marketing","Bid History",1]
[155,"Not Taken",null,"MKTG",920,"Entertainment Culture and Marketing","Bid History",1]
[179,"Not Taken",null,"MKTG",922,"Advanced Topics in Marketing","Bid History",1]
[293,"Not Taken",null,"MKTG",924,"Psychology of Markteing Implementation","Bid History",1]
[294,"Not Taken",null,"MKTG",951,"Sports Marketing","Bid History",1]
[225,"Not Taken",null,"MKTG",952,"Strategic Data-Driven Marketing","Bid History",1]
[172,"Not Taken",null,"MKTG","464-A","The Management of Product Development","Bid History",0.5]
[177,"Not Taken",null,"MKTG","499-B","Independent Study","Bid History",0.5]
[235,"Not Taken",null,"MKTG","938-B","Cases in Sustainability","Bid History",0.5]
[180,"Not Taken",null,"MKTG","950-C","Marketing for the Future","Bid History",0.5]
[181,"Complete","1st Yr. Fall","MORS",430,"Leadership in Organizations","Bid History",1]
[182,"Not Taken",null,"MORS",441,"Managing People for Competitive Advantage","Bid History",1]
[185,"Not Taken",null,"MORS",450,"Management Communications","Bid History",1]
[186,"Not Taken",null,"MORS",451,"Designing Organizational Systems","Bid History",1]
[187,"Not Taken",null,"MORS",452,"Leading the Strategic Change Process","Bid History",1]
[188,"Not Taken",null,"MORS",453,"Power in Organizations: Sources, Strategies and Skills","Bid History",1]
[190,"Not Taken",null,"MORS",455,"Strategy Implementation","Bid History",1]
[191,"Not Taken",null,"MORS",457,"Gender in Management","Bid History",1]
[192,"Not Taken",null,"MORS",458,"Managing With Professionals","Bid History",1]
[193,"Not Taken",null,"MORS",459,"Managing Technology: Development and Deployment","Bid History",1]
[195,"Not Taken",null,"MORS",460,"Leading and Managing Teams","Bid History",1]
[196,"Not Taken",null,"MORS",462,"Managing Workforce Diversity","Bid History",1]
[143,"Not Taken",null,"MORS",468,"Managerial Leadership","Bid History",1]
[197,"Not Taken",null,"MORS",470,"Negotiations","Bid History",1]
[198,"Not Taken",null,"MORS",471,"Individual & Competitive Decision Making","Bid History",1]
[202,"Not Taken",null,"MORS",476,"Bargaining","Bid History",1]
[199,"Not Taken",null,"MORS",499,"Independent Study","Bid History","Input Value"]
[201,"Not Taken",null,"MORS",913,"Entering and Operating in Emerging Economies","Bid History",1]
[268,"Not Taken",null,"MORS",916,"Socially Responsible Business Practices","Bid History",1]
[204,"Not Taken",null,"MORS",919,"Leading and Organizing an Entrepreneurial E-Business","Bid History",1]
[207,"Not Taken",null,"MORS",923,"Market Driven Strategies for Dynamic Markets","Bid History",1]
[208,"Not Taken",null,"MORS",924,"Consulting: Frameworks and Practices","Bid History",1]
[209,"Not Taken",null,"MORS",926,"Sustainable Innovation: Management & Organization","Bid History",1]
[156,"Not Taken",null,"MORS",933,"Leaders & Leadership","Bid History",1]
[205,"Not Taken",null,"MORS",934,"Managing in Professional Service Firms","Bid History",1]
[183,"Not Taken",null,"MORS","449-A","Writing in Organizations","Bid History",0.5]
[184,"Not Taken",null,"MORS","449-B","Writing in Organizations","Bid History",0.5]
[189,"Not Taken",null,"MORS","454-A","Creating and Managing Strategic Alliances","Bid History",0.5]
[194,"Not Taken",null,"MORS","459-B","Managing Technology Development and Deployment: Converging Technologies","Bid History",0.5]
[200,"Not Taken",null,"MORS","499-B","Independent Study","Bid History",0.5]
[257,"Not Taken",null,"MORS","916-B","Socially Responsible Business Practices","Bid History",0.5]
[203,"Not Taken",null,"MORS","917-A","Risky Decisions","Bid History",0.5]
[210,"Not Taken",null,"OPNS",430,"Operations Management","Bid History",1]
[206,"Not Taken",null,"OPNS",440,"Analytical Methods for Operations","Bid History",1]
[212,"Not Taken",null,"OPNS",450,"Spreadsheet Modeling for Managerial Decisions","Bid History",1]
[213,"Not Taken",null,"OPNS",453,"Inventory Management","Bid History",1]
[214,"Not Taken",null,"OPNS",454,"Operations Strategy","Bid History",1]
[215,"Not Taken",null,"OPNS",455,"Logistics and Supply Chain Management","Bid History",1]
[216,"Not Taken",null,"OPNS",456,"Total Quality Schools Practicum","Bid History",1]
[218,"Not Taken",null,"OPNS",482,"Service Operations","Bid History",1]
[217,"Not Taken",null,"OPNS",499,"Independent Study","Bid History","Input Value"]
[219,"Not Taken",null,"OPNS",915,"Information Technology and Business Process Management","Bid History",1]
[220,"Not Taken",null,"OPNS",916,"Process Management","Bid History",1]
[221,"Not Taken",null,"OPNS",917,"Project Management","Bid History",1]
[276,"Not Taken",null,"OPNS",918,"Disruptive Technolgy & Business Models","Bid History",1]
[211,"Not Taken",null,"OPNS","438-B","Operations Management (Turbo)","Bid History",0.5]
[244,"Not Taken",null,"OPNS","499-B","Independent Study","Bid History",0.5]
[282,"Not Taken",null,"OPNS","919-A","Operational Risk","Bid History",1]
[283,"Not Taken",null,"OPNS","920-B","Business and Nanotechnology","Bid History",1]
[222,"Not Taken",null,"REAL",442,"Real Estate Finance and Investments","Bid History",1]
[223,"Not Taken",null,"REAL",443,"Urban Economic Development and Real Estate Market Analysis","Bid History",1]
[224,"Not Taken",null,"REAL",444,"Real Estate Development","Bid History",1]
[226,"Not Taken",null,"REAL",447,"Legal Issues in Real Estate","Bid History",1]
[269,"Not Taken",null,"REAL",448,"Urban Public Finance","Bid History",1]
[227,"Not Taken",null,"REAL",464,"Real Estate Finance and Investments II","Bid History",1]
[228,"Not Taken",null,"REAL",499,"Independent Study","Bid History","Input Value"]
[272,"Not Taken",null,"REAL",910,"Advanced Real Estate Development and Corporate Strategy","Bid History",1]
[229,"Not Taken",null,"REAL",916,"Real Estate Lab (RE Lab)","Bid History",1]
[270,"Not Taken",null,"REAL","444-A","Real Estate Development","Bid History",0.5]
[286,"Not Taken",null,"REAL","449-B","Independent Study","Bid History",0.5]
[231,"Not Taken",null,"SEEK",441,"Strategic Management in Non-Market Environments","Bid History",1]
[232,"Not Taken",null,"SEEK",450,"Mission, Stategy and Finance in the Nonprofit Sector","Bid History",1]
[233,"Not Taken",null,"SEEK",451,"Leadership in Fundraising and Marketing","Bid History",1]
[264,"Not Taken",null,"SEEK",454,"The Education Industry","Bid History",1]
[239,"Not Taken",null,"SEEK",460,"Values-Based Leadership","Bid History",1]
[240,"Not Taken",null,"SEEK",470,"Public Policy Analysis for Managers","Bid History",1]
[241,"Not Taken",null,"SEEK",499,"Independent Study","Bid History","Input Value"]
[243,"Not Taken",null,"SEEK",916,"Socially Responsible Business Practices","Bid History",1]
[256,"Not Taken",null,"SEEK",935,"Environmental Management","Bid History",1]
[245,"Not Taken",null,"SEEK",955,"Advanced Studies in Board Governance","Bid History",1]
[230,"Not Taken",null,"SEEK",956,"Social Entrepreneurship in the Developing World","Bid History",1]
[234,"Will Enroll","2nd Yr. Fall","SEEK","440-A","Values and Crisis Decision Making","Bid History",0.5]
[236,"Not Taken",null,"SEEK","452-B","Social Entrepreneurship","Bid History",0.5]
[237,"Not Taken",null,"SEEK","453-A","Board Governance of Nonprofit Organizations","Bid History",0.5]
[238,"Not Taken",null,"SEEK","453-B","Board Governance of Nonprofit Organizations","Bid History",0.5]
[242,"Not Taken",null,"SEEK","459-A","Social Impact Speaker Series","Bid History",0]
[247,"Not Taken",null,"SEEK","499-B","Independent Study","Bid History",0.5]
[246,"Not Taken",null,"TECH",441,"Intellectual Capital Management","Bid History",1]
[249,"Not Taken",null,"TECH",442,"Enterprise Technology for General Managers","Bid History",1]
[277,"Not Taken",null,"TECH",443,"Managing Portfolios and Projects","Bid History",1]
[287,"Not Taken",null,"TECH",449,"Independent Study","Bid History",1]
[248,"Not Taken",null,"TECH",911,"The Strategic Impact of Information Technology","Bid History",1]
[250,"Not Taken",null,"TECH",917,"Analytical Marketing and Customer Relationship Management","Bid History",1]
[251,"Not Taken",null,"TECH",918,"Kellogg TechVenture","Bid History",1]
[252,"Not Taken",null,"TECH",919,"Innovation Process Management","Bid History",1]
[253,"Not Taken",null,"TECH",926,"Knowledge Management","Bid History",1]
[288,"Not Taken",null,"TECH","449-B","Independent Study","Bid History",0.5]

{"sheet":"2008-2009 Schedule","index":2,"n_rows":377,"n_cols":8,"rows_kept":377,"cut":false,"hidden":false,"merged":[]}
["Term","Department","#","Course Name","Section","Day","Time","Professor"]
["Fall","ACCT",430,"Accounting For Decision Making","61","Mon-Thu","8:30-10:00","Sridharan"]
["Fall","ACCT",430,"Accounting For Decision Making","62","Mon-Thu","10:30-12:00","Sridharan"]
["Fall","ACCT",430,"Accounting For Decision Making","63","Mon-Thu","13:30-15:00","Magee"]
["Fall","ACCT",430,"Accounting For Decision Making","64","Mon-Thu","15:30-17:00","Magee"]
["Fall","ACCT",430,"Accounting For Decision Making","65","Tue-Fri","8:30-10:00","Lansford"]
["Fall","ACCT",430,"Accounting For Decision Making","66","Tue-Fri","10:30-12:00","Lansford"]
["Fall","ACCT",430,"Accounting For Decision Making","67","Tue-Fri","13:30-15:00","Finn"]
["Fall","ACCT",430,"Accounting For Decision Making","68","Tue-Fri","15:30-17:00","Finn"]
["Fall","ACCT",430,"Accounting For Decision Making","69","Mon-Thu","10:30-12:00","Finn"]
["Fall","ACCT",431,"Managerial Accounting","61","Mon-Thu","10:30-12:00","Rusticus"]
["Fall","ACCT",444,"Financial Planning For Mergers and Acquisitions","81","Mon","18:30-21:30","Lys"]
["Fall","ACCT",444,"Financial Planning For Mergers and Acquisitions","82","Tue","18:30-21:30","Lys"]
["Fall","ACCT",451,"Financial Reporting and Analysis","61","Tue-Fri","8:30-10:00","Wongsunwai"]
["Fall","ACCT",451,"Financial Reporting and Analysis","62","Tue-Fri","10:30-12:00","Wongsunwai"]
["Fall","ACCT",454,"Management Lab (Formerly LEAP)","91","Tue","18:30-21:30","Balachandran"]
["Fall","BLAW",435,"Business Law I","81","Mon","18:30-21:30","McCareins"]
["Fall","BLAW","911-A","Business Law for Entrepreneurs","81","Thu","18:30-21:30","Bradley"]
["Fall","BLAW",917,"Business Law and Contracts","31","Tue","18:0-21:00","Tiller"]
["Fall","DECS",433,"Mathematical Methods For Management Decisions","61","Mon-Thu","8:30-10:00","Herold"]
["Fall","DECS",433,"Mathematical Methods For Management Decisions","62","Mon-Thu","10:30-12:00","Herold"]
["Fall","DECS",433,"Mathematical Methods For Management Decisions","63","Mon-Thu","13:30-15:00","Schummer"]
["Fall","DECS",433,"Mathematical Methods For Management Decisions","64","Mon-Thu","15:30-17:00","Schummer"]
["Fall","DECS",433,"Mathematical Methods For Management Decisions","65","Tue-Fri","10:30-12:00","McKeon"]
["Fall","DECS",433,"Mathematical Methods For Management Decisions","66","Tue-Fri","13:30-15:00","McKeon"]
["Fall","DECS",434,"Statistical Methods For Management Decisions","91","Tue","18:30-21:30","Dziuda"]
["Fall","ENTR",462,"Entrepreneurship & New Venture Formulation","91","Wed","18:30-21:30","Merkin"]
["Fall","ENTR","902-A","Entrepreneurial Selling: Skills and Strategies","81","Mon","18:30-21:30","Mayberry McKissack"]
["Fall","ENTR",903,"Corporate Innovation & New Ventures","81","Tue","18:30-21:30","Wolcott"]
["Fall","FINC",430,"Finance I","61","Tue-Fri","8:30-10:00","Kuhnen"]
["Fall","FINC",430,"Finance I","62","Tue-Fri","10:30-12:00","Kuhnen"]
["Fall","FINC",430,"Finance I","63","Tue-Fri","13:30-15:00","Kondo"]
["Fall","FINC",430,"Finance I","64","Tue-Fri","15:30-17:00","Kondo"]
["Fall","FINC",440,"Finance I/II","61","Mon-Thu","13:30-15:00","Eberly"]
["Fall","FINC",440,"Finance I/II","62","Mon-Thu","15:30-17:00","Eberly"]
["Fall","FINC",441,"Finance II","61","Mon-Thu","10:30-12:00","TBD"]
["Fall","FINC",441,"Finance II","62","Mon-Thu","13:30-15:00","TBD"]
["Fall","FINC",442,"Financial Decisions","61","Tue-Fri","8:30-10:00","Raviv"]
["Fall","FINC",442,"Financial Decisions","62","Tue-Fri","10:30-12:00","Raviv"]
["Fall","FINC",445,"Venture Capital and Private Equity Investing","61","Tue-Fri","13:30-15:00","Collins"]
["Fall","FINC",446,"Entrepreneurial Finance","61","Tue","15:15-18:15","Rogers"]
["Fall","FINC",446,"Entrepreneurial Finance","62","Tue-Fri","8:30-10:00","Collins"]
["Fall","FINC",460,"Investments","61","Mon-Thu","10:30-12:00","Papanikolaou"]
["Fall","FINC",463,"Security Analysis","61","Tue-Fri","10:30-12:00","Vincent"]
["Fall","FINC",463,"Security Analysis","62","Tue-Fri","13:30-15:00","Vincent"]
["Fall","FINC",465,"Derivative Markets I","61","Mon-Thu","8:30-10:00","Hagerty"]
["Fall","FINC",465,"Derivative Markets I","62","Mon-Thu","10:30-12:00","Todorov"]
["Fall","FINC",470,"International Finance","61","Mon-Thu","13:30-15:00","Rebelo"]
["Fall","FINC",470,"International Finance","62","Mon-Thu","15:30-17:00","Rebelo"]
["Fall","FINC",915,"Venture Lab (V-Lab)","61","Wed","10:15-12:15","Hochberg"]
["Fall","FINC","934-C","Asset Management Practicum II","81","Mon","18:30-21:30","Vincent"]
["Fall","FINC",939,"Buyout Lab","61","Wed","10:15-12:15","Stowell"]
["Fall","HEMA",441,"Health Policy","81","Wed","6:30-9:30","Hughes"]
["Fall","HEMA",910,"Science Boot Camp (Formerly BIOT-910-A)","61","Wed","10:15-12:15","Vohra"]
["Fall","HEMA","910-A","Science Boot Camp","61","Wed","10:15-12:15","Vohra"]
["Fall","INTL",460,"International Business Strategy","61","Tue-Fri","13:30-15:00","Spulber"]
["Fall","INTL",460,"International Business Strategy","81","Wed","18:30-21:30","Spulber"]
["Fall","INTL",474,"Cross-Cultural Negotiation","61","Mon-Thu","8:30-10:00","Brett"]
["Fall","INTL",474,"Cross-Cultural Negotiation","62","Mon-Thu","10:30-12:00","Brett"]
["Fall","MECN",430,"Microeconomic Analysis","61","Mon-Thu","8:30-10:00","Satterthwaite"]
["Fall","MECN",430,"Microeconomic Analysis","62","Mon-Thu","10:30-12:00","Satterthwaite"]
["Fall","MECN",441,"Competitive Strategy and Industrial Structure","61","Mon-Thu","10:30-12:00","Klibanoff"]
["Fall","MECN",441,"Competitive Strategy and Industrial Structure","62","Mon-Thu","13:30-15:00","Klibanoff"]
["Fall","MEDM",911,"Media Strategy and Implementation","81","Thu","18:30-21:30","Smith"]
["Fall","MGMT",431,"Business Strategy","61","MR","8:30-10:00","Hubbard"]
["Fall","MGMT",431,"Business Strategy","62","MR","10:30-12:00","Mazzeo"]
["Fall","MGMT",431,"Business Strategy","63","MR","13:30-15:00","Mazzeo"]
["Fall","MGMT",431,"Business Strategy","64","MR","15:30-17:00","Mazzeo"]
["Fall","MGMT",431,"Business Strategy","65","TF","8:30-10:00","Busse"]
["Fall","MGMT",431,"Business Strategy","66","TF","10:30-12:00","Busse"]
["Fall","MGMT",431,"Business Strategy","67","TF","13:30-15:00","Lenzo"]
["Fall","MGMT",431,"Business Strategy","68","TF","15:30-17:00","Lenzo"]
["Fall","MGMT",431,"Business Strategy","69","MR","13:30-15:00","Hubbard"]
["Fall","MGMT",444,"Health Economics","81","Mon","18:30-21:00","Dranove"]
["Fall","MGMT",452,"Strategy & Organization","61","MR","10:30-12:00","Ottaviani"]
["Fall","MGMT",452,"Strategy & Organization","62","MR","13:30-15:00","Ottaviani"]
["Fall","MGMT",463,"Management of Technology","61","MR","13:30-15:00","Greenstein"]
["Fall","MGMT","512-A","Intl Practicum/Cross-Cultural Management Practice","61","TBD","TBD","Haider"]
["Fall","MGMT","931-A","Strategic Franchising","81","Tue","18:30-21:30","Cohen"]
["Fall","MGMT",934,"Managing Turnarounds","81","Mon","18:30-21:30","Shein"]
["Fall","MKTG",430,"Marketing Management","61","MR","8:30-10:00","Grayson"]
["Fall","MKTG",430,"Marketing Management","62","MR","10:30-12:00","Grayson"]
["Fall","MKTG",430,"Marketing Management","63","MR","13:30-15:00","Zerrillo"]
["Fall","MKTG",430,"Marketing Management","64","MR","15:30-17:00","Zerrillo"]
["Fall","MKTG",430,"Marketing Management","65","TF","8:30-10:00","Hennessy"]
["Fall","MKTG",430,"Marketing Management","66","TF","10:30-12:00","Hennessy"]
["Fall","MKTG",450,"Research Methods In Marketing","61","MR","8:30-10:00","Schieffer"]
["Fall","MKTG",454,"Advertising Strategy","61","MR","13:30-15:00","Sternthal"]
["Fall","MKTG",459,"Services Marketing and Management","81","Tue","18:30-21:30","Honack"]
["Fall","MKTG",463,"Sales Force Management","61","MR","13:30-15:00","Zoltners"]
["Fall","MKTG","464-A","The Management of Product Development","81","Mon","18:30-21:30","Herbst"]
["Fall","MKTG",466,"Marketing Strategy","61","MR","10:30-12:00","Calkins"]
["Fall","MKTG",466,"Marketing Strategy","62","MR","15:30-17:00","Calkins"]
["Fall","MKTG",952,"Strategic Data-Driven Marketing","81","Wed","18:30-21:30","Jeffery"]
["Fall","MKTG",952,"Strategic Data-Driven Marketing","81","Wed","18:30-21:30","Walker"]
["Fall","MORS",430,"Leadership in Organizations","61","MTWRF","10:00-13:00","Medvec"]
["Fall","MORS",430,"Leadership in Organizations","62","MTWRF","10:00-13:00","Uzzi"]
["Fall","MORS",430,"Leadership in Organizations","63","MTWRF","14:00-17:00","Medvec"]
["Fall","MORS",430,"Leadership in Organizations","64","MTWRF","14:00-17:00","Uzzi"]
["Fall","MORS",430,"Leadership in Organizations","65","MTWRF","10:00-13:00","Galinsky"]
["Fall","MORS",430,"Leadership in Organizations","66","MTWRF","10:00-13:00","Phillips"]
["Fall","MORS",430,"Leadership in Organizations","67","MTWRF","14:00-17:00","Galinsky"]
["Fall","MORS",430,"Leadership in Organizations","68","MTWRF","14:00-17:00","Phillips"]
["Fall","MORS","449-A","Writing in Organizations","61","TF","13:30-15:00","Shwom"]
["Fall","MORS",453,"Power In Organizations: Sources, Strategies and Skills","61","Tue-Fri","10:30-12:00","Ocasio"]
["Fall","MORS",453,"Power In Organizations: Sources, Strategies and Skills","62","Tue-Fri","13:30-15:00","Ocasio"]
["Fall","MORS",460,"Leading and Managing Teams","91","Mon","18:30-21:30","Kinias"]
["Fall","MORS",468,"Managerial Leadership (formerly MGMT-468-0)","91","Wed","18:30-21:30","Kraemer"]
["Fall","MORS",470,"Negotiations","91","Mon","18:30-21:30","Thompson"]
["Fall","MORS",470,"Negotiations","92","Tue","18:30-21:30","TBD"]
["Fall","OPNS",440,"Analytical Methods for Operations","61","MR","15:30-17:00","Deshmukh"]
["Fall","OPNS",450,"Spreadsheet Modeling for Managerial Decisions","61","MR","10:30-12:00","Walker"]
["Fall","OPNS",450,"Spreadsheet Modeling for Managerial Decisions","62","MR","13:30-15:00","Walker"]
["Fall","OPNS",455,"Logistics and Supply Chain Management","61","TF","8:30-10:00","Chopra"]
["Fall","REAL",443,"Urban Economic Development and Real Estate Market Analysis","81","Thu","18:30-21:30","Mattoon"]
["Fall","REAL",447,"Legal Issues In Real Estate","81","Tue","18:30-21:30","Dana"]
["Fall","REAL",916,"RE Lab","81","Wed","10:15-12:15","TBD"]
["Fall","SEEK","440-A","Values and Crisis Decision Making","61","MTWRF","13:30-16:30","Feddersen"]
["Fall","SEEK","440-A","Values and Crisis Decision Making","62","MTWRF","13:30-16:30","Callander"]
["Fall","SEEK","440-A","Values and Crisis Decision Making","63","MTWRF","9:00-12:00","Feddersen"]
["Fall","SEEK","440-A","Values and Crisis Decision Making","64","MTWRF","9:00-12:00","Callander"]
["Fall","SEEK","440-A","Values and Crisis Decision Making","65","MTWRF","13:30-16:30","Baliga"]
["Fall","SEEK","440-A","Values and Crisis Decision Making","66","MTWRF","13:30-16:30","Austen-Smith"]
["Fall","SEEK","440-A","Values and Crisis Decision Making","67","MTWRF","9:00-12:00","Baliga"]
["Fall","SEEK","440-A","Values and Crisis Decision Making","68","MTWRF","9:00-12:00","Austen-Smith"]
["Fall","SEEK",441,"Strategic Management in Non-Market Environments","61","TF","10:30-12:00","TBD"]
["Fall","SEEK",450,"Leading the Mission Driven Enterprises","81","Mon","18:30-21:30","Haider"]
["Fall","SEEK","459-A","Social Impact Speaker Series","81","Wed","18:30-21:30","TBD"]
["Fall","SEEK",470,"Public Economics for Business Leaders","81","Thu","18:30-21:30","Besanko"]
["Fall","SEEK",935,"Environmental Management and Sustainability","61","MR","8:30-10:00","Kiesling"]
["Fall","TECH",917,"Strategic and Analytical Customer Relationship Management","81","Thu","18:30-21:30","Choudhary"]
["Winter","ACCT",431,"Managerial Accounting","81","Tue","18:30-21:30","TBD"]
["Winter","ACCT",451,"Financial Reporting and Analysis","61","Tue-Fri","10:30-12:00","Sunder"]
["Winter","ACCT",451,"Financial Reporting and Analysis","62","Tue-Fri","13:30-15:00","Sunder"]
["Winter","ACCT",451,"Financial Reporting and Analysis","81","Mon","18:30-21:30","Sunder"]
["Winter","ACCT",452,"Financial Reporting and Analysis II","81","Tue","18:30-21:30","Finn"]
["Winter","BLAW",921,"Business Law for Entrepreneurs","81","Thu","18:30-21:30","Bradley"]
["Winter","DECS",434,"Statistical Methods For Management Decisions","61","Mon-Thu","8:30-10:00","Ekmekci"]
["Winter","DECS",434,"Statistical Methods For Management Decisions","62","Mon-Thu","10:30-12:00","Ekmekci"]
["Winter","DECS",434,"Statistical Methods For Management Decisions","63","Mon-Thu","13:30-15:00","Kuzmics"]
["Winter","DECS",434,"Statistical Methods For Management Decisions","64","Mon-Thu","15:30-17:00","Kuzmics"]
["Winter","DECS",434,"Statistical Methods For Management Decisions","65","Tue-Fri","10:30-12:00","TBD"]
["Winter","DECS",434,"Statistical Methods For Management Decisions","66","Tue-Fri","13:30-15:00","TBD"]
["Winter","DECS",434,"Statistical Methods For Management Decisions","91","Wed","18:30-21:30","Fong"]
["Winter","DECS",450,"Decision Analysis","61","Mon-Thu","13:30-15:00","McKeon"]
["Winter","DECS",450,"Decision Analysis","62","Mon-Thu","15:30-17:00","McKeon"]
["Winter","DECS",452,"Strategic Decision Making","61","Tue-Fri","15:30-17:00","Kalai"]
["Winter","ENTR",462,"Entrepreneurship & New Venture Formulation","81","Mon","18:30-21:30","Shein"]
["Winter","FINC",430,"Finance I","61","Tue-Fri","8:30-10:00","Vissing-Jorgensen"]
["Winter","FINC",430,"Finance I","62","Tue-Fri","10:30-12:00","Vissing-Jorgensen"]
["Winter","FINC",430,"Finance I","63","Tue-Fri","13:30-15:00","Vissing-Jorgensen"]
["Winter","FINC",430,"Finance I","64","TBD","TBD","TBD"]
["Winter","FINC",440,"Finance I/II","61","Mon-Thu","13:30-15:00","Banerjee"]
["Winter","FINC",441,"Finance II","61","Mon-Thu","13:30-15:00","Petersen"]
["Winter","FINC",441,"Finance II","62","Mon-Thu","8:30-10:00","Petersen"]
["Winter","FINC",441,"Finance II","63","Tue-Fri","10:30-12:00","Matsa"]
["Winter","FINC",442,"Financial Decisions","61","Tue-Fri","8:30-10:00","Fishman"]
["Winter","FINC",442,"Financial Decisions","62","Tue-Fri","10:30-12:00","Fishman"]
["Winter","FINC",442,"Financial Decisions","63","Tue-Fri","13:30-15:00","Thomson"]
["Winter","FINC",442,"Financial Decisions","64","Tue-Fri","15:30-17:00","Thomson"]
["Winter","FINC",445,"Venture Capital and Private Equity Investing","91","Tue","18:30-21:30","TBD"]
["Winter","FINC",446,"Entrepreneurial Finance","61","Tue","15:15-18:15","Rogers"]
["Winter","FINC",447,"Financial Strategy and Tax Planning","61","Mon-Thu","13:30-15:00","Petersen"]
["Winter","FINC",460,"Investments","61","Tue-Fri","13:30-15:00","Schaumburg"]
["Winter","FINC",461,"Investment Banking","61","Tue-Fri","10:30-12:00","Stowell"]
["Winter","FINC",465,"Derivative Markets I","61","Mon-Thu","8:30-10:00","McDonald"]
["Winter","FINC",465,"Derivative Markets I","62","Mon-Thu","10:30-12:00","McDonald"]
["Winter","FINC",467,"Derivative Markets II","81","Tue","18:30-21:30","McDonald"]
["Winter","FINC",470,"International Finance","61","Mon-Thu","15:30-17:00","Andersen"]
["Winter","FINC",915,"Venture Lab (V-Lab)","61","Wed","13:30-15:00","Hochberg"]
["Winter","FINC","918-A","Major Project and Project Finance in Emerging Markets","81","Tue","18:30-21:30","Knuepfer"]
["Winter","FINC",932,"Case Studies in Venture Investment and Management","81","Thu","18:30-21:30","Hochberg"]
["Winter","FINC","935-C","Asset Management Practicum III","81","Mon","18:30-21:30","Korajczyk"]
["Winter","FINC",939,"Buyout Lab","61","TBD","TBD","Stowell"]
["Winter","FINC","940-A","Financial Modeling for Leveraged Buyout Transactions","91","TBD","TBD","Saraiya"]
["Winter","INTL",442,"International Healthcare Systems","81","Mon","18:30-21:30","Shalowitz"]
["Winter","INTL",466,"International Business Strategy in Non-Market Environments","61","Mon-Thu","10:30-12:00","Jones"]
["Winter","INTL",466,"International Business Strategy in Non-Market Environments","62","Mon-Thu","13:30-15:00","Jones"]
["Winter","INTL",473,"Global Initiatives in Management (GIM)","60","Wed","15:15-18:15","TBD"]
["Winter","INTL",473,"Global Initiatives in Management (GIM)","61","Wed","15:15-18:15","TBD"]
["Winter","INTL",473,"Global Initiatives in Management (GIM)","62","Wed","15:15-18:15","TBD"]
["Winter","INTL",473,"Global Initiatives in Management (GIM)","63","Wed","15:15-18:15","TBD"]
["Winter","INTL",473,"Global Initiatives in Management (GIM)","64","Wed","15:15-18:15","TBD"]
["Winter","INTL",473,"Global Initiatives in Management (GIM)","65","Wed","15:15-18:15","TBD"]
["Winter","INTL",473,"Global Initiatives in Management (GIM)","66","Wed","15:15-18:15","TBD"]
["Winter","INTL",473,"Global Initiatives in Management (GIM)","67","Wed","15:15-18:15","TBD"]
["Winter","INTL",473,"Global Initiatives in Management (GIM)","68","Wed","15:15-18:15","TBD"]
["Winter","INTL",473,"Global Initiatives in Management (GIM)","69","Wed","15:15-18:15","TBD"]
["Winter","INTL",473,"Global Initiatives in Management (GIM)","91","Wed","15:15-18:15","TBD"]
["Winter","INTL",473,"Global Initiatives in Management (GIM)","92","Wed","15:15-18:15","TBD"]
["Winter","INTL",474,"Cross-Cultural Negotiation","91","Thu","18:30-21:30","TBD"]
["Winter","INTL",915,"Global Lab (G-Lab)","61","Mon","15:30-17:00","Christensen"]
["Winter","MECN",430,"Microeconomic Analysis","61","Mon-Thu","8:30-10:00","Atakan"]
["Winter","MECN",430,"Microeconomic Analysis","62","Mon-Thu","10:30-12:00","Atakan"]
["Winter","MECN",430,"Microeconomic Analysis","63","Mon-Thu","13:30-15:00","Al-Najjar"]
["Winter","MECN",430,"Microeconomic Analysis","64","Mon-Thu","15:30-17:00","Al-Najjar"]
["Winter","MECN",430,"Microeconomic Analysis","65","Tue-Fri","8:30-10:00","TBD"]
["Winter","MECN",430,"Microeconomic Analysis","66","Tue-Fri","10:30-12:00","Loeper"]
["Winter","MECN",430,"Microeconomic Analysis","67","Tue-Fri","13:30-15:00","Loeper"]
["Winter","MECN",430,"Microeconomic Analysis","68","Tue-Fri","15:30-17:00","TBD"]
["Winter","MECN",441,"Competitive Strategy and Industrial Structure","61","TBD","TBD","TBD"]
["Winter","MECN",441,"Competitive Strategy and Industrial Structure","62","TBD","TBD","TBD"]
["Winter","MECN",446,"Pricing Strategies","61","TBD","TBD","TBD"]
["Winter","MECN",446,"Pricing Strategies","81","TBD","TBD","TBD"]
["Winter","MECN",450,"Macroeconomic Analysis For Management","61","TBD","TBD","TBD"]
["Winter","MEDM",912,"Understanding the Media and its Content","81","Thu","18:30-21:30","Smith"]
["Winter","MGMT",452,"Strategy & Organization","61","Mon-Thu","8:30-10:00","Matouschek"]
["Winter","MGMT",463,"Management of Technology","61","Tue-Fri","13:30-15:00","Stern"]
["Winter","MGMT",911,"Strategic Dilemmas in Business Design","81","Mon","18:30-21:30","Gray"]
["Winter","MGMT",911,"Strategic Dilemmas in Business Design","81","Mon","18:30-21:30","Jacobs"]
["Winter","MGMT","913-A","Corporate Governance","81","Tue","18:30-21:30","Jacobs"]
["Winter","MGMT",927,"Family Enterprises: Issues & Solutions","81","Mon","18:30-21:30","Ward"]
["Winter","MKTG",430,"Marketing Management","61","Tue-Fri","8:30-10:00","Hennessy"]
["Winter","MKTG",430,"Marketing Management","62","Tue-Fri","10:30-12:00","Hennessy"]
["Winter","MKTG",430,"Marketing Management","63","Tue-Fri","15:30-17:00","Zielinski"]
["Winter","MKTG",430,"Marketing Management","64","Tue-Fri","13:30-15:00","TBD"]
["Winter","MKTG",450,"Research Methods In Marketing","61","Mon-Thu","10:30-12:00","TBD"]
["Winter","MKTG",450,"Research Methods In Marketing","62","Mon-Thu","13:30-15:00","TBD"]
["Winter","MKTG",451,"Marketing Channel Strategies","61","Mon-Thu","8:30-10:00","Wilson"]
["Winter","MKTG",451,"Marketing Channel Strategies","81","Thu","18:30-21:30","Coughlan"]
["Winter","MKTG",452,"Consumer Insight Tools","61","Tue-Fri","13:30-15:00","Schieffer"]
["Winter","MKTG",453,"Business Marketing","61","Mon-Thu","8:30-10:00","Anderson"]
["Winter","MKTG",454,"Advertising Strategy","61","Mon-Thu","13:30-15:00","Pearlman"]
["Winter","MKTG",454,"Advertising Strategy","62","Mon-Thu","15:30-17:00","Pearlman"]
["Winter","MKTG",454,"Advertising Strategy","81","Mon","18:30-21:30","Sternthal"]
["Winter","MKTG",458,"Models of Consumer Behavior","61","Mon-Thu","15:30-17:00","Calder"]
["Winter","MKTG",462,"Sales Promotion and Retailer Behavior","61","Tue-Fri","13:30-15:00","Anderson"]
["Winter","MKTG",465,"Introduction of New Products and Services","61","Mon-Thu","8:30-10:00","Razeghi"]
["Winter","MKTG",466,"Marketing Strategy","61","Tue-Fri","8:30-10:00","TBD"]
["Winter","MKTG",466,"Marketing Strategy","62","Mon-Thu","10:30-12:00","TBD"]
["Winter","MORS",450,"Management Communications","91","Tue","18:30-21:30","Van Camp"]
["Winter","MORS",451,"Designing Organizational Systems","81","Thu","18:30-21:30","Dewar"]
["Winter","MORS",452,"Leading the Strategic Change Process","61","Mon-Thu","10:30-12:00","Stern"]
["Winter","MORS",452,"Leading the Strategic Change Process","62","Mon-Thu","13:30-15:00","Stern"]
["Winter","MORS",453,"Power In Organizations: Sources, Strategies and Skills","81","Thu","18:30-21:30","Weber"]
["Winter","MORS",468,"Managerial Leadership (formerly MGMT-468-0)","91","Wed","18:30-21:30","Kraemer"]
["Winter","MORS",470,"Negotiations","61","Mon-Thu","8:30-10:00","Cohen"]
["Winter","MORS",470,"Negotiations","62","Mon-Thu","10:30-12:00","Medvec"]
["Winter","MORS",470,"Negotiations","63","Tue-Fri","10:30-12:00","TBD"]
["Winter","MORS",470,"Negotiations","91","Wed","18:30-21:30","TBD"]
["Winter","MORS",476,"Bargaining (formerly MORS-914-0)","61","Mon-Thu","10:30-12:00","Murnighan"]
["Winter","MORS",476,"Bargaining (formerly MORS-914-0)","62","Mon-Thu","15:30-17:00","Murnighan"]
["Winter","MORS",933,"Leaders & Leadership","81","Mon","18:30-21:30","Scott"]
["Winter","MORS",934,"Managing in Professional Service Firms","91","Mon","18:30-21:30","Bette"]
["Winter","OPNS",430,"Operations Management","61","Tue-Fri","8:30-10:00","Van Mieghem"]
["Winter","OPNS",430,"Operations Management","62","Tue-Fri","10:30-12:00","Van Mieghem"]
["Winter","OPNS",450,"Spreadsheet Modeling for Managerial Decisions","61","Mon-Thu","10:30-12:00","Savaskan-Ebert"]
["Winter","OPNS",454,"Operations Strategy","81","Tue","18:30-21:30","Van Mieghem"]
["Winter","OPNS",918,"Disruptive Technology & Business Models","81","Mon","18:30-21:30","Lefkofsky"]
["Winter","REAL",442,"Real Estate Finance and Investments","61","Tue-Fri","15:30-17:00","Furfine"]
["Winter","REAL",442,"Real Estate Finance and Investments","81","Thu","18:30-21:30","Furfine"]
["Winter","REAL","444-A","Real Estate Development","81","Thu","18:30-21:30","Carreira"]
["Winter","REAL",916,"Real Estate Lab (RE Lab)","81","TBD","18:30-21:30","TBD"]
["Winter","SEEK",441,"Strategic Management in Non-Market Environments","81","Mon","18:30-21:30","Haider"]
["Winter","SEEK","452-A","Social Entrepreneurship","81","Wed","18:30-21:30","Woodward"]
["Winter","SEEK","453-B","Board Governance of Non-Profit Organizations","81","Wed","18:30-21:30","Donnelly"]
["Winter","SEEK",460,"Values-Based Leadership","61","Mon-Thu","13:30-15:00","Feddersen"]
["Winter","SEEK",955,"Advanced Studies in Board Governance","91","Wed","15:00-18:00","Donnelly"]
["Winter","SEEK",956,"Social Entrepreneurship in the Developing World","61","Tue-Fri","10:30-12:00","Krauss"]
["Winter","TECH",441,"Intellectual Capital Management","61","Mon-Thu","10:30-12:00","Conley"]
["Winter","TECH",443,"Managing Portfolios and Projects (formerly TECH-922-0)","81","Mon","18:30-21:30","Norton"]
["Spring","ACCT",431,"Managerial Accounting","61","Mon-Thu","8:30-10:00","Walther"]
["Spring","ACCT",431,"Managerial Accounting","62","Mon-Thu","10:30-12:00","Walther"]
["Spring","ACCT",431,"Managerial Accounting","81","Tue","18:30-21:30","TBD"]
["Spring","ACCT",451,"Financial Reporting and Analysis","61","Tue-Fri","10:30-12:00","Sunder"]
["Spring","ACCT",451,"Financial Reporting and Analysis","62","Tue-Fri","13:30-15:00","Sunder"]
["Spring","BLAW",435,"Business Law I","81","Wed","18:30-21:30","Presser"]
["Spring","BLAW",437,"Issues In Antitrust","81","Thu","18:30-21:30","McCareins"]
["Spring","DECS",452,"Strategic Decision Making","61","Tue-Fri","15:30-17:00","Weber"]
["Spring","ENTR",462,"Entrepreneurship & New Venture Formulation","81","Tue","18:30-21:30","Shein"]
["Spring","ENTR",463,"Successful Entrepreneurship","81","Mon","18:30-21:30","Shefsky"]
["Spring","ENTR","901-A","Understanding and Managing Enterprise Risk","61","Tue","15:15-18:15","Jacobs"]
["Spring","ENTR",903,"Corporate Innovation & New Ventures","81","Tue","18:30-21:30","Wolcott"]
["Spring","ENTR",926,"The Human Element in Private Equity Investing","81","Thu","18:30-21:30","Sutter, Jr."]
["Spring","FINC",441,"Finance II","61","Mon-Thu","10:30-12:00","Eisfeldt"]
["Spring","FINC",441,"Finance II","62","Mon-Thu","13:30-15:00","Eisfeldt"]
["Spring","FINC",441,"Finance II","63","TBD","TBD","TBD"]
["Spring","FINC",442,"Financial Decisions","61","Tue-Fri","8:30-10:00","Thomson"]
["Spring","FINC",442,"Financial Decisions","62","Tue-Fri","10:30-12:00","Tarhan"]
["Spring","FINC",442,"Financial Decisions","63","Tue-Fri","13:30-15:00","Tarhan"]
["Spring","FINC",442,"Financial Decisions","64","Tue-Fri","15:30-17:00","Tarhan"]
["Spring","FINC",445,"Venture Capital and Private Equity Investing","61","Tue-Fri","13:30-15:00","Collins"]
["Spring","FINC",446,"Entrepreneurial Finance","61","Tue-Fri","8:30-10:00","Collins"]
["Spring","FINC",446,"Entrepreneurial Finance","62","Tue","15:15-18:15","Rogers"]
["Spring","FINC",448,"Corporate Restructuring","61","Tue-Fri","10:30-12:00","Thomson"]
["Spring","FINC",448,"Corporate Restructuring","62","Mon-Thu","13:30-15:00","Thomson"]
["Spring","FINC",451,"Money Markets and the Fed","61","Mon-Thu","10:30-12:00","Krishnamurthy"]
["Spring","FINC",460,"Investments","61","Mon-Thu","8:30-10:00","Papanikolaou"]
["Spring","FINC",461,"Investment Banking","81","Mon","18:30-21:30","Stowell"]
["Spring","FINC",463,"Security Analysis","61","Mon-Thu","10:30-12:00","TBD"]
["Spring","FINC",463,"Security Analysis","62","Mon-Thu","13:30-15:00","TBD"]
["Spring","FINC",464,"Fixed Income Securities","61","Mon-Thu","13:30-15:00","Lucas"]
["Spring","FINC",465,"Derivative Markets I","61","Mon-Thu","13:30-15:00","Todorov"]
["Spring","FINC",470,"International Finance","91","Mon","18:30-21:30","Andersen"]
["Spring","FINC",915,"Venture Lab (V-Lab)","61","Wed","13:30-15:00","Hochberg"]
["Spring","FINC",925,"Advanced Topics in Finance","81","Thu","18:30-21:30","Jagannathan"]
["Spring","FINC",931,"Wall Street, Hedge Funds and Private Equity","81","Tue","18:30-21:30","Stowell"]
["Spring","FINC",933,"Asset Management Practicum I","81","Mon","18:30-21:30","Vincent"]
["Spring","FINC","936-C","Asset Management Practicum IV","81","Mon","18:30-21:30","Korajczyk"]
["Spring","FINC",939,"Buyout Lab","61","Wed","13:30-15:00","Stowell"]
["Spring","INTL",460,"International Business Strategy","61","Mon-Thu","13:30-15:00","Salvo"]
["Spring","INTL",460,"International Business Strategy","81","Thu","18:30-21:30","TBD"]
["Spring","INTL",466,"International Business Strategy in Non-Market Environments","61","Mon-Thu","10:30-12:00","Perkins"]
["Spring","INTL",466,"International Business Strategy in Non-Market Environments","62","Mon-Thu","13:30-15:00","Perkins"]
["Spring","INTL",467,"Global Marketing","61","Mon-Thu","15:30-17:00","TBD"]
["Spring","INTL",467,"Global Marketing","81","Thu","18:30-21:30","TBD"]
["Spring","INTL",474,"Cross-Cultural Negotiation","91","Wed","18:30-21:30","TBD"]
["Spring","INTL",474,"Cross-Cultural Negotiation","92","Thu","18:30-21:30","TBD"]
["Spring","MECN",441,"Competitive Strategy and Industrial Structure","61","Mon-Thu","8:30-10:00","Baliga"]
["Spring","MECN",441,"Competitive Strategy and Industrial Structure","62","Mon-Thu","10:30-12:00","Baliga"]
["Spring","MECN",450,"Macroeconomic Analysis For Management","61","TBD","TBD","Jacobs"]
["Spring","MECN",450,"Macroeconomic Analysis For Management","62","TBD","TBD","Jacobs"]
["Spring","MECN",450,"Macroeconomic Analysis For Management","81","Wed","18:30-21:30","Al-Najjar"]
["Spring","MEDM",431,"Media and Integrated Marketing (formerly MEDM-913)","81","Thu","18:30-21:30","TBD"]
["Spring","MGMT",440,"Human Resources Management","61","Mon-Thu","13:30-15:00","Li"]
["Spring","MGMT",444,"Health Economics","61","Mon-Thu","10:30-12:00","Dranove"]
["Spring","MGMT",452,"Strategy & Organization","61","Mon-Thu","13:30-15:00","Fong"]
["Spring","MGMT",469,"Empirical Methods in Strategy","61","Mon-Thu","8:30-10:00","Dranove"]
["Spring","MGMT",469,"Empirical Methods in Strategy","62","Mon-Thu","13:30-15:00","Dafny"]
["Spring","MGMT",934,"Managing Turnarounds","91","Mon","18:30-21:30","Shein"]
["Spring","MKTG",450,"Research Methods In Marketing","61","Mon-Thu","10:30-12:00","Nijs"]
["Spring","MKTG",450,"Research Methods In Marketing","62","Mon-Thu","13:30-15:00","Nijs"]
["Spring","MKTG",450,"Research Methods In Marketing","63","Tue-Fri","10:30-12:00","Lee"]
["Spring","MKTG",450,"Research Methods In Marketing","64","Tue-Fri","13:30-15:00","Lee"]
["Spring","MKTG",450,"Research Methods In Marketing","81","Wed","18:30-21:30","TBD"]
["Spring","MKTG",450,"Research Methods In Marketing","82","Thu","18:30-21:30","Qian"]
["Spring","MKTG",451,"Marketing Channel Strategies","61","Tue-Fri","13:30-15:00","Wilson"]
["Spring","MKTG",454,"Advertising Strategy","61","Mon-Thu","13:30-15:00","Rucker"]
["Spring","MKTG",454,"Advertising Strategy","62","Mon-Thu","15:30-17:00","Rucker"]
["Spring","MKTG",465,"Introduction of New Products and Services","61","Mon-Thu","8:30-10:00","Razeghi"]
["Spring","MKTG",465,"Introduction of New Products and Services","81","Mon","18:30-21:30","Gal"]
["Spring","MKTG",466,"Marketing Strategy","61","Tue-Fri","8:30-10:00","Hennessy"]
["Spring","MKTG",466,"Marketing Strategy","62","Tue-Fri","10:30-12:00","Hennessy"]
["Spring","MKTG",466,"Marketing Strategy","63","Tue-Fri","10:30-12:00","Calkins"]
["Spring","MKTG",466,"Marketing Strategy","64","Tue-Fri","13:30-15:00","Calkins"]
["Spring","MKTG",468,"Technology Marketing","61","Tue-Fri","8:30-10:00","Sawhney"]
["Spring","MKTG",468,"Technology Marketing","62","Tue-Fri","10:30-12:00","Sawhney"]
["Spring","MKTG",913,"Internet Marketing","81","Thu","18:30-21:30","Duparcq"]
["Spring","MKTG",922,"Advanced Topics in Marketing","81","Tue","18:30-21:30","Calder"]
["Spring","MKTG",951,"Sports Marketing","81","Wed","18:30-21:30","Honack"]
["Spring","MKTG",951,"Sports Marketing","82","Thu","18:30-21:30","Honack"]
["Spring","MKTG",952,"Strategic Data-Driven Marketing","61","Mon-Thu","15:30-17:00","Jeffery"]
["Spring","MKTG",952,"Strategic Data-Driven Marketing","61","Mon-Thu","15:30-17:00","Walker"]
["Spring","MKTG",952,"Strategic Data-Driven Marketing","81","TBD","TBD","Jeffery"]
["Spring","MKTG",952,"Strategic Data-Driven Marketing","81","TBD","TBD","Walker"]
["Spring","MORS","449-B","Writing in Organizations","81","Tue","18:30-21:30","Shwom"]
["Spring","MORS",450,"Management Communications","91","Tue","18:30-21:30","Van Camp"]
["Spring","MORS",453,"Power In Organizations: Sources, Strategies and Skills","61","Mon-Thu","10:30-12:00","TBD"]
["Spring","MORS","454-A","Creating and Managing Strategic Alliances","81","Mon","18:30-21:30","Zajac"]
["Spring","MORS",460,"Leading and Managing Teams","61","Mon-Thu","10:30-12:00","TBD"]
["Spring","MORS",468,"Managerial Leadership (formerly MGMT-468-0)","81","Mon","18:30-21:30","Buck"]
["Spring","MORS",470,"Negotiations","61","Tue-Fri","8:30-10:00","Cohen"]
["Spring","MORS",470,"Negotiations","62","Mon-Thu","15:30-17:00","Cohen"]
["Spring","MORS",470,"Negotiations","91","Mon","18:30-21:30","Bermiss"]
["Spring","MORS",470,"Negotiations","92","Thu","18:30-21:30","TBD"]
["Spring","MORS",470,"Negotiations","93","TBD","TBD","TBD"]
["Spring","MORS",476,"Bargaining (formerly MORS-914-0)","61","Tue-Fri","13:30-15:00","TBD"]
["Spring","MORS",926,"Sustainable Innovation: Management & Organization","81","Mon","18:30-21:30","Radnor"]
["Spring","OPNS",430,"Operations Management","61","Mon-Thu","8:30-10:00","Allon"]
["Spring","OPNS",430,"Operations Management","62","Mon-Thu","10:30-12:00","Allon"]
["Spring","OPNS",430,"Operations Management","63","Mon-Thu","13:30-15:00","Ata"]
["Spring","OPNS",430,"Operations Management","64","Mon-Thu","15:30-17:00","Ata"]
["Spring","OPNS",430,"Operations Management","65","Tue-Fri","8:30-10:00","Lariviere"]
["Spring","OPNS",430,"Operations Management","66","Tue-Fri","10:30-12:00","Lariviere"]
["Spring","OPNS",430,"Operations Management","67","Tue-Fri","13:30-15:00","Bassamboo"]
["Spring","OPNS",430,"Operations Management","68","Tue-Fri","15:30-17:00","Bassamboo"]
["Spring","OPNS",450,"Spreadsheet Modeling for Managerial Decisions","61","Mon-Thu","10:30-12:00","Deshmukh"]
["Spring","OPNS",455,"Logistics and Supply Chain Management","81","Thu","18:30-21:30","TBD"]
["Spring","OPNS",912,"Service Operations","81","TBD","TBD","Allon"]
["Spring","OPNS","919-A","Operational Risk","81","Wed","18:30-21:30","Walker"]
["Spring","REAL",910,"Advanced Real Estate Development and Corporate Strategy","61","Mon-Thu","15:30-17:00","Rosenberg"]
["Spring","REAL",916,"Real Estate Lab (RE Lab)","81","TBD","TBD","TBD"]
["Spring","SEEK",441,"Strategic Management in Non-Market Environments","61","Mon-Thu","8:30-10:00","Haider"]
["Spring","SEEK",454,"The Education Industry","81","Thu","18:30-21:30","TBD"]
["Spring","SEEK",955,"Advanced Studies in Board Governance","91","Wed","15:0-18:00","Donnelly"]
["Spring","TECH",442,"Enterprise Technology for General Managers (formerly TECH-914-0)","81","Mon","18:30-21:30","Jeffery"]
["Spring","TECH",917,"Strategic and Analytical Customer Relationship Management","81","Thu","18:30-21:30","Choudhary"]

{"sheet":"TCEs","index":3,"n_rows":13,"n_cols":5,"rows_kept":13,"cut":false,"hidden":false,"merged":[]}
["Course","ACCT-430-0"]
[]
[null,"Data"]
["Professor","Average of Class Ovrl","Average of Instr Ovrl","Average of Difficulty","Average of Work Load"]
["Drebin",7.8999999999999986,8.1999999999999993,5.74,5.82]
["Dye",7.65,8.1499999999999986,6.8,6.15]
["Finn",7.9799999999999995,8.620000000000001,6.5600000000000005,6.2399999999999993]
["Lansford",7.55,7.6750000000000007,6.5625,7.0124999999999993]
["Magee",7.5,8.6,6.4,6.6]
["Powers",8.6,9.0500000000000007,6.7,7.15]
["Prince",6.0666666666666664,5.4666666666666659,5.833333333333333,5.4666666666666659]
["Sridharan",7.5750000000000002,8.0500000000000007,6.2750000000000004,6.0250000000000004]
["Grand Total",7.61,7.9033333333333324,6.333333333333333,6.3366666666666678]

{"sheet":"Majors (2Y)","index":4,"n_rows":29,"n_cols":6,"rows_kept":29,"cut":false,"hidden":false,"merged":[]}
["Kellogg Majors",null,null,"Core Courses"]
[]
["Accounting Information & Management",{"$f":"'ACCT Info & MGMT'!A3","v":"NOT MAJORING IN THIS FIELD"},null,"Course","Course Name","Status"]
["Accounting Information & Management IY",{"$f":"'ACCT Info & MGMT 1Y & MMM'!A3","v":"NOT MAJORING IN THIS FIELD"},null,{"$f":"IF(VLOOKUP(4,'Course List'!$A:$B,2,0)<>\"Not Taken\",\"ACCT-434\",\"ACCT-430\")","v":"ACCT-430"},{"$f":"IF(D4=\"ACCT-430\",VLOOKUP(1,'Course List'!$A:$F,6,0),IF(D4=\"ACCT-434\",VLOOKUP(4,'Course List'!$A:$F,6,0)))","v":"Accounting for Decision Making"},{"$f":"IF(D4=\"ACCT-430\",VLOOKUP(1,'Course List'!$A:$B,2,0),IF(D4=\"ACCT-434\",VLOOKUP(4,'Course List'!$A:$B,2,0)))","v":"Not Taken"}]
["Analytical Consulting",{"$f":"'Analyt Consulting'!A3","v":"NOT MAJORING IN THIS FIELD"},null,{"$f":"IF(VLOOKUP(37,'Course List'!$A:$B,2,0)<>\"Not Taken\",\"DECS-436\",\"DECS-433\")","v":"DECS-433"},{"$f":"IF(D5=\"DECS-433\",VLOOKUP(35,'Course List'!$A:$F,6,0),IF(D5=\"DECS-436\",VLOOKUP(37,'Course List'!$A:$F,6,0),IF(D5=\"Waived\",\"Decision Sciences I Waived\")))","v":"Mathematical Methods for Management Decisions"},{"$f":"IF(D5=\"DECS-433\",VLOOKUP(35,'Course List'!$A:$B,2,0),IF(D5=\"DECS-436\",VLOOKUP(37,'Course List'!$A:$B,2,0)))","v":"Not Taken"}]
["Analytical Finance",{"$f":"'Analytical Finance'!A3","v":"NOT MAJORING IN THIS FIELD"},null,{"$f":"IF(VLOOKUP(38,'Course List'!$A:$B,2,0)<>\"Not Taken\",\"DECS-437\",\"DECS-434\")","v":"DECS-434"},{"$f":"IF(D6=\"DECS-434\",VLOOKUP(36,'Course List'!$A:$F,6,0),IF(D6=\"DECS-437\",VLOOKUP(38,'Course List'!$A:$F,6,0),IF(D6=\"Waived\",\"Decision Sciences II Waived\")))","v":"Statistical Methods For Management Decisions"},{"$f":"IF(D6=\"DECS-434\",VLOOKUP(36,'Course List'!$A:$B,2,0),IF(D6=\"DECS-437\",VLOOKUP(38,'Course List'!$A:$B,2,0)))","v":"Not Taken"}]
["Biotechnology",{"$f":"Biotech!A3","v":"NOT MAJORING IN THIS FIELD"},null,{"$f":"IF(VLOOKUP(56,'Course List'!$A:$B,2,0)<>\"Not Taken\",\"FINC-440\",\"FINC-430\")","v":"FINC-430"},{"$f":"IF(D7=\"FINC-430\",VLOOKUP(55,'Course List'!$A:$F,6,0),IF(D7=\"FINC-440\",VLOOKUP(56,'Course List'!$A:$F,6,0),IF(D7=\"Waived\",\"Finance Waived\")))","v":"Finance I"},{"$f":"IF(D7=\"FINC-430\",VLOOKUP(55,'Course List'!$A:$B,2,0),IF(D7=\"FINC-440\",VLOOKUP(56,'Course List'!$A:$B,2,0)))","v":"Not Taken"}]
["Decision Sciences",{"$f":"DECS!A3","v":"NOT MAJORING IN THIS FIELD"},null,{"$f":"IF(VLOOKUP(117,'Course List'!$A:$B,2,0)<>\"Not Taken\",\"MECN-436\",\"MECN-430\")","v":"MECN-430"},{"$f":"IF(D8=\"MECN-430\",VLOOKUP(116,'Course List'!$A:$F,6,0),IF(D8=\"MECN-436\",VLOOKUP(117,'Course List'!$A:$F,6,0),IF(D8=\"Waived\",\"Microeconomics Waived\")))","v":"Microeconomic Analysis"},{"$f":"IF(D8=\"MECN-430\",VLOOKUP(116,'Course List'!$A:$B,2,0),IF(D8=\"MECN-436\",VLOOKUP(117,'Course List'!$A:$B,2,0)))","v":"Not Taken"}]
["Entrepreneurship & Innovation",{"$f":"'ENTR & Innovation'!A3","v":"NOT MAJORING IN THIS FIELD"},null,"MGMT-431",{"$f":"IF(D9=\"MGMT-431\",VLOOKUP(132,'Course List'!$A:$F,6,0),IF(D9=\"Waived\",\"Business Strategy Waived\"))","v":"Business Strategy"},{"$f":"VLOOKUP(132,'Course List'!$A:$B,2,0)","v":"Not Taken"}]
["Finance",{"$f":"FINC!A3","v":"NOT MAJORING IN THIS FIELD"},null,"MKTG-430",{"$f":"IF(D10=\"MKTG-430\",VLOOKUP(163,'Course List'!$A:$F,6,0),IF(D10=\"Waived\",\"Marketing Waived\"))","v":"Marketing Management"},{"$f":"VLOOKUP(163,'Course List'!$A:$B,2,0)","v":"Not Taken"}]
["Health Enterprise Management (HEMA) - Health Industry track",{"$f":"HEMA!A3","v":"NOT MAJORING IN THIS FIELD"},null,"MORS-430",{"$f":"IF(D11=\"MORS-430\",VLOOKUP(181,'Course List'!$A:$F,6,0))","v":"Leadership in Organizations"},{"$f":"VLOOKUP(181,'Course List'!$A:$B,2,0)","v":"Complete"}]
["    HEMA - Biotech and Medical Products track",{"$f":"HEMA!A4","v":"NOT MAJORING IN THIS FIELD"},null,"OPNS-430",{"$f":"IF(D12=\"OPNS-430\",VLOOKUP(210,'Course List'!$A:$F,6,0),IF(D12=\"Waived\",\"Operations Waived\"))","v":"Operations Management"},{"$f":"VLOOKUP(210,'Course List'!$A:$B,2,0)","v":"Not Taken"}]
["Health Industry Management*",{"$f":"HIMT!A3","v":"NOT MAJORING IN THIS FIELD"},null,"SEEK-440-A",{"$f":"IF(D13=\"SEEK-440-A\",VLOOKUP(234,'Course List'!$A:$F,6,0))","v":"Values and Crisis Decision Making"},{"$f":"VLOOKUP(234,'Course List'!$A:$B,2,0)","v":"Will Enroll"}]
["Human Resource Management",{"$f":"HR!A3","v":"NOT MAJORING IN THIS FIELD"}]
["International Business",{"$f":"INTL!A3","v":"NOT MAJORING IN THIS FIELD"}]
["Management & Organizations",{"$f":"'MGMT & Org'!A3","v":"NOT MAJORING IN THIS FIELD"},null,null,"Other Graduation Requirements"]
["Management & Strategy",{"$f":"'MGMT & Strat'!A3","v":"NOT MAJORING IN THIS FIELD"}]
["Managerial Economics",{"$f":"'Managerial Econ'!A3","v":"NOT MAJORING IN THIS FIELD"},null,null,"Requirement","Status"]
["Marketing",{"$f":"Marketing!A3","v":"NOT MAJORING IN THIS FIELD"},null,null,"Credit Hours",{"$f":"IF(F20>=24.5,\"Complete\",IF(F20+F21>=24.5,\"Completed This Quarter\",IF(F20+F21+F22>=24.5,\"In Progress\",\"Incomplete\")))","v":"Incomplete"}]
["Marketing 1Y",{"$f":"'Marketing 1Y'!A3","v":"NOT MAJORING IN THIS FIELD"},null,null,"  Complete",{"$f":"COUNTIFS('Course List'!B5:B298,\"Complete\",'Course List'!H5:H298,\"1\")+(COUNTIFS('Course List'!B5:B298,\"Complete\",'Course List'!H5:H298,\"0.5\")/2)","v":1}]
["Marketing Management",{"$f":"'MKTG MGMT'!A3","v":"NOT MAJORING IN THIS FIELD"},null,null,"  Enrolled",{"$f":"COUNTIFS('Course List'!B5:B298,\"Enrolled\",'Course List'!H5:H298,\"1\")+(COUNTIFS('Course List'!B5:B298,\"Enrolled\",'Course List'!H5:H298,\"0.5\")/2)","v":0}]
["Marketing Management 1Y",{"$f":"'MKTG MGMT 1Y'!A3","v":"NOT MAJORING IN THIS FIELD"},null,null,"  Planned",{"$f":"COUNTIFS('Course List'!B5:B298,\"Will Enroll\",'Course List'!H5:H298,\"1\")+(COUNTIFS('Course List'!B5:B298,\"Will Enroll\",'Course List'!H5:H298,\"0.5\")/2)","v":0.5}]
["Media Management",{"$f":"'Media MGMT'!A3","v":"NOT MAJORING IN THIS FIELD"},null,null,"Total Credit Hours",{"$f":"SUM(F20:F22)","v":1.5}]
["Operations Management",{"$f":"OPNS!A3","v":"NOT MAJORING IN THIS FIELD"},null,null,"At least one Major",{"$f":"IF(COUNTIF(B3:B29,\"Complete\")>=1,\"Complete\",\"Incomplete\")","v":"Incomplete"}]
["Real Estate Management",{"$f":"'Real Estate MGMT'!A3","v":"NOT MAJORING IN THIS FIELD"}]
["Special Competency in Health Enterprise Excellence",{"$f":"SCHEMA!A3","v":"NOT MAJORING IN THIS FIELD"}]
["Social Enterprise at Kellogg (SEEK)",{"$f":"SEEK!A3","v":"POTENTIAL MAJOR"}]
["    SEEK - Nonprofit Specilization",{"$f":"SEEK!A4","v":"POTENTIAL MAJOR"}]
["Technology Industry Management",{"$f":"'Tech Industry MGMT'!A3","v":"NOT MAJORING IN THIS FIELD"}]

{"sheet":"Majors (MMM)","index":5,"n_rows":29,"n_cols":6,"rows_kept":29,"cut":false,"hidden":false,"merged":[]}
["Kellogg Majors",null,null,"Core Courses"]
[]
["Accounting Information & Management",{"$f":"'ACCT Info & MGMT'!A3","v":"NOT MAJORING IN THIS FIELD"},null,"Course","Course Name","Status"]
["Accounting Information & Management IY",{"$f":"'ACCT Info & MGMT 1Y & MMM'!A3","v":"NOT MAJORING IN THIS FIELD"},null,"ACCT-439","Accounting for Manufacturing Management",{"$f":"VLOOKUP(6,'Course List'!$A:$B,2,0)","v":"Not Taken"}]
["Analytical Consulting",{"$f":"'Analyt Consulting'!A3","v":"NOT MAJORING IN THIS FIELD"},null,"FINC-440",{"$f":"VLOOKUP(56,'Course List'!$A:$F,6,0)","v":"Finance I & II"},{"$f":"VLOOKUP(56,'Course List'!$A:$B,2,0)","v":"Not Taken"}]
["Analytical Finance",{"$f":"'Analytical Finance'!A3","v":"NOT MAJORING IN THIS FIELD"},null,"IEMS-471-1",{"$f":"VLOOKUP(100,'Course List'!$A:$F,6,0)","v":"Factory Physics I"},{"$f":"VLOOKUP(100,'Course List'!$A:$B,2,0)","v":"Not Taken"}]
["Biotechnology",{"$f":"Biotech!A3","v":"NOT MAJORING IN THIS FIELD"},null,"IEMS-471-2",{"$f":"VLOOKUP(101,'Course List'!$A:$F,6,0)","v":"Factory Physics II"},{"$f":"VLOOKUP(101,'Course List'!$A:$B,2,0)","v":"Not Taken"}]
["Decision Sciences",{"$f":"DECS!A3","v":"NOT MAJORING IN THIS FIELD"},null,"IEMS-490",{"$f":"VLOOKUP(262,'Course List'!$A:$F,6,0)","v":"New Product Innovation"},{"$f":"VLOOKUP(262,'Course List'!$A:$B,2,0)","v":"Not Taken"}]
["Entrepreneurship & Innovation",{"$f":"'ENTR & Innovation'!A3","v":"NOT MAJORING IN THIS FIELD"},null,"IEMS-497",{"$f":"VLOOKUP(263,'Course List'!$A:$F,6,0)","v":"Innovation Mini-courses"},{"$f":"VLOOKUP(263,'Course List'!$A:$B,2,0)","v":"Not Taken"}]
["Finance",{"$f":"FINC!A3","v":"NOT MAJORING IN THIS FIELD"},null,"MECN-430",{"$f":"VLOOKUP(116,'Course List'!$A:$F,6,0)","v":"Microeconomic Analysis"},{"$f":"VLOOKUP(116,'Course List'!$A:$B,2,0)","v":"Not Taken"}]
["Health Enterprise Management (HEMA) - Health Industry track",{"$f":"HEMA!A3","v":"NOT MAJORING IN THIS FIELD"},null,"MGMT-431",{"$f":"VLOOKUP(132,'Course List'!$A:$F,6,0)","v":"Business Strategy"},{"$f":"VLOOKUP(132,'Course List'!$A:$B,2,0)","v":"Not Taken"}]
["    HEMA - Biotech and Medical Products track",{"$f":"HEMA!A4","v":"NOT MAJORING IN THIS FIELD"},null,"MKTG-430",{"$f":"VLOOKUP(163,'Course List'!$A:$F,6,0)","v":"Marketing Management"},{"$f":"VLOOKUP(163,'Course List'!$A:$B,2,0)","v":"Not Taken"}]
["Health Industry Management*",{"$f":"HIMT!A3","v":"NOT MAJORING IN THIS FIELD"},null,"MORS-430",{"$f":"VLOOKUP(181,'Course List'!$A:$F,6,0)","v":"Leadership in Organizations"},{"$f":"VLOOKUP(181,'Course List'!$A:$B,2,0)","v":"Complete"}]
["Human Resource Management",{"$f":"HR!A3","v":"NOT MAJORING IN THIS FIELD"},null,{"$f":"IF(VLOOKUP(215,'Course List'!$A:$B,2,0)<>\"Not Taken\",IF(VLOOKUP(218,'Course List'!$A:$B,2,0)<>\"Not Taken\",\"OPNS-912\",\"OPNS-455\"),IF(VLOOKUP(218,'Course List'!$A:$B,2,0)<>\"Not Taken\",\"OPNS-912\",\"OPNS-454\"))","v":"OPNS-454"},{"$f":"IF(D14=\"OPNS-454\",VLOOKUP(214,'Course List'!$A:$F,6,0),IF(D14=\"OPNS-455\",VLOOKUP(215,'Course List'!$A:$F,6,0),IF(D14=\"OPNS-912\",VLOOKUP(218,'Course List'!$A:$F,6,0))))","v":"Operations Strategy"},{"$f":"IF(D14=\"OPNS-454\",VLOOKUP(214,'Course List'!$A:$B,2,0),IF(D14=\"OPNS-455\",VLOOKUP(215,'Course List'!$A:$B,2,0),IF(D14=\"OPNS-912\",VLOOKUP(218,'Course List'!$A:$B,2,0))))","v":"Not Taken"}]
["International Business",{"$f":"INTL!A3","v":"NOT MAJORING IN THIS FIELD"},null,"SEEK-440-A",{"$f":"VLOOKUP(234,'Course List'!$A:$F,6,0)","v":"Values and Crisis Decision Making"},{"$f":"VLOOKUP(234,'Course List'!$A:$B,2,0)","v":"Will Enroll"}]
["Management & Organizations",{"$f":"'MGMT & Org'!A3","v":"NOT MAJORING IN THIS FIELD"},null,null,"Manufacturing Elective #1","Not Taken"]
["Management & Strategy",{"$f":"'MGMT & Strat'!A3","v":"NOT MAJORING IN THIS FIELD"},null,null,"Manufacturing Elective #2","Not Taken"]
["Managerial Economics",{"$f":"'Managerial Econ'!A3","v":"NOT MAJORING IN THIS FIELD"},null,null,"Manufacturing Elective #3","Not Taken"]
["Marketing",{"$f":"Marketing!A3","v":"NOT MAJORING IN THIS FIELD"}]
["Marketing 1Y",{"$f":"'Marketing 1Y'!A3","v":"NOT MAJORING IN THIS FIELD"}]
["Marketing Management",{"$f":"'MKTG MGMT'!A3","v":"NOT MAJORING IN THIS FIELD"},null,null,"Other Graduation Requirements"]
["Marketing Management 1Y",{"$f":"'MKTG MGMT 1Y'!A3","v":"NOT MAJORING IN THIS FIELD"}]
["Media Management",{"$f":"'Media MGMT'!A3","v":"NOT MAJORING IN THIS FIELD"},null,null,"Requirement","Status"]
["Operations Management",{"$f":"OPNS!A3","v":"NOT MAJORING IN THIS FIELD"},null,null,"Credit Hours",{"$f":"IF(F25>=24.5,\"Complete\",IF(F25+F26>=24.5,\"Completed This Quarter\",IF(F25+F26+F27>=24.5,\"In Progress\",\"Incomplete\")))","v":"Incomplete"}]
["Real Estate Management",{"$f":"'Real Estate MGMT'!A3","v":"NOT MAJORING IN THIS FIELD"},null,null,"  Complete",{"$f":"COUNTIFS('Course List'!B5:B298,\"Complete\",'Course List'!H5:H298,\"1\")+(COUNTIFS('Course List'!B5:B298,\"Complete\",'Course List'!H5:H298,\"0.5\")/2)","v":1}]
["Special Competency in Health Enterprise Excellence",{"$f":"SCHEMA!A3","v":"NOT MAJORING IN THIS FIELD"},null,null,"  Enrolled",{"$f":"COUNTIFS('Course List'!B5:B298,\"Enrolled\",'Course List'!H5:H298,\"1\")+(COUNTIFS('Course List'!B5:B298,\"Enrolled\",'Course List'!H5:H298,\"0.5\")/2)","v":0}]
["Social Enterprise at Kellogg (SEEK)",{"$f":"SEEK!A3","v":"POTENTIAL MAJOR"},null,null,"  Planned",{"$f":"COUNTIFS('Course List'!B5:B298,\"Will Enroll\",'Course List'!H5:H298,\"1\")+(COUNTIFS('Course List'!B5:B298,\"Will Enroll\",'Course List'!H5:H298,\"0.5\")/2)","v":0.5}]
["    SEEK - Nonprofit Specilization",{"$f":"SEEK!A4","v":"POTENTIAL MAJOR"},null,null,"Total Credit Hours",{"$f":"SUM(F25:F27)","v":1.5}]
["Technology Industry Management",{"$f":"'Tech Industry MGMT'!A3","v":"NOT MAJORING IN THIS FIELD"},null,null,"At least one Major",{"$f":"IF(COUNTIF(B3:B26,\"Complete\")>=1,\"Complete\",\"Incomplete\")","v":"Incomplete"}]

{"sheet":"Majors (1Y)","index":6,"n_rows":29,"n_cols":6,"rows_kept":29,"cut":false,"hidden":false,"merged":[]}
["Kellogg Majors",null,null,"Core Courses"]
[]
["Accounting Information & Management",{"$f":"'ACCT Info & MGMT'!A3","v":"NOT MAJORING IN THIS FIELD"},null,"Course","Course Name","Status"]
["Accounting Information & Management IY",{"$f":"'ACCT Info & MGMT 1Y & MMM'!A3","v":"NOT MAJORING IN THIS FIELD"},null,"MGMT-431",{"$f":"VLOOKUP(132,'Course List'!$A:$F,6,0)","v":"Business Strategy"},{"$f":"VLOOKUP(132,'Course List'!$A:$B,2,0)","v":"Not Taken"}]
["Analytical Consulting",{"$f":"'Analyt Consulting'!A3","v":"NOT MAJORING IN THIS FIELD"},null,"SEEK-440-A",{"$f":"VLOOKUP(234,'Course List'!$A:$F,6,0)","v":"Values and Crisis Decision Making"},{"$f":"VLOOKUP(234,'Course List'!$A:$B,2,0)","v":"Will Enroll"}]
["Analytical Finance",{"$f":"'Analytical Finance'!A3","v":"NOT MAJORING IN THIS FIELD"}]
["Biotechnology",{"$f":"Biotech!A3","v":"NOT MAJORING IN THIS FIELD"}]
["Decision Sciences",{"$f":"DECS!A3","v":"NOT MAJORING IN THIS FIELD"},null,null,"Other Graduation Requirements"]
["Entrepreneurship & Innovation",{"$f":"'ENTR & Innovation'!A3","v":"NOT MAJORING IN THIS FIELD"}]
["Finance",{"$f":"FINC!A3","v":"NOT MAJORING IN THIS FIELD"},null,null,"Requirement","Status"]
["Health Enterprise Management (HEMA) - Health Industry track",{"$f":"HEMA!A3","v":"NOT MAJORING IN THIS FIELD"},null,null,"Credit Hours",{"$f":"IF(F12>=15.5,\"Complete\",IF(F12+F13>=15.5,\"Completed This Quarter\",IF(F12+F13+F14>=15.5,\"In Progress\",\"Incomplete\")))","v":"Incomplete"}]
["    HEMA - Biotech and Medical Products track",{"$f":"HEMA!A4","v":"NOT MAJORING IN THIS FIELD"},null,null,"  Complete",{"$f":"COUNTIFS('Course List'!B5:B298,\"Complete\",'Course List'!H5:H298,\"1\")+(COUNTIFS('Course List'!B5:B298,\"Complete\",'Course List'!H5:H298,\"0.5\")/2)","v":1}]
["Health Industry Management*",{"$f":"HIMT!A3","v":"NOT MAJORING IN THIS FIELD"},null,null,"  Enrolled",{"$f":"COUNTIFS('Course List'!B5:B298,\"Enrolled\",'Course List'!H5:H298,\"1\")+(COUNTIFS('Course List'!B5:B298,\"Enrolled\",'Course List'!H5:H298,\"0.5\")/2)","v":0}]
["Human Resource Management",{"$f":"HR!A3","v":"NOT MAJORING IN THIS FIELD"},null,null,"  Planned",{"$f":"COUNTIFS('Course List'!B5:B298,\"Will Enroll\",'Course List'!H5:H298,\"1\")+(COUNTIFS('Course List'!B5:B298,\"Will Enroll\",'Course List'!H5:H298,\"0.5\")/2)","v":0.5}]
["International Business",{"$f":"INTL!A3","v":"NOT MAJORING IN THIS FIELD"},null,null,"Total Credit Hours",{"$f":"SUM(F12:F14)","v":1.5}]
["Management & Organizations",{"$f":"'MGMT & Org'!A3","v":"NOT MAJORING IN THIS FIELD"},null,null,"At least one Major",{"$f":"IF(COUNTIF(B3:B26,\"Complete\")>=1,\"Complete\",\"Incomplete\")","v":"Incomplete"}]
["Management & Strategy",{"$f":"'MGMT & Strat'!A3","v":"NOT MAJORING IN THIS FIELD"}]
["Managerial Economics",{"$f":"'Managerial Econ'!A3","v":"NOT MAJORING IN THIS FIELD"}]
["Marketing",{"$f":"Marketing!A3","v":"NOT MAJORING IN THIS FIELD"}]
["Marketing 1Y",{"$f":"'Marketing 1Y'!A3","v":"NOT MAJORING IN THIS FIELD"}]
["Marketing Management",{"$f":"'MKTG MGMT'!A3","v":"NOT MAJORING IN THIS FIELD"}]
["Marketing Management 1Y",{"$f":"'MKTG MGMT 1Y'!A3","v":"NOT MAJORING IN THIS FIELD"}]
["Media Management",{"$f":"'Media MGMT'!A3","v":"NOT MAJORING IN THIS FIELD"}]
["Operations Management",{"$f":"OPNS!A3","v":"NOT MAJORING IN THIS FIELD"}]
["Real Estate Management",{"$f":"'Real Estate MGMT'!A3","v":"NOT MAJORING IN THIS FIELD"}]
["Special Competency in Health Enterprise Excellence",{"$f":"SCHEMA!A3","v":"NOT MAJORING IN THIS FIELD"}]
["Social Enterprise at Kellogg (SEEK)",{"$f":"SEEK!A3","v":"POTENTIAL MAJOR"}]
["    SEEK - Nonprofit Specilization",{"$f":"SEEK!A4","v":"POTENTIAL MAJOR"}]
["Technology Industry Management",{"$f":"'Tech Industry MGMT'!A3","v":"NOT MAJORING IN THIS FIELD"}]

{"sheet":"Majors (JDMBA)","index":7,"n_rows":29,"n_cols":6,"rows_kept":29,"cut":false,"hidden":false,"merged":[]}
["Kellogg Majors",null,null,"Core Courses"]
[]
["Accounting Information & Management",{"$f":"'ACCT Info & MGMT'!A3","v":"NOT MAJORING IN THIS FIELD"},null,"Course","Course Name","Status"]
["Accounting Information & Management IY",{"$f":"'ACCT Info & MGMT 1Y & MMM'!A3","v":"NOT MAJORING IN THIS FIELD"},null,{"$f":"IF(VLOOKUP(4,'Course List'!$A:$B,2,0)<>\"Not Taken\",\"ACCT-434\",\"ACCT-430\")","v":"ACCT-430"},{"$f":"IF(D4=\"ACCT-430\",VLOOKUP(1,'Course List'!$A:$F,6,0),IF(D4=\"ACCT-434\",VLOOKUP(4,'Course List'!$A:$F,6,0)))","v":"Accounting for Decision Making"},{"$f":"IF(D4=\"ACCT-430\",VLOOKUP(1,'Course List'!$A:$B,2,0),IF(D4=\"ACCT-434\",VLOOKUP(4,'Course List'!$A:$B,2,0)))","v":"Not Taken"}]
["Analytical Consulting",{"$f":"'Analyt Consulting'!A3","v":"NOT MAJORING IN THIS FIELD"},null,{"$f":"IF(VLOOKUP(37,'Course List'!$A:$B,2,0)<>\"Not Taken\",\"DECS-436\",\"DECS-433\")","v":"DECS-433"},{"$f":"IF(D5=\"DECS-433\",VLOOKUP(35,'Course List'!$A:$F,6,0),IF(D5=\"DECS-436\",VLOOKUP(37,'Course List'!$A:$F,6,0),IF(D5=\"Waived\",\"Decision Sciences I Waived\")))","v":"Mathematical Methods for Management Decisions"},{"$f":"IF(D5=\"DECS-433\",VLOOKUP(35,'Course List'!$A:$B,2,0),IF(D5=\"DECS-436\",VLOOKUP(37,'Course List'!$A:$B,2,0)))","v":"Not Taken"}]
["Analytical Finance",{"$f":"'Analytical Finance'!A3","v":"NOT MAJORING IN THIS FIELD"},null,{"$f":"IF(VLOOKUP(38,'Course List'!$A:$B,2,0)<>\"Not Taken\",\"DECS-437\",\"DECS-434\")","v":"DECS-434"},{"$f":"IF(D6=\"DECS-434\",VLOOKUP(36,'Course List'!$A:$F,6,0),IF(D6=\"DECS-437\",VLOOKUP(38,'Course List'!$A:$F,6,0),IF(D6=\"Waived\",\"Decision Sciences II Waived\")))","v":"Statistical Methods For Management Decisions"},{"$f":"IF(D6=\"DECS-434\",VLOOKUP(36,'Course List'!$A:$B,2,0),IF(D6=\"DECS-437\",VLOOKUP(38,'Course List'!$A:$B,2,0)))","v":"Not Taken"}]
["Biotechnology",{"$f":"Biotech!A3","v":"NOT MAJORING IN THIS FIELD"},null,{"$f":"IF(VLOOKUP(56,'Course List'!$A:$B,2,0)<>\"Not Taken\",\"FINC-440\",\"FINC-430\")","v":"FINC-430"},{"$f":"IF(D7=\"FINC-430\",VLOOKUP(55,'Course List'!$A:$F,6,0),IF(D7=\"FINC-440\",VLOOKUP(56,'Course List'!$A:$F,6,0),IF(D7=\"Waived\",\"Finance Waived\")))","v":"Finance I"},{"$f":"IF(D7=\"FINC-430\",VLOOKUP(55,'Course List'!$A:$B,2,0),IF(D7=\"FINC-440\",VLOOKUP(56,'Course List'!$A:$B,2,0)))","v":"Not Taken"}]
["Decision Sciences",{"$f":"DECS!A3","v":"NOT MAJORING IN THIS FIELD"},null,{"$f":"IF(VLOOKUP(117,'Course List'!$A:$B,2,0)<>\"Not Taken\",\"MECN-436\",\"MECN-430\")","v":"MECN-430"},{"$f":"IF(D8=\"MECN-430\",VLOOKUP(116,'Course List'!$A:$F,6,0),IF(D8=\"MECN-436\",VLOOKUP(117,'Course List'!$A:$F,6,0),IF(D8=\"Waived\",\"Microeconomics Waived\")))","v":"Microeconomic Analysis"},{"$f":"IF(D8=\"MECN-430\",VLOOKUP(116,'Course List'!$A:$B,2,0),IF(D8=\"MECN-436\",VLOOKUP(117,'Course List'!$A:$B,2,0)))","v":"Not Taken"}]
["Entrepreneurship & Innovation",{"$f":"'ENTR & Innovation'!A3","v":"NOT MAJORING IN THIS FIELD"},null,"MGMT-431",{"$f":"IF(D9=\"MGMT-431\",VLOOKUP(132,'Course List'!$A:$F,6,0),IF(D9=\"Waived\",\"Business Strategy Waived\"))","v":"Business Strategy"},{"$f":"VLOOKUP(132,'Course List'!$A:$B,2,0)","v":"Not Taken"}]
["Finance",{"$f":"FINC!A3","v":"NOT MAJORING IN THIS FIELD"},null,"MKTG-430",{"$f":"IF(D10=\"MKTG-430\",VLOOKUP(163,'Course List'!$A:$F,6,0),IF(D10=\"Waived\",\"Marketing Waived\"))","v":"Marketing Management"},{"$f":"VLOOKUP(163,'Course List'!$A:$B,2,0)","v":"Not Taken"}]
["Health Enterprise Management (HEMA) - Health Industry track",{"$f":"HEMA!A3","v":"NOT MAJORING IN THIS FIELD"},null,"MORS-430",{"$f":"IF(D11=\"MORS-430\",VLOOKUP(181,'Course List'!$A:$F,6,0))","v":"Leadership in Organizations"},{"$f":"VLOOKUP(181,'Course List'!$A:$B,2,0)","v":"Complete"}]
["    HEMA - Biotech and Medical Products track",{"$f":"HEMA!A4","v":"NOT MAJORING IN THIS FIELD"},null,"OPNS-430",{"$f":"IF(D12=\"OPNS-430\",VLOOKUP(210,'Course List'!$A:$F,6,0),IF(D12=\"Waived\",\"Operations Waived\"))","v":"Operations Management"},{"$f":"VLOOKUP(210,'Course List'!$A:$B,2,0)","v":"Not Taken"}]
["Health Industry Management*",{"$f":"HIMT!A3","v":"NOT MAJORING IN THIS FIELD"}]
["Human Resource Management",{"$f":"HR!A3","v":"NOT MAJORING IN THIS FIELD"}]
["International Business",{"$f":"INTL!A3","v":"NOT MAJORING IN THIS FIELD"},null,null,"Other Graduation Requirements"]
["Management & Organizations",{"$f":"'MGMT & Org'!A3","v":"NOT MAJORING IN THIS FIELD"}]
["Management & Strategy",{"$f":"'MGMT & Strat'!A3","v":"NOT MAJORING IN THIS FIELD"},null,null,"Requirement","Status"]
["Managerial Economics",{"$f":"'Managerial Econ'!A3","v":"NOT MAJORING IN THIS FIELD"},null,null,"Credit Hours",{"$f":"IF(F19>=16,\"Complete\",IF(F19+F20>=16,\"Completed This Quarter\",IF(F19+F20+F21>=16,\"In Progress\",\"Incomplete\")))","v":"Incomplete"}]
["Marketing",{"$f":"Marketing!A3","v":"NOT MAJORING IN THIS FIELD"},null,null,"  Complete",{"$f":"COUNTIFS('Course List'!B5:B298,\"Complete\",'Course List'!H5:H298,\"1\")+(COUNTIFS('Course List'!B5:B298,\"Complete\",'Course List'!H5:H298,\"0.5\")/2)","v":1}]
["Marketing 1Y",{"$f":"'Marketing 1Y'!A3","v":"NOT MAJORING IN THIS FIELD"},null,null,"  Enrolled",{"$f":"COUNTIFS('Course List'!B5:B298,\"Enrolled\",'Course List'!H5:H298,\"1\")+(COUNTIFS('Course List'!B5:B298,\"Enrolled\",'Course List'!H5:H298,\"0.5\")/2)","v":0}]
["Marketing Management",{"$f":"'MKTG MGMT'!A3","v":"NOT MAJORING IN THIS FIELD"},null,null,"  Planned",{"$f":"COUNTIFS('Course List'!B5:B298,\"Will Enroll\",'Course List'!H5:H298,\"1\")+(COUNTIFS('Course List'!B5:B298,\"Will Enroll\",'Course List'!H5:H298,\"0.5\")/2)","v":0.5}]
["Marketing Management 1Y",{"$f":"'MKTG MGMT 1Y'!A3","v":"NOT MAJORING IN THIS FIELD"},null,null,"Total Credit Hours",{"$f":"SUM(F19:F21)","v":1.5}]
["Media Management",{"$f":"'Media MGMT'!A3","v":"NOT MAJORING IN THIS FIELD"},null,null,"At least one Major",{"$f":"IF(COUNTIF(B3:B26,\"Complete\")>=1,\"Complete\",\"Incomplete\")","v":"Incomplete"}]
["Operations Management",{"$f":"OPNS!A3","v":"NOT MAJORING IN THIS FIELD"}]
["Real Estate Management",{"$f":"'Real Estate MGMT'!A3","v":"NOT MAJORING IN THIS FIELD"}]
["Special Competency in Health Enterprise Excellence",{"$f":"SCHEMA!A3","v":"NOT MAJORING IN THIS FIELD"}]
["Social Enterprise at Kellogg (SEEK)",{"$f":"SEEK!A3","v":"POTENTIAL MAJOR"}]
["    SEEK - Nonprofit Specilization",{"$f":"SEEK!A4","v":"POTENTIAL MAJOR"}]
["Technology Industry Management",{"$f":"'Tech Industry MGMT'!A3","v":"NOT MAJORING IN THIS FIELD"}]

{"sheet":"Majors (MDMBA)","index":8,"n_rows":29,"n_cols":6,"rows_kept":29,"cut":false,"hidden":false,"merged":[]}
["Kellogg Majors",null,null,"Core Courses"]
[]
["Accounting Information & Management",{"$f":"'ACCT Info & MGMT'!A3","v":"NOT MAJORING IN THIS FIELD"},null,"Course","Course Name","Status"]
["Accounting Information & Management IY",{"$f":"'ACCT Info & MGMT 1Y & MMM'!A3","v":"NOT MAJORING IN THIS FIELD"},null,{"$f":"IF(VLOOKUP(4,'Course List'!$A:$B,2,0)<>\"Not Taken\",\"ACCT-434\",\"ACCT-430\")","v":"ACCT-430"},{"$f":"IF(D4=\"ACCT-430\",VLOOKUP(1,'Course List'!$A:$F,6,0),IF(D4=\"ACCT-434\",VLOOKUP(4,'Course List'!$A:$F,6,0)))","v":"Accounting for Decision Making"},{"$f":"IF(D4=\"ACCT-430\",VLOOKUP(1,'Course List'!$A:$B,2,0),IF(D4=\"ACCT-434\",VLOOKUP(4,'Course List'!$A:$B,2,0)))","v":"Not Taken"}]
["Analytical Consulting",{"$f":"'Analyt Consulting'!A3","v":"NOT MAJORING IN THIS FIELD"},null,{"$f":"IF(VLOOKUP(37,'Course List'!$A:$B,2,0)<>\"Not Taken\",\"DECS-436\",\"DECS-433\")","v":"DECS-433"},{"$f":"IF(D5=\"DECS-433\",VLOOKUP(35,'Course List'!$A:$F,6,0),IF(D5=\"DECS-436\",VLOOKUP(37,'Course List'!$A:$F,6,0),IF(D5=\"Waived\",\"Decision Sciences I Waived\")))","v":"Mathematical Methods for Management Decisions"},{"$f":"IF(D5=\"DECS-433\",VLOOKUP(35,'Course List'!$A:$B,2,0),IF(D5=\"DECS-436\",VLOOKUP(37,'Course List'!$A:$B,2,0)))","v":"Not Taken"}]
["Analytical Finance",{"$f":"'Analytical Finance'!A3","v":"NOT MAJORING IN THIS FIELD"},null,{"$f":"IF(VLOOKUP(38,'Course List'!$A:$B,2,0)<>\"Not Taken\",\"DECS-437\",\"DECS-434\")","v":"DECS-434"},{"$f":"IF(D6=\"DECS-434\",VLOOKUP(36,'Course List'!$A:$F,6,0),IF(D6=\"DECS-437\",VLOOKUP(38,'Course List'!$A:$F,6,0),IF(D6=\"Waived\",\"Decision Sciences II Waived\")))","v":"Statistical Methods For Management Decisions"},{"$f":"IF(D6=\"DECS-434\",VLOOKUP(36,'Course List'!$A:$B,2,0),IF(D6=\"DECS-437\",VLOOKUP(38,'Course List'!$A:$B,2,0)))","v":"Not Taken"}]
["Biotechnology",{"$f":"Biotech!A3","v":"NOT MAJORING IN THIS FIELD"},null,{"$f":"IF(VLOOKUP(56,'Course List'!$A:$B,2,0)<>\"Not Taken\",\"FINC-440\",\"FINC-430\")","v":"FINC-430"},{"$f":"IF(D7=\"FINC-430\",VLOOKUP(55,'Course List'!$A:$F,6,0),IF(D7=\"FINC-440\",VLOOKUP(56,'Course List'!$A:$F,6,0),IF(D7=\"Waived\",\"Finance Waived\")))","v":"Finance I"},{"$f":"IF(D7=\"FINC-430\",VLOOKUP(55,'Course List'!$A:$B,2,0),IF(D7=\"FINC-440\",VLOOKUP(56,'Course List'!$A:$B,2,0)))","v":"Not Taken"}]
["Decision Sciences",{"$f":"DECS!A3","v":"NOT MAJORING IN THIS FIELD"},null,{"$f":"IF(VLOOKUP(117,'Course List'!$A:$B,2,0)<>\"Not Taken\",\"MECN-436\",\"MECN-430\")","v":"MECN-430"},{"$f":"IF(D8=\"MECN-430\",VLOOKUP(116,'Course List'!$A:$F,6,0),IF(D8=\"MECN-436\",VLOOKUP(117,'Course List'!$A:$F,6,0),IF(D8=\"Waived\",\"Microeconomics Waived\")))","v":"Microeconomic Analysis"},{"$f":"IF(D8=\"MECN-430\",VLOOKUP(116,'Course List'!$A:$B,2,0),IF(D8=\"MECN-436\",VLOOKUP(117,'Course List'!$A:$B,2,0)))","v":"Not Taken"}]
["Entrepreneurship & Innovation",{"$f":"'ENTR & Innovation'!A3","v":"NOT MAJORING IN THIS FIELD"},null,"MGMT-431",{"$f":"IF(D9=\"MGMT-431\",VLOOKUP(132,'Course List'!$A:$F,6,0),IF(D9=\"Waived\",\"Business Strategy Waived\"))","v":"Business Strategy"},{"$f":"VLOOKUP(132,'Course List'!$A:$B,2,0)","v":"Not Taken"}]
["Finance",{"$f":"FINC!A3","v":"NOT MAJORING IN THIS FIELD"},null,"MKTG-430",{"$f":"IF(D10=\"MKTG-430\",VLOOKUP(163,'Course List'!$A:$F,6,0),IF(D10=\"Waived\",\"Marketing Waived\"))","v":"Marketing Management"},{"$f":"VLOOKUP(163,'Course List'!$A:$B,2,0)","v":"Not Taken"}]
["Health Enterprise Management (HEMA) - Health Industry track",{"$f":"HEMA!A3","v":"NOT MAJORING IN THIS FIELD"},null,"MORS-430",{"$f":"IF(D11=\"MORS-430\",VLOOKUP(181,'Course List'!$A:$F,6,0))","v":"Leadership in Organizations"},{"$f":"VLOOKUP(181,'Course List'!$A:$B,2,0)","v":"Complete"}]
["    HEMA - Biotech and Medical Products track",{"$f":"HEMA!A4","v":"NOT MAJORING IN THIS FIELD"},null,"OPNS-430",{"$f":"IF(D12=\"OPNS-430\",VLOOKUP(210,'Course List'!$A:$F,6,0),IF(D12=\"Waived\",\"Operations Waived\"))","v":"Operations Management"},{"$f":"VLOOKUP(210,'Course List'!$A:$B,2,0)","v":"Not Taken"}]
["Health Industry Management*",{"$f":"HIMT!A3","v":"NOT MAJORING IN THIS FIELD"},null,"SEEK-440-A",{"$f":"IF(D13=\"SEEK-440-A\",VLOOKUP(234,'Course List'!$A:$F,6,0))","v":"Values and Crisis Decision Making"},{"$f":"VLOOKUP(234,'Course List'!$A:$B,2,0)","v":"Will Enroll"}]
["Human Resource Management",{"$f":"HR!A3","v":"NOT MAJORING IN THIS FIELD"}]
["International Business",{"$f":"INTL!A3","v":"NOT MAJORING IN THIS FIELD"}]
["Management & Organizations",{"$f":"'MGMT & Org'!A3","v":"NOT MAJORING IN THIS FIELD"},null,null,"Other Graduation Requirements"]
["Management & Strategy",{"$f":"'MGMT & Strat'!A3","v":"NOT MAJORING IN THIS FIELD"}]
["Managerial Economics",{"$f":"'Managerial Econ'!A3","v":"NOT MAJORING IN THIS FIELD"},null,null,"Requirement","Status"]
["Marketing",{"$f":"Marketing!A3","v":"NOT MAJORING IN THIS FIELD"},null,null,"Credit Hours",{"$f":"IF(F20>=18,\"Complete\",IF(F20+F21>=18,\"Completed This Quarter\",IF(F20+F21+F22>=18,\"In Progress\",\"Incomplete\")))","v":"Incomplete"}]
["Marketing 1Y",{"$f":"'Marketing 1Y'!A3","v":"NOT MAJORING IN THIS FIELD"},null,null,"  Complete",{"$f":"COUNTIFS('Course List'!B5:B298,\"Complete\",'Course List'!H5:H298,\"1\")+(COUNTIFS('Course List'!B5:B298,\"Complete\",'Course List'!H5:H298,\"0.5\")/2)","v":1}]
["Marketing Management",{"$f":"'MKTG MGMT'!A3","v":"NOT MAJORING IN THIS FIELD"},null,null,"  Enrolled",{"$f":"COUNTIFS('Course List'!B5:B298,\"Enrolled\",'Course List'!H5:H298,\"1\")+(COUNTIFS('Course List'!B5:B298,\"Enrolled\",'Course List'!H5:H298,\"0.5\")/2)","v":0}]
["Marketing Management 1Y",{"$f":"'MKTG MGMT 1Y'!A3","v":"NOT MAJORING IN THIS FIELD"},null,null,"  Planned",{"$f":"COUNTIFS('Course List'!B5:B298,\"Will Enroll\",'Course List'!H5:H298,\"1\")+(COUNTIFS('Course List'!B5:B298,\"Will Enroll\",'Course List'!H5:H298,\"0.5\")/2)","v":0.5}]
["Media Management",{"$f":"'Media MGMT'!A3","v":"NOT MAJORING IN THIS FIELD"},null,null,"Total Credit Hours",{"$f":"SUM(F20:F22)","v":1.5}]
["Operations Management",{"$f":"OPNS!A3","v":"NOT MAJORING IN THIS FIELD"},null,null,"Health Enterprise Management (HEMA)",{"$f":"IF(B11=\"Major Completed\",\"Complete\",IF(B12=\"Major Completed\",\"Complete\",\"Incomplete\"))","v":"Incomplete"}]
["Real Estate Management",{"$f":"'Real Estate MGMT'!A3","v":"NOT MAJORING IN THIS FIELD"}]
["Special Competency in Health Enterprise Excellence",{"$f":"SCHEMA!A3","v":"NOT MAJORING IN THIS FIELD"}]
["Social Enterprise at Kellogg (SEEK)",{"$f":"SEEK!A3","v":"POTENTIAL MAJOR"}]
["    SEEK - Nonprofit Specilization",{"$f":"SEEK!A4","v":"POTENTIAL MAJOR"}]
["Technology Industry Management",{"$f":"'Tech Industry MGMT'!A3","v":"NOT MAJORING IN THIS FIELD"}]

{"sheet":"2 Yr Course Plan","index":9,"n_rows":71,"n_cols":6,"rows_kept":71,"cut":false,"hidden":false,"merged":[]}
["Course Plan"]
[]
[]
[]
["Sum of Reference #"]
["Term","Status","Department","Course #","Course Name","Total"]
["1st Yr. Fall","Complete","MORS",430,"Leadership in Organizations",181]
[]
[]
[]
[]
[]
[]
[]
[]
[]
[]
["Sum of Reference #"]
["Term","Status","Department","Course #","Course Name","Total"]
[]
[]
[]
[]
[]
[]
[]
[]
[]
[]
[]
["Sum of Reference #"]
["Term","Status","Department","Course #","Course Name","Total"]
[]
[]
[]
[]
[]
[]
[]
[]
[]
[]
[]
["Sum of Reference #"]
["Term","Status","Department","Course #","Course Name","Total"]
["2nd Yr. Fall","Will Enroll","SEEK","440-A","Values and Crisis Decision Making",234]
[]
[]
[]
[]
[]
[]
[]
[]
[]
[]
["Sum of Reference #"]
["Term","Status","Department","Course #","Course Name","Total"]
[]
[]
[]
[]
[]
[]
[]
[]
[]
[]
[]
["Sum of Reference #"]
["Term","Status","Department","Course #","Course Name","Total"]

{"sheet":"1Y Course Plan","index":10,"n_rows":45,"n_cols":6,"rows_kept":45,"cut":false,"hidden":false,"merged":[]}
["Course Plan"]
[]
[]
[]
["Sum of Reference #"]
["Term","Status","Department","Course #","Course Name","Total"]
[]
[]
[]
[]
[]
[]
[]
[]
[]
[]
[]
["Sum of Reference #"]
["Term","Status","Department","Course #","Course Name","Total"]
["1st Yr. Fall","Complete","MORS",430,"Leadership in Organizations",181]
[]
[]
[]
[]
[]
[]
[]
[]
[]
[]
["Sum of Reference #"]
["Term","Status","Department","Course #","Course Name","Total"]
[]
[]
[]
[]
[]
[]
[]
[]
[]
[]
[]
["Sum of Reference #"]
["Term","Status","Department","Course #","Course Name","Total"]

{"sheet":"ACCT Info & MGMT","index":11,"n_rows":19,"n_cols":5,"rows_kept":19,"cut":false,"hidden":false,"merged":[[2,0,2,4]]}
["Accounting Information & Management"]
[]
[{"$f":"Formulae!A2","v":"NOT MAJORING IN THIS FIELD"}]
[]
["Status","Term","Department","Course #","Course Name"]
[]
[{"$f":"VLOOKUP(2,'Course List'!$A:$B,2,0)","v":"Not Taken"},{"$f":"IF(VLOOKUP(2,'Course List'!$A:$B,2,0)=\"Not Taken\",\"\",IF(VLOOKUP(2,'Course List'!$A:$C,3,0)=0,\"Unknown\",VLOOKUP(2,'Course List'!$A:$C,3,0)))","v":""},{"$f":"VLOOKUP(2,'Course List'!$A:$D,4,0)","v":"ACCT"},{"$f":"VLOOKUP(2,'Course List'!$A:$E,5,0)","v":431},{"$f":"VLOOKUP(2,'Course List'!$A:$F,6,0)","v":"Managerial Accounting"}]
[{"$f":"VLOOKUP(3,'Course List'!$A:$B,2,0)","v":"Not Taken"},{"$f":"IF(VLOOKUP(3,'Course List'!$A:$B,2,0)=\"Not Taken\",\"\",IF(VLOOKUP(3,'Course List'!$A:$C,3,0)=0,\"Unknown\",VLOOKUP(3,'Course List'!$A:$C,3,0)))","v":""},{"$f":"VLOOKUP(3,'Course List'!$A:$D,4,0)","v":"ACCT"},{"$f":"VLOOKUP(3,'Course List'!$A:$E,5,0)","v":432},{"$f":"VLOOKUP(3,'Course List'!$A:$F,6,0)","v":"Information Technology in Healthcare Management"}]
[{"$f":"VLOOKUP(10,'Course List'!$A:$B,2,0)","v":"Not Taken"},{"$f":"IF(VLOOKUP(10,'Course List'!$A:$B,2,0)=\"Not Taken\",\"\",IF(VLOOKUP(10,'Course List'!$A:$C,3,0)=0,\"Unknown\",VLOOKUP(10,'Course List'!$A:$C,3,0)))","v":""},{"$f":"VLOOKUP(10,'Course List'!$A:$D,4,0)","v":"ACCT"},{"$f":"VLOOKUP(10,'Course List'!$A:$E,5,0)","v":451},{"$f":"VLOOKUP(10,'Course List'!$A:$F,6,0)","v":"Financial Reporting & Analysis"}]
[]
[{"$f":"VLOOKUP(8,'Course List'!A:B,2,0)","v":"Not Taken"},{"$f":"IF(VLOOKUP(8,'Course List'!$A:$B,2,0)=\"Not Taken\",\"\",IF(VLOOKUP(8,'Course List'!$A:$C,3,0)=0,\"Unknown\",VLOOKUP(8,'Course List'!$A:$C,3,0)))","v":""},{"$f":"VLOOKUP(8,'Course List'!A:D,4,0)","v":"ACCT"},{"$f":"VLOOKUP(8,'Course List'!A:E,5,0)","v":442},{"$f":"VLOOKUP(8,'Course List'!A:F,6,0)","v":"Strategic Managerial Accounting"}]
[{"$f":"VLOOKUP(9,'Course List'!A:B,2,0)","v":"Not Taken"},{"$f":"IF(VLOOKUP(9,'Course List'!$A:$B,2,0)=\"Not Taken\",\"\",IF(VLOOKUP(9,'Course List'!$A:$C,3,0)=0,\"Unknown\",VLOOKUP(9,'Course List'!$A:$C,3,0)))","v":""},{"$f":"VLOOKUP(9,'Course List'!A:D,4,0)","v":"ACCT"},{"$f":"VLOOKUP(9,'Course List'!A:E,5,0)","v":444},{"$f":"VLOOKUP(9,'Course List'!A:F,6,0)","v":"Financial Planning For Mergers and Acquisitions"}]
[{"$f":"VLOOKUP(11,'Course List'!A:B,2,0)","v":"Not Taken"},{"$f":"IF(VLOOKUP(11,'Course List'!$A:$B,2,0)=\"Not Taken\",\"\",IF(VLOOKUP(11,'Course List'!$A:$C,3,0)=0,\"Unknown\",VLOOKUP(11,'Course List'!$A:$C,3,0)))","v":""},{"$f":"VLOOKUP(11,'Course List'!A:D,4,0)","v":"ACCT"},{"$f":"VLOOKUP(11,'Course List'!A:E,5,0)","v":452},{"$f":"VLOOKUP(11,'Course List'!A:F,6,0)","v":"Financial Reporting & Analysis II"}]
[{"$f":"VLOOKUP(12,'Course List'!A:B,2,0)","v":"Not Taken"},{"$f":"IF(VLOOKUP(12,'Course List'!$A:$B,2,0)=\"Not Taken\",\"\",IF(VLOOKUP(12,'Course List'!$A:$C,3,0)=0,\"Unknown\",VLOOKUP(12,'Course List'!$A:$C,3,0)))","v":""},{"$f":"VLOOKUP(12,'Course List'!A:D,4,0)","v":"ACCT"},{"$f":"VLOOKUP(12,'Course List'!A:E,5,0)","v":453},{"$f":"VLOOKUP(12,'Course List'!A:F,6,0)","v":"Complex Financial Structures"}]
[{"$f":"VLOOKUP(14,'Course List'!A:B,2,0)","v":"Not Taken"},{"$f":"IF(VLOOKUP(14,'Course List'!$A:$B,2,0)=\"Not Taken\",\"\",IF(VLOOKUP(14,'Course List'!$A:$C,3,0)=0,\"Unknown\",VLOOKUP(14,'Course List'!$A:$C,3,0)))","v":""},{"$f":"VLOOKUP(14,'Course List'!A:D,4,0)","v":"ACCT"},{"$f":"VLOOKUP(14,'Course List'!A:E,5,0)","v":455},{"$f":"VLOOKUP(14,'Course List'!A:F,6,0)","v":"Accounting and Corporate Controls"}]
[{"$f":"VLOOKUP(16,'Course List'!A:B,2,0)","v":"Not Taken"},{"$f":"IF(VLOOKUP(16,'Course List'!$A:$B,2,0)=\"Not Taken\",\"\",IF(VLOOKUP(16,'Course List'!$A:$C,3,0)=0,\"Unknown\",VLOOKUP(16,'Course List'!$A:$C,3,0)))","v":""},{"$f":"VLOOKUP(16,'Course List'!A:D,4,0)","v":"ACCT"},{"$f":"VLOOKUP(16,'Course List'!A:E,5,0)","v":479},{"$f":"VLOOKUP(16,'Course List'!A:F,6,0)","v":"Financial Assessment and Performance Evaluation of Healthcare Entities"}]
[{"$f":"VLOOKUP(67,'Course List'!A:B,2,0)","v":"Not Taken"},{"$f":"IF(VLOOKUP(67,'Course List'!$A:$B,2,0)=\"Not Taken\",\"\",IF(VLOOKUP(67,'Course List'!$A:$C,3,0)=0,\"Unknown\",VLOOKUP(67,'Course List'!$A:$C,3,0)))","v":""},{"$f":"VLOOKUP(67,'Course List'!A:D,4,0)","v":"FINC"},{"$f":"VLOOKUP(67,'Course List'!A:E,5,0)","v":463},{"$f":"VLOOKUP(67,'Course List'!A:F,6,0)","v":"Security Analysis"}]
[{"$f":"VLOOKUP(104,'Course List'!A:B,2,0)","v":"Not Taken"},{"$f":"IF(VLOOKUP(104,'Course List'!$A:$B,2,0)=\"Not Taken\",\"\",IF(VLOOKUP(104,'Course List'!$A:$C,3,0)=0,\"Unknown\",VLOOKUP(104,'Course List'!$A:$C,3,0)))","v":""},{"$f":"VLOOKUP(104,'Course List'!A:D,4,0)","v":"INTL"},{"$f":"VLOOKUP(104,'Course List'!A:E,5,0)","v":457},{"$f":"VLOOKUP(104,'Course List'!A:F,6,0)","v":"International Accounting"}]
["Not Taken",{"$f":"IF(VLOOKUP(13,'Course List'!$A:$B,2,0)=\"Not Taken\",\"\",IF(VLOOKUP(13,'Course List'!$A:$C,3,0)=0,\"Unknown\",VLOOKUP(13,'Course List'!$A:$C,3,0)))","v":""},{"$f":"VLOOKUP(13,'Course List'!A:D,4,0)","v":"ACCT"},{"$f":"VLOOKUP(13,'Course List'!A:E,5,0)","v":454},{"$f":"VLOOKUP(13,'Course List'!A:F,6,0)","v":"Management Lab (M-Lab)"}]

{"sheet":"ACCT Info & MGMT 1Y & MMM","index":12,"n_rows":16,"n_cols":5,"rows_kept":16,"cut":false,"hidden":false,"merged":[[2,0,2,4]]}
["Accounting Information & Management"]
[]
[{"$f":"Formulae!A8","v":"NOT MAJORING IN THIS FIELD"}]
[]
["Status","Term","Department","Course #","Course Name"]
[]
[{"$f":"VLOOKUP(10,'Course List'!$A:$B,2,0)","v":"Not Taken"},{"$f":"IF(VLOOKUP(10,'Course List'!$A:$B,2,0)=\"Not Taken\",\"\",IF(VLOOKUP(10,'Course List'!$A:$C,3,0)=0,\"Unknown\",VLOOKUP(10,'Course List'!$A:$C,3,0)))","v":""},{"$f":"VLOOKUP(10,'Course List'!$A:$D,4,0)","v":"ACCT"},{"$f":"VLOOKUP(10,'Course List'!$A:$E,5,0)","v":451},{"$f":"VLOOKUP(10,'Course List'!$A:$F,6,0)","v":"Financial Reporting & Analysis"}]
[]
[{"$f":"VLOOKUP(8,'Course List'!A:B,2,0)","v":"Not Taken"},{"$f":"IF(VLOOKUP(8,'Course List'!$A:$B,2,0)=\"Not Taken\",\"\",IF(VLOOKUP(8,'Course List'!$A:$C,3,0)=0,\"Unknown\",VLOOKUP(8,'Course List'!$A:$C,3,0)))","v":""},{"$f":"VLOOKUP(8,'Course List'!A:D,4,0)","v":"ACCT"},{"$f":"VLOOKUP(8,'Course List'!A:E,5,0)","v":442},{"$f":"VLOOKUP(8,'Course List'!A:F,6,0)","v":"Strategic Managerial Accounting"}]
[{"$f":"VLOOKUP(9,'Course List'!A:B,2,0)","v":"Not Taken"},{"$f":"IF(VLOOKUP(9,'Course List'!$A:$B,2,0)=\"Not Taken\",\"\",IF(VLOOKUP(9,'Course List'!$A:$C,3,0)=0,\"Unknown\",VLOOKUP(9,'Course List'!$A:$C,3,0)))","v":""},{"$f":"VLOOKUP(9,'Course List'!A:D,4,0)","v":"ACCT"},{"$f":"VLOOKUP(9,'Course List'!A:E,5,0)","v":444},{"$f":"VLOOKUP(9,'Course List'!A:F,6,0)","v":"Financial Planning For Mergers and Acquisitions"}]
[{"$f":"VLOOKUP(11,'Course List'!A:B,2,0)","v":"Not Taken"},{"$f":"IF(VLOOKUP(11,'Course List'!$A:$B,2,0)=\"Not Taken\",\"\",IF(VLOOKUP(11,'Course List'!$A:$C,3,0)=0,\"Unknown\",VLOOKUP(11,'Course List'!$A:$C,3,0)))","v":""},{"$f":"VLOOKUP(11,'Course List'!A:D,4,0)","v":"ACCT"},{"$f":"VLOOKUP(11,'Course List'!A:E,5,0)","v":452},{"$f":"VLOOKUP(11,'Course List'!A:F,6,0)","v":"Financial Reporting & Analysis II"}]
[{"$f":"VLOOKUP(12,'Course List'!A:B,2,0)","v":"Not Taken"},{"$f":"IF(VLOOKUP(12,'Course List'!$A:$B,2,0)=\"Not Taken\",\"\",IF(VLOOKUP(12,'Course List'!$A:$C,3,0)=0,\"Unknown\",VLOOKUP(12,'Course List'!$A:$C,3,0)))","v":""},{"$f":"VLOOKUP(12,'Course List'!A:D,4,0)","v":"ACCT"},{"$f":"VLOOKUP(12,'Course List'!A:E,5,0)","v":453},{"$f":"VLOOKUP(12,'Course List'!A:F,6,0)","v":"Complex Financial Structures"}]
[{"$f":"VLOOKUP(14,'Course List'!A:B,2,0)","v":"Not Taken"},{"$f":"IF(VLOOKUP(14,'Course List'!$A:$B,2,0)=\"Not Taken\",\"\",IF(VLOOKUP(14,'Course List'!$A:$C,3,0)=0,\"Unknown\",VLOOKUP(14,'Course List'!$A:$C,3,0)))","v":""},{"$f":"VLOOKUP(14,'Course List'!A:D,4,0)","v":"ACCT"},{"$f":"VLOOKUP(14,'Course List'!A:E,5,0)","v":455},{"$f":"VLOOKUP(14,'Course List'!A:F,6,0)","v":"Accounting and Corporate Controls"}]
[{"$f":"VLOOKUP(67,'Course List'!A:B,2,0)","v":"Not Taken"},{"$f":"IF(VLOOKUP(67,'Course List'!$A:$B,2,0)=\"Not Taken\",\"\",IF(VLOOKUP(67,'Course List'!$A:$C,3,0)=0,\"Unknown\",VLOOKUP(67,'Course List'!$A:$C,3,0)))","v":""},{"$f":"VLOOKUP(67,'Course List'!A:D,4,0)","v":"FINC"},{"$f":"VLOOKUP(67,'Course List'!A:E,5,0)","v":463},{"$f":"VLOOKUP(67,'Course List'!A:F,6,0)","v":"Security Analysis"}]
[{"$f":"VLOOKUP(104,'Course List'!A:B,2,0)","v":"Not Taken"},{"$f":"IF(VLOOKUP(104,'Course List'!$A:$B,2,0)=\"Not Taken\",\"\",IF(VLOOKUP(104,'Course List'!$A:$C,3,0)=0,\"Unknown\",VLOOKUP(104,'Course List'!$A:$C,3,0)))","v":""},{"$f":"VLOOKUP(104,'Course List'!A:D,4,0)","v":"INTL"},{"$f":"VLOOKUP(104,'Course List'!A:E,5,0)","v":457},{"$f":"VLOOKUP(104,'Course List'!A:F,6,0)","v":"International Accounting"}]
["Not Taken",{"$f":"IF(VLOOKUP(13,'Course List'!$A:$B,2,0)=\"Not Taken\",\"\",IF(VLOOKUP(13,'Course List'!$A:$C,3,0)=0,\"Unknown\",VLOOKUP(13,'Course List'!$A:$C,3,0)))","v":""},{"$f":"VLOOKUP(13,'Course List'!A:D,4,0)","v":"ACCT"},{"$f":"VLOOKUP(13,'Course List'!A:E,5,0)","v":454},{"$f":"VLOOKUP(13,'Course List'!A:F,6,0)","v":"Management Lab (M-Lab)"}]

{"sheet":"Analyt Consulting","index":13,"n_rows":21,"n_cols":5,"rows_kept":21,"cut":false,"hidden":false,"merged":[[2,0,2,4]]}
["Analytical Consulting"]
[]
[{"$f":"Formulae!A13","v":"NOT MAJORING IN THIS FIELD"}]
[]
["Status","Term","Department","Course #","Course Name"]
[]
["Decision Frameworks"]
[{"$f":"VLOOKUP(41,'Course List'!$A:$B,2,0)","v":"Not Taken"},{"$f":"IF(VLOOKUP(41,'Course List'!$A:$B,2,0)=\"Not Taken\",\"\",IF(VLOOKUP(41,'Course List'!$A:$C,3,0)=0,\"Unknown\",VLOOKUP(41,'Course List'!$A:$C,3,0)))","v":""},{"$f":"VLOOKUP(41,'Course List'!$A:$D,4,0)","v":"DECS"},{"$f":"VLOOKUP(41,'Course List'!$A:$E,5,0)","v":450},{"$f":"VLOOKUP(41,'Course List'!$A:$F,6,0)","v":"Decision Analysis"}]
[{"$f":"VLOOKUP(121,'Course List'!$A:$B,2,0)","v":"Not Taken"},{"$f":"IF(VLOOKUP(121,'Course List'!$A:$B,2,0)=\"Not Taken\",\"\",IF(VLOOKUP(121,'Course List'!$A:$C,3,0)=0,\"Unknown\",VLOOKUP(121,'Course List'!$A:$C,3,0)))","v":""},{"$f":"VLOOKUP(121,'Course List'!$A:$D,4,0)","v":"MECN"},{"$f":"VLOOKUP(121,'Course List'!$A:$E,5,0)","v":446},{"$f":"VLOOKUP(121,'Course List'!$A:$F,6,0)","v":"Pricing Strategies"}]
[{"$f":"VLOOKUP(42,'Course List'!$A:$B,2,0)","v":"Not Taken"},{"$f":"IF(VLOOKUP(42,'Course List'!$A:$B,2,0)=\"Not Taken\",\"\",IF(VLOOKUP(42,'Course List'!$A:$C,3,0)=0,\"Unknown\",VLOOKUP(42,'Course List'!$A:$C,3,0)))","v":""},{"$f":"VLOOKUP(42,'Course List'!$A:$D,4,0)","v":"DECS"},{"$f":"VLOOKUP(42,'Course List'!$A:$E,5,0)","v":452},{"$f":"VLOOKUP(42,'Course List'!$A:$F,6,0)","v":"Strategic Decision Making"}]
[]
["Analytical Strategy"]
[{"$f":"VLOOKUP(120,'Course List'!A:B,2,0)","v":"Not Taken"},{"$f":"IF(VLOOKUP(120,'Course List'!$A:$B,2,0)=\"Not Taken\",\"\",IF(VLOOKUP(120,'Course List'!$A:$C,3,0)=0,\"Unknown\",VLOOKUP(120,'Course List'!$A:$C,3,0)))","v":""},{"$f":"VLOOKUP(120,'Course List'!A:D,4,0)","v":"MECN"},{"$f":"VLOOKUP(120,'Course List'!A:E,5,0)","v":441},{"$f":"VLOOKUP(120,'Course List'!A:F,6,0)","v":"Competitive Strategy & Industrial Structure"}]
[{"$f":"VLOOKUP(214,'Course List'!A:B,2,0)","v":"Not Taken"},{"$f":"IF(VLOOKUP(214,'Course List'!$A:$B,2,0)=\"Not Taken\",\"\",IF(VLOOKUP(214,'Course List'!$A:$C,3,0)=0,\"Unknown\",VLOOKUP(214,'Course List'!$A:$C,3,0)))","v":""},{"$f":"VLOOKUP(214,'Course List'!A:D,4,0)","v":"OPNS"},{"$f":"VLOOKUP(214,'Course List'!A:E,5,0)","v":454},{"$f":"VLOOKUP(214,'Course List'!A:F,6,0)","v":"Operations Strategy"}]
[{"$f":"VLOOKUP(136,'Course List'!A:B,2,0)","v":"Not Taken"},{"$f":"IF(VLOOKUP(136,'Course List'!$A:$B,2,0)=\"Not Taken\",\"\",IF(VLOOKUP(136,'Course List'!$A:$C,3,0)=0,\"Unknown\",VLOOKUP(136,'Course List'!$A:$C,3,0)))","v":""},{"$f":"VLOOKUP(136,'Course List'!A:D,4,0)","v":"MGMT"},{"$f":"VLOOKUP(136,'Course List'!A:E,5,0)","v":452},{"$f":"VLOOKUP(136,'Course List'!A:F,6,0)","v":"Strategy & Organization"}]
[]
["Quantitative Models"]
[{"$f":"VLOOKUP(144,'Course List'!A:B,2,0)","v":"Not Taken"},{"$f":"IF(VLOOKUP(144,'Course List'!$A:$B,2,0)=\"Not Taken\",\"\",IF(VLOOKUP(144,'Course List'!$A:$C,3,0)=0,\"Unknown\",VLOOKUP(144,'Course List'!$A:$C,3,0)))","v":""},{"$f":"VLOOKUP(144,'Course List'!A:D,4,0)","v":"MGMT"},{"$f":"VLOOKUP(144,'Course List'!A:E,5,0)","v":469},{"$f":"VLOOKUP(144,'Course List'!A:F,6,0)","v":"Empirical Methods in Strategy"}]
[{"$f":"VLOOKUP(164,'Course List'!A:B,2,0)","v":"Not Taken"},{"$f":"IF(VLOOKUP(164,'Course List'!$A:$B,2,0)=\"Not Taken\",\"\",IF(VLOOKUP(164,'Course List'!$A:$C,3,0)=0,\"Unknown\",VLOOKUP(164,'Course List'!$A:$C,3,0)))","v":""},{"$f":"VLOOKUP(164,'Course List'!A:D,4,0)","v":"MKTG"},{"$f":"VLOOKUP(164,'Course List'!A:E,5,0)","v":450},{"$f":"VLOOKUP(164,'Course List'!A:F,6,0)","v":"Research Methods in Marketing"}]
[{"$f":"VLOOKUP(212,'Course List'!A:B,2,0)","v":"Not Taken"},{"$f":"IF(VLOOKUP(212,'Course List'!$A:$B,2,0)=\"Not Taken\",\"\",IF(VLOOKUP(212,'Course List'!$A:$C,3,0)=0,\"Unknown\",VLOOKUP(212,'Course List'!$A:$C,3,0)))","v":""},{"$f":"VLOOKUP(212,'Course List'!A:D,4,0)","v":"OPNS"},{"$f":"VLOOKUP(212,'Course List'!A:E,5,0)","v":450},{"$f":"VLOOKUP(212,'Course List'!A:F,6,0)","v":"Spreadsheet Modeling for Managerial Decisions"}]
[{"$f":"VLOOKUP(215,'Course List'!A:B,2,0)","v":"Not Taken"},{"$f":"IF(VLOOKUP(215,'Course List'!$A:$B,2,0)=\"Not Taken\",\"\",IF(VLOOKUP(215,'Course List'!$A:$C,3,0)=0,\"Unknown\",VLOOKUP(215,'Course List'!$A:$C,3,0)))","v":""},{"$f":"VLOOKUP(215,'Course List'!A:D,4,0)","v":"OPNS"},{"$f":"VLOOKUP(215,'Course List'!A:E,5,0)","v":455},{"$f":"VLOOKUP(215,'Course List'!A:F,6,0)","v":"Logistics and Supply Chain Management"}]

{"sheet":"Analytical Finance","index":14,"n_rows":20,"n_cols":5,"rows_kept":20,"cut":false,"hidden":false,"merged":[[2,0,2,4]]}
["Analytical Finance"]
[]
[{"$f":"Formulae!A28","v":"NOT MAJORING IN THIS FIELD"}]
[]
["Status","Term","Department","Course #","Course Name"]
[]
[{"$f":"VLOOKUP(55,'Course List'!A:B,2,0)","v":"Not Taken"},{"$f":"IF(VLOOKUP(55,'Course List'!$A:$B,2,0)=\"Not Taken\",\"\",IF(VLOOKUP(55,'Course List'!$A:$C,3,0)=0,\"Unknown\",VLOOKUP(55,'Course List'!$A:$C,3,0)))","v":""},{"$f":"VLOOKUP(55,'Course List'!A:D,4,0)","v":"FINC"},{"$f":"VLOOKUP(55,'Course List'!A:E,5,0)","v":430},{"$f":"VLOOKUP(55,'Course List'!A:F,6,0)","v":"Finance I"}]
[{"$f":"VLOOKUP(57,'Course List'!A:B,2,0)","v":"Not Taken"},{"$f":"IF(VLOOKUP(57,'Course List'!$A:$B,2,0)=\"Not Taken\",\"\",IF(VLOOKUP(57,'Course List'!$A:$C,3,0)=0,\"Unknown\",VLOOKUP(57,'Course List'!$A:$C,3,0)))","v":""},{"$f":"VLOOKUP(57,'Course List'!A:D,4,0)","v":"FINC"},{"$f":"VLOOKUP(57,'Course List'!A:E,5,0)","v":441},{"$f":"VLOOKUP(57,'Course List'!A:F,6,0)","v":"Finance II"}]
[{"$f":"VLOOKUP(56,'Course List'!A:B,2,0)","v":"Not Taken"},{"$f":"IF(VLOOKUP(56,'Course List'!$A:$B,2,0)=\"Not Taken\",\"\",IF(VLOOKUP(56,'Course List'!$A:$C,3,0)=0,\"Unknown\",VLOOKUP(56,'Course List'!$A:$C,3,0)))","v":""},{"$f":"VLOOKUP(56,'Course List'!A:D,4,0)","v":"FINC"},{"$f":"VLOOKUP(56,'Course List'!A:E,5,0)","v":440},{"$f":"VLOOKUP(56,'Course List'!A:F,6,0)","v":"Finance I & II"}]
[]
[{"$f":"VLOOKUP(69,'Course List'!A:B,2,0)","v":"Not Taken"},{"$f":"IF(VLOOKUP(69,'Course List'!$A:$B,2,0)=\"Not Taken\",\"\",IF(VLOOKUP(69,'Course List'!$A:$C,3,0)=0,\"Unknown\",VLOOKUP(69,'Course List'!$A:$C,3,0)))","v":""},{"$f":"VLOOKUP(69,'Course List'!A:D,4,0)","v":"FINC"},{"$f":"VLOOKUP(69,'Course List'!A:E,5,0)","v":465},{"$f":"VLOOKUP(69,'Course List'!A:F,6,0)","v":"Derivative Markets I"}]
[]
[{"$f":"VLOOKUP(58,'Course List'!A:B,2,0)","v":"Not Taken"},{"$f":"IF(VLOOKUP(58,'Course List'!$A:$B,2,0)=\"Not Taken\",\"\",IF(VLOOKUP(58,'Course List'!$A:$C,3,0)=0,\"Unknown\",VLOOKUP(58,'Course List'!$A:$C,3,0)))","v":""},{"$f":"VLOOKUP(64,'Course List'!A:D,4,0)","v":"FINC"},{"$f":"VLOOKUP(58,'Course List'!A:E,5,0)","v":442},{"$f":"VLOOKUP(58,'Course List'!A:F,6,0)","v":"Financial Decisions"}]
[{"$f":"VLOOKUP(61,'Course List'!A:B,2,0)","v":"Not Taken"},{"$f":"IF(VLOOKUP(61,'Course List'!$A:$B,2,0)=\"Not Taken\",\"\",IF(VLOOKUP(61,'Course List'!$A:$C,3,0)=0,\"Unknown\",VLOOKUP(61,'Course List'!$A:$C,3,0)))","v":""},{"$f":"VLOOKUP(61,'Course List'!A:D,4,0)","v":"FINC"},{"$f":"VLOOKUP(61,'Course List'!A:E,5,0)","v":447},{"$f":"VLOOKUP(61,'Course List'!A:F,6,0)","v":"Financial Strategy and Tax Planning"}]
[{"$f":"VLOOKUP(63,'Course List'!A:B,2,0)","v":"Not Taken"},{"$f":"IF(VLOOKUP(63,'Course List'!$A:$B,2,0)=\"Not Taken\",\"\",IF(VLOOKUP(63,'Course List'!$A:$C,3,0)=0,\"Unknown\",VLOOKUP(63,'Course List'!$A:$C,3,0)))","v":""},{"$f":"VLOOKUP(63,'Course List'!A:D,4,0)","v":"FINC"},{"$f":"VLOOKUP(63,'Course List'!A:E,5,0)","v":451},{"$f":"VLOOKUP(63,'Course List'!A:F,6,0)","v":"Money Markets and the Fed"}]
[{"$f":"VLOOKUP(65,'Course List'!A:B,2,0)","v":"Not Taken"},{"$f":"IF(VLOOKUP(65,'Course List'!$A:$B,2,0)=\"Not Taken\",\"\",IF(VLOOKUP(65,'Course List'!$A:$C,3,0)=0,\"Unknown\",VLOOKUP(65,'Course List'!$A:$C,3,0)))","v":""},{"$f":"VLOOKUP(65,'Course List'!A:D,4,0)","v":"FINC"},{"$f":"VLOOKUP(65,'Course List'!A:E,5,0)","v":460},{"$f":"VLOOKUP(65,'Course List'!A:F,6,0)","v":"Investments"}]
[{"$f":"VLOOKUP(68,'Course List'!A:B,2,0)","v":"Not Taken"},{"$f":"IF(VLOOKUP(68,'Course List'!$A:$B,2,0)=\"Not Taken\",\"\",IF(VLOOKUP(68,'Course List'!$A:$C,3,0)=0,\"Unknown\",VLOOKUP(68,'Course List'!$A:$C,3,0)))","v":""},{"$f":"VLOOKUP(68,'Course List'!A:D,4,0)","v":"FINC"},{"$f":"VLOOKUP(68,'Course List'!A:E,5,0)","v":464},{"$f":"VLOOKUP(68,'Course List'!A:F,6,0)","v":"Fixed Income Securities"}]
[{"$f":"VLOOKUP(70,'Course List'!A:B,2,0)","v":"Not Taken"},{"$f":"IF(VLOOKUP(70,'Course List'!$A:$B,2,0)=\"Not Taken\",\"\",IF(VLOOKUP(70,'Course List'!$A:$C,3,0)=0,\"Unknown\",VLOOKUP(70,'Course List'!$A:$C,3,0)))","v":""},{"$f":"VLOOKUP(70,'Course List'!A:D,4,0)","v":"FINC"},{"$f":"VLOOKUP(70,'Course List'!A:E,5,0)","v":467},{"$f":"VLOOKUP(70,'Course List'!A:F,6,0)","v":"Derivative Markets II"}]
[{"$f":"VLOOKUP(79,'Course List'!A:B,2,0)","v":"Not Taken"},{"$f":"IF(VLOOKUP(79,'Course List'!$A:$B,2,0)=\"Not Taken\",\"\",IF(VLOOKUP(79,'Course List'!$A:$C,3,0)=0,\"Unknown\",VLOOKUP(79,'Course List'!$A:$C,3,0)))","v":""},{"$f":"VLOOKUP(79,'Course List'!A:D,4,0)","v":"FINC"},{"$f":"VLOOKUP(79,'Course List'!A:E,5,0)","v":925},{"$f":"VLOOKUP(79,'Course List'!A:F,6,0)","v":"Advanced Topics in Finance"}]
["Not Taken",{"$f":"IF(VLOOKUP(13,'Course List'!$A:$B,2,0)=\"Not Taken\",\"\",IF(VLOOKUP(13,'Course List'!$A:$C,3,0)=0,\"Unknown\",VLOOKUP(13,'Course List'!$A:$C,3,0)))","v":""},{"$f":"VLOOKUP(13,'Course List'!A:D,4,0)","v":"ACCT"},{"$f":"VLOOKUP(13,'Course List'!A:E,5,0)","v":454},{"$f":"VLOOKUP(13,'Course List'!A:F,6,0)","v":"Management Lab (M-Lab)"}]

{"sheet":"Biotech","index":15,"n_rows":20,"n_cols":5,"rows_kept":20,"cut":false,"hidden":false,"merged":[[2,0,2,4]]}
["Biotechnology"]
[]
[{"$f":"Formulae!A41","v":"NOT MAJORING IN THIS FIELD"}]
[]
["Status","Term","Department","Course #","Course Name"]
[]
[{"$f":"VLOOKUP(19,'Course List'!$A:$B,2,0)","v":"Not Taken"},{"$f":"IF(VLOOKUP(19,'Course List'!$A:$B,2,0)=\"Not Taken\",\"\",IF(VLOOKUP(19,'Course List'!$A:$C,3,0)=0,\"Unknown\",VLOOKUP(19,'Course List'!$A:$C,3,0)))","v":""},{"$f":"VLOOKUP(19,'Course List'!$A:$D,4,0)","v":"HEMA"},{"$f":"VLOOKUP(19,'Course List'!$A:$E,5,0)","v":911},{"$f":"VLOOKUP(19,'Course List'!$A:$F,6,0)","v":"Dynamics of the Biotechnology/Life Sciences Industry"}]
[{"$f":"VLOOKUP(271,'Course List'!$A:$B,2,0)","v":"Not Taken"},{"$f":"IF(VLOOKUP(271,'Course List'!$A:$B,2,0)=\"Not Taken\",\"\",IF(VLOOKUP(271,'Course List'!$A:$C,3,0)=0,\"Unknown\",VLOOKUP(271,'Course List'!$A:$C,3,0)))","v":""},{"$f":"VLOOKUP(271,'Course List'!$A:$D,4,0)","v":"HEMA"},{"$f":"VLOOKUP(271,'Course List'!$A:$E,5,0)","v":915},{"$f":"VLOOKUP(271,'Course List'!$A:$F,6,0)","v":"Medical Innovations"}]
[{"$f":"VLOOKUP(285,'Course List'!$A:$B,2,0)","v":"Not Taken"},{"$f":"IF(VLOOKUP(285,'Course List'!$A:$B,2,0)=\"Not Taken\",\"\",IF(VLOOKUP(285,'Course List'!$A:$C,3,0)=0,\"Unknown\",VLOOKUP(285,'Course List'!$A:$C,3,0)))","v":""},{"$f":"VLOOKUP(285,'Course List'!$A:$D,4,0)","v":"HEMA"},{"$f":"VLOOKUP(285,'Course List'!$A:$E,5,0)","v":916},{"$f":"VLOOKUP(285,'Course List'!$A:$F,6,0)","v":"Medical Innovation II: Developing Biomedical Products from Patient to Market"}]
[{"$f":"VLOOKUP(139,'Course List'!A:B,2,0)","v":"Not Taken"},{"$f":"IF(VLOOKUP(139,'Course List'!$A:$B,2,0)=\"Not Taken\",\"\",IF(VLOOKUP(139,'Course List'!$A:$C,3,0)=0,\"Unknown\",VLOOKUP(139,'Course List'!$A:$C,3,0)))","v":""},{"$f":"VLOOKUP(139,'Course List'!A:D,4,0)","v":"MGMT"},{"$f":"VLOOKUP(139,'Course List'!A:E,5,0)","v":463},{"$f":"VLOOKUP(139,'Course List'!A:F,6,0)","v":"Management of Technology"}]
[]
[{"$f":"VLOOKUP(21,'Course List'!A:B,2,0)","v":"Not Taken"},{"$f":"IF(VLOOKUP(21,'Course List'!$A:$B,2,0)=\"Not Taken\",\"\",IF(VLOOKUP(21,'Course List'!$A:$C,3,0)=0,\"Unknown\",VLOOKUP(21,'Course List'!$A:$C,3,0)))","v":""},{"$f":"VLOOKUP(21,'Course List'!A:D,4,0)","v":"HEMA"},{"$f":"VLOOKUP(21,'Course List'!A:E,5,0)","v":913},{"$f":"VLOOKUP(21,'Course List'!A:F,6,0)","v":"Biotech Business Practicum"}]
[{"$f":"VLOOKUP(22,'Course List'!A:B,2,0)","v":"Not Taken"},{"$f":"IF(VLOOKUP(22,'Course List'!$A:$B,2,0)=\"Not Taken\",\"\",IF(VLOOKUP(22,'Course List'!$A:$C,3,0)=0,\"Unknown\",VLOOKUP(22,'Course List'!$A:$C,3,0)))","v":""},{"$f":"VLOOKUP(22,'Course List'!A:D,4,0)","v":"HEMA"},{"$f":"VLOOKUP(22,'Course List'!A:E,5,0)","v":914},{"$f":"VLOOKUP(22,'Course List'!A:F,6,0)","v":"Biomedical Marketing"}]
[{"$f":"VLOOKUP(23,'Course List'!A:B,2,0)","v":"Not Taken"},{"$f":"IF(VLOOKUP(23,'Course List'!$A:$B,2,0)=\"Not Taken\",\"\",IF(VLOOKUP(23,'Course List'!$A:$C,3,0)=0,\"Unknown\",VLOOKUP(23,'Course List'!$A:$C,3,0)))","v":""},{"$f":"VLOOKUP(23,'Course List'!A:D,4,0)","v":"HEMA"},{"$f":"VLOOKUP(23,'Course List'!A:E,5,0)","v":919},{"$f":"VLOOKUP(23,'Course List'!A:F,6,0)","v":"Biotechnology: Law, Business and Regulation"}]
[{"$f":"VLOOKUP(85,'Course List'!A:B,2,0)","v":"Not Taken"},{"$f":"IF(VLOOKUP(85,'Course List'!$A:$B,2,0)=\"Not Taken\",\"\",IF(VLOOKUP(85,'Course List'!$A:$C,3,0)=0,\"Unknown\",VLOOKUP(85,'Course List'!$A:$C,3,0)))","v":""},{"$f":"VLOOKUP(85,'Course List'!A:D,4,0)","v":"FINC"},{"$f":"VLOOKUP(85,'Course List'!A:E,5,0)","v":932},{"$f":"VLOOKUP(85,'Course List'!A:F,6,0)","v":"Case Studies in Venture Investment and Management"}]
[{"$f":"VLOOKUP(97,'Course List'!A:B,2,0)","v":"Not Taken"},{"$f":"IF(VLOOKUP(97,'Course List'!$A:$B,2,0)=\"Not Taken\",\"\",IF(VLOOKUP(97,'Course List'!$A:$C,3,0)=0,\"Unknown\",VLOOKUP(97,'Course List'!$A:$C,3,0)))","v":""},{"$f":"VLOOKUP(97,'Course List'!A:D,4,0)","v":"HEMA"},{"$f":"VLOOKUP(97,'Course List'!A:E,5,0)","v":453},{"$f":"VLOOKUP(97,'Course List'!A:F,6,0)","v":"Managerial Challenges in the Pharmaceutical, Biotech, and Medical Devices Industries"}]
["Not Taken","","INTL",473,"Global Initiatives in Management (GIM)"]
[{"$f":"VLOOKUP(171,'Course List'!A:B,2,0)","v":"Not Taken"},{"$f":"IF(VLOOKUP(171,'Course List'!$A:$B,2,0)=\"Not Taken\",\"\",IF(VLOOKUP(171,'Course List'!$A:$C,3,0)=0,\"Unknown\",VLOOKUP(171,'Course List'!$A:$C,3,0)))","v":""},{"$f":"VLOOKUP(171,'Course List'!A:D,4,0)","v":"MKTG"},{"$f":"VLOOKUP(171,'Course List'!A:E,5,0)","v":463},{"$f":"VLOOKUP(171,'Course List'!A:F,6,0)","v":"Sales Force Management"}]
[{"$f":"VLOOKUP(246,'Course List'!A:B,2,0)","v":"Not Taken"},{"$f":"IF(VLOOKUP(246,'Course List'!$A:$B,2,0)=\"Not Taken\",\"\",IF(VLOOKUP(246,'Course List'!$A:$C,3,0)=0,\"Unknown\",VLOOKUP(246,'Course List'!$A:$C,3,0)))","v":""},{"$f":"VLOOKUP(246,'Course List'!A:D,4,0)","v":"TECH"},{"$f":"VLOOKUP(246,'Course List'!A:E,5,0)","v":441},{"$f":"VLOOKUP(246,'Course List'!A:F,6,0)","v":"Intellectual Capital Management"}]
["Not Taken",{"$f":"IF(VLOOKUP(13,'Course List'!$A:$B,2,0)=\"Not Taken\",\"\",IF(VLOOKUP(13,'Course List'!$A:$C,3,0)=0,\"Unknown\",VLOOKUP(13,'Course List'!$A:$C,3,0)))","v":""},{"$f":"VLOOKUP(13,'Course List'!A:D,4,0)","v":"ACCT"},{"$f":"VLOOKUP(13,'Course List'!A:E,5,0)","v":454},{"$f":"VLOOKUP(13,'Course List'!A:F,6,0)","v":"Management Lab (M-Lab)"}]

{"sheet":"DECS","index":16,"n_rows":16,"n_cols":5,"rows_kept":16,"cut":false,"hidden":false,"merged":[[2,0,2,4]]}
["Decision Sciences"]
[]
[{"$f":"Formulae!A46","v":"NOT MAJORING IN THIS FIELD"}]
[]
["Status","Term","Department","Course #","Course Name"]
[]
[{"$f":"VLOOKUP(37,'Course List'!A:B,2,0)","v":"Not Taken"},{"$f":"IF(VLOOKUP(37,'Course List'!$A:$B,2,0)=\"Not Taken\",\"\",IF(VLOOKUP(37,'Course List'!$A:$C,3,0)=0,\"Unknown\",VLOOKUP(37,'Course List'!$A:$C,3,0)))","v":""},{"$f":"VLOOKUP(37,'Course List'!A:D,4,0)","v":"DECS"},{"$f":"VLOOKUP(37,'Course List'!A:E,5,0)","v":436},{"$f":"VLOOKUP(37,'Course List'!A:F,6,0)","v":"Accelerated Mathematical Methods"}]
[{"$f":"VLOOKUP(38,'Course List'!A:B,2,0)","v":"Not Taken"},{"$f":"IF(VLOOKUP(38,'Course List'!$A:$B,2,0)=\"Not Taken\",\"\",IF(VLOOKUP(38,'Course List'!$A:$C,3,0)=0,\"Unknown\",VLOOKUP(38,'Course List'!$A:$C,3,0)))","v":""},{"$f":"VLOOKUP(38,'Course List'!A:D,4,0)","v":"DECS"},{"$f":"VLOOKUP(38,'Course List'!A:E,5,0)","v":437},{"$f":"VLOOKUP(38,'Course List'!A:F,6,0)","v":"Accelerated Statistical Methods"}]
[{"$f":"VLOOKUP(41,'Course List'!A:B,2,0)","v":"Not Taken"},{"$f":"IF(VLOOKUP(41,'Course List'!$A:$B,2,0)=\"Not Taken\",\"\",IF(VLOOKUP(41,'Course List'!$A:$C,3,0)=0,\"Unknown\",VLOOKUP(41,'Course List'!$A:$C,3,0)))","v":""},{"$f":"VLOOKUP(41,'Course List'!A:D,4,0)","v":"DECS"},{"$f":"VLOOKUP(41,'Course List'!A:E,5,0)","v":450},{"$f":"VLOOKUP(41,'Course List'!A:F,6,0)","v":"Decision Analysis"}]
[{"$f":"VLOOKUP(42,'Course List'!A:B,2,0)","v":"Not Taken"},{"$f":"IF(VLOOKUP(42,'Course List'!$A:$B,2,0)=\"Not Taken\",\"\",IF(VLOOKUP(42,'Course List'!$A:$C,3,0)=0,\"Unknown\",VLOOKUP(42,'Course List'!$A:$C,3,0)))","v":""},{"$f":"VLOOKUP(42,'Course List'!A:D,4,0)","v":"DECS"},{"$f":"VLOOKUP(42,'Course List'!A:E,5,0)","v":452},{"$f":"VLOOKUP(42,'Course List'!A:F,6,0)","v":"Strategic Decision Making"}]
[{"$f":"VLOOKUP(43,'Course List'!A:B,2,0)","v":"Not Taken"},{"$f":"IF(VLOOKUP(43,'Course List'!$A:$B,2,0)=\"Not Taken\",\"\",IF(VLOOKUP(43,'Course List'!$A:$C,3,0)=0,\"Unknown\",VLOOKUP(43,'Course List'!$A:$C,3,0)))","v":""},{"$f":"VLOOKUP(43,'Course List'!A:D,4,0)","v":"DECS"},{"$f":"VLOOKUP(43,'Course List'!A:E,5,0)","v":499},{"$f":"VLOOKUP(43,'Course List'!A:F,6,0)","v":"Independent Study"}]
[{"$f":"VLOOKUP(123,'Course List'!A:B,2,0)","v":"Not Taken"},{"$f":"IF(VLOOKUP(123,'Course List'!$A:$B,2,0)=\"Not Taken\",\"\",IF(VLOOKUP(123,'Course List'!$A:$C,3,0)=0,\"Unknown\",VLOOKUP(123,'Course List'!$A:$C,3,0)))","v":""},{"$f":"VLOOKUP(123,'Course List'!A:D,4,0)","v":"MECN"},{"$f":"VLOOKUP(123,'Course List'!A:E,5,0)","v":451},{"$f":"VLOOKUP(123,'Course List'!A:F,6,0)","v":"Business and Economic Forecasting*"}]
[{"$f":"VLOOKUP(121,'Course List'!A:B,2,0)","v":"Not Taken"},{"$f":"IF(VLOOKUP(121,'Course List'!$A:$B,2,0)=\"Not Taken\",\"\",IF(VLOOKUP(121,'Course List'!$A:$C,3,0)=0,\"Unknown\",VLOOKUP(121,'Course List'!$A:$C,3,0)))","v":""},{"$f":"VLOOKUP(121,'Course List'!A:D,4,0)","v":"MECN"},{"$f":"VLOOKUP(121,'Course List'!A:E,5,0)","v":446},{"$f":"VLOOKUP(121,'Course List'!A:F,6,0)","v":"Pricing Strategies"}]
[{"$f":"VLOOKUP(212,'Course List'!A:B,2,0)","v":"Not Taken"},{"$f":"IF(VLOOKUP(212,'Course List'!$A:$B,2,0)=\"Not Taken\",\"\",IF(VLOOKUP(212,'Course List'!$A:$C,3,0)=0,\"Unknown\",VLOOKUP(212,'Course List'!$A:$C,3,0)))","v":""},{"$f":"VLOOKUP(212,'Course List'!A:D,4,0)","v":"OPNS"},{"$f":"VLOOKUP(212,'Course List'!A:E,5,0)","v":450},{"$f":"VLOOKUP(212,'Course List'!A:F,6,0)","v":"Spreadsheet Modeling for Managerial Decisions"}]
[{"$f":"VLOOKUP(144,'Course List'!A:B,2,0)","v":"Not Taken"},{"$f":"IF(VLOOKUP(144,'Course List'!$A:$B,2,0)=\"Not Taken\",\"\",IF(VLOOKUP(144,'Course List'!$A:$C,3,0)=0,\"Unknown\",VLOOKUP(144,'Course List'!$A:$C,3,0)))","v":""},{"$f":"VLOOKUP(144,'Course List'!A:D,4,0)","v":"MGMT"},{"$f":"VLOOKUP(144,'Course List'!A:E,5,0)","v":469},{"$f":"VLOOKUP(144,'Course List'!A:F,6,0)","v":"Empirical Methods in Strategy"}]
["Not Taken",{"$f":"IF(VLOOKUP(13,'Course List'!$A:$B,2,0)=\"Not Taken\",\"\",IF(VLOOKUP(13,'Course List'!$A:$C,3,0)=0,\"Unknown\",VLOOKUP(13,'Course List'!$A:$C,3,0)))","v":""},{"$f":"VLOOKUP(13,'Course List'!A:D,4,0)","v":"ACCT"},{"$f":"VLOOKUP(13,'Course List'!A:E,5,0)","v":454},{"$f":"VLOOKUP(13,'Course List'!A:F,6,0)","v":"Management Lab (M-Lab)"}]

{"sheet":"ENTR & Innovation","index":17,"n_rows":44,"n_cols":5,"rows_kept":44,"cut":false,"hidden":false,"merged":[[2,0,2,4]]}
["Entrepreneurship & Innovation"]
[]
[{"$f":"Formulae!A48","v":"NOT MAJORING IN THIS FIELD"}]
[]
["Status","Term","Department","Course #","Course Name"]
[]
[{"$f":"VLOOKUP(44,'Course List'!A:B,2,0)","v":"Not Taken"},{"$f":"IF(VLOOKUP(44,'Course List'!$A:$B,2,0)=\"Not Taken\",\"\",IF(VLOOKUP(44,'Course List'!$A:$C,3,0)=0,\"Unknown\",VLOOKUP(44,'Course List'!$A:$C,3,0)))","v":""},{"$f":"VLOOKUP(44,'Course List'!A:D,4,0)","v":"ENTR"},{"$f":"VLOOKUP(44,'Course List'!A:E,5,0)","v":462},{"$f":"VLOOKUP(44,'Course List'!A:F,6,0)","v":"Entrepreneurship & New Venture Formulation"}]
[]
[{"$f":"VLOOKUP(20,'Course List'!A:B,2,0)","v":"Not Taken"},{"$f":"IF(VLOOKUP(20,'Course List'!$A:$B,2,0)=\"Not Taken\",\"\",IF(VLOOKUP(20,'Course List'!$A:$C,3,0)=0,\"Unknown\",VLOOKUP(20,'Course List'!$A:$C,3,0)))","v":""},{"$f":"VLOOKUP(20,'Course List'!A:D,4,0)","v":"HEMA"},{"$f":"VLOOKUP(20,'Course List'!A:E,5,0)","v":912},{"$f":"VLOOKUP(20,'Course List'!A:F,6,0)","v":"Managing Innovation"}]
[{"$f":"VLOOKUP(28,'Course List'!A:B,2,0)","v":"Not Taken"},{"$f":"IF(VLOOKUP(28,'Course List'!$A:$B,2,0)=\"Not Taken\",\"\",IF(VLOOKUP(28,'Course List'!$A:$C,3,0)=0,\"Unknown\",VLOOKUP(28,'Course List'!$A:$C,3,0)))","v":""},{"$f":"VLOOKUP(28,'Course List'!A:D,4,0)","v":"BLAW"},{"$f":"VLOOKUP(28,'Course List'!A:E,5,0)","v":"911-A"},{"$f":"VLOOKUP(28,'Course List'!A:F,6,0)","v":"Business Law for Entrepreneurs"}]
[{"$f":"VLOOKUP(45,'Course List'!A:B,2,0)","v":"Not Taken"},{"$f":"IF(VLOOKUP(45,'Course List'!$A:$B,2,0)=\"Not Taken\",\"\",IF(VLOOKUP(45,'Course List'!$A:$C,3,0)=0,\"Unknown\",VLOOKUP(45,'Course List'!$A:$C,3,0)))","v":""},{"$f":"VLOOKUP(45,'Course List'!A:D,4,0)","v":"ENTR"},{"$f":"VLOOKUP(45,'Course List'!A:E,5,0)","v":463},{"$f":"VLOOKUP(45,'Course List'!A:F,6,0)","v":"Succesful Entrepreneurship"}]
[{"$f":"VLOOKUP(49,'Course List'!A:B,2,0)","v":"Not Taken"},{"$f":"IF(VLOOKUP(49,'Course List'!$A:$B,2,0)=\"Not Taken\",\"\",IF(VLOOKUP(49,'Course List'!$A:$C,3,0)=0,\"Unknown\",VLOOKUP(49,'Course List'!$A:$C,3,0)))","v":""},{"$f":"VLOOKUP(49,'Course List'!A:D,4,0)","v":"ENTR"},{"$f":"VLOOKUP(49,'Course List'!A:E,5,0)","v":"901-A"},{"$f":"VLOOKUP(49,'Course List'!A:F,6,0)","v":"Understanding and Managing Risk"}]
[{"$f":"VLOOKUP(50,'Course List'!A:B,2,0)","v":"Not Taken"},{"$f":"IF(VLOOKUP(50,'Course List'!$A:$B,2,0)=\"Not Taken\",\"\",IF(VLOOKUP(50,'Course List'!$A:$C,3,0)=0,\"Unknown\",VLOOKUP(50,'Course List'!$A:$C,3,0)))","v":""},{"$f":"VLOOKUP(50,'Course List'!A:D,4,0)","v":"ENTR"},{"$f":"VLOOKUP(50,'Course List'!A:E,5,0)","v":"902-A"},{"$f":"VLOOKUP(50,'Course List'!A:F,6,0)","v":"Entrepreneurial Selling: Skills and Strategies"}]
[{"$f":"VLOOKUP(51,'Course List'!A:B,2,0)","v":"Not Taken"},{"$f":"IF(VLOOKUP(51,'Course List'!$A:$B,2,0)=\"Not Taken\",\"\",IF(VLOOKUP(51,'Course List'!$A:$C,3,0)=0,\"Unknown\",VLOOKUP(51,'Course List'!$A:$C,3,0)))","v":""},{"$f":"VLOOKUP(51,'Course List'!A:D,4,0)","v":"ENTR"},{"$f":"VLOOKUP(51,'Course List'!A:E,5,0)","v":"902-B"},{"$f":"VLOOKUP(51,'Course List'!A:F,6,0)","v":"Entrepreneurial Selling: Skills and Strategies"}]
[{"$f":"VLOOKUP(52,'Course List'!A:B,2,0)","v":"Not Taken"},{"$f":"IF(VLOOKUP(52,'Course List'!$A:$B,2,0)=\"Not Taken\",\"\",IF(VLOOKUP(52,'Course List'!$A:$C,3,0)=0,\"Unknown\",VLOOKUP(52,'Course List'!$A:$C,3,0)))","v":""},{"$f":"VLOOKUP(52,'Course List'!A:D,4,0)","v":"ENTR"},{"$f":"VLOOKUP(52,'Course List'!A:E,5,0)","v":"903-A"},{"$f":"VLOOKUP(52,'Course List'!A:F,6,0)","v":"Corporate Innovation & New Ventures"}]
[{"$f":"VLOOKUP(53,'Course List'!A:B,2,0)","v":"Not Taken"},{"$f":"IF(VLOOKUP(53,'Course List'!$A:$B,2,0)=\"Not Taken\",\"\",IF(VLOOKUP(53,'Course List'!$A:$C,3,0)=0,\"Unknown\",VLOOKUP(53,'Course List'!$A:$C,3,0)))","v":""},{"$f":"VLOOKUP(53,'Course List'!A:D,4,0)","v":"ENTR"},{"$f":"VLOOKUP(53,'Course List'!A:E,5,0)","v":"903-B"},{"$f":"VLOOKUP(53,'Course List'!A:F,6,0)","v":"Corporate Innovation & New Ventures"}]
[{"$f":"VLOOKUP(274,'Course List'!A:B,2,0)","v":"Not Taken"},{"$f":"IF(VLOOKUP(274,'Course List'!$A:$B,2,0)=\"Not Taken\",\"\",IF(VLOOKUP(274,'Course List'!$A:$C,3,0)=0,\"Unknown\",VLOOKUP(274,'Course List'!$A:$C,3,0)))","v":""},{"$f":"VLOOKUP(274,'Course List'!A:D,4,0)","v":"ENTR"},{"$f":"VLOOKUP(274,'Course List'!A:E,5,0)","v":"904-A"},{"$f":"VLOOKUP(274,'Course List'!A:F,6,0)","v":"Entrepreneurial Risk"}]
[{"$f":"VLOOKUP(275,'Course List'!A:B,2,0)","v":"Not Taken"},{"$f":"IF(VLOOKUP(275,'Course List'!$A:$B,2,0)=\"Not Taken\",\"\",IF(VLOOKUP(275,'Course List'!$A:$C,3,0)=0,\"Unknown\",VLOOKUP(275,'Course List'!$A:$C,3,0)))","v":""},{"$f":"VLOOKUP(275,'Course List'!A:D,4,0)","v":"ENTR"},{"$f":"VLOOKUP(275,'Course List'!A:E,5,0)","v":"904-B"},{"$f":"VLOOKUP(275,'Course List'!A:F,6,0)","v":"Entrepreneurial Risk"}]
[{"$f":"VLOOKUP(54,'Course List'!A:B,2,0)","v":"Not Taken"},{"$f":"IF(VLOOKUP(54,'Course List'!$A:$B,2,0)=\"Not Taken\",\"\",IF(VLOOKUP(54,'Course List'!$A:$C,3,0)=0,\"Unknown\",VLOOKUP(54,'Course List'!$A:$C,3,0)))","v":""},{"$f":"VLOOKUP(54,'Course List'!A:D,4,0)","v":"ENTR"},{"$f":"VLOOKUP(54,'Course List'!A:E,5,0)","v":926},{"$f":"VLOOKUP(54,'Course List'!A:F,6,0)","v":"The Human Element in Private Equity Investing"}]
[{"$f":"VLOOKUP(59,'Course List'!A:B,2,0)","v":"Not Taken"},{"$f":"IF(VLOOKUP(59,'Course List'!$A:$B,2,0)=\"Not Taken\",\"\",IF(VLOOKUP(59,'Course List'!$A:$C,3,0)=0,\"Unknown\",VLOOKUP(59,'Course List'!$A:$C,3,0)))","v":""},{"$f":"VLOOKUP(59,'Course List'!A:D,4,0)","v":"FINC"},{"$f":"VLOOKUP(59,'Course List'!A:E,5,0)","v":445},{"$f":"VLOOKUP(59,'Course List'!A:F,6,0)","v":"Venture Capital and Private Equity Investing"}]
[{"$f":"VLOOKUP(60,'Course List'!A:B,2,0)","v":"Not Taken"},{"$f":"IF(VLOOKUP(60,'Course List'!$A:$B,2,0)=\"Not Taken\",\"\",IF(VLOOKUP(60,'Course List'!$A:$C,3,0)=0,\"Unknown\",VLOOKUP(60,'Course List'!$A:$C,3,0)))","v":""},{"$f":"VLOOKUP(60,'Course List'!A:D,4,0)","v":"FINC"},{"$f":"VLOOKUP(60,'Course List'!A:E,5,0)","v":446},{"$f":"VLOOKUP(60,'Course List'!A:F,6,0)","v":"Entrepreneurial Finance"}]
[{"$f":"VLOOKUP(76,'Course List'!A:B,2,0)","v":"Not Taken"},{"$f":"IF(VLOOKUP(76,'Course List'!$A:$B,2,0)=\"Not Taken\",\"\",IF(VLOOKUP(76,'Course List'!$A:$C,3,0)=0,\"Unknown\",VLOOKUP(76,'Course List'!$A:$C,3,0)))","v":""},{"$f":"VLOOKUP(76,'Course List'!A:D,4,0)","v":"FINC"},{"$f":"VLOOKUP(76,'Course List'!A:E,5,0)","v":"918-A"},{"$f":"VLOOKUP(76,'Course List'!A:F,6,0)","v":"Major Project and Project Finance in Emerging Markets"}]
[{"$f":"VLOOKUP(254,'Course List'!A:B,2,0)","v":"Not Taken"},{"$f":"IF(VLOOKUP(254,'Course List'!$A:$B,2,0)=\"Not Taken\",\"\",IF(VLOOKUP(254,'Course List'!$A:$C,3,0)=0,\"Unknown\",VLOOKUP(254,'Course List'!$A:$C,3,0)))","v":""},{"$f":"VLOOKUP(254,'Course List'!A:D,4,0)","v":"FINC"},{"$f":"VLOOKUP(254,'Course List'!A:E,5,0)","v":"918-B"},{"$f":"VLOOKUP(254,'Course List'!A:F,6,0)","v":"Major Project and Project Finance in Emerging Markets"}]
[{"$f":"VLOOKUP(85,'Course List'!A:B,2,0)","v":"Not Taken"},{"$f":"IF(VLOOKUP(85,'Course List'!$A:$B,2,0)=\"Not Taken\",\"\",IF(VLOOKUP(85,'Course List'!$A:$C,3,0)=0,\"Unknown\",VLOOKUP(85,'Course List'!$A:$C,3,0)))","v":""},{"$f":"VLOOKUP(85,'Course List'!A:D,4,0)","v":"FINC"},{"$f":"VLOOKUP(85,'Course List'!A:E,5,0)","v":932},{"$f":"VLOOKUP(85,'Course List'!A:F,6,0)","v":"Case Studies in Venture Investment and Management"}]
[{"$f":"VLOOKUP(109,'Course List'!A:B,2,0)","v":"Not Taken"},{"$f":"IF(VLOOKUP(109,'Course List'!$A:$B,2,0)=\"Not Taken\",\"\",IF(VLOOKUP(109,'Course List'!$A:$C,3,0)=0,\"Unknown\",VLOOKUP(109,'Course List'!$A:$C,3,0)))","v":""},{"$f":"VLOOKUP(109,'Course List'!A:D,4,0)","v":"INTL"},{"$f":"VLOOKUP(109,'Course List'!A:E,5,0)","v":474},{"$f":"VLOOKUP(109,'Course List'!A:F,6,0)","v":"Cross-Cultural Negotiation"}]
[{"$f":"VLOOKUP(121,'Course List'!A:B,2,0)","v":"Not Taken"},{"$f":"IF(VLOOKUP(121,'Course List'!$A:$B,2,0)=\"Not Taken\",\"\",IF(VLOOKUP(121,'Course List'!$A:$C,3,0)=0,\"Unknown\",VLOOKUP(121,'Course List'!$A:$C,3,0)))","v":""},{"$f":"VLOOKUP(121,'Course List'!A:D,4,0)","v":"MECN"},{"$f":"VLOOKUP(121,'Course List'!A:E,5,0)","v":446},{"$f":"VLOOKUP(121,'Course List'!A:F,6,0)","v":"Pricing Strategies"}]
[{"$f":"VLOOKUP(139,'Course List'!A:B,2,0)","v":"Not Taken"},{"$f":"IF(VLOOKUP(139,'Course List'!$A:$B,2,0)=\"Not Taken\",\"\",IF(VLOOKUP(139,'Course List'!$A:$C,3,0)=0,\"Unknown\",VLOOKUP(139,'Course List'!$A:$C,3,0)))","v":""},{"$f":"VLOOKUP(139,'Course List'!A:D,4,0)","v":"MGMT"},{"$f":"VLOOKUP(139,'Course List'!A:E,5,0)","v":463},{"$f":"VLOOKUP(139,'Course List'!A:F,6,0)","v":"Management of Technology"}]
[{"$f":"VLOOKUP(141,'Course List'!A:B,2,0)","v":"Not Taken"},{"$f":"IF(VLOOKUP(141,'Course List'!$A:$B,2,0)=\"Not Taken\",\"\",IF(VLOOKUP(141,'Course List'!$A:$C,3,0)=0,\"Unknown\",VLOOKUP(141,'Course List'!$A:$C,3,0)))","v":""},{"$f":"VLOOKUP(141,'Course List'!A:D,4,0)","v":"MGMT"},{"$f":"VLOOKUP(141,'Course List'!A:E,5,0)","v":465},{"$f":"VLOOKUP(141,'Course List'!A:F,6,0)","v":"Small Business Management"}]
[{"$f":"VLOOKUP(151,'Course List'!A:B,2,0)","v":"Not Taken"},{"$f":"IF(VLOOKUP(151,'Course List'!$A:$B,2,0)=\"Not Taken\",\"\",IF(VLOOKUP(151,'Course List'!$A:$C,3,0)=0,\"Unknown\",VLOOKUP(151,'Course List'!$A:$C,3,0)))","v":""},{"$f":"VLOOKUP(151,'Course List'!A:D,4,0)","v":"MGMT"},{"$f":"VLOOKUP(151,'Course List'!A:E,5,0)","v":927},{"$f":"VLOOKUP(151,'Course List'!A:F,6,0)","v":"Family Enterprises: Issues & Solutions"}]
[{"$f":"VLOOKUP(153,'Course List'!A:B,2,0)","v":"Not Taken"},{"$f":"IF(VLOOKUP(153,'Course List'!$A:$B,2,0)=\"Not Taken\",\"\",IF(VLOOKUP(153,'Course List'!$A:$C,3,0)=0,\"Unknown\",VLOOKUP(153,'Course List'!$A:$C,3,0)))","v":""},{"$f":"VLOOKUP(153,'Course List'!A:D,4,0)","v":"MGMT"},{"$f":"VLOOKUP(153,'Course List'!A:E,5,0)","v":"931-A"},{"$f":"VLOOKUP(153,'Course List'!A:F,6,0)","v":"Strategic Franchising"}]
[{"$f":"VLOOKUP(154,'Course List'!A:B,2,0)","v":"Not Taken"},{"$f":"IF(VLOOKUP(154,'Course List'!$A:$B,2,0)=\"Not Taken\",\"\",IF(VLOOKUP(154,'Course List'!$A:$C,3,0)=0,\"Unknown\",VLOOKUP(154,'Course List'!$A:$C,3,0)))","v":""},{"$f":"VLOOKUP(154,'Course List'!A:D,4,0)","v":"MGMT"},{"$f":"VLOOKUP(154,'Course List'!A:E,5,0)","v":"931-B"},{"$f":"VLOOKUP(154,'Course List'!A:F,6,0)","v":"Strategic Franchising"}]
[{"$f":"VLOOKUP(157,'Course List'!A:B,2,0)","v":"Not Taken"},{"$f":"IF(VLOOKUP(157,'Course List'!$A:$B,2,0)=\"Not Taken\",\"\",IF(VLOOKUP(157,'Course List'!$A:$C,3,0)=0,\"Unknown\",VLOOKUP(157,'Course List'!$A:$C,3,0)))","v":""},{"$f":"VLOOKUP(157,'Course List'!A:D,4,0)","v":"MGMT"},{"$f":"VLOOKUP(157,'Course List'!A:E,5,0)","v":934},{"$f":"VLOOKUP(157,'Course List'!A:F,6,0)","v":"Managing Turnarounds"}]
[{"$f":"VLOOKUP(172,'Course List'!A:B,2,0)","v":"Not Taken"},{"$f":"IF(VLOOKUP(172,'Course List'!$A:$B,2,0)=\"Not Taken\",\"\",IF(VLOOKUP(172,'Course List'!$A:$C,3,0)=0,\"Unknown\",VLOOKUP(172,'Course List'!$A:$C,3,0)))","v":""},{"$f":"VLOOKUP(172,'Course List'!A:D,4,0)","v":"MKTG"},{"$f":"VLOOKUP(172,'Course List'!A:E,5,0)","v":"464-A"},{"$f":"VLOOKUP(172,'Course List'!A:F,6,0)","v":"The Management of Product Development"}]
[{"$f":"VLOOKUP(173,'Course List'!A:B,2,0)","v":"Not Taken"},{"$f":"IF(VLOOKUP(173,'Course List'!$A:$B,2,0)=\"Not Taken\",\"\",IF(VLOOKUP(173,'Course List'!$A:$C,3,0)=0,\"Unknown\",VLOOKUP(173,'Course List'!$A:$C,3,0)))","v":""},{"$f":"VLOOKUP(173,'Course List'!A:D,4,0)","v":"MKTG"},{"$f":"VLOOKUP(173,'Course List'!A:E,5,0)","v":465},{"$f":"VLOOKUP(173,'Course List'!A:F,6,0)","v":"Introduction of New Products & Services"}]
[{"$f":"VLOOKUP(175,'Course List'!A:B,2,0)","v":"Not Taken"},{"$f":"IF(VLOOKUP(175,'Course List'!$A:$B,2,0)=\"Not Taken\",\"\",IF(VLOOKUP(175,'Course List'!$A:$C,3,0)=0,\"Unknown\",VLOOKUP(175,'Course List'!$A:$C,3,0)))","v":""},{"$f":"VLOOKUP(175,'Course List'!A:D,4,0)","v":"MKTG"},{"$f":"VLOOKUP(175,'Course List'!A:E,5,0)","v":468},{"$f":"VLOOKUP(175,'Course List'!A:F,6,0)","v":"Technology Marketing"}]
[{"$f":"VLOOKUP(178,'Course List'!A:B,2,0)","v":"Not Taken"},{"$f":"IF(VLOOKUP(178,'Course List'!$A:$B,2,0)=\"Not Taken\",\"\",IF(VLOOKUP(178,'Course List'!$A:$C,3,0)=0,\"Unknown\",VLOOKUP(178,'Course List'!$A:$C,3,0)))","v":""},{"$f":"VLOOKUP(178,'Course List'!A:D,4,0)","v":"MKTG"},{"$f":"VLOOKUP(178,'Course List'!A:E,5,0)","v":913},{"$f":"VLOOKUP(178,'Course List'!A:F,6,0)","v":"Internet Marketing"}]
[{"$f":"VLOOKUP(188,'Course List'!A:B,2,0)","v":"Not Taken"},{"$f":"IF(VLOOKUP(188,'Course List'!$A:$B,2,0)=\"Not Taken\",\"\",IF(VLOOKUP(188,'Course List'!$A:$C,3,0)=0,\"Unknown\",VLOOKUP(188,'Course List'!$A:$C,3,0)))","v":""},{"$f":"VLOOKUP(188,'Course List'!A:D,4,0)","v":"MORS"},{"$f":"VLOOKUP(188,'Course List'!A:E,5,0)","v":453},{"$f":"VLOOKUP(188,'Course List'!A:F,6,0)","v":"Power in Organizations: Sources, Strategies and Skills"}]
[{"$f":"VLOOKUP(197,'Course List'!A:B,2,0)","v":"Not Taken"},{"$f":"IF(VLOOKUP(197,'Course List'!$A:$B,2,0)=\"Not Taken\",\"\",IF(VLOOKUP(197,'Course List'!$A:$C,3,0)=0,\"Unknown\",VLOOKUP(197,'Course List'!$A:$C,3,0)))","v":""},{"$f":"VLOOKUP(197,'Course List'!A:D,4,0)","v":"MORS"},{"$f":"VLOOKUP(197,'Course List'!A:E,5,0)","v":470},{"$f":"VLOOKUP(197,'Course List'!A:F,6,0)","v":"Negotiations"}]
[{"$f":"VLOOKUP(235,'Course List'!A:B,2,0)","v":"Not Taken"},{"$f":"IF(VLOOKUP(235,'Course List'!$A:$B,2,0)=\"Not Taken\",\"\",IF(VLOOKUP(235,'Course List'!$A:$C,3,0)=0,\"Unknown\",VLOOKUP(235,'Course List'!$A:$C,3,0)))","v":""},{"$f":"VLOOKUP(235,'Course List'!A:D,4,0)","v":"MKTG"},{"$f":"VLOOKUP(235,'Course List'!A:E,5,0)","v":"938-B"},{"$f":"VLOOKUP(235,'Course List'!A:F,6,0)","v":"Cases in Sustainability"}]
[{"$f":"VLOOKUP(230,'Course List'!A:B,2,0)","v":"Not Taken"},{"$f":"IF(VLOOKUP(230,'Course List'!$A:$B,2,0)=\"Not Taken\",\"\",IF(VLOOKUP(230,'Course List'!$A:$C,3,0)=0,\"Unknown\",VLOOKUP(230,'Course List'!$A:$C,3,0)))","v":""},{"$f":"VLOOKUP(230,'Course List'!A:D,4,0)","v":"SEEK"},{"$f":"VLOOKUP(230,'Course List'!A:E,5,0)","v":956},{"$f":"VLOOKUP(230,'Course List'!A:F,6,0)","v":"Social Entrepreneurship in the Developing World"}]
[{"$f":"VLOOKUP(246,'Course List'!A:B,2,0)","v":"Not Taken"},{"$f":"IF(VLOOKUP(246,'Course List'!$A:$B,2,0)=\"Not Taken\",\"\",IF(VLOOKUP(246,'Course List'!$A:$C,3,0)=0,\"Unknown\",VLOOKUP(246,'Course List'!$A:$C,3,0)))","v":""},{"$f":"VLOOKUP(246,'Course List'!A:D,4,0)","v":"TECH"},{"$f":"VLOOKUP(246,'Course List'!A:E,5,0)","v":441},{"$f":"VLOOKUP(246,'Course List'!A:F,6,0)","v":"Intellectual Capital Management"}]
[{"$f":"VLOOKUP(248,'Course List'!A:B,2,0)","v":"Not Taken"},{"$f":"IF(VLOOKUP(248,'Course List'!$A:$B,2,0)=\"Not Taken\",\"\",IF(VLOOKUP(248,'Course List'!$A:$C,3,0)=0,\"Unknown\",VLOOKUP(248,'Course List'!$A:$C,3,0)))","v":""},{"$f":"VLOOKUP(248,'Course List'!A:D,4,0)","v":"TECH"},{"$f":"VLOOKUP(248,'Course List'!A:E,5,0)","v":911},{"$f":"VLOOKUP(248,'Course List'!A:F,6,0)","v":"The Strategic Impact of Information Technology"}]
[{"$f":"VLOOKUP(251,'Course List'!A:B,2,0)","v":"Not Taken"},{"$f":"IF(VLOOKUP(251,'Course List'!$A:$B,2,0)=\"Not Taken\",\"\",IF(VLOOKUP(251,'Course List'!$A:$C,3,0)=0,\"Unknown\",VLOOKUP(251,'Course List'!$A:$C,3,0)))","v":""},{"$f":"VLOOKUP(251,'Course List'!A:D,4,0)","v":"TECH"},{"$f":"VLOOKUP(251,'Course List'!A:E,5,0)","v":918},{"$f":"VLOOKUP(251,'Course List'!A:F,6,0)","v":"Kellogg TechVenture"}]
["Not Taken",{"$f":"IF(VLOOKUP(13,'Course List'!$A:$B,2,0)=\"Not Taken\",\"\",IF(VLOOKUP(13,'Course List'!$A:$C,3,0)=0,\"Unknown\",VLOOKUP(13,'Course List'!$A:$C,3,0)))","v":""},{"$f":"VLOOKUP(13,'Course List'!A:D,4,0)","v":"ACCT"},{"$f":"VLOOKUP(13,'Course List'!A:E,5,0)","v":454},{"$f":"VLOOKUP(13,'Course List'!A:F,6,0)","v":"Management Lab (M-Lab)"}]

{"sheet":"FINC","index":18,"n_rows":65,"n_cols":5,"rows_kept":65,"cut":false,"hidden":false,"merged":[[2,0,2,4]]}
["Finance"]
[]
[{"$f":"Formulae!A53","v":"NOT MAJORING IN THIS FIELD"}]
[]
["Status","Term","Department","Course #","Course Name"]
[]
[{"$f":"VLOOKUP(55,'Course List'!A:B,2,0)","v":"Not Taken"},{"$f":"IF(VLOOKUP(55,'Course List'!$A:$B,2,0)=\"Not Taken\",\"\",IF(VLOOKUP(55,'Course List'!$A:$C,3,0)=0,\"Unknown\",VLOOKUP(55,'Course List'!$A:$C,3,0)))","v":""},{"$f":"VLOOKUP(55,'Course List'!A:D,4,0)","v":"FINC"},{"$f":"VLOOKUP(55,'Course List'!A:E,5,0)","v":430},{"$f":"VLOOKUP(55,'Course List'!A:F,6,0)","v":"Finance I"}]
[{"$f":"VLOOKUP(57,'Course List'!A:B,2,0)","v":"Not Taken"},{"$f":"IF(VLOOKUP(57,'Course List'!$A:$B,2,0)=\"Not Taken\",\"\",IF(VLOOKUP(57,'Course List'!$A:$C,3,0)=0,\"Unknown\",VLOOKUP(57,'Course List'!$A:$C,3,0)))","v":""},{"$f":"VLOOKUP(57,'Course List'!A:D,4,0)","v":"FINC"},{"$f":"VLOOKUP(57,'Course List'!A:E,5,0)","v":441},{"$f":"VLOOKUP(57,'Course List'!A:F,6,0)","v":"Finance II"}]
[{"$f":"VLOOKUP(56,'Course List'!A:B,2,0)","v":"Not Taken"},{"$f":"IF(VLOOKUP(56,'Course List'!$A:$B,2,0)=\"Not Taken\",\"\",IF(VLOOKUP(56,'Course List'!$A:$C,3,0)=0,\"Unknown\",VLOOKUP(56,'Course List'!$A:$C,3,0)))","v":""},{"$f":"VLOOKUP(56,'Course List'!A:D,4,0)","v":"FINC"},{"$f":"VLOOKUP(56,'Course List'!A:E,5,0)","v":440},{"$f":"VLOOKUP(56,'Course List'!A:F,6,0)","v":"Finance I & II"}]
[]
[{"$f":"VLOOKUP(63,'Course List'!A:B,2,0)","v":"Not Taken"},{"$f":"IF(VLOOKUP(63,'Course List'!$A:$B,2,0)=\"Not Taken\",\"\",IF(VLOOKUP(63,'Course List'!$A:$C,3,0)=0,\"Unknown\",VLOOKUP(63,'Course List'!$A:$C,3,0)))","v":""},{"$f":"VLOOKUP(63,'Course List'!A:D,4,0)","v":"FINC"},{"$f":"VLOOKUP(63,'Course List'!A:E,5,0)","v":451},{"$f":"VLOOKUP(63,'Course List'!A:F,6,0)","v":"Money Markets and the Fed"}]
[{"$f":"VLOOKUP(65,'Course List'!A:B,2,0)","v":"Not Taken"},{"$f":"IF(VLOOKUP(65,'Course List'!$A:$B,2,0)=\"Not Taken\",\"\",IF(VLOOKUP(65,'Course List'!$A:$C,3,0)=0,\"Unknown\",VLOOKUP(65,'Course List'!$A:$C,3,0)))","v":""},{"$f":"VLOOKUP(65,'Course List'!A:D,4,0)","v":"FINC"},{"$f":"VLOOKUP(65,'Course List'!A:E,5,0)","v":460},{"$f":"VLOOKUP(65,'Course List'!A:F,6,0)","v":"Investments"}]
[{"$f":"VLOOKUP(68,'Course List'!A:B,2,0)","v":"Not Taken"},{"$f":"IF(VLOOKUP(68,'Course List'!$A:$B,2,0)=\"Not Taken\",\"\",IF(VLOOKUP(68,'Course List'!$A:$C,3,0)=0,\"Unknown\",VLOOKUP(68,'Course List'!$A:$C,3,0)))","v":""},{"$f":"VLOOKUP(68,'Course List'!A:D,4,0)","v":"FINC"},{"$f":"VLOOKUP(68,'Course List'!A:E,5,0)","v":464},{"$f":"VLOOKUP(68,'Course List'!A:F,6,0)","v":"Fixed Income Securities"}]
[{"$f":"VLOOKUP(69,'Course List'!A:B,2,0)","v":"Not Taken"},{"$f":"IF(VLOOKUP(69,'Course List'!$A:$B,2,0)=\"Not Taken\",\"\",IF(VLOOKUP(69,'Course List'!$A:$C,3,0)=0,\"Unknown\",VLOOKUP(69,'Course List'!$A:$C,3,0)))","v":""},{"$f":"VLOOKUP(69,'Course List'!A:D,4,0)","v":"FINC"},{"$f":"VLOOKUP(69,'Course List'!A:E,5,0)","v":465},{"$f":"VLOOKUP(69,'Course List'!A:F,6,0)","v":"Derivative Markets I"}]
[{"$f":"VLOOKUP(70,'Course List'!A:B,2,0)","v":"Not Taken"},{"$f":"IF(VLOOKUP(70,'Course List'!$A:$B,2,0)=\"Not Taken\",\"\",IF(VLOOKUP(70,'Course List'!$A:$C,3,0)=0,\"Unknown\",VLOOKUP(70,'Course List'!$A:$C,3,0)))","v":""},{"$f":"VLOOKUP(70,'Course List'!A:D,4,0)","v":"FINC"},{"$f":"VLOOKUP(70,'Course List'!A:E,5,0)","v":467},{"$f":"VLOOKUP(70,'Course List'!A:F,6,0)","v":"Derivative Markets II"}]
[{"$f":"VLOOKUP(71,'Course List'!A:B,2,0)","v":"Not Taken"},{"$f":"IF(VLOOKUP(71,'Course List'!$A:$B,2,0)=\"Not Taken\",\"\",IF(VLOOKUP(71,'Course List'!$A:$C,3,0)=0,\"Unknown\",VLOOKUP(71,'Course List'!$A:$C,3,0)))","v":""},{"$f":"VLOOKUP(71,'Course List'!A:D,4,0)","v":"FINC"},{"$f":"VLOOKUP(71,'Course List'!A:E,5,0)","v":470},{"$f":"VLOOKUP(71,'Course List'!A:F,6,0)","v":"International Finance"}]
[]
[{"$f":"VLOOKUP(58,'Course List'!A:B,2,0)","v":"Not Taken"},{"$f":"IF(VLOOKUP(58,'Course List'!$A:$B,2,0)=\"Not Taken\",\"\",IF(VLOOKUP(58,'Course List'!$A:$C,3,0)=0,\"Unknown\",VLOOKUP(58,'Course List'!$A:$C,3,0)))","v":""},{"$f":"VLOOKUP(58,'Course List'!A:D,4,0)","v":"FINC"},{"$f":"VLOOKUP(58,'Course List'!A:E,5,0)","v":442},{"$f":"VLOOKUP(58,'Course List'!A:F,6,0)","v":"Financial Decisions"}]
[{"$f":"VLOOKUP(59,'Course List'!A:B,2,0)","v":"Not Taken"},{"$f":"IF(VLOOKUP(59,'Course List'!$A:$B,2,0)=\"Not Taken\",\"\",IF(VLOOKUP(59,'Course List'!$A:$C,3,0)=0,\"Unknown\",VLOOKUP(59,'Course List'!$A:$C,3,0)))","v":""},{"$f":"VLOOKUP(59,'Course List'!A:D,4,0)","v":"FINC"},{"$f":"VLOOKUP(59,'Course List'!A:E,5,0)","v":445},{"$f":"VLOOKUP(59,'Course List'!A:F,6,0)","v":"Venture Capital and Private Equity Investing"}]
[{"$f":"VLOOKUP(60,'Course List'!A:B,2,0)","v":"Not Taken"},{"$f":"IF(VLOOKUP(60,'Course List'!$A:$B,2,0)=\"Not Taken\",\"\",IF(VLOOKUP(60,'Course List'!$A:$C,3,0)=0,\"Unknown\",VLOOKUP(60,'Course List'!$A:$C,3,0)))","v":""},{"$f":"VLOOKUP(60,'Course List'!A:D,4,0)","v":"FINC"},{"$f":"VLOOKUP(60,'Course List'!A:E,5,0)","v":446},{"$f":"VLOOKUP(60,'Course List'!A:F,6,0)","v":"Entrepreneurial Finance"}]
[{"$f":"VLOOKUP(61,'Course List'!A:B,2,0)","v":"Not Taken"},{"$f":"IF(VLOOKUP(61,'Course List'!$A:$B,2,0)=\"Not Taken\",\"\",IF(VLOOKUP(61,'Course List'!$A:$C,3,0)=0,\"Unknown\",VLOOKUP(61,'Course List'!$A:$C,3,0)))","v":""},{"$f":"VLOOKUP(61,'Course List'!A:D,4,0)","v":"FINC"},{"$f":"VLOOKUP(61,'Course List'!A:E,5,0)","v":447},{"$f":"VLOOKUP(61,'Course List'!A:F,6,0)","v":"Financial Strategy and Tax Planning"}]
[{"$f":"VLOOKUP(62,'Course List'!A:B,2,0)","v":"Not Taken"},{"$f":"IF(VLOOKUP(62,'Course List'!$A:$B,2,0)=\"Not Taken\",\"\",IF(VLOOKUP(62,'Course List'!$A:$C,3,0)=0,\"Unknown\",VLOOKUP(62,'Course List'!$A:$C,3,0)))","v":""},{"$f":"VLOOKUP(62,'Course List'!A:D,4,0)","v":"FINC"},{"$f":"VLOOKUP(62,'Course List'!A:E,5,0)","v":448},{"$f":"VLOOKUP(62,'Course List'!A:F,6,0)","v":"Corporate Restructuring"}]
[{"$f":"VLOOKUP(64,'Course List'!A:B,2,0)","v":"Not Taken"},{"$f":"IF(VLOOKUP(64,'Course List'!$A:$B,2,0)=\"Not Taken\",\"\",IF(VLOOKUP(64,'Course List'!$A:$C,3,0)=0,\"Unknown\",VLOOKUP(64,'Course List'!$A:$C,3,0)))","v":""},{"$f":"VLOOKUP(64,'Course List'!A:D,4,0)","v":"FINC"},{"$f":"VLOOKUP(64,'Course List'!A:E,5,0)","v":453},{"$f":"VLOOKUP(64,'Course List'!A:F,6,0)","v":"Risk Bearing Markets & Insurance"}]
[{"$f":"VLOOKUP(66,'Course List'!A:B,2,0)","v":"Not Taken"},{"$f":"IF(VLOOKUP(66,'Course List'!$A:$B,2,0)=\"Not Taken\",\"\",IF(VLOOKUP(66,'Course List'!$A:$C,3,0)=0,\"Unknown\",VLOOKUP(66,'Course List'!$A:$C,3,0)))","v":""},{"$f":"VLOOKUP(66,'Course List'!A:D,4,0)","v":"FINC"},{"$f":"VLOOKUP(66,'Course List'!A:E,5,0)","v":461},{"$f":"VLOOKUP(66,'Course List'!A:F,6,0)","v":"Investment Banking"}]
[{"$f":"VLOOKUP(67,'Course List'!A:B,2,0)","v":"Not Taken"},{"$f":"IF(VLOOKUP(67,'Course List'!$A:$B,2,0)=\"Not Taken\",\"\",IF(VLOOKUP(67,'Course List'!$A:$C,3,0)=0,\"Unknown\",VLOOKUP(67,'Course List'!$A:$C,3,0)))","v":""},{"$f":"VLOOKUP(67,'Course List'!A:D,4,0)","v":"FINC"},{"$f":"VLOOKUP(67,'Course List'!A:E,5,0)","v":463},{"$f":"VLOOKUP(67,'Course List'!A:F,6,0)","v":"Security Analysis"}]
[{"$f":"VLOOKUP(72,'Course List'!A:B,2,0)","v":"Not Taken"},{"$f":"IF(VLOOKUP(72,'Course List'!$A:$B,2,0)=\"Not Taken\",\"\",IF(VLOOKUP(72,'Course List'!$A:$C,3,0)=0,\"Unknown\",VLOOKUP(72,'Course List'!$A:$C,3,0)))","v":""},{"$f":"VLOOKUP(72,'Course List'!A:D,4,0)","v":"FINC"},{"$f":"VLOOKUP(72,'Course List'!A:E,5,0)","v":499},{"$f":"VLOOKUP(72,'Course List'!A:F,6,0)","v":"Independent Study"}]
[{"$f":"VLOOKUP(279,'Course List'!A:B,2,0)","v":"Not Taken"},{"$f":"IF(VLOOKUP(279,'Course List'!$A:$B,2,0)=\"Not Taken\",\"\",IF(VLOOKUP(279,'Course List'!$A:$C,3,0)=0,\"Unknown\",VLOOKUP(279,'Course List'!$A:$C,3,0)))","v":""},{"$f":"VLOOKUP(279,'Course List'!A:D,4,0)","v":"FINC"},{"$f":"VLOOKUP(279,'Course List'!A:E,5,0)","v":915},{"$f":"VLOOKUP(279,'Course List'!A:F,6,0)","v":"Venture Lab (V-Lab)"}]
[{"$f":"VLOOKUP(79,'Course List'!A:B,2,0)","v":"Not Taken"},{"$f":"IF(VLOOKUP(79,'Course List'!$A:$B,2,0)=\"Not Taken\",\"\",IF(VLOOKUP(79,'Course List'!$A:$C,3,0)=0,\"Unknown\",VLOOKUP(79,'Course List'!$A:$C,3,0)))","v":""},{"$f":"VLOOKUP(79,'Course List'!A:D,4,0)","v":"FINC"},{"$f":"VLOOKUP(79,'Course List'!A:E,5,0)","v":925},{"$f":"VLOOKUP(79,'Course List'!A:F,6,0)","v":"Advanced Topics in Finance"}]
[{"$f":"VLOOKUP(81,'Course List'!A:B,2,0)","v":"Not Taken"},{"$f":"IF(VLOOKUP(81,'Course List'!$A:$B,2,0)=\"Not Taken\",\"\",IF(VLOOKUP(81,'Course List'!$A:$C,3,0)=0,\"Unknown\",VLOOKUP(81,'Course List'!$A:$C,3,0)))","v":""},{"$f":"VLOOKUP(81,'Course List'!A:D,4,0)","v":"FINC"},{"$f":"VLOOKUP(81,'Course List'!A:E,5,0)","v":929},{"$f":"VLOOKUP(81,'Course List'!A:F,6,0)","v":"Financial Institutions and Markets"}]
[{"$f":"VLOOKUP(84,'Course List'!A:B,2,0)","v":"Not Taken"},{"$f":"IF(VLOOKUP(84,'Course List'!$A:$B,2,0)=\"Not Taken\",\"\",IF(VLOOKUP(84,'Course List'!$A:$C,3,0)=0,\"Unknown\",VLOOKUP(84,'Course List'!$A:$C,3,0)))","v":""},{"$f":"VLOOKUP(84,'Course List'!A:D,4,0)","v":"FINC"},{"$f":"VLOOKUP(84,'Course List'!A:E,5,0)","v":931},{"$f":"VLOOKUP(84,'Course List'!A:F,6,0)","v":"Wall Street, Hedge Funds and Private Equity (LPB) Funds"}]
[{"$f":"VLOOKUP(85,'Course List'!A:B,2,0)","v":"Not Taken"},{"$f":"IF(VLOOKUP(85,'Course List'!$A:$B,2,0)=\"Not Taken\",\"\",IF(VLOOKUP(85,'Course List'!$A:$C,3,0)=0,\"Unknown\",VLOOKUP(85,'Course List'!$A:$C,3,0)))","v":""},{"$f":"VLOOKUP(85,'Course List'!A:D,4,0)","v":"FINC"},{"$f":"VLOOKUP(85,'Course List'!A:E,5,0)","v":932},{"$f":"VLOOKUP(85,'Course List'!A:F,6,0)","v":"Case Studies in Venture Investment and Management"}]
[{"$f":"VLOOKUP(280,'Course List'!A:B,2,0)","v":"Not Taken"},{"$f":"IF(VLOOKUP(280,'Course List'!$A:$B,2,0)=\"Not Taken\",\"\",IF(VLOOKUP(280,'Course List'!$A:$C,3,0)=0,\"Unknown\",VLOOKUP(280,'Course List'!$A:$C,3,0)))","v":""},{"$f":"VLOOKUP(280,'Course List'!A:D,4,0)","v":"FINC"},{"$f":"VLOOKUP(280,'Course List'!A:E,5,0)","v":933},{"$f":"VLOOKUP(280,'Course List'!A:F,6,0)","v":"Assett Management Practicum I"}]
[{"$f":"VLOOKUP(290,'Course List'!A:B,2,0)","v":"Not Taken"},{"$f":"IF(VLOOKUP(290,'Course List'!$A:$B,2,0)=\"Not Taken\",\"\",IF(VLOOKUP(290,'Course List'!$A:$C,3,0)=0,\"Unknown\",VLOOKUP(290,'Course List'!$A:$C,3,0)))","v":""},{"$f":"VLOOKUP(290,'Course List'!A:D,4,0)","v":"FINC"},{"$f":"VLOOKUP(290,'Course List'!A:E,5,0)","v":935},{"$f":"VLOOKUP(290,'Course List'!A:F,6,0)","v":"Assett Management Practicum III"}]
[{"$f":"VLOOKUP(281,'Course List'!A:B,2,0)","v":"Not Taken"},{"$f":"IF(VLOOKUP(281,'Course List'!$A:$B,2,0)=\"Not Taken\",\"\",IF(VLOOKUP(281,'Course List'!$A:$C,3,0)=0,\"Unknown\",VLOOKUP(281,'Course List'!$A:$C,3,0)))","v":""},{"$f":"VLOOKUP(281,'Course List'!A:D,4,0)","v":"FINC"},{"$f":"VLOOKUP(281,'Course List'!A:E,5,0)","v":939},{"$f":"VLOOKUP(281,'Course List'!A:F,6,0)","v":"Buyout Lab"}]
[{"$f":"VLOOKUP(9,'Course List'!A:B,2,0)","v":"Not Taken"},{"$f":"IF(VLOOKUP(9,'Course List'!$A:$B,2,0)=\"Not Taken\",\"\",IF(VLOOKUP(9,'Course List'!$A:$C,3,0)=0,\"Unknown\",VLOOKUP(9,'Course List'!$A:$C,3,0)))","v":""},{"$f":"VLOOKUP(9,'Course List'!A:D,4,0)","v":"ACCT"},{"$f":"VLOOKUP(9,'Course List'!A:E,5,0)","v":444},{"$f":"VLOOKUP(9,'Course List'!A:F,6,0)","v":"Financial Planning For Mergers and Acquisitions"}]
[{"$f":"VLOOKUP(222,'Course List'!A:B,2,0)","v":"Not Taken"},{"$f":"IF(VLOOKUP(222,'Course List'!$A:$B,2,0)=\"Not Taken\",\"\",IF(VLOOKUP(222,'Course List'!$A:$C,3,0)=0,\"Unknown\",VLOOKUP(222,'Course List'!$A:$C,3,0)))","v":""},{"$f":"VLOOKUP(222,'Course List'!A:D,4,0)","v":"REAL"},{"$f":"VLOOKUP(222,'Course List'!A:E,5,0)","v":442},{"$f":"VLOOKUP(222,'Course List'!A:F,6,0)","v":"Real Estate Finance and Investments"}]
[{"$f":"VLOOKUP(227,'Course List'!A:B,2,0)","v":"Not Taken"},{"$f":"IF(VLOOKUP(227,'Course List'!$A:$B,2,0)=\"Not Taken\",\"\",IF(VLOOKUP(227,'Course List'!$A:$C,3,0)=0,\"Unknown\",VLOOKUP(227,'Course List'!$A:$C,3,0)))","v":""},{"$f":"VLOOKUP(227,'Course List'!A:D,4,0)","v":"REAL"},{"$f":"VLOOKUP(227,'Course List'!A:E,5,0)","v":464},{"$f":"VLOOKUP(227,'Course List'!A:F,6,0)","v":"Real Estate Finance and Investments II"}]
[{"$f":"IF(COUNTIF(A47:A65,\"Complete\")>=2,\"Complete\",IF(AND(COUNTIF(A47:A65,\"Complete\")=1,COUNTIF(A47:A65,\"Enrolled\")>=1),\"Enrolled\",IF(COUNTIF(A47:A65,\"Enrolled\")>=2,\"Enrolled\",\"Not Taken\")))","v":"Not Taken"},null,"This line denotes whether or not two half credit courses have been completed."]
[{"$f":"IF(COUNTIF(A47:A65,\"Complete\")>=4,\"Complete\",IF(AND(COUNTIF(A47:A65,\"Complete\")=3,COUNTIF(A47:A65,\"Enrolled\")>=1),\"Enrolled\",IF(AND(COUNTIF(A47:A65,\"Complete\")=2,COUNTIF(A47:A65,\"Enrolled\")>=2),\"Enrolled\",IF(AND(COUNTIF(A47:A65,\"Complete\")=1,COUNTIF(A47:A65,\"Enrolled\")>=4),\"Enrolled\",IF(COUNTIF(A47:A65,\"Enrolled\")>=4,\"Enrolled\",\"Not Taken\")))))","v":"Not Taken"},null,"This line denotes whether or not four half credit courses have been completed."]
[{"$f":"IF(COUNTIF(A47:A65,\"Complete\")>=6,\"Complete\",IF(AND(COUNTIF(A47:A65,\"Complete\")=5,COUNTIF(A47:A65,\"Enrolled\")>=1),\"Enrolled\",IF(AND(COUNTIF(A47:A65,\"Complete\")=4,COUNTIF(A47:A65,\"Enrolled\")>=2),\"Enrolled\",IF(AND(COUNTIF(A47:A65,\"Complete\")=1,COUNTIF(A47:A65,\"Enrolled\")>=5),\"Enrolled\",\"Not Taken\"))))","v":"Not Taken"},null,"This line denotes whether or not six half credit courses have been completed."]
[{"$f":"IF(COUNTIF(A47:A65,\"Complete\")>=8,\"Complete\",IF(AND(COUNTIF(A47:A65,\"Complete\")=7,COUNTIF(A47:A65,\"Enrolled\")>=1),\"Enrolled\",IF(AND(COUNTIF(A47:A65,\"Complete\")=6,COUNTIF(A47:A65,\"Enrolled\")>=2),\"Enrolled\",IF(AND(COUNTIF(A47:A65,\"Complete\")=3,COUNTIF(A47:A65,\"Enrolled\")>=5),\"Enrolled\",\"Not Taken\"))))","v":"Not Taken"},null,"This line denotes whether or not eight half credit courses have been completed."]
[{"$f":"IF(COUNTIF(A47:A65,\"Complete\")>=10,\"Complete\",IF(AND(COUNTIF(A47:A65,\"Complete\")=9,COUNTIF(A47:A65,\"Enrolled\")>=1),\"Enrolled\",IF(AND(COUNTIF(A47:A65,\"Complete\")=8,COUNTIF(A47:A65,\"Enrolled\")>=2),\"Enrolled\",IF(AND(COUNTIF(A47:A65,\"Complete\")=5,COUNTIF(A47:A65,\"Enrolled\")>=5),\"Enrolled\",\"Not Taken\"))))","v":"Not Taken"},null,"This line denotes whether or not ten half credit courses have been completed."]
[{"$f":"IF(COUNTIF(A47:A65,\"Complete\")>=12,\"Complete\",IF(AND(COUNTIF(A47:A65,\"Complete\")=11,COUNTIF(A47:A65,\"Enrolled\")>=1),\"Enrolled\",IF(AND(COUNTIF(A47:A65,\"Complete\")=10,COUNTIF(A47:A65,\"Enrolled\")>=2),\"Enrolled\",IF(AND(COUNTIF(A47:A65,\"Complete\")=7,COUNTIF(A47:A65,\"Enrolled\")>=5),\"Enrolled\",\"Not Taken\"))))","v":"Not Taken"},null,"This line denotes whether or not twelve half credit courses have been completed."]
[{"$f":"IF(COUNTIF(A47:A65,\"Complete\")>=14,\"Complete\",IF(AND(COUNTIF(A47:A65,\"Complete\")=13,COUNTIF(A47:A65,\"Enrolled\")>=1),\"Enrolled\",IF(AND(COUNTIF(A47:A65,\"Complete\")=12,COUNTIF(A47:A65,\"Enrolled\")>=2),\"Enrolled\",IF(AND(COUNTIF(A47:A65,\"Complete\")=9,COUNTIF(A47:A65,\"Enrolled\")>=5),\"Enrolled\",\"Not Taken\"))))","v":"Not Taken"},null,"This line denotes whether or not fourteen half credit courses have been completed."]
[{"$f":"IF(COUNTIF(A48:A66,\"Complete\")>=16,\"Complete\",IF(AND(COUNTIF(A48:A66,\"Complete\")=15,COUNTIF(A48:A66,\"Enrolled\")>=1),\"Enrolled\",IF(AND(COUNTIF(A48:A66,\"Complete\")=14,COUNTIF(A48:A66,\"Enrolled\")>=2),\"Enrolled\",IF(AND(COUNTIF(A48:A66,\"Complete\")=11,COUNTIF(A48:A66,\"Enrolled\")>=5),\"Enrolled\",\"Not Taken\"))))","v":"Not Taken"},null,"This line denotes whether or not sixteen half credit courses have been completed."]
[{"$f":"IF(COUNTIF(A49:A67,\"Complete\")>=18,\"Complete\",IF(AND(COUNTIF(A49:A67,\"Complete\")=17,COUNTIF(A49:A67,\"Enrolled\")>=1),\"Enrolled\",IF(AND(COUNTIF(A49:A67,\"Complete\")=16,COUNTIF(A49:A67,\"Enrolled\")>=2),\"Enrolled\",IF(AND(COUNTIF(A49:A67,\"Complete\")=13,COUNTIF(A49:A67,\"Enrolled\")>=5),\"Enrolled\",\"Not Taken\"))))","v":"Not Taken"},null,"This line denotes whether or not eighteen half credit courses have been completed."]
[{"$f":"VLOOKUP(73,'Course List'!A:B,2,0)","v":"Not Taken"},{"$f":"IF(VLOOKUP(73,'Course List'!$A:$B,2,0)=\"Not Taken\",\"\",IF(VLOOKUP(73,'Course List'!$A:$C,3,0)=0,\"Unknown\",VLOOKUP(73,'Course List'!$A:$C,3,0)))","v":""},{"$f":"VLOOKUP(73,'Course List'!A:D,4,0)","v":"FINC"},{"$f":"VLOOKUP(73,'Course List'!A:E,5,0)","v":"499-A"},{"$f":"VLOOKUP(73,'Course List'!A:F,6,0)","v":"Independent Study"}]
[{"$f":"VLOOKUP(74,'Course List'!A:B,2,0)","v":"Not Taken"},{"$f":"IF(VLOOKUP(74,'Course List'!$A:$B,2,0)=\"Not Taken\",\"\",IF(VLOOKUP(74,'Course List'!$A:$C,3,0)=0,\"Unknown\",VLOOKUP(74,'Course List'!$A:$C,3,0)))","v":""},{"$f":"VLOOKUP(74,'Course List'!A:D,4,0)","v":"FINC"},{"$f":"VLOOKUP(74,'Course List'!A:E,5,0)","v":"499-B"},{"$f":"VLOOKUP(74,'Course List'!A:F,6,0)","v":"Independent Study"}]
[{"$f":"VLOOKUP(75,'Course List'!A:B,2,0)","v":"Not Taken"},{"$f":"IF(VLOOKUP(75,'Course List'!$A:$B,2,0)=\"Not Taken\",\"\",IF(VLOOKUP(75,'Course List'!$A:$C,3,0)=0,\"Unknown\",VLOOKUP(75,'Course List'!$A:$C,3,0)))","v":""},{"$f":"VLOOKUP(75,'Course List'!A:D,4,0)","v":"FINC"},{"$f":"VLOOKUP(75,'Course List'!A:E,5,0)","v":"901-A"},{"$f":"VLOOKUP(75,'Course List'!A:F,6,0)","v":"Understanding and Managing Risk"}]
[{"$f":"VLOOKUP(76,'Course List'!A:B,2,0)","v":"Not Taken"},{"$f":"IF(VLOOKUP(76,'Course List'!$A:$B,2,0)=\"Not Taken\",\"\",IF(VLOOKUP(76,'Course List'!$A:$C,3,0)=0,\"Unknown\",VLOOKUP(76,'Course List'!$A:$C,3,0)))","v":""},{"$f":"VLOOKUP(76,'Course List'!A:D,4,0)","v":"FINC"},{"$f":"VLOOKUP(76,'Course List'!A:E,5,0)","v":"918-A"},{"$f":"VLOOKUP(76,'Course List'!A:F,6,0)","v":"Major Project and Project Finance in Emerging Markets"}]
[{"$f":"VLOOKUP(254,'Course List'!A:B,2,0)","v":"Not Taken"},{"$f":"IF(VLOOKUP(254,'Course List'!$A:$B,2,0)=\"Not Taken\",\"\",IF(VLOOKUP(254,'Course List'!$A:$C,3,0)=0,\"Unknown\",VLOOKUP(254,'Course List'!$A:$C,3,0)))","v":""},{"$f":"VLOOKUP(254,'Course List'!A:D,4,0)","v":"FINC"},{"$f":"VLOOKUP(254,'Course List'!A:E,5,0)","v":"918-B"},{"$f":"VLOOKUP(254,'Course List'!A:F,6,0)","v":"Major Project and Project Finance in Emerging Markets"}]
[{"$f":"VLOOKUP(289,'Course List'!A:B,2,0)","v":"Not Taken"},{"$f":"IF(VLOOKUP(289,'Course List'!$A:$B,2,0)=\"Not Taken\",\"\",IF(VLOOKUP(289,'Course List'!$A:$C,3,0)=0,\"Unknown\",VLOOKUP(289,'Course List'!$A:$C,3,0)))","v":""},{"$f":"VLOOKUP(289,'Course List'!A:D,4,0)","v":"FINC"},{"$f":"VLOOKUP(289,'Course List'!A:E,5,0)","v":"919-B"},{"$f":"VLOOKUP(289,'Course List'!A:F,6,0)","v":"Advanced Topics in International Finance"}]
[{"$f":"VLOOKUP(77,'Course List'!A:B,2,0)","v":"Not Taken"},{"$f":"IF(VLOOKUP(77,'Course List'!$A:$B,2,0)=\"Not Taken\",\"\",IF(VLOOKUP(77,'Course List'!$A:$C,3,0)=0,\"Unknown\",VLOOKUP(77,'Course List'!$A:$C,3,0)))","v":""},{"$f":"VLOOKUP(77,'Course List'!A:D,4,0)","v":"FINC"},{"$f":"VLOOKUP(77,'Course List'!A:E,5,0)","v":"921-A"},{"$f":"VLOOKUP(77,'Course List'!A:F,6,0)","v":"Private Equity"}]
[{"$f":"VLOOKUP(78,'Course List'!A:B,2,0)","v":"Not Taken"},{"$f":"IF(VLOOKUP(78,'Course List'!$A:$B,2,0)=\"Not Taken\",\"\",IF(VLOOKUP(78,'Course List'!$A:$C,3,0)=0,\"Unknown\",VLOOKUP(78,'Course List'!$A:$C,3,0)))","v":""},{"$f":"VLOOKUP(78,'Course List'!A:D,4,0)","v":"FINC"},{"$f":"VLOOKUP(78,'Course List'!A:E,5,0)","v":"924-A"},{"$f":"VLOOKUP(78,'Course List'!A:F,6,0)","v":"Real Options"}]
[{"$f":"VLOOKUP(80,'Course List'!A:B,2,0)","v":"Not Taken"},{"$f":"IF(VLOOKUP(80,'Course List'!$A:$B,2,0)=\"Not Taken\",\"\",IF(VLOOKUP(80,'Course List'!$A:$C,3,0)=0,\"Unknown\",VLOOKUP(80,'Course List'!$A:$C,3,0)))","v":""},{"$f":"VLOOKUP(80,'Course List'!A:D,4,0)","v":"FINC"},{"$f":"VLOOKUP(80,'Course List'!A:E,5,0)","v":"928-A"},{"$f":"VLOOKUP(80,'Course List'!A:F,6,0)","v":"Financial Management and Strategy in Transportation"}]
[{"$f":"VLOOKUP(82,'Course List'!A:B,2,0)","v":"Not Taken"},{"$f":"IF(VLOOKUP(82,'Course List'!$A:$B,2,0)=\"Not Taken\",\"\",IF(VLOOKUP(82,'Course List'!$A:$C,3,0)=0,\"Unknown\",VLOOKUP(82,'Course List'!$A:$C,3,0)))","v":""},{"$f":"VLOOKUP(82,'Course List'!A:D,4,0)","v":"FINC"},{"$f":"VLOOKUP(82,'Course List'!A:E,5,0)","v":"930-A"},{"$f":"VLOOKUP(82,'Course List'!A:F,6,0)","v":"Environmental Finance"}]
[{"$f":"VLOOKUP(83,'Course List'!A:B,2,0)","v":"Not Taken"},{"$f":"IF(VLOOKUP(83,'Course List'!$A:$B,2,0)=\"Not Taken\",\"\",IF(VLOOKUP(83,'Course List'!$A:$C,3,0)=0,\"Unknown\",VLOOKUP(83,'Course List'!$A:$C,3,0)))","v":""},{"$f":"VLOOKUP(83,'Course List'!A:D,4,0)","v":"FINC"},{"$f":"VLOOKUP(83,'Course List'!A:E,5,0)","v":"930-B"},{"$f":"VLOOKUP(83,'Course List'!A:F,6,0)","v":"Environmental Finance"}]
[{"$f":"VLOOKUP(86,'Course List'!A:B,2,0)","v":"Not Taken"},{"$f":"IF(VLOOKUP(86,'Course List'!$A:$B,2,0)=\"Not Taken\",\"\",IF(VLOOKUP(86,'Course List'!$A:$C,3,0)=0,\"Unknown\",VLOOKUP(86,'Course List'!$A:$C,3,0)))","v":""},{"$f":"VLOOKUP(86,'Course List'!A:D,4,0)","v":"FINC"},{"$f":"VLOOKUP(86,'Course List'!A:E,5,0)","v":"933-C"},{"$f":"VLOOKUP(86,'Course List'!A:F,6,0)","v":"Asset Management Practicum I"}]
[{"$f":"VLOOKUP(87,'Course List'!A:B,2,0)","v":"Not Taken"},{"$f":"IF(VLOOKUP(87,'Course List'!$A:$B,2,0)=\"Not Taken\",\"\",IF(VLOOKUP(87,'Course List'!$A:$C,3,0)=0,\"Unknown\",VLOOKUP(87,'Course List'!$A:$C,3,0)))","v":""},{"$f":"VLOOKUP(87,'Course List'!A:D,4,0)","v":"FINC"},{"$f":"VLOOKUP(87,'Course List'!A:E,5,0)","v":"934-C"},{"$f":"VLOOKUP(87,'Course List'!A:F,6,0)","v":"Asset Management Practicum II"}]
[{"$f":"VLOOKUP(88,'Course List'!A:B,2,0)","v":"Not Taken"},{"$f":"IF(VLOOKUP(88,'Course List'!$A:$B,2,0)=\"Not Taken\",\"\",IF(VLOOKUP(88,'Course List'!$A:$C,3,0)=0,\"Unknown\",VLOOKUP(88,'Course List'!$A:$C,3,0)))","v":""},{"$f":"VLOOKUP(88,'Course List'!A:D,4,0)","v":"FINC"},{"$f":"VLOOKUP(88,'Course List'!A:E,5,0)","v":"935-C"},{"$f":"VLOOKUP(88,'Course List'!A:F,6,0)","v":"Asset Management Practicum III"}]
[{"$f":"VLOOKUP(89,'Course List'!A:B,2,0)","v":"Not Taken"},{"$f":"IF(VLOOKUP(89,'Course List'!$A:$B,2,0)=\"Not Taken\",\"\",IF(VLOOKUP(89,'Course List'!$A:$C,3,0)=0,\"Unknown\",VLOOKUP(89,'Course List'!$A:$C,3,0)))","v":""},{"$f":"VLOOKUP(89,'Course List'!A:D,4,0)","v":"FINC"},{"$f":"VLOOKUP(89,'Course List'!A:E,5,0)","v":"936-C"},{"$f":"VLOOKUP(89,'Course List'!A:F,6,0)","v":"Asset Management Practicum IV"}]
[{"$f":"VLOOKUP(90,'Course List'!A:B,2,0)","v":"Not Taken"},{"$f":"IF(VLOOKUP(90,'Course List'!$A:$B,2,0)=\"Not Taken\",\"\",IF(VLOOKUP(90,'Course List'!$A:$C,3,0)=0,\"Unknown\",VLOOKUP(90,'Course List'!$A:$C,3,0)))","v":""},{"$f":"VLOOKUP(90,'Course List'!A:D,4,0)","v":"FINC"},{"$f":"VLOOKUP(90,'Course List'!A:E,5,0)","v":"937-A"},{"$f":"VLOOKUP(90,'Course List'!A:F,6,0)","v":"Microfinance & the Role of Financial Institutions in Development"}]
[{"$f":"VLOOKUP(91,'Course List'!A:B,2,0)","v":"Not Taken"},{"$f":"IF(VLOOKUP(91,'Course List'!$A:$B,2,0)=\"Not Taken\",\"\",IF(VLOOKUP(91,'Course List'!$A:$C,3,0)=0,\"Unknown\",VLOOKUP(91,'Course List'!$A:$C,3,0)))","v":""},{"$f":"VLOOKUP(91,'Course List'!A:D,4,0)","v":"FINC"},{"$f":"VLOOKUP(91,'Course List'!A:E,5,0)","v":"938-A"},{"$f":"VLOOKUP(91,'Course List'!A:F,6,0)","v":"Due Diligence: Mergers & Acquisitions"}]
[{"$f":"VLOOKUP(291,'Course List'!A:B,2,0)","v":"Not Taken"},{"$f":"IF(VLOOKUP(291,'Course List'!$A:$B,2,0)=\"Not Taken\",\"\",IF(VLOOKUP(291,'Course List'!$A:$C,3,0)=0,\"Unknown\",VLOOKUP(291,'Course List'!$A:$C,3,0)))","v":""},{"$f":"VLOOKUP(291,'Course List'!A:D,4,0)","v":"FINC"},{"$f":"VLOOKUP(291,'Course List'!A:E,5,0)","v":"940-A"},{"$f":"VLOOKUP(291,'Course List'!A:F,6,0)","v":"Financial Modeling for Leveraged Buyout Transactions"}]
[{"$f":"VLOOKUP(292,'Course List'!A:B,2,0)","v":"Not Taken"},{"$f":"IF(VLOOKUP(292,'Course List'!$A:$B,2,0)=\"Not Taken\",\"\",IF(VLOOKUP(292,'Course List'!$A:$C,3,0)=0,\"Unknown\",VLOOKUP(292,'Course List'!$A:$C,3,0)))","v":""},{"$f":"VLOOKUP(292,'Course List'!A:D,4,0)","v":"FINC"},{"$f":"VLOOKUP(292,'Course List'!A:E,5,0)","v":"940-B"},{"$f":"VLOOKUP(292,'Course List'!A:F,6,0)","v":"Financial Modeling for Leveraged Buyout Transactions"}]

{"sheet":"HEMA","index":19,"n_rows":37,"n_cols":6,"rows_kept":37,"cut":false,"hidden":false,"merged":[[2,0,2,4],[19,2,19,4],[34,2,34,4],[3,0,3,4]]}
["Health Enterprise Management"]
[]
[{"$f":"Formulae!A68","v":"NOT MAJORING IN THIS FIELD"},null,null,null,null,"Health Industry track"]
[{"$f":"Formulae!A75","v":"NOT MAJORING IN THIS FIELD"},null,null,null,null,"Biotech & Medical Products track"]
[]
["Status","Term","Department","Course #","Course Name"]
[]
[{"$f":"VLOOKUP(92,'Course List'!A:B,2,0)","v":"Not Taken"},{"$f":"IF(VLOOKUP(92,'Course List'!$A:$B,2,0)=\"Not Taken\",\"\",IF(VLOOKUP(92,'Course List'!$A:$C,3,0)=0,\"Unknown\",VLOOKUP(92,'Course List'!$A:$C,3,0)))","v":""},{"$f":"VLOOKUP(92,'Course List'!A:D,4,0)","v":"HEMA"},{"$f":"VLOOKUP(92,'Course List'!A:E,5,0)","v":440},{"$f":"VLOOKUP(92,'Course List'!A:F,6,0)","v":"Introduction to the Principles and Management of Health Industry Systems"}]
[]
["Health Industry track courses"]
[{"$f":"VLOOKUP(135,'Course List'!A:B,2,0)","v":"Not Taken"},{"$f":"IF(VLOOKUP(135,'Course List'!$A:$B,2,0)=\"Not Taken\",\"\",IF(VLOOKUP(135,'Course List'!$A:$C,3,0)=0,\"Unknown\",VLOOKUP(135,'Course List'!$A:$C,3,0)))","v":""},{"$f":"VLOOKUP(135,'Course List'!A:D,4,0)","v":"MGMT"},{"$f":"VLOOKUP(135,'Course List'!A:E,5,0)","v":444},{"$f":"VLOOKUP(135,'Course List'!A:F,6,0)","v":"Healthcare Economics & Strategy"}]
[{"$f":"VLOOKUP(102,'Course List'!A:B,2,0)","v":"Not Taken"},{"$f":"IF(VLOOKUP(102,'Course List'!$A:$B,2,0)=\"Not Taken\",\"\",IF(VLOOKUP(102,'Course List'!$A:$C,3,0)=0,\"Unknown\",VLOOKUP(102,'Course List'!$A:$C,3,0)))","v":""},{"$f":"VLOOKUP(102,'Course List'!A:D,4,0)","v":"INTL"},{"$f":"VLOOKUP(102,'Course List'!A:E,5,0)","v":442},{"$f":"VLOOKUP(102,'Course List'!A:F,6,0)","v":"International Healthcare Systems"}]
[{"$f":"VLOOKUP(94,'Course List'!A:B,2,0)","v":"Not Taken"},{"$f":"IF(VLOOKUP(94,'Course List'!$A:$B,2,0)=\"Not Taken\",\"\",IF(VLOOKUP(94,'Course List'!$A:$C,3,0)=0,\"Unknown\",VLOOKUP(94,'Course List'!$A:$C,3,0)))","v":""},{"$f":"VLOOKUP(94,'Course List'!A:D,4,0)","v":"HEMA"},{"$f":"VLOOKUP(94,'Course List'!A:E,5,0)","v":451},{"$f":"VLOOKUP(94,'Course List'!A:F,6,0)","v":"Legal Issues in Health Care Delivery"}]
[{"$f":"VLOOKUP(255,'Course List'!A:B,2,0)","v":"Not Taken"},{"$f":"IF(VLOOKUP(255,'Course List'!$A:$B,2,0)=\"Not Taken\",\"\",IF(VLOOKUP(255,'Course List'!$A:$C,3,0)=0,\"Unknown\",VLOOKUP(255,'Course List'!$A:$C,3,0)))","v":""},{"$f":"VLOOKUP(255,'Course List'!A:D,4,0)","v":"HEMA"},{"$f":"VLOOKUP(255,'Course List'!A:E,5,0)","v":512},{"$f":"VLOOKUP(255,'Course List'!A:F,6,0)","v":"Health Services Management Field Study/Project Management"}]
[{"$f":"VLOOKUP(93,'Course List'!A:B,2,0)","v":"Not Taken"},{"$f":"IF(VLOOKUP(93,'Course List'!$A:$B,2,0)=\"Not Taken\",\"\",IF(VLOOKUP(93,'Course List'!$A:$C,3,0)=0,\"Unknown\",VLOOKUP(93,'Course List'!$A:$C,3,0)))","v":""},{"$f":"VLOOKUP(93,'Course List'!A:D,4,0)","v":"HEMA"},{"$f":"VLOOKUP(93,'Course List'!A:E,5,0)","v":441},{"$f":"VLOOKUP(93,'Course List'!A:F,6,0)","v":"Health Policy"}]
[{"$f":"VLOOKUP(3,'Course List'!A:B,2,0)","v":"Not Taken"},{"$f":"IF(VLOOKUP(3,'Course List'!$A:$B,2,0)=\"Not Taken\",\"\",IF(VLOOKUP(3,'Course List'!$A:$C,3,0)=0,\"Unknown\",VLOOKUP(3,'Course List'!$A:$C,3,0)))","v":""},{"$f":"VLOOKUP(3,'Course List'!A:D,4,0)","v":"ACCT"},{"$f":"VLOOKUP(3,'Course List'!A:E,5,0)","v":432},{"$f":"VLOOKUP(3,'Course List'!A:F,6,0)","v":"Information Technology in Healthcare Management"}]
[{"$f":"VLOOKUP(16,'Course List'!A:B,2,0)","v":"Not Taken"},{"$f":"IF(VLOOKUP(16,'Course List'!$A:$B,2,0)=\"Not Taken\",\"\",IF(VLOOKUP(16,'Course List'!$A:$C,3,0)=0,\"Unknown\",VLOOKUP(16,'Course List'!$A:$C,3,0)))","v":""},{"$f":"VLOOKUP(16,'Course List'!A:D,4,0)","v":"ACCT"},{"$f":"VLOOKUP(16,'Course List'!A:E,5,0)","v":479},{"$f":"VLOOKUP(16,'Course List'!A:F,6,0)","v":"Financial Assessment and Performance Evaluation of Healthcare Entities"}]
[{"$f":"VLOOKUP(144,'Course List'!A:B,2,0)","v":"Not Taken"},{"$f":"IF(VLOOKUP(144,'Course List'!$A:$B,2,0)=\"Not Taken\",\"\",IF(VLOOKUP(144,'Course List'!$A:$C,3,0)=0,\"Unknown\",VLOOKUP(144,'Course List'!$A:$C,3,0)))","v":""},{"$f":"VLOOKUP(144,'Course List'!A:D,4,0)","v":"MGMT"},{"$f":"VLOOKUP(144,'Course List'!A:E,5,0)","v":469},{"$f":"VLOOKUP(144,'Course List'!A:F,6,0)","v":"Empirical Methods in Strategy"}]
[{"$f":"VLOOKUP(99,'Course List'!A:B,2,0)","v":"Not Taken"},{"$f":"IF(VLOOKUP(99,'Course List'!$A:$B,2,0)=\"Not Taken\",\"\",IF(VLOOKUP(99,'Course List'!$A:$C,3,0)=0,\"Unknown\",VLOOKUP(99,'Course List'!$A:$C,3,0)))","v":""},{"$f":"VLOOKUP(99,'Course List'!A:D,4,0)","v":"HEMA"},{"$f":"VLOOKUP(99,'Course List'!A:E,5,0)","v":911},{"$f":"VLOOKUP(99,'Course List'!A:F,6,0)","v":"Healthcare System Financing"}]
[{"$f":"IF(AND(A21=\"Complete\",A22=\"Complete\"),\"Complete\",IF(AND(A21=\"Enrolled\",A22=\"Enrolled\"),\"Enrolled\",IF(AND(A21=\"Complete\",A22=\"Will Enroll\"),\"In Progress\",IF(AND(A21=\"Complete\",A22=\"Enrolled\"),\"In Progress\",IF(AND(A21=\"Will Enroll\",A22=\"Will Enroll\"),\"Will Enroll\",\"Not Taken\")))))","v":"Not Taken"},null,"MORS-454A & HEMA-452B must be taken together to count towards the HEMA Major"]
[{"$f":"VLOOKUP(189,'Course List'!A:B,2,0)","v":"Not Taken"},{"$f":"IF(VLOOKUP(189,'Course List'!$A:$B,2,0)=\"Not Taken\",\"\",IF(VLOOKUP(189,'Course List'!$A:$C,3,0)=0,\"Unknown\",VLOOKUP(189,'Course List'!$A:$C,3,0)))","v":""},{"$f":"VLOOKUP(189,'Course List'!A:D,4,0)","v":"MORS"},{"$f":"VLOOKUP(189,'Course List'!A:E,5,0)","v":"454-A"},{"$f":"VLOOKUP(189,'Course List'!A:F,6,0)","v":"Creating and Managing Strategic Alliances"}]
[{"$f":"VLOOKUP(96,'Course List'!A:B,2,0)","v":"Not Taken"},{"$f":"IF(VLOOKUP(96,'Course List'!$A:$B,2,0)=\"Not Taken\",\"\",IF(VLOOKUP(96,'Course List'!$A:$C,3,0)=0,\"Unknown\",VLOOKUP(96,'Course List'!$A:$C,3,0)))","v":""},{"$f":"VLOOKUP(96,'Course List'!A:D,4,0)","v":"HEMA"},{"$f":"VLOOKUP(96,'Course List'!A:E,5,0)","v":"452-B"},{"$f":"VLOOKUP(96,'Course List'!A:F,6,0)","v":"Advanced Strategic Management in Healthcare"}]
[]
["Biotech and Medical Products track courses"]
[{"$f":"VLOOKUP(135,'Course List'!A:B,2,0)","v":"Not Taken"},{"$f":"IF(VLOOKUP(135,'Course List'!$A:$B,2,0)=\"Not Taken\",\"\",IF(VLOOKUP(135,'Course List'!$A:$C,3,0)=0,\"Unknown\",VLOOKUP(135,'Course List'!$A:$C,3,0)))","v":""},{"$f":"VLOOKUP(135,'Course List'!A:D,4,0)","v":"MGMT"},{"$f":"VLOOKUP(135,'Course List'!A:E,5,0)","v":444},{"$f":"VLOOKUP(135,'Course List'!A:F,6,0)","v":"Healthcare Economics & Strategy"}]
[{"$f":"VLOOKUP(102,'Course List'!A:B,2,0)","v":"Not Taken"},{"$f":"IF(VLOOKUP(102,'Course List'!$A:$B,2,0)=\"Not Taken\",\"\",IF(VLOOKUP(102,'Course List'!$A:$C,3,0)=0,\"Unknown\",VLOOKUP(102,'Course List'!$A:$C,3,0)))","v":""},{"$f":"VLOOKUP(102,'Course List'!A:D,4,0)","v":"INTL"},{"$f":"VLOOKUP(102,'Course List'!A:E,5,0)","v":442},{"$f":"VLOOKUP(102,'Course List'!A:F,6,0)","v":"International Healthcare Systems"}]
[{"$f":"VLOOKUP(21,'Course List'!A:B,2,0)","v":"Not Taken"},{"$f":"IF(VLOOKUP(21,'Course List'!$A:$B,2,0)=\"Not Taken\",\"\",IF(VLOOKUP(21,'Course List'!$A:$C,3,0)=0,\"Unknown\",VLOOKUP(21,'Course List'!$A:$C,3,0)))","v":""},{"$f":"VLOOKUP(21,'Course List'!A:D,4,0)","v":"HEMA"},{"$f":"VLOOKUP(21,'Course List'!A:E,5,0)","v":913},{"$f":"VLOOKUP(21,'Course List'!A:F,6,0)","v":"Biotech Business Practicum"}]
[{"$f":"VLOOKUP(271,'Course List'!A:B,2,0)","v":"Not Taken"},{"$f":"IF(VLOOKUP(271,'Course List'!$A:$B,2,0)=\"Not Taken\",\"\",IF(VLOOKUP(271,'Course List'!$A:$C,3,0)=0,\"Unknown\",VLOOKUP(271,'Course List'!$A:$C,3,0)))","v":""},{"$f":"VLOOKUP(271,'Course List'!A:D,4,0)","v":"HEMA"},{"$f":"VLOOKUP(271,'Course List'!A:E,5,0)","v":915},{"$f":"VLOOKUP(271,'Course List'!A:F,6,0)","v":"Medical Innovations"}]
[{"$f":"VLOOKUP(285,'Course List'!A:B,2,0)","v":"Not Taken"},{"$f":"IF(VLOOKUP(285,'Course List'!$A:$B,2,0)=\"Not Taken\",\"\",IF(VLOOKUP(285,'Course List'!$A:$C,3,0)=0,\"Unknown\",VLOOKUP(285,'Course List'!$A:$C,3,0)))","v":""},{"$f":"VLOOKUP(285,'Course List'!A:D,4,0)","v":"HEMA"},{"$f":"VLOOKUP(285,'Course List'!A:E,5,0)","v":916},{"$f":"VLOOKUP(285,'Course List'!A:F,6,0)","v":"Medical Innovation II: Developing Biomedical Products from Patient to Market"}]
[{"$f":"VLOOKUP(139,'Course List'!A:B,2,0)","v":"Not Taken"},{"$f":"IF(VLOOKUP(139,'Course List'!$A:$B,2,0)=\"Not Taken\",\"\",IF(VLOOKUP(139,'Course List'!$A:$C,3,0)=0,\"Unknown\",VLOOKUP(139,'Course List'!$A:$C,3,0)))","v":""},{"$f":"VLOOKUP(139,'Course List'!A:D,4,0)","v":"MGMT"},{"$f":"VLOOKUP(139,'Course List'!A:E,5,0)","v":463},{"$f":"VLOOKUP(139,'Course List'!A:F,6,0)","v":"Management of Technology"}]
[{"$f":"VLOOKUP(22,'Course List'!A:B,2,0)","v":"Not Taken"},{"$f":"IF(VLOOKUP(22,'Course List'!$A:$B,2,0)=\"Not Taken\",\"\",IF(VLOOKUP(22,'Course List'!$A:$C,3,0)=0,\"Unknown\",VLOOKUP(22,'Course List'!$A:$C,3,0)))","v":""},{"$f":"VLOOKUP(22,'Course List'!A:D,4,0)","v":"HEMA"},{"$f":"VLOOKUP(22,'Course List'!A:E,5,0)","v":914},{"$f":"VLOOKUP(22,'Course List'!A:F,6,0)","v":"Biomedical Marketing"}]
[{"$f":"VLOOKUP(85,'Course List'!A:B,2,0)","v":"Not Taken"},{"$f":"IF(VLOOKUP(85,'Course List'!$A:$B,2,0)=\"Not Taken\",\"\",IF(VLOOKUP(85,'Course List'!$A:$C,3,0)=0,\"Unknown\",VLOOKUP(85,'Course List'!$A:$C,3,0)))","v":""},{"$f":"VLOOKUP(85,'Course List'!A:D,4,0)","v":"FINC"},{"$f":"VLOOKUP(85,'Course List'!A:E,5,0)","v":932},{"$f":"VLOOKUP(85,'Course List'!A:F,6,0)","v":"Case Studies in Venture Investment and Management"}]
[{"$f":"VLOOKUP(246,'Course List'!A:B,2,0)","v":"Not Taken"},{"$f":"IF(VLOOKUP(246,'Course List'!$A:$B,2,0)=\"Not Taken\",\"\",IF(VLOOKUP(246,'Course List'!$A:$C,3,0)=0,\"Unknown\",VLOOKUP(246,'Course List'!$A:$C,3,0)))","v":""},{"$f":"VLOOKUP(246,'Course List'!A:D,4,0)","v":"TECH"},{"$f":"VLOOKUP(246,'Course List'!A:E,5,0)","v":441},{"$f":"VLOOKUP(246,'Course List'!A:F,6,0)","v":"Intellectual Capital Management"}]
[{"$f":"VLOOKUP(97,'Course List'!A:B,2,0)","v":"Not Taken"},{"$f":"IF(VLOOKUP(97,'Course List'!$A:$B,2,0)=\"Not Taken\",\"\",IF(VLOOKUP(97,'Course List'!$A:$C,3,0)=0,\"Unknown\",VLOOKUP(97,'Course List'!$A:$C,3,0)))","v":""},{"$f":"VLOOKUP(97,'Course List'!A:D,4,0)","v":"HEMA"},{"$f":"VLOOKUP(97,'Course List'!A:E,5,0)","v":453},{"$f":"VLOOKUP(97,'Course List'!A:F,6,0)","v":"Managerial Challenges in the Pharmaceutical, Biotech, and Medical Devices Industries"}]
[{"$f":"IF(AND(A36=\"Complete\",A37=\"Complete\"),\"Complete\",IF(AND(A36=\"Enrolled\",A37=\"Enrolled\"),\"Enrolled\",IF(AND(A36=\"Complete\",A37=\"Will Enroll\"),\"In Progress\",IF(AND(A36=\"Complete\",A37=\"Enrolled\"),\"In Progress\",IF(AND(A36=\"Will Enroll\",A37=\"Will Enroll\"),\"Will Enroll\",\"Not Taken\")))))","v":"Not Taken"},null,"MORS-454A & HEMA-452B must be taken together to count towards the HEMA Major"]
[{"$f":"VLOOKUP(189,'Course List'!A:B,2,0)","v":"Not Taken"},{"$f":"IF(VLOOKUP(189,'Course List'!$A:$B,2,0)=\"Not Taken\",\"\",IF(VLOOKUP(189,'Course List'!$A:$C,3,0)=0,\"Unknown\",VLOOKUP(189,'Course List'!$A:$C,3,0)))","v":""},{"$f":"VLOOKUP(189,'Course List'!A:D,4,0)","v":"MORS"},{"$f":"VLOOKUP(189,'Course List'!A:E,5,0)","v":"454-A"},{"$f":"VLOOKUP(189,'Course List'!A:F,6,0)","v":"Creating and Managing Strategic Alliances"}]
[{"$f":"VLOOKUP(96,'Course List'!A:B,2,0)","v":"Not Taken"},{"$f":"IF(VLOOKUP(96,'Course List'!$A:$B,2,0)=\"Not Taken\",\"\",IF(VLOOKUP(96,'Course List'!$A:$C,3,0)=0,\"Unknown\",VLOOKUP(96,'Course List'!$A:$C,3,0)))","v":""},{"$f":"VLOOKUP(96,'Course List'!A:D,4,0)","v":"HEMA"},{"$f":"VLOOKUP(96,'Course List'!A:E,5,0)","v":"452-B"},{"$f":"VLOOKUP(96,'Course List'!A:F,6,0)","v":"Advanced Strategic Management in Healthcare"}]

{"sheet":"HIMT","index":20,"n_rows":25,"n_cols":5,"rows_kept":25,"cut":false,"hidden":false,"merged":[[22,2,22,4],[2,0,2,4]]}
["Health Industry Management"]
[]
[{"$f":"Formulae!A82","v":"NOT MAJORING IN THIS FIELD"}]
[]
["Status","Term","Department","Course #","Course Name"]
[]
["Industry-specific courses"]
[{"$f":"VLOOKUP(102,'Course List'!A:B,2,0)","v":"Not Taken"},{"$f":"IF(VLOOKUP(102,'Course List'!$A:$B,2,0)=\"Not Taken\",\"\",IF(VLOOKUP(102,'Course List'!$A:$C,3,0)=0,\"Unknown\",VLOOKUP(102,'Course List'!$A:$C,3,0)))","v":""},{"$f":"VLOOKUP(102,'Course List'!A:D,4,0)","v":"INTL"},{"$f":"VLOOKUP(102,'Course List'!A:E,5,0)","v":442},{"$f":"VLOOKUP(102,'Course List'!A:F,6,0)","v":"International Healthcare Systems"}]
[{"$f":"VLOOKUP(92,'Course List'!A:B,2,0)","v":"Not Taken"},{"$f":"IF(VLOOKUP(92,'Course List'!$A:$B,2,0)=\"Not Taken\",\"\",IF(VLOOKUP(92,'Course List'!$A:$C,3,0)=0,\"Unknown\",VLOOKUP(92,'Course List'!$A:$C,3,0)))","v":""},{"$f":"VLOOKUP(92,'Course List'!A:D,4,0)","v":"HEMA"},{"$f":"VLOOKUP(92,'Course List'!A:E,5,0)","v":440},{"$f":"VLOOKUP(92,'Course List'!A:F,6,0)","v":"Introduction to the Principles and Management of Health Industry Systems"}]
[{"$f":"VLOOKUP(93,'Course List'!A:B,2,0)","v":"Not Taken"},{"$f":"IF(VLOOKUP(93,'Course List'!$A:$B,2,0)=\"Not Taken\",\"\",IF(VLOOKUP(93,'Course List'!$A:$C,3,0)=0,\"Unknown\",VLOOKUP(93,'Course List'!$A:$C,3,0)))","v":""},{"$f":"VLOOKUP(93,'Course List'!A:D,4,0)","v":"HEMA"},{"$f":"VLOOKUP(93,'Course List'!A:E,5,0)","v":441},{"$f":"VLOOKUP(93,'Course List'!A:F,6,0)","v":"Health Policy"}]
[{"$f":"VLOOKUP(94,'Course List'!A:B,2,0)","v":"Not Taken"},{"$f":"IF(VLOOKUP(94,'Course List'!$A:$B,2,0)=\"Not Taken\",\"\",IF(VLOOKUP(94,'Course List'!$A:$C,3,0)=0,\"Unknown\",VLOOKUP(94,'Course List'!$A:$C,3,0)))","v":""},{"$f":"VLOOKUP(94,'Course List'!A:D,4,0)","v":"HEMA"},{"$f":"VLOOKUP(94,'Course List'!A:E,5,0)","v":451},{"$f":"VLOOKUP(94,'Course List'!A:F,6,0)","v":"Legal Issues in Health Care Delivery"}]
[{"$f":"VLOOKUP(97,'Course List'!A:B,2,0)","v":"Not Taken"},{"$f":"IF(VLOOKUP(97,'Course List'!$A:$B,2,0)=\"Not Taken\",\"\",IF(VLOOKUP(97,'Course List'!$A:$C,3,0)=0,\"Unknown\",VLOOKUP(97,'Course List'!$A:$C,3,0)))","v":""},{"$f":"VLOOKUP(97,'Course List'!A:D,4,0)","v":"HEMA"},{"$f":"VLOOKUP(97,'Course List'!A:E,5,0)","v":453},{"$f":"VLOOKUP(97,'Course List'!A:F,6,0)","v":"Managerial Challenges in the Pharmaceutical, Biotech, and Medical Devices Industries"}]
[{"$f":"VLOOKUP(98,'Course List'!A:B,2,0)","v":"Not Taken"},{"$f":"IF(VLOOKUP(98,'Course List'!$A:$B,2,0)=\"Not Taken\",\"\",IF(VLOOKUP(98,'Course List'!$A:$C,3,0)=0,\"Unknown\",VLOOKUP(98,'Course List'!$A:$C,3,0)))","v":""},{"$f":"VLOOKUP(98,'Course List'!A:D,4,0)","v":"HEMA"},{"$f":"VLOOKUP(98,'Course List'!A:E,5,0)","v":455},{"$f":"VLOOKUP(98,'Course List'!A:F,6,0)","v":"Special Topics in the Pharmaceutical, Biotechnology and Medical Device Industries"}]
[{"$f":"VLOOKUP(255,'Course List'!A:B,2,0)","v":"Not Taken"},{"$f":"IF(VLOOKUP(255,'Course List'!$A:$B,2,0)=\"Not Taken\",\"\",IF(VLOOKUP(255,'Course List'!$A:$C,3,0)=0,\"Unknown\",VLOOKUP(255,'Course List'!$A:$C,3,0)))","v":""},{"$f":"VLOOKUP(255,'Course List'!A:D,4,0)","v":"HEMA"},{"$f":"VLOOKUP(255,'Course List'!A:E,5,0)","v":512},{"$f":"VLOOKUP(255,'Course List'!A:F,6,0)","v":"Health Services Management Field Study/Project Management"}]
[{"$f":"VLOOKUP(19,'Course List'!A:B,2,0)","v":"Not Taken"},{"$f":"IF(VLOOKUP(19,'Course List'!$A:$B,2,0)=\"Not Taken\",\"\",IF(VLOOKUP(19,'Course List'!$A:$C,3,0)=0,\"Unknown\",VLOOKUP(19,'Course List'!$A:$C,3,0)))","v":""},{"$f":"VLOOKUP(19,'Course List'!A:D,4,0)","v":"HEMA"},{"$f":"VLOOKUP(19,'Course List'!A:E,5,0)","v":911},{"$f":"VLOOKUP(19,'Course List'!A:F,6,0)","v":"Dynamics of the Biotechnology/Life Sciences Industry"}]
[]
["Function-specific courses"]
[{"$f":"VLOOKUP(3,'Course List'!A:B,2,0)","v":"Not Taken"},{"$f":"IF(VLOOKUP(3,'Course List'!$A:$B,2,0)=\"Not Taken\",\"\",IF(VLOOKUP(3,'Course List'!$A:$C,3,0)=0,\"Unknown\",VLOOKUP(3,'Course List'!$A:$C,3,0)))","v":""},{"$f":"VLOOKUP(3,'Course List'!A:D,4,0)","v":"ACCT"},{"$f":"VLOOKUP(3,'Course List'!A:E,5,0)","v":432},{"$f":"VLOOKUP(3,'Course List'!A:F,6,0)","v":"Information Technology in Healthcare Management"}]
[{"$f":"VLOOKUP(16,'Course List'!A:B,2,0)","v":"Not Taken"},{"$f":"IF(VLOOKUP(16,'Course List'!$A:$B,2,0)=\"Not Taken\",\"\",IF(VLOOKUP(16,'Course List'!$A:$C,3,0)=0,\"Unknown\",VLOOKUP(16,'Course List'!$A:$C,3,0)))","v":""},{"$f":"VLOOKUP(16,'Course List'!A:D,4,0)","v":"ACCT"},{"$f":"VLOOKUP(16,'Course List'!A:E,5,0)","v":479},{"$f":"VLOOKUP(16,'Course List'!A:F,6,0)","v":"Financial Assessment and Performance Evaluation of Healthcare Entities"}]
[{"$f":"VLOOKUP(135,'Course List'!A:B,2,0)","v":"Not Taken"},{"$f":"IF(VLOOKUP(135,'Course List'!$A:$B,2,0)=\"Not Taken\",\"\",IF(VLOOKUP(135,'Course List'!$A:$C,3,0)=0,\"Unknown\",VLOOKUP(135,'Course List'!$A:$C,3,0)))","v":""},{"$f":"VLOOKUP(135,'Course List'!A:D,4,0)","v":"MGMT"},{"$f":"VLOOKUP(135,'Course List'!A:E,5,0)","v":444},{"$f":"VLOOKUP(135,'Course List'!A:F,6,0)","v":"Healthcare Economics & Strategy"}]
[{"$f":"VLOOKUP(144,'Course List'!A:B,2,0)","v":"Not Taken"},{"$f":"IF(VLOOKUP(144,'Course List'!$A:$B,2,0)=\"Not Taken\",\"\",IF(VLOOKUP(144,'Course List'!$A:$C,3,0)=0,\"Unknown\",VLOOKUP(144,'Course List'!$A:$C,3,0)))","v":""},{"$f":"VLOOKUP(144,'Course List'!A:D,4,0)","v":"MGMT"},{"$f":"VLOOKUP(144,'Course List'!A:E,5,0)","v":469},{"$f":"VLOOKUP(144,'Course List'!A:F,6,0)","v":"Empirical Methods in Strategy"}]
[{"$f":"VLOOKUP(139,'Course List'!A:B,2,0)","v":"Not Taken"},{"$f":"IF(VLOOKUP(139,'Course List'!$A:$B,2,0)=\"Not Taken\",\"\",IF(VLOOKUP(139,'Course List'!$A:$C,3,0)=0,\"Unknown\",VLOOKUP(139,'Course List'!$A:$C,3,0)))","v":""},{"$f":"VLOOKUP(139,'Course List'!A:D,4,0)","v":"MGMT"},{"$f":"VLOOKUP(139,'Course List'!A:E,5,0)","v":463},{"$f":"VLOOKUP(139,'Course List'!A:F,6,0)","v":"Management of Technology"}]
[{"$f":"IF(AND(A24=\"Complete\",A25=\"Complete\"),\"Complete\",IF(AND(A24=\"Enrolled\",A25=\"Enrolled\"),\"Enrolled\",IF(AND(A24=\"Complete\",A25=\"Will Enroll\"),\"In Progress\",IF(AND(A24=\"Complete\",A25=\"Enrolled\"),\"In Progress\",IF(AND(A24=\"Will Enroll\",A25=\"Will Enroll\"),\"Will Enroll\",\"Not Taken\")))))","v":"Not Taken"},null,"MORS 454A & HIMT 452B must be taken together to count towards the HIMT major"]
[{"$f":"VLOOKUP(189,'Course List'!A:B,2,0)","v":"Not Taken"},{"$f":"IF(VLOOKUP(189,'Course List'!$A:$B,2,0)=\"Not Taken\",\"\",IF(VLOOKUP(189,'Course List'!$A:$C,3,0)=0,\"Unknown\",VLOOKUP(189,'Course List'!$A:$C,3,0)))","v":""},{"$f":"VLOOKUP(189,'Course List'!A:D,4,0)","v":"MORS"},{"$f":"VLOOKUP(189,'Course List'!A:E,5,0)","v":"454-A"},{"$f":"VLOOKUP(189,'Course List'!A:F,6,0)","v":"Creating and Managing Strategic Alliances"}]
[{"$f":"VLOOKUP(96,'Course List'!A:B,2,0)","v":"Not Taken"},{"$f":"IF(VLOOKUP(96,'Course List'!$A:$B,2,0)=\"Not Taken\",\"\",IF(VLOOKUP(96,'Course List'!$A:$C,3,0)=0,\"Unknown\",VLOOKUP(96,'Course List'!$A:$C,3,0)))","v":""},{"$f":"VLOOKUP(96,'Course List'!A:D,4,0)","v":"HEMA"},{"$f":"VLOOKUP(96,'Course List'!A:E,5,0)","v":"452-B"},{"$f":"VLOOKUP(96,'Course List'!A:F,6,0)","v":"Advanced Strategic Management in Healthcare"}]

{"sheet":"HR","index":21,"n_rows":15,"n_cols":5,"rows_kept":15,"cut":false,"hidden":false,"merged":[[2,0,2,4]]}
["Human Resource Management"]
[]
[{"$f":"Formulae!A87","v":"NOT MAJORING IN THIS FIELD"}]
[]
["Status","Term","Department","Course #","Course Name"]
[]
[{"$f":"VLOOKUP(134,'Course List'!A:B,2,0)","v":"Not Taken"},{"$f":"IF(VLOOKUP(134,'Course List'!$A:$B,2,0)=\"Not Taken\",\"\",IF(VLOOKUP(134,'Course List'!$A:$C,3,0)=0,\"Unknown\",VLOOKUP(134,'Course List'!$A:$C,3,0)))","v":""},{"$f":"VLOOKUP(134,'Course List'!A:D,4,0)","v":"MGMT"},{"$f":"VLOOKUP(134,'Course List'!A:E,5,0)","v":440},{"$f":"VLOOKUP(134,'Course List'!A:F,6,0)","v":"Human Resource Management"}]
[{"$f":"VLOOKUP(187,'Course List'!A:B,2,0)","v":"Not Taken"},{"$f":"IF(VLOOKUP(187,'Course List'!$A:$B,2,0)=\"Not Taken\",\"\",IF(VLOOKUP(187,'Course List'!$A:$C,3,0)=0,\"Unknown\",VLOOKUP(187,'Course List'!$A:$C,3,0)))","v":""},{"$f":"VLOOKUP(187,'Course List'!A:D,4,0)","v":"MORS"},{"$f":"VLOOKUP(187,'Course List'!A:E,5,0)","v":452},{"$f":"VLOOKUP(187,'Course List'!A:F,6,0)","v":"Leading the Strategic Change Process"}]
[]
[{"$f":"VLOOKUP(186,'Course List'!A:B,2,0)","v":"Not Taken"},{"$f":"IF(VLOOKUP(186,'Course List'!$A:$B,2,0)=\"Not Taken\",\"\",IF(VLOOKUP(186,'Course List'!$A:$C,3,0)=0,\"Unknown\",VLOOKUP(186,'Course List'!$A:$C,3,0)))","v":""},{"$f":"VLOOKUP(186,'Course List'!A:D,4,0)","v":"MORS"},{"$f":"VLOOKUP(186,'Course List'!A:E,5,0)","v":451},{"$f":"VLOOKUP(186,'Course List'!A:F,6,0)","v":"Designing Organizational Systems"}]
[{"$f":"VLOOKUP(188,'Course List'!A:B,2,0)","v":"Not Taken"},{"$f":"IF(VLOOKUP(188,'Course List'!$A:$B,2,0)=\"Not Taken\",\"\",IF(VLOOKUP(188,'Course List'!$A:$C,3,0)=0,\"Unknown\",VLOOKUP(188,'Course List'!$A:$C,3,0)))","v":""},{"$f":"VLOOKUP(188,'Course List'!A:D,4,0)","v":"MORS"},{"$f":"VLOOKUP(188,'Course List'!A:E,5,0)","v":453},{"$f":"VLOOKUP(188,'Course List'!A:F,6,0)","v":"Power in Organizations: Sources, Strategies and Skills"}]
[{"$f":"VLOOKUP(191,'Course List'!A:B,2,0)","v":"Not Taken"},{"$f":"IF(VLOOKUP(191,'Course List'!$A:$B,2,0)=\"Not Taken\",\"\",IF(VLOOKUP(191,'Course List'!$A:$C,3,0)=0,\"Unknown\",VLOOKUP(191,'Course List'!$A:$C,3,0)))","v":""},{"$f":"VLOOKUP(191,'Course List'!A:D,4,0)","v":"MORS"},{"$f":"VLOOKUP(191,'Course List'!A:E,5,0)","v":457},{"$f":"VLOOKUP(191,'Course List'!A:F,6,0)","v":"Gender in Management"}]
[{"$f":"VLOOKUP(195,'Course List'!A:B,2,0)","v":"Not Taken"},{"$f":"IF(VLOOKUP(195,'Course List'!$A:$B,2,0)=\"Not Taken\",\"\",IF(VLOOKUP(195,'Course List'!$A:$C,3,0)=0,\"Unknown\",VLOOKUP(195,'Course List'!$A:$C,3,0)))","v":""},{"$f":"VLOOKUP(195,'Course List'!A:D,4,0)","v":"MORS"},{"$f":"VLOOKUP(195,'Course List'!A:E,5,0)","v":460},{"$f":"VLOOKUP(195,'Course List'!A:F,6,0)","v":"Leading and Managing Teams"}]
[{"$f":"VLOOKUP(196,'Course List'!A:B,2,0)","v":"Not Taken"},{"$f":"IF(VLOOKUP(196,'Course List'!$A:$B,2,0)=\"Not Taken\",\"\",IF(VLOOKUP(196,'Course List'!$A:$C,3,0)=0,\"Unknown\",VLOOKUP(196,'Course List'!$A:$C,3,0)))","v":""},{"$f":"VLOOKUP(196,'Course List'!A:D,4,0)","v":"MORS"},{"$f":"VLOOKUP(196,'Course List'!A:E,5,0)","v":462},{"$f":"VLOOKUP(196,'Course List'!A:F,6,0)","v":"Managing Workforce Diversity"}]
["Not Taken",{"$f":"IF(VLOOKUP(13,'Course List'!$A:$B,2,0)=\"Not Taken\",\"\",IF(VLOOKUP(13,'Course List'!$A:$C,3,0)=0,\"Unknown\",VLOOKUP(13,'Course List'!$A:$C,3,0)))","v":""},{"$f":"VLOOKUP(13,'Course List'!A:D,4,0)","v":"ACCT"},{"$f":"VLOOKUP(13,'Course List'!A:E,5,0)","v":454},{"$f":"VLOOKUP(13,'Course List'!A:F,6,0)","v":"Management Lab (M-Lab)"}]

{"sheet":"INTL","index":22,"n_rows":19,"n_cols":5,"rows_kept":19,"cut":false,"hidden":false,"merged":[[2,0,2,4]]}
["International Business"]
[]
[{"$f":"Formulae!A92","v":"NOT MAJORING IN THIS FIELD"}]
[]
["Status","Term","Department","Course #","Course Name"]
[]
[{"$f":"VLOOKUP(71,'Course List'!A:B,2,0)","v":"Not Taken"},{"$f":"IF(VLOOKUP(71,'Course List'!$A:$B,2,0)=\"Not Taken\",\"\",IF(VLOOKUP(71,'Course List'!$A:$C,3,0)=0,\"Unknown\",VLOOKUP(71,'Course List'!$A:$C,3,0)))","v":""},{"$f":"VLOOKUP(71,'Course List'!A:D,4,0)","v":"FINC"},{"$f":"VLOOKUP(71,'Course List'!A:E,5,0)","v":470},{"$f":"VLOOKUP(71,'Course List'!A:F,6,0)","v":"International Finance"}]
[{"$f":"VLOOKUP(105,'Course List'!A:B,2,0)","v":"Not Taken"},{"$f":"IF(VLOOKUP(105,'Course List'!$A:$B,2,0)=\"Not Taken\",\"\",IF(VLOOKUP(105,'Course List'!$A:$C,3,0)=0,\"Unknown\",VLOOKUP(105,'Course List'!$A:$C,3,0)))","v":""},{"$f":"VLOOKUP(105,'Course List'!A:D,4,0)","v":"INTL"},{"$f":"VLOOKUP(105,'Course List'!A:E,5,0)","v":460},{"$f":"VLOOKUP(105,'Course List'!A:F,6,0)","v":"International Business Strategy"}]
[{"$f":"VLOOKUP(106,'Course List'!A:B,2,0)","v":"Not Taken"},{"$f":"IF(VLOOKUP(106,'Course List'!$A:$B,2,0)=\"Not Taken\",\"\",IF(VLOOKUP(106,'Course List'!$A:$C,3,0)=0,\"Unknown\",VLOOKUP(106,'Course List'!$A:$C,3,0)))","v":""},{"$f":"VLOOKUP(106,'Course List'!A:D,4,0)","v":"INTL"},{"$f":"VLOOKUP(106,'Course List'!A:E,5,0)","v":466},{"$f":"VLOOKUP(106,'Course List'!A:F,6,0)","v":"International Business Strategy in Non-Market Environments"}]
[{"$f":"VLOOKUP(109,'Course List'!A:B,2,0)","v":"Not Taken"},{"$f":"IF(VLOOKUP(109,'Course List'!$A:$B,2,0)=\"Not Taken\",\"\",IF(VLOOKUP(109,'Course List'!$A:$C,3,0)=0,\"Unknown\",VLOOKUP(109,'Course List'!$A:$C,3,0)))","v":""},{"$f":"VLOOKUP(109,'Course List'!A:D,4,0)","v":"INTL"},{"$f":"VLOOKUP(109,'Course List'!A:E,5,0)","v":474},{"$f":"VLOOKUP(109,'Course List'!A:F,6,0)","v":"Cross-Cultural Negotiation"}]
[]
[{"$f":"VLOOKUP(102,'Course List'!A:B,2,0)","v":"Not Taken"},{"$f":"IF(VLOOKUP(102,'Course List'!$A:$B,2,0)=\"Not Taken\",\"\",IF(VLOOKUP(102,'Course List'!$A:$C,3,0)=0,\"Unknown\",VLOOKUP(102,'Course List'!$A:$C,3,0)))","v":""},{"$f":"VLOOKUP(102,'Course List'!A:D,4,0)","v":"INTL"},{"$f":"VLOOKUP(102,'Course List'!A:E,5,0)","v":442},{"$f":"VLOOKUP(102,'Course List'!A:F,6,0)","v":"International Healthcare Systems"}]
[{"$f":"VLOOKUP(103,'Course List'!A:B,2,0)","v":"Not Taken"},{"$f":"IF(VLOOKUP(103,'Course List'!$A:$B,2,0)=\"Not Taken\",\"\",IF(VLOOKUP(103,'Course List'!$A:$C,3,0)=0,\"Unknown\",VLOOKUP(103,'Course List'!$A:$C,3,0)))","v":""},{"$f":"VLOOKUP(103,'Course List'!A:D,4,0)","v":"INTL"},{"$f":"VLOOKUP(103,'Course List'!A:E,5,0)","v":456},{"$f":"VLOOKUP(103,'Course List'!A:F,6,0)","v":"Intercultural Management"}]
[{"$f":"VLOOKUP(107,'Course List'!A:B,2,0)","v":"Not Taken"},{"$f":"IF(VLOOKUP(107,'Course List'!$A:$B,2,0)=\"Not Taken\",\"\",IF(VLOOKUP(107,'Course List'!$A:$C,3,0)=0,\"Unknown\",VLOOKUP(107,'Course List'!$A:$C,3,0)))","v":""},{"$f":"VLOOKUP(107,'Course List'!A:D,4,0)","v":"INTL"},{"$f":"VLOOKUP(107,'Course List'!A:E,5,0)","v":467},{"$f":"VLOOKUP(107,'Course List'!A:F,6,0)","v":"International Marketing"}]
[{"$f":"VLOOKUP(108,'Course List'!A:B,2,0)","v":"Not Taken"},{"$f":"IF(VLOOKUP(108,'Course List'!$A:$B,2,0)=\"Not Taken\",\"\",IF(VLOOKUP(108,'Course List'!$A:$C,3,0)=0,\"Unknown\",VLOOKUP(108,'Course List'!$A:$C,3,0)))","v":""},{"$f":"VLOOKUP(108,'Course List'!A:D,4,0)","v":"INTL"},{"$f":"VLOOKUP(108,'Course List'!A:E,5,0)","v":473},{"$f":"VLOOKUP(108,'Course List'!A:F,6,0)","v":"Global Initiatives in Management (GIM)"}]
[{"$f":"VLOOKUP(284,'Course List'!A:B,2,0)","v":"Not Taken"},{"$f":"IF(VLOOKUP(284,'Course List'!$A:$B,2,0)=\"Not Taken\",\"\",IF(VLOOKUP(284,'Course List'!$A:$C,3,0)=0,\"Unknown\",VLOOKUP(284,'Course List'!$A:$C,3,0)))","v":""},{"$f":"VLOOKUP(284,'Course List'!A:D,4,0)","v":"INTL"},{"$f":"VLOOKUP(284,'Course List'!A:E,5,0)","v":915},{"$f":"VLOOKUP(284,'Course List'!A:F,6,0)","v":"Global Lab (G-Lab)"}]
[{"$f":"VLOOKUP(230,'Course List'!A:B,2,0)","v":"Not Taken"},{"$f":"IF(VLOOKUP(230,'Course List'!$A:$B,2,0)=\"Not Taken\",\"\",IF(VLOOKUP(230,'Course List'!$A:$C,3,0)=0,\"Unknown\",VLOOKUP(230,'Course List'!$A:$C,3,0)))","v":""},{"$f":"VLOOKUP(230,'Course List'!A:D,4,0)","v":"SEEK"},{"$f":"VLOOKUP(230,'Course List'!A:E,5,0)","v":956},{"$f":"VLOOKUP(230,'Course List'!A:F,6,0)","v":"Social Entrepreneurship in the Developing World"}]
["Not Taken",{"$f":"IF(VLOOKUP(13,'Course List'!$A:$B,2,0)=\"Not Taken\",\"\",IF(VLOOKUP(13,'Course List'!$A:$C,3,0)=0,\"Unknown\",VLOOKUP(13,'Course List'!$A:$C,3,0)))","v":""},{"$f":"VLOOKUP(13,'Course List'!A:D,4,0)","v":"ACCT"},{"$f":"VLOOKUP(13,'Course List'!A:E,5,0)","v":454},{"$f":"VLOOKUP(13,'Course List'!A:F,6,0)","v":"Management Lab (M-Lab)"}]
[{"$f":"VLOOKUP(267,'Course List'!A:B,2,0)","v":"Not Taken"},{"$f":"IF(VLOOKUP(267,'Course List'!$A:$B,2,0)=\"Not Taken\",\"\",IF(VLOOKUP(267,'Course List'!$A:$C,3,0)=0,\"Unknown\",VLOOKUP(267,'Course List'!$A:$C,3,0)))","v":""},{"$f":"VLOOKUP(267,'Course List'!A:D,4,0)","v":"INTL"},{"$f":"VLOOKUP(267,'Course List'!A:E,5,0)","v":"XXX"},{"$f":"VLOOKUP(267,'Course List'!A:F,6,0)","v":"International Exchange Program"}]

{"sheet":"MGMT & Org","index":23,"n_rows":32,"n_cols":5,"rows_kept":32,"cut":false,"hidden":false,"merged":[[2,0,2,4]]}
["Management & Organizations"]
[]
[{"$f":"Formulae!A97","v":"NOT MAJORING IN THIS FIELD"}]
[]
["Status","Term","Department","Course #","Course Name"]
[]
[{"$f":"VLOOKUP(182,'Course List'!A:B,2,0)","v":"Not Taken"},{"$f":"IF(VLOOKUP(182,'Course List'!$A:$B,2,0)=\"Not Taken\",\"\",IF(VLOOKUP(182,'Course List'!$A:$C,3,0)=0,\"Unknown\",VLOOKUP(182,'Course List'!$A:$C,3,0)))","v":""},{"$f":"VLOOKUP(182,'Course List'!A:D,4,0)","v":"MORS"},{"$f":"VLOOKUP(182,'Course List'!A:E,5,0)","v":441},{"$f":"VLOOKUP(182,'Course List'!A:F,6,0)","v":"Managing People for Competitive Advantage"}]
[{"$f":"VLOOKUP(186,'Course List'!A:B,2,0)","v":"Not Taken"},{"$f":"IF(VLOOKUP(186,'Course List'!$A:$B,2,0)=\"Not Taken\",\"\",IF(VLOOKUP(186,'Course List'!$A:$C,3,0)=0,\"Unknown\",VLOOKUP(186,'Course List'!$A:$C,3,0)))","v":""},{"$f":"VLOOKUP(186,'Course List'!A:D,4,0)","v":"MORS"},{"$f":"VLOOKUP(186,'Course List'!A:E,5,0)","v":451},{"$f":"VLOOKUP(186,'Course List'!A:F,6,0)","v":"Designing Organizational Systems"}]
[{"$f":"VLOOKUP(187,'Course List'!A:B,2,0)","v":"Not Taken"},{"$f":"IF(VLOOKUP(187,'Course List'!$A:$B,2,0)=\"Not Taken\",\"\",IF(VLOOKUP(187,'Course List'!$A:$C,3,0)=0,\"Unknown\",VLOOKUP(187,'Course List'!$A:$C,3,0)))","v":""},{"$f":"VLOOKUP(187,'Course List'!A:D,4,0)","v":"MORS"},{"$f":"VLOOKUP(187,'Course List'!A:E,5,0)","v":452},{"$f":"VLOOKUP(187,'Course List'!A:F,6,0)","v":"Leading the Strategic Change Process"}]
[{"$f":"VLOOKUP(188,'Course List'!A:B,2,0)","v":"Not Taken"},{"$f":"IF(VLOOKUP(188,'Course List'!$A:$B,2,0)=\"Not Taken\",\"\",IF(VLOOKUP(188,'Course List'!$A:$C,3,0)=0,\"Unknown\",VLOOKUP(188,'Course List'!$A:$C,3,0)))","v":""},{"$f":"VLOOKUP(188,'Course List'!A:D,4,0)","v":"MORS"},{"$f":"VLOOKUP(188,'Course List'!A:E,5,0)","v":453},{"$f":"VLOOKUP(188,'Course List'!A:F,6,0)","v":"Power in Organizations: Sources, Strategies and Skills"}]
[{"$f":"VLOOKUP(189,'Course List'!A:B,2,0)","v":"Not Taken"},{"$f":"IF(VLOOKUP(189,'Course List'!$A:$B,2,0)=\"Not Taken\",\"\",IF(VLOOKUP(189,'Course List'!$A:$C,3,0)=0,\"Unknown\",VLOOKUP(189,'Course List'!$A:$C,3,0)))","v":""},{"$f":"VLOOKUP(189,'Course List'!A:D,4,0)","v":"MORS"},{"$f":"VLOOKUP(189,'Course List'!A:E,5,0)","v":"454-A"},{"$f":"VLOOKUP(189,'Course List'!A:F,6,0)","v":"Creating and Managing Strategic Alliances"}]
[{"$f":"VLOOKUP(190,'Course List'!A:B,2,0)","v":"Not Taken"},{"$f":"IF(VLOOKUP(190,'Course List'!$A:$B,2,0)=\"Not Taken\",\"\",IF(VLOOKUP(190,'Course List'!$A:$C,3,0)=0,\"Unknown\",VLOOKUP(190,'Course List'!$A:$C,3,0)))","v":""},{"$f":"VLOOKUP(190,'Course List'!A:D,4,0)","v":"MORS"},{"$f":"VLOOKUP(190,'Course List'!A:E,5,0)","v":455},{"$f":"VLOOKUP(190,'Course List'!A:F,6,0)","v":"Strategy Implementation"}]
[{"$f":"VLOOKUP(191,'Course List'!A:B,2,0)","v":"Not Taken"},{"$f":"IF(VLOOKUP(191,'Course List'!$A:$B,2,0)=\"Not Taken\",\"\",IF(VLOOKUP(191,'Course List'!$A:$C,3,0)=0,\"Unknown\",VLOOKUP(191,'Course List'!$A:$C,3,0)))","v":""},{"$f":"VLOOKUP(191,'Course List'!A:D,4,0)","v":"MORS"},{"$f":"VLOOKUP(191,'Course List'!A:E,5,0)","v":457},{"$f":"VLOOKUP(191,'Course List'!A:F,6,0)","v":"Gender in Management"}]
[{"$f":"VLOOKUP(192,'Course List'!A:B,2,0)","v":"Not Taken"},{"$f":"IF(VLOOKUP(192,'Course List'!$A:$B,2,0)=\"Not Taken\",\"\",IF(VLOOKUP(192,'Course List'!$A:$C,3,0)=0,\"Unknown\",VLOOKUP(192,'Course List'!$A:$C,3,0)))","v":""},{"$f":"VLOOKUP(192,'Course List'!A:D,4,0)","v":"MORS"},{"$f":"VLOOKUP(192,'Course List'!A:E,5,0)","v":458},{"$f":"VLOOKUP(192,'Course List'!A:F,6,0)","v":"Managing With Professionals"}]
[{"$f":"VLOOKUP(193,'Course List'!A:B,2,0)","v":"Not Taken"},{"$f":"IF(VLOOKUP(193,'Course List'!$A:$B,2,0)=\"Not Taken\",\"\",IF(VLOOKUP(193,'Course List'!$A:$C,3,0)=0,\"Unknown\",VLOOKUP(193,'Course List'!$A:$C,3,0)))","v":""},{"$f":"VLOOKUP(193,'Course List'!A:D,4,0)","v":"MORS"},{"$f":"VLOOKUP(193,'Course List'!A:E,5,0)","v":459},{"$f":"VLOOKUP(193,'Course List'!A:F,6,0)","v":"Managing Technology: Development and Deployment"}]
[{"$f":"VLOOKUP(195,'Course List'!A:B,2,0)","v":"Not Taken"},{"$f":"IF(VLOOKUP(195,'Course List'!$A:$B,2,0)=\"Not Taken\",\"\",IF(VLOOKUP(195,'Course List'!$A:$C,3,0)=0,\"Unknown\",VLOOKUP(195,'Course List'!$A:$C,3,0)))","v":""},{"$f":"VLOOKUP(195,'Course List'!A:D,4,0)","v":"MORS"},{"$f":"VLOOKUP(195,'Course List'!A:E,5,0)","v":460},{"$f":"VLOOKUP(195,'Course List'!A:F,6,0)","v":"Leading and Managing Teams"}]
[{"$f":"VLOOKUP(196,'Course List'!A:B,2,0)","v":"Not Taken"},{"$f":"IF(VLOOKUP(196,'Course List'!$A:$B,2,0)=\"Not Taken\",\"\",IF(VLOOKUP(196,'Course List'!$A:$C,3,0)=0,\"Unknown\",VLOOKUP(196,'Course List'!$A:$C,3,0)))","v":""},{"$f":"VLOOKUP(196,'Course List'!A:D,4,0)","v":"MORS"},{"$f":"VLOOKUP(196,'Course List'!A:E,5,0)","v":462},{"$f":"VLOOKUP(196,'Course List'!A:F,6,0)","v":"Managing Workforce Diversity"}]
[{"$f":"VLOOKUP(143,'Course List'!A:B,2,0)","v":"Not Taken"},{"$f":"IF(VLOOKUP(143,'Course List'!$A:$B,2,0)=\"Not Taken\",\"\",IF(VLOOKUP(143,'Course List'!$A:$C,3,0)=0,\"Unknown\",VLOOKUP(143,'Course List'!$A:$C,3,0)))","v":""},{"$f":"VLOOKUP(143,'Course List'!A:D,4,0)","v":"MORS"},{"$f":"VLOOKUP(143,'Course List'!A:E,5,0)","v":468},{"$f":"VLOOKUP(143,'Course List'!A:F,6,0)","v":"Managerial Leadership"}]
[{"$f":"VLOOKUP(197,'Course List'!A:B,2,0)","v":"Not Taken"},{"$f":"IF(VLOOKUP(197,'Course List'!$A:$B,2,0)=\"Not Taken\",\"\",IF(VLOOKUP(197,'Course List'!$A:$C,3,0)=0,\"Unknown\",VLOOKUP(197,'Course List'!$A:$C,3,0)))","v":""},{"$f":"VLOOKUP(197,'Course List'!A:D,4,0)","v":"MORS"},{"$f":"VLOOKUP(197,'Course List'!A:E,5,0)","v":470},{"$f":"VLOOKUP(197,'Course List'!A:F,6,0)","v":"Negotiations"}]
[{"$f":"VLOOKUP(198,'Course List'!A:B,2,0)","v":"Not Taken"},{"$f":"IF(VLOOKUP(198,'Course List'!$A:$B,2,0)=\"Not Taken\",\"\",IF(VLOOKUP(198,'Course List'!$A:$C,3,0)=0,\"Unknown\",VLOOKUP(198,'Course List'!$A:$C,3,0)))","v":""},{"$f":"VLOOKUP(198,'Course List'!A:D,4,0)","v":"MORS"},{"$f":"VLOOKUP(198,'Course List'!A:E,5,0)","v":471},{"$f":"VLOOKUP(198,'Course List'!A:F,6,0)","v":"Individual & Competitive Decision Making"}]
[{"$f":"VLOOKUP(199,'Course List'!A:B,2,0)","v":"Not Taken"},{"$f":"IF(VLOOKUP(199,'Course List'!$A:$B,2,0)=\"Not Taken\",\"\",IF(VLOOKUP(199,'Course List'!$A:$C,3,0)=0,\"Unknown\",VLOOKUP(199,'Course List'!$A:$C,3,0)))","v":""},{"$f":"VLOOKUP(199,'Course List'!A:D,4,0)","v":"MORS"},{"$f":"VLOOKUP(199,'Course List'!A:E,5,0)","v":499},{"$f":"VLOOKUP(199,'Course List'!A:F,6,0)","v":"Independent Study"}]
[{"$f":"VLOOKUP(202,'Course List'!A:B,2,0)","v":"Not Taken"},{"$f":"IF(VLOOKUP(202,'Course List'!$A:$B,2,0)=\"Not Taken\",\"\",IF(VLOOKUP(202,'Course List'!$A:$C,3,0)=0,\"Unknown\",VLOOKUP(202,'Course List'!$A:$C,3,0)))","v":""},{"$f":"VLOOKUP(202,'Course List'!A:D,4,0)","v":"MORS"},{"$f":"VLOOKUP(202,'Course List'!A:E,5,0)","v":476},{"$f":"VLOOKUP(202,'Course List'!A:F,6,0)","v":"Bargaining"}]
[{"$f":"VLOOKUP(268,'Course List'!A:B,2,0)","v":"Not Taken"},{"$f":"IF(VLOOKUP(268,'Course List'!$A:$B,2,0)=\"Not Taken\",\"\",IF(VLOOKUP(268,'Course List'!$A:$C,3,0)=0,\"Unknown\",VLOOKUP(268,'Course List'!$A:$C,3,0)))","v":""},{"$f":"VLOOKUP(268,'Course List'!A:D,4,0)","v":"MORS"},{"$f":"VLOOKUP(268,'Course List'!A:E,5,0)","v":916},{"$f":"VLOOKUP(268,'Course List'!A:F,6,0)","v":"Socially Responsible Business Practices"}]
[{"$f":"VLOOKUP(203,'Course List'!A:B,2,0)","v":"Not Taken"},{"$f":"IF(VLOOKUP(203,'Course List'!$A:$B,2,0)=\"Not Taken\",\"\",IF(VLOOKUP(203,'Course List'!$A:$C,3,0)=0,\"Unknown\",VLOOKUP(203,'Course List'!$A:$C,3,0)))","v":""},{"$f":"VLOOKUP(203,'Course List'!A:D,4,0)","v":"MORS"},{"$f":"VLOOKUP(203,'Course List'!A:E,5,0)","v":"917-A"},{"$f":"VLOOKUP(203,'Course List'!A:F,6,0)","v":"Risky Decisions"}]
[{"$f":"VLOOKUP(204,'Course List'!A:B,2,0)","v":"Not Taken"},{"$f":"IF(VLOOKUP(204,'Course List'!$A:$B,2,0)=\"Not Taken\",\"\",IF(VLOOKUP(204,'Course List'!$A:$C,3,0)=0,\"Unknown\",VLOOKUP(204,'Course List'!$A:$C,3,0)))","v":""},{"$f":"VLOOKUP(204,'Course List'!A:D,4,0)","v":"MORS"},{"$f":"VLOOKUP(204,'Course List'!A:E,5,0)","v":919},{"$f":"VLOOKUP(204,'Course List'!A:F,6,0)","v":"Leading and Organizing an Entrepreneurial E-Business"}]
[{"$f":"VLOOKUP(207,'Course List'!A:B,2,0)","v":"Not Taken"},{"$f":"IF(VLOOKUP(207,'Course List'!$A:$B,2,0)=\"Not Taken\",\"\",IF(VLOOKUP(207,'Course List'!$A:$C,3,0)=0,\"Unknown\",VLOOKUP(207,'Course List'!$A:$C,3,0)))","v":""},{"$f":"VLOOKUP(207,'Course List'!A:D,4,0)","v":"MORS"},{"$f":"VLOOKUP(207,'Course List'!A:E,5,0)","v":923},{"$f":"VLOOKUP(207,'Course List'!A:F,6,0)","v":"Market Driven Strategies for Dynamic Markets"}]
[{"$f":"VLOOKUP(208,'Course List'!A:B,2,0)","v":"Not Taken"},{"$f":"IF(VLOOKUP(208,'Course List'!$A:$B,2,0)=\"Not Taken\",\"\",IF(VLOOKUP(208,'Course List'!$A:$C,3,0)=0,\"Unknown\",VLOOKUP(208,'Course List'!$A:$C,3,0)))","v":""},{"$f":"VLOOKUP(208,'Course List'!A:D,4,0)","v":"MORS"},{"$f":"VLOOKUP(208,'Course List'!A:E,5,0)","v":924},{"$f":"VLOOKUP(208,'Course List'!A:F,6,0)","v":"Consulting: Frameworks and Practices"}]
[{"$f":"VLOOKUP(209,'Course List'!A:B,2,0)","v":"Not Taken"},{"$f":"IF(VLOOKUP(209,'Course List'!$A:$B,2,0)=\"Not Taken\",\"\",IF(VLOOKUP(209,'Course List'!$A:$C,3,0)=0,\"Unknown\",VLOOKUP(209,'Course List'!$A:$C,3,0)))","v":""},{"$f":"VLOOKUP(209,'Course List'!A:D,4,0)","v":"MORS"},{"$f":"VLOOKUP(209,'Course List'!A:E,5,0)","v":926},{"$f":"VLOOKUP(209,'Course List'!A:F,6,0)","v":"Sustainable Innovation: Management & Organization"}]
[{"$f":"VLOOKUP(156,'Course List'!A:B,2,0)","v":"Not Taken"},{"$f":"IF(VLOOKUP(156,'Course List'!$A:$B,2,0)=\"Not Taken\",\"\",IF(VLOOKUP(156,'Course List'!$A:$C,3,0)=0,\"Unknown\",VLOOKUP(156,'Course List'!$A:$C,3,0)))","v":""},{"$f":"VLOOKUP(156,'Course List'!A:D,4,0)","v":"MORS"},{"$f":"VLOOKUP(156,'Course List'!A:E,5,0)","v":933},{"$f":"VLOOKUP(156,'Course List'!A:F,6,0)","v":"Leaders & Leadership"}]
[{"$f":"VLOOKUP(103,'Course List'!A:B,2,0)","v":"Not Taken"},{"$f":"IF(VLOOKUP(103,'Course List'!$A:$B,2,0)=\"Not Taken\",\"\",IF(VLOOKUP(103,'Course List'!$A:$C,3,0)=0,\"Unknown\",VLOOKUP(103,'Course List'!$A:$C,3,0)))","v":""},{"$f":"VLOOKUP(103,'Course List'!A:D,4,0)","v":"INTL"},{"$f":"VLOOKUP(103,'Course List'!A:E,5,0)","v":456},{"$f":"VLOOKUP(103,'Course List'!A:F,6,0)","v":"Intercultural Management"}]
[{"$f":"VLOOKUP(109,'Course List'!A:B,2,0)","v":"Not Taken"},{"$f":"IF(VLOOKUP(109,'Course List'!$A:$B,2,0)=\"Not Taken\",\"\",IF(VLOOKUP(109,'Course List'!$A:$C,3,0)=0,\"Unknown\",VLOOKUP(109,'Course List'!$A:$C,3,0)))","v":""},{"$f":"VLOOKUP(109,'Course List'!A:D,4,0)","v":"INTL"},{"$f":"VLOOKUP(109,'Course List'!A:E,5,0)","v":474},{"$f":"VLOOKUP(109,'Course List'!A:F,6,0)","v":"Cross-Cultural Negotiation"}]
["Not Taken",{"$f":"IF(VLOOKUP(13,'Course List'!$A:$B,2,0)=\"Not Taken\",\"\",IF(VLOOKUP(13,'Course List'!$A:$C,3,0)=0,\"Unknown\",VLOOKUP(13,'Course List'!$A:$C,3,0)))","v":""},{"$f":"VLOOKUP(13,'Course List'!A:D,4,0)","v":"ACCT"},{"$f":"VLOOKUP(13,'Course List'!A:E,5,0)","v":454},{"$f":"VLOOKUP(13,'Course List'!A:F,6,0)","v":"Management Lab (M-Lab)"}]

{"sheet":"MGMT & Strat","index":24,"n_rows":39,"n_cols":5,"rows_kept":39,"cut":false,"hidden":false,"merged":[[2,0,2,4]]}
["Management & Strategy"]
[]
[{"$f":"Formulae!A99","v":"NOT MAJORING IN THIS FIELD"}]
[]
["Status","Term","Department","Course #","Course Name"]
[]
[{"$f":"VLOOKUP(132,'Course List'!A:B,2,0)","v":"Not Taken"},{"$f":"IF(VLOOKUP(132,'Course List'!$A:$B,2,0)=\"Not Taken\",\"\",IF(VLOOKUP(132,'Course List'!$A:$C,3,0)=0,\"Unknown\",VLOOKUP(132,'Course List'!$A:$C,3,0)))","v":""},{"$f":"VLOOKUP(132,'Course List'!A:D,4,0)","v":"MGMT"},{"$f":"VLOOKUP(132,'Course List'!A:E,5,0)","v":431},{"$f":"VLOOKUP(132,'Course List'!A:F,6,0)","v":"Business Strategy"}]
[]
[{"$f":"VLOOKUP(231,'Course List'!A:B,2,0)","v":"Not Taken"},{"$f":"IF(VLOOKUP(231,'Course List'!$A:$B,2,0)=\"Not Taken\",\"\",IF(VLOOKUP(231,'Course List'!$A:$C,3,0)=0,\"Unknown\",VLOOKUP(231,'Course List'!$A:$C,3,0)))","v":""},{"$f":"VLOOKUP(231,'Course List'!A:D,4,0)","v":"SEEK"},{"$f":"VLOOKUP(231,'Course List'!A:E,5,0)","v":441},{"$f":"VLOOKUP(231,'Course List'!A:F,6,0)","v":"Strategic Management in Non-Market Environments"}]
[{"$f":"VLOOKUP(136,'Course List'!A:B,2,0)","v":"Not Taken"},{"$f":"IF(VLOOKUP(136,'Course List'!$A:$B,2,0)=\"Not Taken\",\"\",IF(VLOOKUP(136,'Course List'!$A:$C,3,0)=0,\"Unknown\",VLOOKUP(136,'Course List'!$A:$C,3,0)))","v":""},{"$f":"VLOOKUP(136,'Course List'!A:D,4,0)","v":"MGMT"},{"$f":"VLOOKUP(136,'Course List'!A:E,5,0)","v":452},{"$f":"VLOOKUP(136,'Course List'!A:F,6,0)","v":"Strategy & Organization"}]
[{"$f":"VLOOKUP(139,'Course List'!A:B,2,0)","v":"Not Taken"},{"$f":"IF(VLOOKUP(139,'Course List'!$A:$B,2,0)=\"Not Taken\",\"\",IF(VLOOKUP(139,'Course List'!$A:$C,3,0)=0,\"Unknown\",VLOOKUP(139,'Course List'!$A:$C,3,0)))","v":""},{"$f":"VLOOKUP(139,'Course List'!A:D,4,0)","v":"MGMT"},{"$f":"VLOOKUP(139,'Course List'!A:E,5,0)","v":463},{"$f":"VLOOKUP(139,'Course List'!A:F,6,0)","v":"Management of Technology"}]
[{"$f":"VLOOKUP(144,'Course List'!A:B,2,0)","v":"Not Taken"},{"$f":"IF(VLOOKUP(144,'Course List'!$A:$B,2,0)=\"Not Taken\",\"\",IF(VLOOKUP(144,'Course List'!$A:$C,3,0)=0,\"Unknown\",VLOOKUP(144,'Course List'!$A:$C,3,0)))","v":""},{"$f":"VLOOKUP(144,'Course List'!A:D,4,0)","v":"MGMT"},{"$f":"VLOOKUP(144,'Course List'!A:E,5,0)","v":469},{"$f":"VLOOKUP(144,'Course List'!A:F,6,0)","v":"Empirical Methods in Strategy"}]
[{"$f":"VLOOKUP(105,'Course List'!A:B,2,0)","v":"Not Taken"},{"$f":"IF(VLOOKUP(105,'Course List'!$A:$B,2,0)=\"Not Taken\",\"\",IF(VLOOKUP(105,'Course List'!$A:$C,3,0)=0,\"Unknown\",VLOOKUP(105,'Course List'!$A:$C,3,0)))","v":""},{"$f":"VLOOKUP(105,'Course List'!A:D,4,0)","v":"INTL"},{"$f":"VLOOKUP(105,'Course List'!A:E,5,0)","v":460},{"$f":"VLOOKUP(105,'Course List'!A:F,6,0)","v":"International Business Strategy"}]
[{"$f":"VLOOKUP(120,'Course List'!A:B,2,0)","v":"Not Taken"},{"$f":"IF(VLOOKUP(120,'Course List'!$A:$B,2,0)=\"Not Taken\",\"\",IF(VLOOKUP(120,'Course List'!$A:$C,3,0)=0,\"Unknown\",VLOOKUP(120,'Course List'!$A:$C,3,0)))","v":""},{"$f":"VLOOKUP(120,'Course List'!A:D,4,0)","v":"MECN"},{"$f":"VLOOKUP(120,'Course List'!A:E,5,0)","v":441},{"$f":"VLOOKUP(120,'Course List'!A:F,6,0)","v":"Competitive Strategy & Industrial Structure"}]
[]
[{"$f":"VLOOKUP(134,'Course List'!A:B,2,0)","v":"Not Taken"},{"$f":"IF(VLOOKUP(134,'Course List'!$A:$B,2,0)=\"Not Taken\",\"\",IF(VLOOKUP(134,'Course List'!$A:$C,3,0)=0,\"Unknown\",VLOOKUP(134,'Course List'!$A:$C,3,0)))","v":""},{"$f":"VLOOKUP(134,'Course List'!A:D,4,0)","v":"MGMT"},{"$f":"VLOOKUP(134,'Course List'!A:E,5,0)","v":440},{"$f":"VLOOKUP(134,'Course List'!A:F,6,0)","v":"Human Resource Management"}]
[{"$f":"VLOOKUP(135,'Course List'!A:B,2,0)","v":"Not Taken"},{"$f":"IF(VLOOKUP(135,'Course List'!$A:$B,2,0)=\"Not Taken\",\"\",IF(VLOOKUP(135,'Course List'!$A:$C,3,0)=0,\"Unknown\",VLOOKUP(135,'Course List'!$A:$C,3,0)))","v":""},{"$f":"VLOOKUP(135,'Course List'!A:D,4,0)","v":"MGMT"},{"$f":"VLOOKUP(135,'Course List'!A:E,5,0)","v":444},{"$f":"VLOOKUP(135,'Course List'!A:F,6,0)","v":"Healthcare Economics & Strategy"}]
[{"$f":"VLOOKUP(140,'Course List'!A:B,2,0)","v":"Not Taken"},{"$f":"IF(VLOOKUP(140,'Course List'!$A:$B,2,0)=\"Not Taken\",\"\",IF(VLOOKUP(140,'Course List'!$A:$C,3,0)=0,\"Unknown\",VLOOKUP(140,'Course List'!$A:$C,3,0)))","v":""},{"$f":"VLOOKUP(140,'Course List'!A:D,4,0)","v":"MGMT"},{"$f":"VLOOKUP(140,'Course List'!A:E,5,0)","v":464},{"$f":"VLOOKUP(140,'Course List'!A:F,6,0)","v":"Strategic Management of Technology and Innovation"}]
[{"$f":"VLOOKUP(141,'Course List'!A:B,2,0)","v":"Not Taken"},{"$f":"IF(VLOOKUP(141,'Course List'!$A:$B,2,0)=\"Not Taken\",\"\",IF(VLOOKUP(141,'Course List'!$A:$C,3,0)=0,\"Unknown\",VLOOKUP(141,'Course List'!$A:$C,3,0)))","v":""},{"$f":"VLOOKUP(141,'Course List'!A:D,4,0)","v":"MGMT"},{"$f":"VLOOKUP(141,'Course List'!A:E,5,0)","v":465},{"$f":"VLOOKUP(141,'Course List'!A:F,6,0)","v":"Small Business Management"}]
[{"$f":"VLOOKUP(142,'Course List'!A:B,2,0)","v":"Not Taken"},{"$f":"IF(VLOOKUP(142,'Course List'!$A:$B,2,0)=\"Not Taken\",\"\",IF(VLOOKUP(142,'Course List'!$A:$C,3,0)=0,\"Unknown\",VLOOKUP(142,'Course List'!$A:$C,3,0)))","v":""},{"$f":"VLOOKUP(142,'Course List'!A:D,4,0)","v":"MGMT"},{"$f":"VLOOKUP(142,'Course List'!A:E,5,0)","v":467},{"$f":"VLOOKUP(142,'Course List'!A:F,6,0)","v":"Strategic Business Issues in Transportation and Logistics"}]
[{"$f":"VLOOKUP(145,'Course List'!A:B,2,0)","v":"Not Taken"},{"$f":"IF(VLOOKUP(145,'Course List'!$A:$B,2,0)=\"Not Taken\",\"\",IF(VLOOKUP(145,'Course List'!$A:$C,3,0)=0,\"Unknown\",VLOOKUP(145,'Course List'!$A:$C,3,0)))","v":""},{"$f":"VLOOKUP(145,'Course List'!A:D,4,0)","v":"MGMT"},{"$f":"VLOOKUP(145,'Course List'!A:E,5,0)","v":499},{"$f":"VLOOKUP(145,'Course List'!A:F,6,0)","v":"Independent Study"}]
[{"$f":"VLOOKUP(148,'Course List'!A:B,2,0)","v":"Not Taken"},{"$f":"IF(VLOOKUP(148,'Course List'!$A:$B,2,0)=\"Not Taken\",\"\",IF(VLOOKUP(148,'Course List'!$A:$C,3,0)=0,\"Unknown\",VLOOKUP(148,'Course List'!$A:$C,3,0)))","v":""},{"$f":"VLOOKUP(148,'Course List'!A:D,4,0)","v":"MGMT"},{"$f":"VLOOKUP(148,'Course List'!A:E,5,0)","v":911},{"$f":"VLOOKUP(148,'Course List'!A:F,6,0)","v":"Strategic Dilemmas in Business Design"}]
[{"$f":"VLOOKUP(151,'Course List'!A:B,2,0)","v":"Not Taken"},{"$f":"IF(VLOOKUP(151,'Course List'!$A:$B,2,0)=\"Not Taken\",\"\",IF(VLOOKUP(151,'Course List'!$A:$C,3,0)=0,\"Unknown\",VLOOKUP(151,'Course List'!$A:$C,3,0)))","v":""},{"$f":"VLOOKUP(151,'Course List'!A:D,4,0)","v":"MGMT"},{"$f":"VLOOKUP(151,'Course List'!A:E,5,0)","v":927},{"$f":"VLOOKUP(151,'Course List'!A:F,6,0)","v":"Family Enterprises: Issues & Solutions"}]
[{"$f":"VLOOKUP(157,'Course List'!A:B,2,0)","v":"Not Taken"},{"$f":"IF(VLOOKUP(157,'Course List'!$A:$B,2,0)=\"Not Taken\",\"\",IF(VLOOKUP(157,'Course List'!$A:$C,3,0)=0,\"Unknown\",VLOOKUP(157,'Course List'!$A:$C,3,0)))","v":""},{"$f":"VLOOKUP(157,'Course List'!A:D,4,0)","v":"MGMT"},{"$f":"VLOOKUP(157,'Course List'!A:E,5,0)","v":934},{"$f":"VLOOKUP(157,'Course List'!A:F,6,0)","v":"Managing Turnarounds"}]
[{"$f":"VLOOKUP(160,'Course List'!A:B,2,0)","v":"Not Taken"},{"$f":"IF(VLOOKUP(160,'Course List'!$A:$B,2,0)=\"Not Taken\",\"\",IF(VLOOKUP(160,'Course List'!$A:$C,3,0)=0,\"Unknown\",VLOOKUP(160,'Course List'!$A:$C,3,0)))","v":""},{"$f":"VLOOKUP(160,'Course List'!A:D,4,0)","v":"MGMT"},{"$f":"VLOOKUP(160,'Course List'!A:E,5,0)","v":939},{"$f":"VLOOKUP(160,'Course List'!A:F,6,0)","v":"Airline Economics, Management and Strategy"}]
[{"$f":"VLOOKUP(162,'Course List'!A:B,2,0)","v":"Not Taken"},{"$f":"IF(VLOOKUP(162,'Course List'!$A:$B,2,0)=\"Not Taken\",\"\",IF(VLOOKUP(162,'Course List'!$A:$C,3,0)=0,\"Unknown\",VLOOKUP(162,'Course List'!$A:$C,3,0)))","v":""},{"$f":"VLOOKUP(162,'Course List'!A:D,4,0)","v":"MGMT"},{"$f":"VLOOKUP(162,'Course List'!A:E,5,0)","v":941},{"$f":"VLOOKUP(162,'Course List'!A:F,6,0)","v":"Issues in Air Transportation"}]
[{"$f":"VLOOKUP(44,'Course List'!A:B,2,0)","v":"Not Taken"},{"$f":"IF(VLOOKUP(44,'Course List'!$A:$B,2,0)=\"Not Taken\",\"\",IF(VLOOKUP(44,'Course List'!$A:$C,3,0)=0,\"Unknown\",VLOOKUP(44,'Course List'!$A:$C,3,0)))","v":""},{"$f":"VLOOKUP(44,'Course List'!A:D,4,0)","v":"ENTR"},{"$f":"VLOOKUP(44,'Course List'!A:E,5,0)","v":462},{"$f":"VLOOKUP(44,'Course List'!A:F,6,0)","v":"Entrepreneurship & New Venture Formulation"}]
[{"$f":"VLOOKUP(106,'Course List'!A:B,2,0)","v":"Not Taken"},{"$f":"IF(VLOOKUP(106,'Course List'!$A:$B,2,0)=\"Not Taken\",\"\",IF(VLOOKUP(106,'Course List'!$A:$C,3,0)=0,\"Unknown\",VLOOKUP(106,'Course List'!$A:$C,3,0)))","v":""},{"$f":"VLOOKUP(106,'Course List'!A:D,4,0)","v":"INTL"},{"$f":"VLOOKUP(106,'Course List'!A:E,5,0)","v":466},{"$f":"VLOOKUP(106,'Course List'!A:F,6,0)","v":"International Business Strategy in Non-Market Environments"}]
[{"$f":"VLOOKUP(143,'Course List'!A:B,2,0)","v":"Not Taken"},{"$f":"IF(VLOOKUP(143,'Course List'!$A:$B,2,0)=\"Not Taken\",\"\",IF(VLOOKUP(143,'Course List'!$A:$C,3,0)=0,\"Unknown\",VLOOKUP(143,'Course List'!$A:$C,3,0)))","v":""},{"$f":"VLOOKUP(143,'Course List'!A:D,4,0)","v":"MORS"},{"$f":"VLOOKUP(143,'Course List'!A:E,5,0)","v":468},{"$f":"VLOOKUP(143,'Course List'!A:F,6,0)","v":"Managerial Leadership"}]
[{"$f":"VLOOKUP(156,'Course List'!A:B,2,0)","v":"Not Taken"},{"$f":"IF(VLOOKUP(156,'Course List'!$A:$B,2,0)=\"Not Taken\",\"\",IF(VLOOKUP(156,'Course List'!$A:$C,3,0)=0,\"Unknown\",VLOOKUP(156,'Course List'!$A:$C,3,0)))","v":""},{"$f":"VLOOKUP(156,'Course List'!A:D,4,0)","v":"MORS"},{"$f":"VLOOKUP(156,'Course List'!A:E,5,0)","v":933},{"$f":"VLOOKUP(156,'Course List'!A:F,6,0)","v":"Leaders & Leadership"}]
[{"$f":"VLOOKUP(269,'Course List'!A:B,2,0)","v":"Not Taken"},{"$f":"IF(VLOOKUP(269,'Course List'!$A:$B,2,0)=\"Not Taken\",\"\",IF(VLOOKUP(269,'Course List'!$A:$C,3,0)=0,\"Unknown\",VLOOKUP(269,'Course List'!$A:$C,3,0)))","v":""},{"$f":"VLOOKUP(269,'Course List'!A:D,4,0)","v":"REAL"},{"$f":"VLOOKUP(269,'Course List'!A:E,5,0)","v":448},{"$f":"VLOOKUP(269,'Course List'!A:F,6,0)","v":"Urban Public Finance"}]
[{"$f":"VLOOKUP(240,'Course List'!A:B,2,0)","v":"Not Taken"},{"$f":"IF(VLOOKUP(240,'Course List'!$A:$B,2,0)=\"Not Taken\",\"\",IF(VLOOKUP(240,'Course List'!$A:$C,3,0)=0,\"Unknown\",VLOOKUP(240,'Course List'!$A:$C,3,0)))","v":""},{"$f":"VLOOKUP(240,'Course List'!A:D,4,0)","v":"SEEK"},{"$f":"VLOOKUP(240,'Course List'!A:E,5,0)","v":470},{"$f":"VLOOKUP(240,'Course List'!A:F,6,0)","v":"Public Policy Analysis for Managers"}]
["Not Taken",{"$f":"IF(VLOOKUP(13,'Course List'!$A:$B,2,0)=\"Not Taken\",\"\",IF(VLOOKUP(13,'Course List'!$A:$C,3,0)=0,\"Unknown\",VLOOKUP(13,'Course List'!$A:$C,3,0)))","v":""},{"$f":"VLOOKUP(13,'Course List'!A:D,4,0)","v":"ACCT"},{"$f":"VLOOKUP(13,'Course List'!A:E,5,0)","v":454},{"$f":"VLOOKUP(13,'Course List'!A:F,6,0)","v":"Management Lab (M-Lab)"}]
[{"$f":"IF(COUNTIF(A36:A39,\"Complete\")>=2,\"Complete\",IF(AND(COUNTIF(A36:A39,\"Complete\")=1,COUNTIF(A36:A39,\"Enrolled\")>=1),\"Enrolled\",IF(COUNTIF(A36:A39,\"Enrolled\")>=2,\"Enrolled\",\"Not Taken\")))","v":"Not Taken"},null,"This line denotes whether or not two half credit courses have been completed."]
[{"$f":"IF(COUNTIF(A36:A39,\"Complete\")>=4,\"Complete\",IF(AND(COUNTIF(A36:A39,\"Complete\")=3,COUNTIF(A36:A39,\"Enrolled\")>=1),\"Enrolled\",IF(AND(COUNTIF(A36:A39,\"Complete\")=2,COUNTIF(A36:A39,\"Enrolled\")>=2),\"Enrolled\",IF(AND(COUNTIF(A36:A39,\"Complete\")=1,COUNTIF(A36:A39,\"Enrolled\")>=4),\"Enrolled\",IF(COUNTIF(A36:A39,\"Enrolled\")>=4,\"Enrolled\",\"Not Taken\")))))","v":"Not Taken"},null,"This line denotes whether or not four half credit courses have been completed."]
[{"$f":"VLOOKUP(149,'Course List'!A:B,2,0)","v":"Not Taken"},{"$f":"IF(VLOOKUP(149,'Course List'!$A:$B,2,0)=\"Not Taken\",\"\",IF(VLOOKUP(149,'Course List'!$A:$C,3,0)=0,\"Unknown\",VLOOKUP(149,'Course List'!$A:$C,3,0)))","v":""},{"$f":"VLOOKUP(149,'Course List'!A:D,4,0)","v":"MGMT"},{"$f":"VLOOKUP(149,'Course List'!A:E,5,0)","v":"913-A"},{"$f":"VLOOKUP(149,'Course List'!A:F,6,0)","v":"Corporate Governance"}]
[{"$f":"VLOOKUP(153,'Course List'!A:B,2,0)","v":"Not Taken"},{"$f":"IF(VLOOKUP(153,'Course List'!$A:$B,2,0)=\"Not Taken\",\"\",IF(VLOOKUP(153,'Course List'!$A:$C,3,0)=0,\"Unknown\",VLOOKUP(153,'Course List'!$A:$C,3,0)))","v":""},{"$f":"VLOOKUP(153,'Course List'!A:D,4,0)","v":"MGMT"},{"$f":"VLOOKUP(153,'Course List'!A:E,5,0)","v":"931-A"},{"$f":"VLOOKUP(153,'Course List'!A:F,6,0)","v":"Strategic Franchising"}]
[{"$f":"VLOOKUP(158,'Course List'!A:B,2,0)","v":"Not Taken"},{"$f":"IF(VLOOKUP(158,'Course List'!$A:$B,2,0)=\"Not Taken\",\"\",IF(VLOOKUP(158,'Course List'!$A:$C,3,0)=0,\"Unknown\",VLOOKUP(158,'Course List'!$A:$C,3,0)))","v":""},{"$f":"VLOOKUP(158,'Course List'!A:D,4,0)","v":"MGMT"},{"$f":"VLOOKUP(158,'Course List'!A:E,5,0)","v":"936-A"},{"$f":"VLOOKUP(158,'Course List'!A:F,6,0)","v":"Understanding Networked Industries"}]
[{"$f":"VLOOKUP(159,'Course List'!A:B,2,0)","v":"Not Taken"},{"$f":"IF(VLOOKUP(159,'Course List'!$A:$B,2,0)=\"Not Taken\",\"\",IF(VLOOKUP(159,'Course List'!$A:$C,3,0)=0,\"Unknown\",VLOOKUP(159,'Course List'!$A:$C,3,0)))","v":""},{"$f":"VLOOKUP(159,'Course List'!A:D,4,0)","v":"MGMT"},{"$f":"VLOOKUP(159,'Course List'!A:E,5,0)","v":"937-B"},{"$f":"VLOOKUP(159,'Course List'!A:F,6,0)","v":"Transportation and Supply Chain Economics and Strategy"}]

{"sheet":"Managerial Econ","index":25,"n_rows":20,"n_cols":5,"rows_kept":20,"cut":false,"hidden":false,"merged":[[2,0,2,4]]}
["Managerial Economics"]
[]
[{"$f":"Formulae!A105","v":"NOT MAJORING IN THIS FIELD"}]
[]
["Status","Term","Department","Course #","Course Name"]
[]
[{"$f":"VLOOKUP(117,'Course List'!A:B,2,0)","v":"Not Taken"},{"$f":"IF(VLOOKUP(117,'Course List'!$A:$B,2,0)=\"Not Taken\",\"\",IF(VLOOKUP(117,'Course List'!$A:$C,3,0)=0,\"Unknown\",VLOOKUP(117,'Course List'!$A:$C,3,0)))","v":""},{"$f":"VLOOKUP(117,'Course List'!A:D,4,0)","v":"MECN"},{"$f":"VLOOKUP(117,'Course List'!A:E,5,0)","v":436},{"$f":"VLOOKUP(117,'Course List'!A:F,6,0)","v":"Turbo Microeconomic Analysis*"}]
[{"$f":"VLOOKUP(120,'Course List'!A:B,2,0)","v":"Not Taken"},{"$f":"IF(VLOOKUP(120,'Course List'!$A:$B,2,0)=\"Not Taken\",\"\",IF(VLOOKUP(120,'Course List'!$A:$C,3,0)=0,\"Unknown\",VLOOKUP(120,'Course List'!$A:$C,3,0)))","v":""},{"$f":"VLOOKUP(120,'Course List'!A:D,4,0)","v":"MECN"},{"$f":"VLOOKUP(120,'Course List'!A:E,5,0)","v":441},{"$f":"VLOOKUP(120,'Course List'!A:F,6,0)","v":"Competitive Strategy & Industrial Structure"}]
[{"$f":"VLOOKUP(259,'Course List'!A:B,2,0)","v":"Not Taken"},{"$f":"IF(VLOOKUP(259,'Course List'!$A:$B,2,0)=\"Not Taken\",\"\",IF(VLOOKUP(259,'Course List'!$A:$C,3,0)=0,\"Unknown\",VLOOKUP(259,'Course List'!$A:$C,3,0)))","v":""},{"$f":"VLOOKUP(259,'Course List'!A:D,4,0)","v":"MECN"},{"$f":"VLOOKUP(259,'Course List'!A:E,5,0)","v":443},{"$f":"VLOOKUP(259,'Course List'!A:F,6,0)","v":"Analytics of Corporate Planning & Strategy*"}]
[{"$f":"VLOOKUP(121,'Course List'!A:B,2,0)","v":"Not Taken"},{"$f":"IF(VLOOKUP(121,'Course List'!$A:$B,2,0)=\"Not Taken\",\"\",IF(VLOOKUP(121,'Course List'!$A:$C,3,0)=0,\"Unknown\",VLOOKUP(121,'Course List'!$A:$C,3,0)))","v":""},{"$f":"VLOOKUP(121,'Course List'!A:D,4,0)","v":"MECN"},{"$f":"VLOOKUP(121,'Course List'!A:E,5,0)","v":446},{"$f":"VLOOKUP(121,'Course List'!A:F,6,0)","v":"Pricing Strategies"}]
[{"$f":"VLOOKUP(122,'Course List'!A:B,2,0)","v":"Not Taken"},{"$f":"IF(VLOOKUP(122,'Course List'!$A:$B,2,0)=\"Not Taken\",\"\",IF(VLOOKUP(122,'Course List'!$A:$C,3,0)=0,\"Unknown\",VLOOKUP(122,'Course List'!$A:$C,3,0)))","v":""},{"$f":"VLOOKUP(122,'Course List'!A:D,4,0)","v":"MECN"},{"$f":"VLOOKUP(122,'Course List'!A:E,5,0)","v":450},{"$f":"VLOOKUP(122,'Course List'!A:F,6,0)","v":"Macroeconomic Analysis for Management"}]
[{"$f":"VLOOKUP(123,'Course List'!A:B,2,0)","v":"Not Taken"},{"$f":"IF(VLOOKUP(123,'Course List'!$A:$B,2,0)=\"Not Taken\",\"\",IF(VLOOKUP(123,'Course List'!$A:$C,3,0)=0,\"Unknown\",VLOOKUP(123,'Course List'!$A:$C,3,0)))","v":""},{"$f":"VLOOKUP(123,'Course List'!A:D,4,0)","v":"MECN"},{"$f":"VLOOKUP(123,'Course List'!A:E,5,0)","v":451},{"$f":"VLOOKUP(123,'Course List'!A:F,6,0)","v":"Business and Economic Forecasting*"}]
[{"$f":"VLOOKUP(124,'Course List'!A:B,2,0)","v":"Not Taken"},{"$f":"IF(VLOOKUP(124,'Course List'!$A:$B,2,0)=\"Not Taken\",\"\",IF(VLOOKUP(124,'Course List'!$A:$C,3,0)=0,\"Unknown\",VLOOKUP(124,'Course List'!$A:$C,3,0)))","v":""},{"$f":"VLOOKUP(124,'Course List'!A:D,4,0)","v":"MECN"},{"$f":"VLOOKUP(124,'Course List'!A:E,5,0)","v":452},{"$f":"VLOOKUP(124,'Course List'!A:F,6,0)","v":"International Economics"}]
[{"$f":"VLOOKUP(260,'Course List'!A:B,2,0)","v":"Not Taken"},{"$f":"IF(VLOOKUP(260,'Course List'!$A:$B,2,0)=\"Not Taken\",\"\",IF(VLOOKUP(260,'Course List'!$A:$C,3,0)=0,\"Unknown\",VLOOKUP(260,'Course List'!$A:$C,3,0)))","v":""},{"$f":"VLOOKUP(260,'Course List'!A:D,4,0)","v":"MECN"},{"$f":"VLOOKUP(260,'Course List'!A:E,5,0)","v":463},{"$f":"VLOOKUP(260,'Course List'!A:F,6,0)","v":"Entrepreneurial Leadership*"}]
[{"$f":"VLOOKUP(125,'Course List'!A:B,2,0)","v":"Not Taken"},{"$f":"IF(VLOOKUP(125,'Course List'!$A:$B,2,0)=\"Not Taken\",\"\",IF(VLOOKUP(125,'Course List'!$A:$C,3,0)=0,\"Unknown\",VLOOKUP(125,'Course List'!$A:$C,3,0)))","v":""},{"$f":"VLOOKUP(125,'Course List'!A:D,4,0)","v":"MECN"},{"$f":"VLOOKUP(125,'Course List'!A:E,5,0)","v":499},{"$f":"VLOOKUP(125,'Course List'!A:F,6,0)","v":"Independent Study"}]
[{"$f":"VLOOKUP(261,'Course List'!A:B,2,0)","v":"Not Taken"},{"$f":"IF(VLOOKUP(261,'Course List'!$A:$B,2,0)=\"Not Taken\",\"\",IF(VLOOKUP(261,'Course List'!$A:$C,3,0)=0,\"Unknown\",VLOOKUP(261,'Course List'!$A:$C,3,0)))","v":""},{"$f":"VLOOKUP(261,'Course List'!A:D,4,0)","v":"MECN"},{"$f":"VLOOKUP(261,'Course List'!A:E,5,0)","v":912},{"$f":"VLOOKUP(261,'Course List'!A:F,6,0)","v":"Invention and Innovation*"}]
[{"$f":"VLOOKUP(246,'Course List'!A:B,2,0)","v":"Not Taken"},{"$f":"IF(VLOOKUP(246,'Course List'!$A:$B,2,0)=\"Not Taken\",\"\",IF(VLOOKUP(246,'Course List'!$A:$C,3,0)=0,\"Unknown\",VLOOKUP(246,'Course List'!$A:$C,3,0)))","v":""},{"$f":"VLOOKUP(246,'Course List'!A:D,4,0)","v":"TECH"},{"$f":"VLOOKUP(246,'Course List'!A:E,5,0)","v":441},{"$f":"VLOOKUP(246,'Course List'!A:F,6,0)","v":"Intellectual Capital Management"}]
[{"$f":"VLOOKUP(135,'Course List'!A:B,2,0)","v":"Not Taken"},{"$f":"IF(VLOOKUP(135,'Course List'!$A:$B,2,0)=\"Not Taken\",\"\",IF(VLOOKUP(135,'Course List'!$A:$C,3,0)=0,\"Unknown\",VLOOKUP(135,'Course List'!$A:$C,3,0)))","v":""},{"$f":"VLOOKUP(135,'Course List'!A:D,4,0)","v":"MGMT"},{"$f":"VLOOKUP(135,'Course List'!A:E,5,0)","v":444},{"$f":"VLOOKUP(135,'Course List'!A:F,6,0)","v":"Healthcare Economics & Strategy"}]
[{"$f":"VLOOKUP(136,'Course List'!A:B,2,0)","v":"Not Taken"},{"$f":"IF(VLOOKUP(136,'Course List'!$A:$B,2,0)=\"Not Taken\",\"\",IF(VLOOKUP(136,'Course List'!$A:$C,3,0)=0,\"Unknown\",VLOOKUP(136,'Course List'!$A:$C,3,0)))","v":""},{"$f":"VLOOKUP(136,'Course List'!A:D,4,0)","v":"MGMT"},{"$f":"VLOOKUP(136,'Course List'!A:E,5,0)","v":452},{"$f":"VLOOKUP(136,'Course List'!A:F,6,0)","v":"Strategy & Organization"}]
["Not Taken",{"$f":"IF(VLOOKUP(13,'Course List'!$A:$B,2,0)=\"Not Taken\",\"\",IF(VLOOKUP(13,'Course List'!$A:$C,3,0)=0,\"Unknown\",VLOOKUP(13,'Course List'!$A:$C,3,0)))","v":""},{"$f":"VLOOKUP(13,'Course List'!A:D,4,0)","v":"ACCT"},{"$f":"VLOOKUP(13,'Course List'!A:E,5,0)","v":454},{"$f":"VLOOKUP(13,'Course List'!A:F,6,0)","v":"Management Lab (M-Lab)"}]

{"sheet":"Marketing","index":26,"n_rows":31,"n_cols":5,"rows_kept":31,"cut":false,"hidden":false,"merged":[[2,0,2,4]]}
["Marketing"]
[]
[{"$f":"Formulae!A107","v":"NOT MAJORING IN THIS FIELD"}]
[]
["Status","Term","Department","Course #","Course Name"]
[]
[{"$f":"VLOOKUP(163,'Course List'!A:B,2,0)","v":"Not Taken"},{"$f":"IF(VLOOKUP(163,'Course List'!$A:$B,2,0)=\"Not Taken\",\"\",IF(VLOOKUP(163,'Course List'!$A:$C,3,0)=0,\"Unknown\",VLOOKUP(163,'Course List'!$A:$C,3,0)))","v":""},{"$f":"VLOOKUP(163,'Course List'!A:D,4,0)","v":"MKTG"},{"$f":"VLOOKUP(163,'Course List'!A:E,5,0)","v":430},{"$f":"VLOOKUP(163,'Course List'!A:F,6,0)","v":"Marketing Management"}]
[{"$f":"VLOOKUP(164,'Course List'!A:B,2,0)","v":"Not Taken"},{"$f":"IF(VLOOKUP(164,'Course List'!$A:$B,2,0)=\"Not Taken\",\"\",IF(VLOOKUP(164,'Course List'!$A:$C,3,0)=0,\"Unknown\",VLOOKUP(164,'Course List'!$A:$C,3,0)))","v":""},{"$f":"VLOOKUP(164,'Course List'!A:D,4,0)","v":"MKTG"},{"$f":"VLOOKUP(164,'Course List'!A:E,5,0)","v":450},{"$f":"VLOOKUP(164,'Course List'!A:F,6,0)","v":"Research Methods in Marketing"}]
[]
[{"$f":"VLOOKUP(165,'Course List'!A:B,2,0)","v":"Not Taken"},{"$f":"IF(VLOOKUP(165,'Course List'!$A:$B,2,0)=\"Not Taken\",\"\",IF(VLOOKUP(165,'Course List'!$A:$C,3,0)=0,\"Unknown\",VLOOKUP(165,'Course List'!$A:$C,3,0)))","v":""},{"$f":"VLOOKUP(165,'Course List'!A:D,4,0)","v":"MKTG"},{"$f":"VLOOKUP(165,'Course List'!A:E,5,0)","v":451},{"$f":"VLOOKUP(165,'Course List'!A:F,6,0)","v":"Policies in Marketing Channels (Marketing Channel Strategies)"}]
[{"$f":"VLOOKUP(273,'Course List'!A:B,2,0)","v":"Not Taken"},{"$f":"IF(VLOOKUP(273,'Course List'!$A:$B,2,0)=\"Not Taken\",\"\",IF(VLOOKUP(273,'Course List'!$A:$C,3,0)=0,\"Unknown\",VLOOKUP(273,'Course List'!$A:$C,3,0)))","v":""},{"$f":"VLOOKUP(273,'Course List'!A:D,4,0)","v":"MKTG"},{"$f":"VLOOKUP(273,'Course List'!A:E,5,0)","v":452},{"$f":"VLOOKUP(273,'Course List'!A:F,6,0)","v":"Consumer Insight Tools"}]
[{"$f":"VLOOKUP(166,'Course List'!A:B,2,0)","v":"Not Taken"},{"$f":"IF(VLOOKUP(166,'Course List'!$A:$B,2,0)=\"Not Taken\",\"\",IF(VLOOKUP(166,'Course List'!$A:$C,3,0)=0,\"Unknown\",VLOOKUP(166,'Course List'!$A:$C,3,0)))","v":""},{"$f":"VLOOKUP(166,'Course List'!A:D,4,0)","v":"MKTG"},{"$f":"VLOOKUP(166,'Course List'!A:E,5,0)","v":453},{"$f":"VLOOKUP(166,'Course List'!A:F,6,0)","v":"Business Marketing"}]
[{"$f":"VLOOKUP(167,'Course List'!A:B,2,0)","v":"Not Taken"},{"$f":"IF(VLOOKUP(167,'Course List'!$A:$B,2,0)=\"Not Taken\",\"\",IF(VLOOKUP(167,'Course List'!$A:$C,3,0)=0,\"Unknown\",VLOOKUP(167,'Course List'!$A:$C,3,0)))","v":""},{"$f":"VLOOKUP(167,'Course List'!A:D,4,0)","v":"MKTG"},{"$f":"VLOOKUP(167,'Course List'!A:E,5,0)","v":454},{"$f":"VLOOKUP(167,'Course List'!A:F,6,0)","v":"Advertising Strategy"}]
[{"$f":"VLOOKUP(168,'Course List'!A:B,2,0)","v":"Not Taken"},{"$f":"IF(VLOOKUP(168,'Course List'!$A:$B,2,0)=\"Not Taken\",\"\",IF(VLOOKUP(168,'Course List'!$A:$C,3,0)=0,\"Unknown\",VLOOKUP(168,'Course List'!$A:$C,3,0)))","v":""},{"$f":"VLOOKUP(168,'Course List'!A:D,4,0)","v":"MKTG"},{"$f":"VLOOKUP(168,'Course List'!A:E,5,0)","v":458},{"$f":"VLOOKUP(168,'Course List'!A:F,6,0)","v":"Models of Consumer Behavior"}]
[{"$f":"VLOOKUP(169,'Course List'!A:B,2,0)","v":"Not Taken"},{"$f":"IF(VLOOKUP(169,'Course List'!$A:$B,2,0)=\"Not Taken\",\"\",IF(VLOOKUP(169,'Course List'!$A:$C,3,0)=0,\"Unknown\",VLOOKUP(169,'Course List'!$A:$C,3,0)))","v":""},{"$f":"VLOOKUP(169,'Course List'!A:D,4,0)","v":"MKTG"},{"$f":"VLOOKUP(169,'Course List'!A:E,5,0)","v":459},{"$f":"VLOOKUP(169,'Course List'!A:F,6,0)","v":"Services Marketing and Management"}]
[{"$f":"VLOOKUP(170,'Course List'!A:B,2,0)","v":"Not Taken"},{"$f":"IF(VLOOKUP(170,'Course List'!$A:$B,2,0)=\"Not Taken\",\"\",IF(VLOOKUP(170,'Course List'!$A:$C,3,0)=0,\"Unknown\",VLOOKUP(170,'Course List'!$A:$C,3,0)))","v":""},{"$f":"VLOOKUP(170,'Course List'!A:D,4,0)","v":"MKTG"},{"$f":"VLOOKUP(170,'Course List'!A:E,5,0)","v":462},{"$f":"VLOOKUP(170,'Course List'!A:F,6,0)","v":"Sales Promotion and Retailer Behavior"}]
[{"$f":"VLOOKUP(171,'Course List'!A:B,2,0)","v":"Not Taken"},{"$f":"IF(VLOOKUP(171,'Course List'!$A:$B,2,0)=\"Not Taken\",\"\",IF(VLOOKUP(171,'Course List'!$A:$C,3,0)=0,\"Unknown\",VLOOKUP(171,'Course List'!$A:$C,3,0)))","v":""},{"$f":"VLOOKUP(171,'Course List'!A:D,4,0)","v":"MKTG"},{"$f":"VLOOKUP(171,'Course List'!A:E,5,0)","v":463},{"$f":"VLOOKUP(171,'Course List'!A:F,6,0)","v":"Sales Force Management"}]
[{"$f":"VLOOKUP(173,'Course List'!A:B,2,0)","v":"Not Taken"},{"$f":"IF(VLOOKUP(173,'Course List'!$A:$B,2,0)=\"Not Taken\",\"\",IF(VLOOKUP(173,'Course List'!$A:$C,3,0)=0,\"Unknown\",VLOOKUP(173,'Course List'!$A:$C,3,0)))","v":""},{"$f":"VLOOKUP(173,'Course List'!A:D,4,0)","v":"MKTG"},{"$f":"VLOOKUP(173,'Course List'!A:E,5,0)","v":465},{"$f":"VLOOKUP(173,'Course List'!A:F,6,0)","v":"Introduction of New Products & Services"}]
[{"$f":"VLOOKUP(174,'Course List'!A:B,2,0)","v":"Not Taken"},{"$f":"IF(VLOOKUP(174,'Course List'!$A:$B,2,0)=\"Not Taken\",\"\",IF(VLOOKUP(174,'Course List'!$A:$C,3,0)=0,\"Unknown\",VLOOKUP(174,'Course List'!$A:$C,3,0)))","v":""},{"$f":"VLOOKUP(174,'Course List'!A:D,4,0)","v":"MKTG"},{"$f":"VLOOKUP(174,'Course List'!A:E,5,0)","v":466},{"$f":"VLOOKUP(174,'Course List'!A:F,6,0)","v":"Marketing Strategy"}]
[{"$f":"VLOOKUP(175,'Course List'!A:B,2,0)","v":"Not Taken"},{"$f":"IF(VLOOKUP(175,'Course List'!$A:$B,2,0)=\"Not Taken\",\"\",IF(VLOOKUP(175,'Course List'!$A:$C,3,0)=0,\"Unknown\",VLOOKUP(175,'Course List'!$A:$C,3,0)))","v":""},{"$f":"VLOOKUP(175,'Course List'!A:D,4,0)","v":"MKTG"},{"$f":"VLOOKUP(175,'Course List'!A:E,5,0)","v":468},{"$f":"VLOOKUP(175,'Course List'!A:F,6,0)","v":"Technology Marketing"}]
[{"$f":"VLOOKUP(176,'Course List'!A:B,2,0)","v":"Not Taken"},{"$f":"IF(VLOOKUP(176,'Course List'!$A:$B,2,0)=\"Not Taken\",\"\",IF(VLOOKUP(176,'Course List'!$A:$C,3,0)=0,\"Unknown\",VLOOKUP(176,'Course List'!$A:$C,3,0)))","v":""},{"$f":"VLOOKUP(176,'Course List'!A:D,4,0)","v":"MKTG"},{"$f":"VLOOKUP(176,'Course List'!A:E,5,0)","v":499},{"$f":"VLOOKUP(176,'Course List'!A:F,6,0)","v":"Independent Study"}]
[{"$f":"VLOOKUP(178,'Course List'!A:B,2,0)","v":"Not Taken"},{"$f":"IF(VLOOKUP(178,'Course List'!$A:$B,2,0)=\"Not Taken\",\"\",IF(VLOOKUP(178,'Course List'!$A:$C,3,0)=0,\"Unknown\",VLOOKUP(178,'Course List'!$A:$C,3,0)))","v":""},{"$f":"VLOOKUP(178,'Course List'!A:D,4,0)","v":"MKTG"},{"$f":"VLOOKUP(178,'Course List'!A:E,5,0)","v":913},{"$f":"VLOOKUP(178,'Course List'!A:F,6,0)","v":"Internet Marketing"}]
[{"$f":"VLOOKUP(179,'Course List'!A:B,2,0)","v":"Not Taken"},{"$f":"IF(VLOOKUP(179,'Course List'!$A:$B,2,0)=\"Not Taken\",\"\",IF(VLOOKUP(179,'Course List'!$A:$C,3,0)=0,\"Unknown\",VLOOKUP(179,'Course List'!$A:$C,3,0)))","v":""},{"$f":"VLOOKUP(179,'Course List'!A:D,4,0)","v":"MKTG"},{"$f":"VLOOKUP(179,'Course List'!A:E,5,0)","v":922},{"$f":"VLOOKUP(179,'Course List'!A:F,6,0)","v":"Advanced Topics in Marketing"}]
[{"$f":"VLOOKUP(294,'Course List'!A:B,2,0)","v":"Not Taken"},{"$f":"IF(VLOOKUP(294,'Course List'!$A:$B,2,0)=\"Not Taken\",\"\",IF(VLOOKUP(294,'Course List'!$A:$C,3,0)=0,\"Unknown\",VLOOKUP(294,'Course List'!$A:$C,3,0)))","v":""},{"$f":"VLOOKUP(294,'Course List'!A:D,4,0)","v":"MKTG"},{"$f":"VLOOKUP(294,'Course List'!A:E,5,0)","v":951},{"$f":"VLOOKUP(294,'Course List'!A:F,6,0)","v":"Sports Marketing"}]
[{"$f":"VLOOKUP(225,'Course List'!A:B,2,0)","v":"Not Taken"},{"$f":"IF(VLOOKUP(225,'Course List'!$A:$B,2,0)=\"Not Taken\",\"\",IF(VLOOKUP(225,'Course List'!$A:$C,3,0)=0,\"Unknown\",VLOOKUP(225,'Course List'!$A:$C,3,0)))","v":""},{"$f":"VLOOKUP(225,'Course List'!A:D,4,0)","v":"MKTG"},{"$f":"VLOOKUP(225,'Course List'!A:E,5,0)","v":952},{"$f":"VLOOKUP(225,'Course List'!A:F,6,0)","v":"Strategic Data-Driven Marketing"}]
[{"$f":"VLOOKUP(22,'Course List'!A:B,2,0)","v":"Not Taken"},{"$f":"IF(VLOOKUP(22,'Course List'!$A:$B,2,0)=\"Not Taken\",\"\",IF(VLOOKUP(22,'Course List'!$A:$C,3,0)=0,\"Unknown\",VLOOKUP(22,'Course List'!$A:$C,3,0)))","v":""},{"$f":"VLOOKUP(22,'Course List'!A:D,4,0)","v":"HEMA"},{"$f":"VLOOKUP(22,'Course List'!A:E,5,0)","v":914},{"$f":"VLOOKUP(22,'Course List'!A:F,6,0)","v":"Biomedical Marketing"}]
[{"$f":"VLOOKUP(107,'Course List'!A:B,2,0)","v":"Not Taken"},{"$f":"IF(VLOOKUP(107,'Course List'!$A:$B,2,0)=\"Not Taken\",\"\",IF(VLOOKUP(107,'Course List'!$A:$C,3,0)=0,\"Unknown\",VLOOKUP(107,'Course List'!$A:$C,3,0)))","v":""},{"$f":"VLOOKUP(107,'Course List'!A:D,4,0)","v":"INTL"},{"$f":"VLOOKUP(107,'Course List'!A:E,5,0)","v":467},{"$f":"VLOOKUP(107,'Course List'!A:F,6,0)","v":"International Marketing"}]
[{"$f":"VLOOKUP(128,'Course List'!A:B,2,0)","v":"Not Taken"},{"$f":"IF(VLOOKUP(128,'Course List'!$A:$B,2,0)=\"Not Taken\",\"\",IF(VLOOKUP(128,'Course List'!$A:$C,3,0)=0,\"Unknown\",VLOOKUP(128,'Course List'!$A:$C,3,0)))","v":""},{"$f":"VLOOKUP(128,'Course List'!A:D,4,0)","v":"MEDM"},{"$f":"VLOOKUP(128,'Course List'!A:E,5,0)","v":431},{"$f":"VLOOKUP(128,'Course List'!A:F,6,0)","v":"Media and Integrated Marketing"}]
[{"$f":"VLOOKUP(250,'Course List'!A:B,2,0)","v":"Not Taken"},{"$f":"IF(VLOOKUP(250,'Course List'!$A:$B,2,0)=\"Not Taken\",\"\",IF(VLOOKUP(250,'Course List'!$A:$C,3,0)=0,\"Unknown\",VLOOKUP(250,'Course List'!$A:$C,3,0)))","v":""},{"$f":"VLOOKUP(250,'Course List'!A:D,4,0)","v":"TECH"},{"$f":"VLOOKUP(250,'Course List'!A:E,5,0)","v":917},{"$f":"VLOOKUP(250,'Course List'!A:F,6,0)","v":"Analytical Marketing and Customer Relationship Management"}]
["Not Taken",{"$f":"IF(VLOOKUP(13,'Course List'!$A:$B,2,0)=\"Not Taken\",\"\",IF(VLOOKUP(13,'Course List'!$A:$C,3,0)=0,\"Unknown\",VLOOKUP(13,'Course List'!$A:$C,3,0)))","v":""},{"$f":"VLOOKUP(13,'Course List'!A:D,4,0)","v":"ACCT"},{"$f":"VLOOKUP(13,'Course List'!A:E,5,0)","v":454},{"$f":"VLOOKUP(13,'Course List'!A:F,6,0)","v":"Management Lab (M-Lab)"}]
[{"$f":"VLOOKUP(172,'Course List'!A:B,2,0)","v":"Not Taken"},{"$f":"IF(VLOOKUP(172,'Course List'!$A:$B,2,0)=\"Not Taken\",\"\",IF(VLOOKUP(172,'Course List'!$A:$C,3,0)=0,\"Unknown\",VLOOKUP(172,'Course List'!$A:$C,3,0)))","v":""},{"$f":"VLOOKUP(172,'Course List'!A:D,4,0)","v":"MKTG"},{"$f":"VLOOKUP(172,'Course List'!A:E,5,0)","v":"464-A"},{"$f":"VLOOKUP(172,'Course List'!A:F,6,0)","v":"The Management of Product Development"}]

{"sheet":"Marketing 1Y","index":27,"n_rows":30,"n_cols":5,"rows_kept":30,"cut":false,"hidden":false,"merged":[[2,0,2,4]]}
["Marketing"]
[]
[{"$f":"Formulae!A116","v":"NOT MAJORING IN THIS FIELD"}]
[]
["Status","Term","Department","Course #","Course Name"]
[]
[{"$f":"VLOOKUP(164,'Course List'!A:B,2,0)","v":"Not Taken"},{"$f":"IF(VLOOKUP(164,'Course List'!$A:$B,2,0)=\"Not Taken\",\"\",IF(VLOOKUP(164,'Course List'!$A:$C,3,0)=0,\"Unknown\",VLOOKUP(164,'Course List'!$A:$C,3,0)))","v":""},{"$f":"VLOOKUP(164,'Course List'!A:D,4,0)","v":"MKTG"},{"$f":"VLOOKUP(164,'Course List'!A:E,5,0)","v":450},{"$f":"VLOOKUP(164,'Course List'!A:F,6,0)","v":"Research Methods in Marketing"}]
[]
[{"$f":"VLOOKUP(165,'Course List'!A:B,2,0)","v":"Not Taken"},{"$f":"IF(VLOOKUP(165,'Course List'!$A:$B,2,0)=\"Not Taken\",\"\",IF(VLOOKUP(165,'Course List'!$A:$C,3,0)=0,\"Unknown\",VLOOKUP(165,'Course List'!$A:$C,3,0)))","v":""},{"$f":"VLOOKUP(165,'Course List'!A:D,4,0)","v":"MKTG"},{"$f":"VLOOKUP(165,'Course List'!A:E,5,0)","v":451},{"$f":"VLOOKUP(165,'Course List'!A:F,6,0)","v":"Policies in Marketing Channels (Marketing Channel Strategies)"}]
[{"$f":"VLOOKUP(273,'Course List'!A:B,2,0)","v":"Not Taken"},{"$f":"IF(VLOOKUP(273,'Course List'!$A:$B,2,0)=\"Not Taken\",\"\",IF(VLOOKUP(273,'Course List'!$A:$C,3,0)=0,\"Unknown\",VLOOKUP(273,'Course List'!$A:$C,3,0)))","v":""},{"$f":"VLOOKUP(273,'Course List'!A:D,4,0)","v":"MKTG"},{"$f":"VLOOKUP(273,'Course List'!A:E,5,0)","v":452},{"$f":"VLOOKUP(273,'Course List'!A:F,6,0)","v":"Consumer Insight Tools"}]
[{"$f":"VLOOKUP(166,'Course List'!A:B,2,0)","v":"Not Taken"},{"$f":"IF(VLOOKUP(166,'Course List'!$A:$B,2,0)=\"Not Taken\",\"\",IF(VLOOKUP(166,'Course List'!$A:$C,3,0)=0,\"Unknown\",VLOOKUP(166,'Course List'!$A:$C,3,0)))","v":""},{"$f":"VLOOKUP(166,'Course List'!A:D,4,0)","v":"MKTG"},{"$f":"VLOOKUP(166,'Course List'!A:E,5,0)","v":453},{"$f":"VLOOKUP(166,'Course List'!A:F,6,0)","v":"Business Marketing"}]
[{"$f":"VLOOKUP(167,'Course List'!A:B,2,0)","v":"Not Taken"},{"$f":"IF(VLOOKUP(167,'Course List'!$A:$B,2,0)=\"Not Taken\",\"\",IF(VLOOKUP(167,'Course List'!$A:$C,3,0)=0,\"Unknown\",VLOOKUP(167,'Course List'!$A:$C,3,0)))","v":""},{"$f":"VLOOKUP(167,'Course List'!A:D,4,0)","v":"MKTG"},{"$f":"VLOOKUP(167,'Course List'!A:E,5,0)","v":454},{"$f":"VLOOKUP(167,'Course List'!A:F,6,0)","v":"Advertising Strategy"}]
[{"$f":"VLOOKUP(168,'Course List'!A:B,2,0)","v":"Not Taken"},{"$f":"IF(VLOOKUP(168,'Course List'!$A:$B,2,0)=\"Not Taken\",\"\",IF(VLOOKUP(168,'Course List'!$A:$C,3,0)=0,\"Unknown\",VLOOKUP(168,'Course List'!$A:$C,3,0)))","v":""},{"$f":"VLOOKUP(168,'Course List'!A:D,4,0)","v":"MKTG"},{"$f":"VLOOKUP(168,'Course List'!A:E,5,0)","v":458},{"$f":"VLOOKUP(168,'Course List'!A:F,6,0)","v":"Models of Consumer Behavior"}]
[{"$f":"VLOOKUP(169,'Course List'!A:B,2,0)","v":"Not Taken"},{"$f":"IF(VLOOKUP(169,'Course List'!$A:$B,2,0)=\"Not Taken\",\"\",IF(VLOOKUP(169,'Course List'!$A:$C,3,0)=0,\"Unknown\",VLOOKUP(169,'Course List'!$A:$C,3,0)))","v":""},{"$f":"VLOOKUP(169,'Course List'!A:D,4,0)","v":"MKTG"},{"$f":"VLOOKUP(169,'Course List'!A:E,5,0)","v":459},{"$f":"VLOOKUP(169,'Course List'!A:F,6,0)","v":"Services Marketing and Management"}]
[{"$f":"VLOOKUP(170,'Course List'!A:B,2,0)","v":"Not Taken"},{"$f":"IF(VLOOKUP(170,'Course List'!$A:$B,2,0)=\"Not Taken\",\"\",IF(VLOOKUP(170,'Course List'!$A:$C,3,0)=0,\"Unknown\",VLOOKUP(170,'Course List'!$A:$C,3,0)))","v":""},{"$f":"VLOOKUP(170,'Course List'!A:D,4,0)","v":"MKTG"},{"$f":"VLOOKUP(170,'Course List'!A:E,5,0)","v":462},{"$f":"VLOOKUP(170,'Course List'!A:F,6,0)","v":"Sales Promotion and Retailer Behavior"}]
[{"$f":"VLOOKUP(171,'Course List'!A:B,2,0)","v":"Not Taken"},{"$f":"IF(VLOOKUP(171,'Course List'!$A:$B,2,0)=\"Not Taken\",\"\",IF(VLOOKUP(171,'Course List'!$A:$C,3,0)=0,\"Unknown\",VLOOKUP(171,'Course List'!$A:$C,3,0)))","v":""},{"$f":"VLOOKUP(171,'Course List'!A:D,4,0)","v":"MKTG"},{"$f":"VLOOKUP(171,'Course List'!A:E,5,0)","v":463},{"$f":"VLOOKUP(171,'Course List'!A:F,6,0)","v":"Sales Force Management"}]
[{"$f":"VLOOKUP(173,'Course List'!A:B,2,0)","v":"Not Taken"},{"$f":"IF(VLOOKUP(173,'Course List'!$A:$B,2,0)=\"Not Taken\",\"\",IF(VLOOKUP(173,'Course List'!$A:$C,3,0)=0,\"Unknown\",VLOOKUP(173,'Course List'!$A:$C,3,0)))","v":""},{"$f":"VLOOKUP(173,'Course List'!A:D,4,0)","v":"MKTG"},{"$f":"VLOOKUP(173,'Course List'!A:E,5,0)","v":465},{"$f":"VLOOKUP(173,'Course List'!A:F,6,0)","v":"Introduction of New Products & Services"}]
[{"$f":"VLOOKUP(174,'Course List'!A:B,2,0)","v":"Not Taken"},{"$f":"IF(VLOOKUP(174,'Course List'!$A:$B,2,0)=\"Not Taken\",\"\",IF(VLOOKUP(174,'Course List'!$A:$C,3,0)=0,\"Unknown\",VLOOKUP(174,'Course List'!$A:$C,3,0)))","v":""},{"$f":"VLOOKUP(174,'Course List'!A:D,4,0)","v":"MKTG"},{"$f":"VLOOKUP(174,'Course List'!A:E,5,0)","v":466},{"$f":"VLOOKUP(174,'Course List'!A:F,6,0)","v":"Marketing Strategy"}]
[{"$f":"VLOOKUP(175,'Course List'!A:B,2,0)","v":"Not Taken"},{"$f":"IF(VLOOKUP(175,'Course List'!$A:$B,2,0)=\"Not Taken\",\"\",IF(VLOOKUP(175,'Course List'!$A:$C,3,0)=0,\"Unknown\",VLOOKUP(175,'Course List'!$A:$C,3,0)))","v":""},{"$f":"VLOOKUP(175,'Course List'!A:D,4,0)","v":"MKTG"},{"$f":"VLOOKUP(175,'Course List'!A:E,5,0)","v":468},{"$f":"VLOOKUP(175,'Course List'!A:F,6,0)","v":"Technology Marketing"}]
[{"$f":"VLOOKUP(176,'Course List'!A:B,2,0)","v":"Not Taken"},{"$f":"IF(VLOOKUP(176,'Course List'!$A:$B,2,0)=\"Not Taken\",\"\",IF(VLOOKUP(176,'Course List'!$A:$C,3,0)=0,\"Unknown\",VLOOKUP(176,'Course List'!$A:$C,3,0)))","v":""},{"$f":"VLOOKUP(176,'Course List'!A:D,4,0)","v":"MKTG"},{"$f":"VLOOKUP(176,'Course List'!A:E,5,0)","v":499},{"$f":"VLOOKUP(176,'Course List'!A:F,6,0)","v":"Independent Study"}]
[{"$f":"VLOOKUP(178,'Course List'!A:B,2,0)","v":"Not Taken"},{"$f":"IF(VLOOKUP(178,'Course List'!$A:$B,2,0)=\"Not Taken\",\"\",IF(VLOOKUP(178,'Course List'!$A:$C,3,0)=0,\"Unknown\",VLOOKUP(178,'Course List'!$A:$C,3,0)))","v":""},{"$f":"VLOOKUP(178,'Course List'!A:D,4,0)","v":"MKTG"},{"$f":"VLOOKUP(178,'Course List'!A:E,5,0)","v":913},{"$f":"VLOOKUP(178,'Course List'!A:F,6,0)","v":"Internet Marketing"}]
[{"$f":"VLOOKUP(179,'Course List'!A:B,2,0)","v":"Not Taken"},{"$f":"IF(VLOOKUP(179,'Course List'!$A:$B,2,0)=\"Not Taken\",\"\",IF(VLOOKUP(179,'Course List'!$A:$C,3,0)=0,\"Unknown\",VLOOKUP(179,'Course List'!$A:$C,3,0)))","v":""},{"$f":"VLOOKUP(179,'Course List'!A:D,4,0)","v":"MKTG"},{"$f":"VLOOKUP(179,'Course List'!A:E,5,0)","v":922},{"$f":"VLOOKUP(179,'Course List'!A:F,6,0)","v":"Advanced Topics in Marketing"}]
[{"$f":"VLOOKUP(294,'Course List'!A:B,2,0)","v":"Not Taken"},{"$f":"IF(VLOOKUP(294,'Course List'!$A:$B,2,0)=\"Not Taken\",\"\",IF(VLOOKUP(294,'Course List'!$A:$C,3,0)=0,\"Unknown\",VLOOKUP(294,'Course List'!$A:$C,3,0)))","v":""},{"$f":"VLOOKUP(294,'Course List'!A:D,4,0)","v":"MKTG"},{"$f":"VLOOKUP(294,'Course List'!A:E,5,0)","v":951},{"$f":"VLOOKUP(294,'Course List'!A:F,6,0)","v":"Sports Marketing"}]
[{"$f":"VLOOKUP(225,'Course List'!A:B,2,0)","v":"Not Taken"},{"$f":"IF(VLOOKUP(225,'Course List'!$A:$B,2,0)=\"Not Taken\",\"\",IF(VLOOKUP(225,'Course List'!$A:$C,3,0)=0,\"Unknown\",VLOOKUP(225,'Course List'!$A:$C,3,0)))","v":""},{"$f":"VLOOKUP(225,'Course List'!A:D,4,0)","v":"MKTG"},{"$f":"VLOOKUP(225,'Course List'!A:E,5,0)","v":952},{"$f":"VLOOKUP(225,'Course List'!A:F,6,0)","v":"Strategic Data-Driven Marketing"}]
[{"$f":"VLOOKUP(22,'Course List'!A:B,2,0)","v":"Not Taken"},{"$f":"IF(VLOOKUP(22,'Course List'!$A:$B,2,0)=\"Not Taken\",\"\",IF(VLOOKUP(22,'Course List'!$A:$C,3,0)=0,\"Unknown\",VLOOKUP(22,'Course List'!$A:$C,3,0)))","v":""},{"$f":"VLOOKUP(22,'Course List'!A:D,4,0)","v":"HEMA"},{"$f":"VLOOKUP(22,'Course List'!A:E,5,0)","v":914},{"$f":"VLOOKUP(22,'Course List'!A:F,6,0)","v":"Biomedical Marketing"}]
[{"$f":"VLOOKUP(107,'Course List'!A:B,2,0)","v":"Not Taken"},{"$f":"IF(VLOOKUP(107,'Course List'!$A:$B,2,0)=\"Not Taken\",\"\",IF(VLOOKUP(107,'Course List'!$A:$C,3,0)=0,\"Unknown\",VLOOKUP(107,'Course List'!$A:$C,3,0)))","v":""},{"$f":"VLOOKUP(107,'Course List'!A:D,4,0)","v":"INTL"},{"$f":"VLOOKUP(107,'Course List'!A:E,5,0)","v":467},{"$f":"VLOOKUP(107,'Course List'!A:F,6,0)","v":"International Marketing"}]
[{"$f":"VLOOKUP(128,'Course List'!A:B,2,0)","v":"Not Taken"},{"$f":"IF(VLOOKUP(128,'Course List'!$A:$B,2,0)=\"Not Taken\",\"\",IF(VLOOKUP(128,'Course List'!$A:$C,3,0)=0,\"Unknown\",VLOOKUP(128,'Course List'!$A:$C,3,0)))","v":""},{"$f":"VLOOKUP(128,'Course List'!A:D,4,0)","v":"MEDM"},{"$f":"VLOOKUP(128,'Course List'!A:E,5,0)","v":431},{"$f":"VLOOKUP(128,'Course List'!A:F,6,0)","v":"Media and Integrated Marketing"}]
[{"$f":"VLOOKUP(250,'Course List'!A:B,2,0)","v":"Not Taken"},{"$f":"IF(VLOOKUP(250,'Course List'!$A:$B,2,0)=\"Not Taken\",\"\",IF(VLOOKUP(250,'Course List'!$A:$C,3,0)=0,\"Unknown\",VLOOKUP(250,'Course List'!$A:$C,3,0)))","v":""},{"$f":"VLOOKUP(250,'Course List'!A:D,4,0)","v":"TECH"},{"$f":"VLOOKUP(250,'Course List'!A:E,5,0)","v":917},{"$f":"VLOOKUP(250,'Course List'!A:F,6,0)","v":"Analytical Marketing and Customer Relationship Management"}]
["Not Taken",{"$f":"IF(VLOOKUP(13,'Course List'!$A:$B,2,0)=\"Not Taken\",\"\",IF(VLOOKUP(13,'Course List'!$A:$C,3,0)=0,\"Unknown\",VLOOKUP(13,'Course List'!$A:$C,3,0)))","v":""},{"$f":"VLOOKUP(13,'Course List'!A:D,4,0)","v":"ACCT"},{"$f":"VLOOKUP(13,'Course List'!A:E,5,0)","v":454},{"$f":"VLOOKUP(13,'Course List'!A:F,6,0)","v":"Management Lab (M-Lab)"}]
[{"$f":"VLOOKUP(172,'Course List'!A:B,2,0)","v":"Not Taken"},{"$f":"IF(VLOOKUP(172,'Course List'!$A:$B,2,0)=\"Not Taken\",\"\",IF(VLOOKUP(172,'Course List'!$A:$C,3,0)=0,\"Unknown\",VLOOKUP(172,'Course List'!$A:$C,3,0)))","v":""},{"$f":"VLOOKUP(172,'Course List'!A:D,4,0)","v":"MKTG"},{"$f":"VLOOKUP(172,'Course List'!A:E,5,0)","v":"464-A"},{"$f":"VLOOKUP(172,'Course List'!A:F,6,0)","v":"The Management of Product Development"}]

{"sheet":"MKTG MGMT","index":28,"n_rows":30,"n_cols":5,"rows_kept":30,"cut":false,"hidden":false,"merged":[[2,0,2,4]]}
["Marketing Management"]
[]
[{"$f":"Formulae!$A$122","v":"NOT MAJORING IN THIS FIELD"}]
[]
["Status","Term","Department","Course #","Course Name"]
[]
[{"$f":"VLOOKUP(163,'Course List'!A:B,2,0)","v":"Not Taken"},{"$f":"IF(VLOOKUP(163,'Course List'!$A:$B,2,0)=\"Not Taken\",\"\",IF(VLOOKUP(163,'Course List'!$A:$C,3,0)=0,\"Unknown\",VLOOKUP(163,'Course List'!$A:$C,3,0)))","v":""},{"$f":"VLOOKUP(163,'Course List'!A:D,4,0)","v":"MKTG"},{"$f":"VLOOKUP(163,'Course List'!A:E,5,0)","v":430},{"$f":"VLOOKUP(163,'Course List'!A:F,6,0)","v":"Marketing Management"}]
[{"$f":"VLOOKUP(164,'Course List'!A:B,2,0)","v":"Not Taken"},{"$f":"IF(VLOOKUP(164,'Course List'!$A:$B,2,0)=\"Not Taken\",\"\",IF(VLOOKUP(164,'Course List'!$A:$C,3,0)=0,\"Unknown\",VLOOKUP(164,'Course List'!$A:$C,3,0)))","v":""},{"$f":"VLOOKUP(164,'Course List'!A:D,4,0)","v":"MKTG"},{"$f":"VLOOKUP(164,'Course List'!A:E,5,0)","v":450},{"$f":"VLOOKUP(164,'Course List'!A:F,6,0)","v":"Research Methods in Marketing"}]
[{"$f":"VLOOKUP(179,'Course List'!A:B,2,0)","v":"Not Taken"},{"$f":"IF(VLOOKUP(179,'Course List'!$A:$B,2,0)=\"Not Taken\",\"\",IF(VLOOKUP(179,'Course List'!$A:$C,3,0)=0,\"Unknown\",VLOOKUP(179,'Course List'!$A:$C,3,0)))","v":""},{"$f":"VLOOKUP(179,'Course List'!A:D,4,0)","v":"MKTG"},{"$f":"VLOOKUP(179,'Course List'!A:E,5,0)","v":922},{"$f":"VLOOKUP(179,'Course List'!A:F,6,0)","v":"Advanced Topics in Marketing"}]
[]
[{"$f":"VLOOKUP(165,'Course List'!A:B,2,0)","v":"Not Taken"},{"$f":"IF(VLOOKUP(165,'Course List'!$A:$B,2,0)=\"Not Taken\",\"\",IF(VLOOKUP(165,'Course List'!$A:$C,3,0)=0,\"Unknown\",VLOOKUP(165,'Course List'!$A:$C,3,0)))","v":""},{"$f":"VLOOKUP(165,'Course List'!A:D,4,0)","v":"MKTG"},{"$f":"VLOOKUP(165,'Course List'!A:E,5,0)","v":451},{"$f":"VLOOKUP(165,'Course List'!A:F,6,0)","v":"Policies in Marketing Channels (Marketing Channel Strategies)"}]
[{"$f":"VLOOKUP(273,'Course List'!A:B,2,0)","v":"Not Taken"},{"$f":"IF(VLOOKUP(273,'Course List'!$A:$B,2,0)=\"Not Taken\",\"\",IF(VLOOKUP(273,'Course List'!$A:$C,3,0)=0,\"Unknown\",VLOOKUP(273,'Course List'!$A:$C,3,0)))","v":""},{"$f":"VLOOKUP(273,'Course List'!A:D,4,0)","v":"MKTG"},{"$f":"VLOOKUP(273,'Course List'!A:E,5,0)","v":452},{"$f":"VLOOKUP(273,'Course List'!A:F,6,0)","v":"Consumer Insight Tools"}]
[{"$f":"VLOOKUP(166,'Course List'!A:B,2,0)","v":"Not Taken"},{"$f":"IF(VLOOKUP(166,'Course List'!$A:$B,2,0)=\"Not Taken\",\"\",IF(VLOOKUP(166,'Course List'!$A:$C,3,0)=0,\"Unknown\",VLOOKUP(166,'Course List'!$A:$C,3,0)))","v":""},{"$f":"VLOOKUP(166,'Course List'!A:D,4,0)","v":"MKTG"},{"$f":"VLOOKUP(166,'Course List'!A:E,5,0)","v":453},{"$f":"VLOOKUP(166,'Course List'!A:F,6,0)","v":"Business Marketing"}]
[{"$f":"VLOOKUP(167,'Course List'!A:B,2,0)","v":"Not Taken"},{"$f":"IF(VLOOKUP(167,'Course List'!$A:$B,2,0)=\"Not Taken\",\"\",IF(VLOOKUP(167,'Course List'!$A:$C,3,0)=0,\"Unknown\",VLOOKUP(167,'Course List'!$A:$C,3,0)))","v":""},{"$f":"VLOOKUP(167,'Course List'!A:D,4,0)","v":"MKTG"},{"$f":"VLOOKUP(167,'Course List'!A:E,5,0)","v":454},{"$f":"VLOOKUP(167,'Course List'!A:F,6,0)","v":"Advertising Strategy"}]
[{"$f":"VLOOKUP(168,'Course List'!A:B,2,0)","v":"Not Taken"},{"$f":"IF(VLOOKUP(168,'Course List'!$A:$B,2,0)=\"Not Taken\",\"\",IF(VLOOKUP(168,'Course List'!$A:$C,3,0)=0,\"Unknown\",VLOOKUP(168,'Course List'!$A:$C,3,0)))","v":""},{"$f":"VLOOKUP(168,'Course List'!A:D,4,0)","v":"MKTG"},{"$f":"VLOOKUP(168,'Course List'!A:E,5,0)","v":458},{"$f":"VLOOKUP(168,'Course List'!A:F,6,0)","v":"Models of Consumer Behavior"}]
[{"$f":"VLOOKUP(169,'Course List'!A:B,2,0)","v":"Not Taken"},{"$f":"IF(VLOOKUP(169,'Course List'!$A:$B,2,0)=\"Not Taken\",\"\",IF(VLOOKUP(169,'Course List'!$A:$C,3,0)=0,\"Unknown\",VLOOKUP(169,'Course List'!$A:$C,3,0)))","v":""},{"$f":"VLOOKUP(169,'Course List'!A:D,4,0)","v":"MKTG"},{"$f":"VLOOKUP(169,'Course List'!A:E,5,0)","v":459},{"$f":"VLOOKUP(169,'Course List'!A:F,6,0)","v":"Services Marketing and Management"}]
[{"$f":"VLOOKUP(170,'Course List'!A:B,2,0)","v":"Not Taken"},{"$f":"IF(VLOOKUP(170,'Course List'!$A:$B,2,0)=\"Not Taken\",\"\",IF(VLOOKUP(170,'Course List'!$A:$C,3,0)=0,\"Unknown\",VLOOKUP(170,'Course List'!$A:$C,3,0)))","v":""},{"$f":"VLOOKUP(170,'Course List'!A:D,4,0)","v":"MKTG"},{"$f":"VLOOKUP(170,'Course List'!A:E,5,0)","v":462},{"$f":"VLOOKUP(170,'Course List'!A:F,6,0)","v":"Sales Promotion and Retailer Behavior"}]
[{"$f":"VLOOKUP(171,'Course List'!A:B,2,0)","v":"Not Taken"},{"$f":"IF(VLOOKUP(171,'Course List'!$A:$B,2,0)=\"Not Taken\",\"\",IF(VLOOKUP(171,'Course List'!$A:$C,3,0)=0,\"Unknown\",VLOOKUP(171,'Course List'!$A:$C,3,0)))","v":""},{"$f":"VLOOKUP(171,'Course List'!A:D,4,0)","v":"MKTG"},{"$f":"VLOOKUP(171,'Course List'!A:E,5,0)","v":463},{"$f":"VLOOKUP(171,'Course List'!A:F,6,0)","v":"Sales Force Management"}]
[{"$f":"VLOOKUP(173,'Course List'!A:B,2,0)","v":"Not Taken"},{"$f":"IF(VLOOKUP(173,'Course List'!$A:$B,2,0)=\"Not Taken\",\"\",IF(VLOOKUP(173,'Course List'!$A:$C,3,0)=0,\"Unknown\",VLOOKUP(173,'Course List'!$A:$C,3,0)))","v":""},{"$f":"VLOOKUP(173,'Course List'!A:D,4,0)","v":"MKTG"},{"$f":"VLOOKUP(173,'Course List'!A:E,5,0)","v":465},{"$f":"VLOOKUP(173,'Course List'!A:F,6,0)","v":"Introduction of New Products & Services"}]
[{"$f":"VLOOKUP(174,'Course List'!A:B,2,0)","v":"Not Taken"},{"$f":"IF(VLOOKUP(174,'Course List'!$A:$B,2,0)=\"Not Taken\",\"\",IF(VLOOKUP(174,'Course List'!$A:$C,3,0)=0,\"Unknown\",VLOOKUP(174,'Course List'!$A:$C,3,0)))","v":""},{"$f":"VLOOKUP(174,'Course List'!A:D,4,0)","v":"MKTG"},{"$f":"VLOOKUP(174,'Course List'!A:E,5,0)","v":466},{"$f":"VLOOKUP(174,'Course List'!A:F,6,0)","v":"Marketing Strategy"}]
[{"$f":"VLOOKUP(175,'Course List'!A:B,2,0)","v":"Not Taken"},{"$f":"IF(VLOOKUP(175,'Course List'!$A:$B,2,0)=\"Not Taken\",\"\",IF(VLOOKUP(175,'Course List'!$A:$C,3,0)=0,\"Unknown\",VLOOKUP(175,'Course List'!$A:$C,3,0)))","v":""},{"$f":"VLOOKUP(175,'Course List'!A:D,4,0)","v":"MKTG"},{"$f":"VLOOKUP(175,'Course List'!A:E,5,0)","v":468},{"$f":"VLOOKUP(175,'Course List'!A:F,6,0)","v":"Technology Marketing"}]
[{"$f":"VLOOKUP(176,'Course List'!A:B,2,0)","v":"Not Taken"},{"$f":"IF(VLOOKUP(176,'Course List'!$A:$B,2,0)=\"Not Taken\",\"\",IF(VLOOKUP(176,'Course List'!$A:$C,3,0)=0,\"Unknown\",VLOOKUP(176,'Course List'!$A:$C,3,0)))","v":""},{"$f":"VLOOKUP(176,'Course List'!A:D,4,0)","v":"MKTG"},{"$f":"VLOOKUP(176,'Course List'!A:E,5,0)","v":499},{"$f":"VLOOKUP(176,'Course List'!A:F,6,0)","v":"Independent Study"}]
[{"$f":"VLOOKUP(178,'Course List'!A:B,2,0)","v":"Not Taken"},{"$f":"IF(VLOOKUP(178,'Course List'!$A:$B,2,0)=\"Not Taken\",\"\",IF(VLOOKUP(178,'Course List'!$A:$C,3,0)=0,\"Unknown\",VLOOKUP(178,'Course List'!$A:$C,3,0)))","v":""},{"$f":"VLOOKUP(178,'Course List'!A:D,4,0)","v":"MKTG"},{"$f":"VLOOKUP(178,'Course List'!A:E,5,0)","v":913},{"$f":"VLOOKUP(178,'Course List'!A:F,6,0)","v":"Internet Marketing"}]
[{"$f":"VLOOKUP(294,'Course List'!A:B,2,0)","v":"Not Taken"},{"$f":"IF(VLOOKUP(294,'Course List'!$A:$B,2,0)=\"Not Taken\",\"\",IF(VLOOKUP(294,'Course List'!$A:$C,3,0)=0,\"Unknown\",VLOOKUP(294,'Course List'!$A:$C,3,0)))","v":""},{"$f":"VLOOKUP(294,'Course List'!A:D,4,0)","v":"MKTG"},{"$f":"VLOOKUP(294,'Course List'!A:E,5,0)","v":951},{"$f":"VLOOKUP(294,'Course List'!A:F,6,0)","v":"Sports Marketing"}]
[{"$f":"VLOOKUP(22,'Course List'!A:B,2,0)","v":"Not Taken"},{"$f":"IF(VLOOKUP(22,'Course List'!$A:$B,2,0)=\"Not Taken\",\"\",IF(VLOOKUP(22,'Course List'!$A:$C,3,0)=0,\"Unknown\",VLOOKUP(22,'Course List'!$A:$C,3,0)))","v":""},{"$f":"VLOOKUP(22,'Course List'!A:D,4,0)","v":"HEMA"},{"$f":"VLOOKUP(22,'Course List'!A:E,5,0)","v":914},{"$f":"VLOOKUP(22,'Course List'!A:F,6,0)","v":"Biomedical Marketing"}]
[{"$f":"VLOOKUP(107,'Course List'!A:B,2,0)","v":"Not Taken"},{"$f":"IF(VLOOKUP(107,'Course List'!$A:$B,2,0)=\"Not Taken\",\"\",IF(VLOOKUP(107,'Course List'!$A:$C,3,0)=0,\"Unknown\",VLOOKUP(107,'Course List'!$A:$C,3,0)))","v":""},{"$f":"VLOOKUP(107,'Course List'!A:D,4,0)","v":"INTL"},{"$f":"VLOOKUP(107,'Course List'!A:E,5,0)","v":467},{"$f":"VLOOKUP(107,'Course List'!A:F,6,0)","v":"International Marketing"}]
[{"$f":"VLOOKUP(128,'Course List'!A:B,2,0)","v":"Not Taken"},{"$f":"IF(VLOOKUP(128,'Course List'!$A:$B,2,0)=\"Not Taken\",\"\",IF(VLOOKUP(128,'Course List'!$A:$C,3,0)=0,\"Unknown\",VLOOKUP(128,'Course List'!$A:$C,3,0)))","v":""},{"$f":"VLOOKUP(128,'Course List'!A:D,4,0)","v":"MEDM"},{"$f":"VLOOKUP(128,'Course List'!A:E,5,0)","v":431},{"$f":"VLOOKUP(128,'Course List'!A:F,6,0)","v":"Media and Integrated Marketing"}]
[{"$f":"VLOOKUP(250,'Course List'!A:B,2,0)","v":"Not Taken"},{"$f":"IF(VLOOKUP(250,'Course List'!$A:$B,2,0)=\"Not Taken\",\"\",IF(VLOOKUP(250,'Course List'!$A:$C,3,0)=0,\"Unknown\",VLOOKUP(250,'Course List'!$A:$C,3,0)))","v":""},{"$f":"VLOOKUP(250,'Course List'!A:D,4,0)","v":"TECH"},{"$f":"VLOOKUP(250,'Course List'!A:E,5,0)","v":917},{"$f":"VLOOKUP(250,'Course List'!A:F,6,0)","v":"Analytical Marketing and Customer Relationship Management"}]
["Not Taken",{"$f":"IF(VLOOKUP(13,'Course List'!$A:$B,2,0)=\"Not Taken\",\"\",IF(VLOOKUP(13,'Course List'!$A:$C,3,0)=0,\"Unknown\",VLOOKUP(13,'Course List'!$A:$C,3,0)))","v":""},{"$f":"VLOOKUP(13,'Course List'!A:D,4,0)","v":"ACCT"},{"$f":"VLOOKUP(13,'Course List'!A:E,5,0)","v":454},{"$f":"VLOOKUP(13,'Course List'!A:F,6,0)","v":"Management Lab (M-Lab)"}]
[{"$f":"VLOOKUP(172,'Course List'!A:B,2,0)","v":"Not Taken"},{"$f":"IF(VLOOKUP(172,'Course List'!$A:$B,2,0)=\"Not Taken\",\"\",IF(VLOOKUP(172,'Course List'!$A:$C,3,0)=0,\"Unknown\",VLOOKUP(172,'Course List'!$A:$C,3,0)))","v":""},{"$f":"VLOOKUP(172,'Course List'!A:D,4,0)","v":"MKTG"},{"$f":"VLOOKUP(172,'Course List'!A:E,5,0)","v":"464-A"},{"$f":"VLOOKUP(172,'Course List'!A:F,6,0)","v":"The Management of Product Development"}]

{"sheet":"MKTG MGMT 1Y","index":29,"n_rows":29,"n_cols":5,"rows_kept":29,"cut":false,"hidden":false,"merged":[[2,0,2,4]]}
["Marketing Management"]
[]
[{"$f":"Formulae!A132","v":"NOT MAJORING IN THIS FIELD"}]
[]
["Status","Term","Department","Course #","Course Name"]
[]
[{"$f":"VLOOKUP(164,'Course List'!A:B,2,0)","v":"Not Taken"},{"$f":"IF(VLOOKUP(164,'Course List'!$A:$B,2,0)=\"Not Taken\",\"\",IF(VLOOKUP(164,'Course List'!$A:$C,3,0)=0,\"Unknown\",VLOOKUP(164,'Course List'!$A:$C,3,0)))","v":""},{"$f":"VLOOKUP(164,'Course List'!A:D,4,0)","v":"MKTG"},{"$f":"VLOOKUP(164,'Course List'!A:E,5,0)","v":450},{"$f":"VLOOKUP(164,'Course List'!A:F,6,0)","v":"Research Methods in Marketing"}]
[{"$f":"VLOOKUP(179,'Course List'!A:B,2,0)","v":"Not Taken"},{"$f":"IF(VLOOKUP(179,'Course List'!$A:$B,2,0)=\"Not Taken\",\"\",IF(VLOOKUP(179,'Course List'!$A:$C,3,0)=0,\"Unknown\",VLOOKUP(179,'Course List'!$A:$C,3,0)))","v":""},{"$f":"VLOOKUP(179,'Course List'!A:D,4,0)","v":"MKTG"},{"$f":"VLOOKUP(179,'Course List'!A:E,5,0)","v":922},{"$f":"VLOOKUP(179,'Course List'!A:F,6,0)","v":"Advanced Topics in Marketing"}]
[]
[{"$f":"VLOOKUP(165,'Course List'!A:B,2,0)","v":"Not Taken"},{"$f":"IF(VLOOKUP(165,'Course List'!$A:$B,2,0)=\"Not Taken\",\"\",IF(VLOOKUP(165,'Course List'!$A:$C,3,0)=0,\"Unknown\",VLOOKUP(165,'Course List'!$A:$C,3,0)))","v":""},{"$f":"VLOOKUP(165,'Course List'!A:D,4,0)","v":"MKTG"},{"$f":"VLOOKUP(165,'Course List'!A:E,5,0)","v":451},{"$f":"VLOOKUP(165,'Course List'!A:F,6,0)","v":"Policies in Marketing Channels (Marketing Channel Strategies)"}]
[{"$f":"VLOOKUP(273,'Course List'!A:B,2,0)","v":"Not Taken"},{"$f":"IF(VLOOKUP(273,'Course List'!$A:$B,2,0)=\"Not Taken\",\"\",IF(VLOOKUP(273,'Course List'!$A:$C,3,0)=0,\"Unknown\",VLOOKUP(273,'Course List'!$A:$C,3,0)))","v":""},{"$f":"VLOOKUP(273,'Course List'!A:D,4,0)","v":"MKTG"},{"$f":"VLOOKUP(273,'Course List'!A:E,5,0)","v":452},{"$f":"VLOOKUP(273,'Course List'!A:F,6,0)","v":"Consumer Insight Tools"}]
[{"$f":"VLOOKUP(166,'Course List'!A:B,2,0)","v":"Not Taken"},{"$f":"IF(VLOOKUP(166,'Course List'!$A:$B,2,0)=\"Not Taken\",\"\",IF(VLOOKUP(166,'Course List'!$A:$C,3,0)=0,\"Unknown\",VLOOKUP(166,'Course List'!$A:$C,3,0)))","v":""},{"$f":"VLOOKUP(166,'Course List'!A:D,4,0)","v":"MKTG"},{"$f":"VLOOKUP(166,'Course List'!A:E,5,0)","v":453},{"$f":"VLOOKUP(166,'Course List'!A:F,6,0)","v":"Business Marketing"}]
[{"$f":"VLOOKUP(167,'Course List'!A:B,2,0)","v":"Not Taken"},{"$f":"IF(VLOOKUP(167,'Course List'!$A:$B,2,0)=\"Not Taken\",\"\",IF(VLOOKUP(167,'Course List'!$A:$C,3,0)=0,\"Unknown\",VLOOKUP(167,'Course List'!$A:$C,3,0)))","v":""},{"$f":"VLOOKUP(167,'Course List'!A:D,4,0)","v":"MKTG"},{"$f":"VLOOKUP(167,'Course List'!A:E,5,0)","v":454},{"$f":"VLOOKUP(167,'Course List'!A:F,6,0)","v":"Advertising Strategy"}]
[{"$f":"VLOOKUP(168,'Course List'!A:B,2,0)","v":"Not Taken"},{"$f":"IF(VLOOKUP(168,'Course List'!$A:$B,2,0)=\"Not Taken\",\"\",IF(VLOOKUP(168,'Course List'!$A:$C,3,0)=0,\"Unknown\",VLOOKUP(168,'Course List'!$A:$C,3,0)))","v":""},{"$f":"VLOOKUP(168,'Course List'!A:D,4,0)","v":"MKTG"},{"$f":"VLOOKUP(168,'Course List'!A:E,5,0)","v":458},{"$f":"VLOOKUP(168,'Course List'!A:F,6,0)","v":"Models of Consumer Behavior"}]
[{"$f":"VLOOKUP(169,'Course List'!A:B,2,0)","v":"Not Taken"},{"$f":"IF(VLOOKUP(169,'Course List'!$A:$B,2,0)=\"Not Taken\",\"\",IF(VLOOKUP(169,'Course List'!$A:$C,3,0)=0,\"Unknown\",VLOOKUP(169,'Course List'!$A:$C,3,0)))","v":""},{"$f":"VLOOKUP(169,'Course List'!A:D,4,0)","v":"MKTG"},{"$f":"VLOOKUP(169,'Course List'!A:E,5,0)","v":459},{"$f":"VLOOKUP(169,'Course List'!A:F,6,0)","v":"Services Marketing and Management"}]
[{"$f":"VLOOKUP(170,'Course List'!A:B,2,0)","v":"Not Taken"},{"$f":"IF(VLOOKUP(170,'Course List'!$A:$B,2,0)=\"Not Taken\",\"\",IF(VLOOKUP(170,'Course List'!$A:$C,3,0)=0,\"Unknown\",VLOOKUP(170,'Course List'!$A:$C,3,0)))","v":""},{"$f":"VLOOKUP(170,'Course List'!A:D,4,0)","v":"MKTG"},{"$f":"VLOOKUP(170,'Course List'!A:E,5,0)","v":462},{"$f":"VLOOKUP(170,'Course List'!A:F,6,0)","v":"Sales Promotion and Retailer Behavior"}]
[{"$f":"VLOOKUP(171,'Course List'!A:B,2,0)","v":"Not Taken"},{"$f":"IF(VLOOKUP(171,'Course List'!$A:$B,2,0)=\"Not Taken\",\"\",IF(VLOOKUP(171,'Course List'!$A:$C,3,0)=0,\"Unknown\",VLOOKUP(171,'Course List'!$A:$C,3,0)))","v":""},{"$f":"VLOOKUP(171,'Course List'!A:D,4,0)","v":"MKTG"},{"$f":"VLOOKUP(171,'Course List'!A:E,5,0)","v":463},{"$f":"VLOOKUP(171,'Course List'!A:F,6,0)","v":"Sales Force Management"}]
[{"$f":"VLOOKUP(173,'Course List'!A:B,2,0)","v":"Not Taken"},{"$f":"IF(VLOOKUP(173,'Course List'!$A:$B,2,0)=\"Not Taken\",\"\",IF(VLOOKUP(173,'Course List'!$A:$C,3,0)=0,\"Unknown\",VLOOKUP(173,'Course List'!$A:$C,3,0)))","v":""},{"$f":"VLOOKUP(173,'Course List'!A:D,4,0)","v":"MKTG"},{"$f":"VLOOKUP(173,'Course List'!A:E,5,0)","v":465},{"$f":"VLOOKUP(173,'Course List'!A:F,6,0)","v":"Introduction of New Products & Services"}]
[{"$f":"VLOOKUP(174,'Course List'!A:B,2,0)","v":"Not Taken"},{"$f":"IF(VLOOKUP(174,'Course List'!$A:$B,2,0)=\"Not Taken\",\"\",IF(VLOOKUP(174,'Course List'!$A:$C,3,0)=0,\"Unknown\",VLOOKUP(174,'Course List'!$A:$C,3,0)))","v":""},{"$f":"VLOOKUP(174,'Course List'!A:D,4,0)","v":"MKTG"},{"$f":"VLOOKUP(174,'Course List'!A:E,5,0)","v":466},{"$f":"VLOOKUP(174,'Course List'!A:F,6,0)","v":"Marketing Strategy"}]
[{"$f":"VLOOKUP(175,'Course List'!A:B,2,0)","v":"Not Taken"},{"$f":"IF(VLOOKUP(175,'Course List'!$A:$B,2,0)=\"Not Taken\",\"\",IF(VLOOKUP(175,'Course List'!$A:$C,3,0)=0,\"Unknown\",VLOOKUP(175,'Course List'!$A:$C,3,0)))","v":""},{"$f":"VLOOKUP(175,'Course List'!A:D,4,0)","v":"MKTG"},{"$f":"VLOOKUP(175,'Course List'!A:E,5,0)","v":468},{"$f":"VLOOKUP(175,'Course List'!A:F,6,0)","v":"Technology Marketing"}]
[{"$f":"VLOOKUP(176,'Course List'!A:B,2,0)","v":"Not Taken"},{"$f":"IF(VLOOKUP(176,'Course List'!$A:$B,2,0)=\"Not Taken\",\"\",IF(VLOOKUP(176,'Course List'!$A:$C,3,0)=0,\"Unknown\",VLOOKUP(176,'Course List'!$A:$C,3,0)))","v":""},{"$f":"VLOOKUP(176,'Course List'!A:D,4,0)","v":"MKTG"},{"$f":"VLOOKUP(176,'Course List'!A:E,5,0)","v":499},{"$f":"VLOOKUP(176,'Course List'!A:F,6,0)","v":"Independent Study"}]
[{"$f":"VLOOKUP(178,'Course List'!A:B,2,0)","v":"Not Taken"},{"$f":"IF(VLOOKUP(178,'Course List'!$A:$B,2,0)=\"Not Taken\",\"\",IF(VLOOKUP(178,'Course List'!$A:$C,3,0)=0,\"Unknown\",VLOOKUP(178,'Course List'!$A:$C,3,0)))","v":""},{"$f":"VLOOKUP(178,'Course List'!A:D,4,0)","v":"MKTG"},{"$f":"VLOOKUP(178,'Course List'!A:E,5,0)","v":913},{"$f":"VLOOKUP(178,'Course List'!A:F,6,0)","v":"Internet Marketing"}]
[{"$f":"VLOOKUP(294,'Course List'!A:B,2,0)","v":"Not Taken"},{"$f":"IF(VLOOKUP(294,'Course List'!$A:$B,2,0)=\"Not Taken\",\"\",IF(VLOOKUP(294,'Course List'!$A:$C,3,0)=0,\"Unknown\",VLOOKUP(294,'Course List'!$A:$C,3,0)))","v":""},{"$f":"VLOOKUP(294,'Course List'!A:D,4,0)","v":"MKTG"},{"$f":"VLOOKUP(294,'Course List'!A:E,5,0)","v":951},{"$f":"VLOOKUP(294,'Course List'!A:F,6,0)","v":"Sports Marketing"}]
[{"$f":"VLOOKUP(22,'Course List'!A:B,2,0)","v":"Not Taken"},{"$f":"IF(VLOOKUP(22,'Course List'!$A:$B,2,0)=\"Not Taken\",\"\",IF(VLOOKUP(22,'Course List'!$A:$C,3,0)=0,\"Unknown\",VLOOKUP(22,'Course List'!$A:$C,3,0)))","v":""},{"$f":"VLOOKUP(22,'Course List'!A:D,4,0)","v":"HEMA"},{"$f":"VLOOKUP(22,'Course List'!A:E,5,0)","v":914},{"$f":"VLOOKUP(22,'Course List'!A:F,6,0)","v":"Biomedical Marketing"}]
[{"$f":"VLOOKUP(107,'Course List'!A:B,2,0)","v":"Not Taken"},{"$f":"IF(VLOOKUP(107,'Course List'!$A:$B,2,0)=\"Not Taken\",\"\",IF(VLOOKUP(107,'Course List'!$A:$C,3,0)=0,\"Unknown\",VLOOKUP(107,'Course List'!$A:$C,3,0)))","v":""},{"$f":"VLOOKUP(107,'Course List'!A:D,4,0)","v":"INTL"},{"$f":"VLOOKUP(107,'Course List'!A:E,5,0)","v":467},{"$f":"VLOOKUP(107,'Course List'!A:F,6,0)","v":"International Marketing"}]
[{"$f":"VLOOKUP(128,'Course List'!A:B,2,0)","v":"Not Taken"},{"$f":"IF(VLOOKUP(128,'Course List'!$A:$B,2,0)=\"Not Taken\",\"\",IF(VLOOKUP(128,'Course List'!$A:$C,3,0)=0,\"Unknown\",VLOOKUP(128,'Course List'!$A:$C,3,0)))","v":""},{"$f":"VLOOKUP(128,'Course List'!A:D,4,0)","v":"MEDM"},{"$f":"VLOOKUP(128,'Course List'!A:E,5,0)","v":431},{"$f":"VLOOKUP(128,'Course List'!A:F,6,0)","v":"Media and Integrated Marketing"}]
[{"$f":"VLOOKUP(250,'Course List'!A:B,2,0)","v":"Not Taken"},{"$f":"IF(VLOOKUP(250,'Course List'!$A:$B,2,0)=\"Not Taken\",\"\",IF(VLOOKUP(250,'Course List'!$A:$C,3,0)=0,\"Unknown\",VLOOKUP(250,'Course List'!$A:$C,3,0)))","v":""},{"$f":"VLOOKUP(250,'Course List'!A:D,4,0)","v":"TECH"},{"$f":"VLOOKUP(250,'Course List'!A:E,5,0)","v":917},{"$f":"VLOOKUP(250,'Course List'!A:F,6,0)","v":"Analytical Marketing and Customer Relationship Management"}]
["Not Taken",{"$f":"IF(VLOOKUP(13,'Course List'!$A:$B,2,0)=\"Not Taken\",\"\",IF(VLOOKUP(13,'Course List'!$A:$C,3,0)=0,\"Unknown\",VLOOKUP(13,'Course List'!$A:$C,3,0)))","v":""},{"$f":"VLOOKUP(13,'Course List'!A:D,4,0)","v":"ACCT"},{"$f":"VLOOKUP(13,'Course List'!A:E,5,0)","v":454},{"$f":"VLOOKUP(13,'Course List'!A:F,6,0)","v":"Management Lab (M-Lab)"}]
[{"$f":"VLOOKUP(172,'Course List'!A:B,2,0)","v":"Not Taken"},{"$f":"IF(VLOOKUP(172,'Course List'!$A:$B,2,0)=\"Not Taken\",\"\",IF(VLOOKUP(172,'Course List'!$A:$C,3,0)=0,\"Unknown\",VLOOKUP(172,'Course List'!$A:$C,3,0)))","v":""},{"$f":"VLOOKUP(172,'Course List'!A:D,4,0)","v":"MKTG"},{"$f":"VLOOKUP(172,'Course List'!A:E,5,0)","v":"464-A"},{"$f":"VLOOKUP(172,'Course List'!A:F,6,0)","v":"The Management of Product Development"}]

{"sheet":"Media MGMT","index":30,"n_rows":45,"n_cols":5,"rows_kept":45,"cut":false,"hidden":false,"merged":[[2,0,2,4]]}
["Media Management"]
[]
[{"$f":"Formulae!A140","v":"NOT MAJORING IN THIS FIELD"}]
[]
["Status","Term","Department","Course #","Course Name"]
[]
[{"$f":"VLOOKUP(128,'Course List'!A:B,2,0)","v":"Not Taken"},{"$f":"IF(VLOOKUP(128,'Course List'!$A:$B,2,0)=\"Not Taken\",\"\",IF(VLOOKUP(128,'Course List'!$A:$C,3,0)=0,\"Unknown\",VLOOKUP(128,'Course List'!$A:$C,3,0)))","v":""},{"$f":"VLOOKUP(128,'Course List'!A:D,4,0)","v":"MEDM"},{"$f":"VLOOKUP(128,'Course List'!A:E,5,0)","v":431},{"$f":"VLOOKUP(128,'Course List'!A:F,6,0)","v":"Media and Integrated Marketing"}]
[{"$f":"VLOOKUP(130,'Course List'!A:B,2,0)","v":"Not Taken"},{"$f":"IF(VLOOKUP(130,'Course List'!$A:$B,2,0)=\"Not Taken\",\"\",IF(VLOOKUP(130,'Course List'!$A:$C,3,0)=0,\"Unknown\",VLOOKUP(130,'Course List'!$A:$C,3,0)))","v":""},{"$f":"VLOOKUP(130,'Course List'!A:D,4,0)","v":"MEDM"},{"$f":"VLOOKUP(130,'Course List'!A:E,5,0)","v":911},{"$f":"VLOOKUP(130,'Course List'!A:F,6,0)","v":"Media Strategy and Implementation"}]
[{"$f":"VLOOKUP(131,'Course List'!A:B,2,0)","v":"Not Taken"},{"$f":"IF(VLOOKUP(131,'Course List'!$A:$B,2,0)=\"Not Taken\",\"\",IF(VLOOKUP(131,'Course List'!$A:$C,3,0)=0,\"Unknown\",VLOOKUP(131,'Course List'!$A:$C,3,0)))","v":""},{"$f":"VLOOKUP(131,'Course List'!A:D,4,0)","v":"MEDM"},{"$f":"VLOOKUP(131,'Course List'!A:E,5,0)","v":912},{"$f":"VLOOKUP(131,'Course List'!A:F,6,0)","v":"Understanding the Media and its Content"}]
["Not Taken",{"$f":"IF(VLOOKUP(13,'Course List'!$A:$B,2,0)=\"Not Taken\",\"\",IF(VLOOKUP(13,'Course List'!$A:$C,3,0)=0,\"Unknown\",VLOOKUP(13,'Course List'!$A:$C,3,0)))","v":""},{"$f":"VLOOKUP(13,'Course List'!A:D,4,0)","v":"ACCT"},{"$f":"VLOOKUP(13,'Course List'!A:E,5,0)","v":454},{"$f":"VLOOKUP(13,'Course List'!A:F,6,0)","v":"Management Lab (M-Lab)"}]
[]
[{"$f":"VLOOKUP(129,'Course List'!A:B,2,0)","v":"Not Taken"},{"$f":"IF(VLOOKUP(129,'Course List'!$A:$B,2,0)=\"Not Taken\",\"\",IF(VLOOKUP(129,'Course List'!$A:$C,3,0)=0,\"Unknown\",VLOOKUP(129,'Course List'!$A:$C,3,0)))","v":""},{"$f":"VLOOKUP(129,'Course List'!A:D,4,0)","v":"MEDM"},{"$f":"VLOOKUP(129,'Course List'!A:E,5,0)","v":499},{"$f":"VLOOKUP(129,'Course List'!A:F,6,0)","v":"Independent Study"}]
[]
[]
[]
[]
[]
[]
[]
[]
[]
[]
[]
[]
[]
[]
[]
[]
[]
[]
[]
[]
[]
[]
[]
[]
[]
[]
[]
[]
[]
[]
[]
[]
[{"$f":"IF(AND(AND(A7=\"Enrolled\",COUNTIF(A12:A12,\"Complete\")>=2),COUNTIF(A12:A12,\"Enrolled\")>=1),\"MAJOR COMPLETED THIS QUARTER\",IF(AND(AND(A7=\"Enrolled\",COUNTIF(A12:A12,\"Complete\")>=1),COUNTIF(A12:A12,\"Enrolled\")>=2),\"MAJOR COMPLETED THIS QUARTER\",IF(AND(A7=\"Enrolled\",COUNTIF(A12:A12,\"Complete\")>=3),\"MAJOR COMPLETED THIS QUARTER\",IF(A7=\"Complete\",\"MAJOR IN PROGRESS\",IF(A7=\"Enrolled\",\"MAJOR IN PROGRESS\",IF(A7=\"Considering\",\"MAJOR IN PROGRESS\",\"NOT MAJORING IN THIS FIELD\"))))))","v":"NOT MAJORING IN THIS FIELD"}]

{"sheet":"OPNS","index":31,"n_rows":49,"n_cols":5,"rows_kept":49,"cut":false,"hidden":false,"merged":[[2,0,2,4]]}
["Operations Management"]
[]
[{"$f":"Formulae!A142","v":"NOT MAJORING IN THIS FIELD"}]
[]
["Status","Term","Department","Course #","Course Name"]
[]
[{"$f":"VLOOKUP(212,'Course List'!A:B,2,0)","v":"Not Taken"},{"$f":"IF(VLOOKUP(212,'Course List'!$A:$B,2,0)=\"Not Taken\",\"\",IF(VLOOKUP(212,'Course List'!$A:$C,3,0)=0,\"Unknown\",VLOOKUP(212,'Course List'!$A:$C,3,0)))","v":""},{"$f":"VLOOKUP(212,'Course List'!A:D,4,0)","v":"OPNS"},{"$f":"VLOOKUP(212,'Course List'!A:E,5,0)","v":450},{"$f":"VLOOKUP(212,'Course List'!A:F,6,0)","v":"Spreadsheet Modeling for Managerial Decisions"}]
[{"$f":"VLOOKUP(213,'Course List'!A:B,2,0)","v":"Not Taken"},{"$f":"IF(VLOOKUP(213,'Course List'!$A:$B,2,0)=\"Not Taken\",\"\",IF(VLOOKUP(213,'Course List'!$A:$C,3,0)=0,\"Unknown\",VLOOKUP(213,'Course List'!$A:$C,3,0)))","v":""},{"$f":"VLOOKUP(213,'Course List'!A:D,4,0)","v":"OPNS"},{"$f":"VLOOKUP(213,'Course List'!A:E,5,0)","v":453},{"$f":"VLOOKUP(213,'Course List'!A:F,6,0)","v":"Inventory Management"}]
[{"$f":"VLOOKUP(214,'Course List'!A:B,2,0)","v":"Not Taken"},{"$f":"IF(VLOOKUP(214,'Course List'!$A:$B,2,0)=\"Not Taken\",\"\",IF(VLOOKUP(214,'Course List'!$A:$C,3,0)=0,\"Unknown\",VLOOKUP(214,'Course List'!$A:$C,3,0)))","v":""},{"$f":"VLOOKUP(214,'Course List'!A:D,4,0)","v":"OPNS"},{"$f":"VLOOKUP(214,'Course List'!A:E,5,0)","v":454},{"$f":"VLOOKUP(214,'Course List'!A:F,6,0)","v":"Operations Strategy"}]
[{"$f":"VLOOKUP(215,'Course List'!A:B,2,0)","v":"Not Taken"},{"$f":"IF(VLOOKUP(215,'Course List'!$A:$B,2,0)=\"Not Taken\",\"\",IF(VLOOKUP(215,'Course List'!$A:$C,3,0)=0,\"Unknown\",VLOOKUP(215,'Course List'!$A:$C,3,0)))","v":""},{"$f":"VLOOKUP(215,'Course List'!A:D,4,0)","v":"OPNS"},{"$f":"VLOOKUP(215,'Course List'!A:E,5,0)","v":455},{"$f":"VLOOKUP(215,'Course List'!A:F,6,0)","v":"Logistics and Supply Chain Management"}]
[{"$f":"VLOOKUP(218,'Course List'!A:B,2,0)","v":"Not Taken"},{"$f":"IF(VLOOKUP(218,'Course List'!$A:$B,2,0)=\"Not Taken\",\"\",IF(VLOOKUP(218,'Course List'!$A:$C,3,0)=0,\"Unknown\",VLOOKUP(218,'Course List'!$A:$C,3,0)))","v":""},{"$f":"VLOOKUP(218,'Course List'!A:D,4,0)","v":"OPNS"},{"$f":"VLOOKUP(218,'Course List'!A:E,5,0)","v":482},{"$f":"VLOOKUP(218,'Course List'!A:F,6,0)","v":"Service Operations"}]
[{"$f":"VLOOKUP(219,'Course List'!A:B,2,0)","v":"Not Taken"},{"$f":"IF(VLOOKUP(219,'Course List'!$A:$B,2,0)=\"Not Taken\",\"\",IF(VLOOKUP(219,'Course List'!$A:$C,3,0)=0,\"Unknown\",VLOOKUP(219,'Course List'!$A:$C,3,0)))","v":""},{"$f":"VLOOKUP(219,'Course List'!A:D,4,0)","v":"OPNS"},{"$f":"VLOOKUP(219,'Course List'!A:E,5,0)","v":915},{"$f":"VLOOKUP(219,'Course List'!A:F,6,0)","v":"Information Technology and Business Process Management"}]
[{"$f":"VLOOKUP(220,'Course List'!A:B,2,0)","v":"Not Taken"},{"$f":"IF(VLOOKUP(220,'Course List'!$A:$B,2,0)=\"Not Taken\",\"\",IF(VLOOKUP(220,'Course List'!$A:$C,3,0)=0,\"Unknown\",VLOOKUP(220,'Course List'!$A:$C,3,0)))","v":""},{"$f":"VLOOKUP(220,'Course List'!A:D,4,0)","v":"OPNS"},{"$f":"VLOOKUP(220,'Course List'!A:E,5,0)","v":916},{"$f":"VLOOKUP(220,'Course List'!A:F,6,0)","v":"Process Management"}]
[{"$f":"VLOOKUP(221,'Course List'!A:B,2,0)","v":"Not Taken"},{"$f":"IF(VLOOKUP(221,'Course List'!$A:$B,2,0)=\"Not Taken\",\"\",IF(VLOOKUP(221,'Course List'!$A:$C,3,0)=0,\"Unknown\",VLOOKUP(221,'Course List'!$A:$C,3,0)))","v":""},{"$f":"VLOOKUP(221,'Course List'!A:D,4,0)","v":"OPNS"},{"$f":"VLOOKUP(221,'Course List'!A:E,5,0)","v":917},{"$f":"VLOOKUP(221,'Course List'!A:F,6,0)","v":"Project Management"}]
[{"$f":"VLOOKUP(276,'Course List'!A:B,2,0)","v":"Not Taken"},{"$f":"IF(VLOOKUP(276,'Course List'!$A:$B,2,0)=\"Not Taken\",\"\",IF(VLOOKUP(276,'Course List'!$A:$C,3,0)=0,\"Unknown\",VLOOKUP(276,'Course List'!$A:$C,3,0)))","v":""},{"$f":"VLOOKUP(276,'Course List'!A:D,4,0)","v":"OPNS"},{"$f":"VLOOKUP(276,'Course List'!A:E,5,0)","v":918},{"$f":"VLOOKUP(276,'Course List'!A:F,6,0)","v":"Disruptive Technolgy & Business Models"}]
[{"$f":"VLOOKUP(282,'Course List'!A:B,2,0)","v":"Not Taken"},{"$f":"IF(VLOOKUP(282,'Course List'!$A:$B,2,0)=\"Not Taken\",\"\",IF(VLOOKUP(282,'Course List'!$A:$C,3,0)=0,\"Unknown\",VLOOKUP(282,'Course List'!$A:$C,3,0)))","v":""},{"$f":"VLOOKUP(282,'Course List'!A:D,4,0)","v":"OPNS"},{"$f":"VLOOKUP(282,'Course List'!A:E,5,0)","v":"919-A"},{"$f":"VLOOKUP(282,'Course List'!A:F,6,0)","v":"Operational Risk"}]
[{"$f":"VLOOKUP(283,'Course List'!A:B,2,0)","v":"Not Taken"},{"$f":"IF(VLOOKUP(283,'Course List'!$A:$B,2,0)=\"Not Taken\",\"\",IF(VLOOKUP(283,'Course List'!$A:$C,3,0)=0,\"Unknown\",VLOOKUP(283,'Course List'!$A:$C,3,0)))","v":""},{"$f":"VLOOKUP(283,'Course List'!A:D,4,0)","v":"OPNS"},{"$f":"VLOOKUP(283,'Course List'!A:E,5,0)","v":"920-B"},{"$f":"VLOOKUP(283,'Course List'!A:F,6,0)","v":"Business and Nanotechnology"}]
[{"$f":"VLOOKUP(252,'Course List'!A:B,2,0)","v":"Not Taken"},{"$f":"IF(VLOOKUP(252,'Course List'!$A:$B,2,0)=\"Not Taken\",\"\",IF(VLOOKUP(252,'Course List'!$A:$C,3,0)=0,\"Unknown\",VLOOKUP(252,'Course List'!$A:$C,3,0)))","v":""},{"$f":"VLOOKUP(252,'Course List'!A:D,4,0)","v":"TECH"},{"$f":"VLOOKUP(252,'Course List'!A:E,5,0)","v":919},{"$f":"VLOOKUP(252,'Course List'!A:F,6,0)","v":"Innovation Process Management"}]
["Not Taken",{"$f":"IF(VLOOKUP(13,'Course List'!$A:$B,2,0)=\"Not Taken\",\"\",IF(VLOOKUP(13,'Course List'!$A:$C,3,0)=0,\"Unknown\",VLOOKUP(13,'Course List'!$A:$C,3,0)))","v":""},{"$f":"VLOOKUP(13,'Course List'!A:D,4,0)","v":"ACCT"},{"$f":"VLOOKUP(13,'Course List'!A:E,5,0)","v":454},{"$f":"VLOOKUP(13,'Course List'!A:F,6,0)","v":"Management Lab (M-Lab)"}]
[]
[]
[]
[]
[]
[]
[]
[]
[]
[]
[]
[]
[]
[]
[]
[]
[]
[]
[]
[]
[]
[]
[]
[]
[]
[]
[]
[]
[]
[{"$f":"IF(AND(AND(A7=\"Enrolled\",COUNTIF(A11:A11,\"Complete\")>=2),COUNTIF(A11:A11,\"Enrolled\")>=1),\"MAJOR COMPLETED THIS QUARTER\",IF(AND(AND(A7=\"Enrolled\",COUNTIF(A11:A11,\"Complete\")>=1),COUNTIF(A11:A11,\"Enrolled\")>=2),\"MAJOR COMPLETED THIS QUARTER\",IF(AND(A7=\"Enrolled\",COUNTIF(A11:A11,\"Complete\")>=3),\"MAJOR COMPLETED THIS QUARTER\",IF(A7=\"Complete\",\"MAJOR IN PROGRESS\",IF(A7=\"Enrolled\",\"MAJOR IN PROGRESS\",IF(A7=\"Considering\",\"MAJOR IN PROGRESS\",\"NOT MAJORING IN THIS FIELD\"))))))","v":"NOT MAJORING IN THIS FIELD"}]

{"sheet":"Real Estate MGMT","index":32,"n_rows":16,"n_cols":5,"rows_kept":16,"cut":false,"hidden":false,"merged":[[2,0,2,4]]}
["Real Estate Management"]
[]
[{"$f":"Formulae!A144","v":"NOT MAJORING IN THIS FIELD"}]
[]
["Status","Term","Department","Course #","Course Name"]
[]
[{"$f":"VLOOKUP(222,'Course List'!A:B,2,0)","v":"Not Taken"},{"$f":"IF(VLOOKUP(222,'Course List'!$A:$B,2,0)=\"Not Taken\",\"\",IF(VLOOKUP(222,'Course List'!$A:$C,3,0)=0,\"Unknown\",VLOOKUP(222,'Course List'!$A:$C,3,0)))","v":""},{"$f":"VLOOKUP(222,'Course List'!A:D,4,0)","v":"REAL"},{"$f":"VLOOKUP(222,'Course List'!A:E,5,0)","v":442},{"$f":"VLOOKUP(222,'Course List'!A:F,6,0)","v":"Real Estate Finance and Investments"}]
[]
[{"$f":"VLOOKUP(223,'Course List'!A:B,2,0)","v":"Not Taken"},{"$f":"IF(VLOOKUP(223,'Course List'!$A:$B,2,0)=\"Not Taken\",\"\",IF(VLOOKUP(223,'Course List'!$A:$C,3,0)=0,\"Unknown\",VLOOKUP(223,'Course List'!$A:$C,3,0)))","v":""},{"$f":"VLOOKUP(223,'Course List'!A:D,4,0)","v":"REAL"},{"$f":"VLOOKUP(223,'Course List'!A:E,5,0)","v":443},{"$f":"VLOOKUP(223,'Course List'!A:F,6,0)","v":"Urban Economic Development and Real Estate Market Analysis"}]
[{"$f":"VLOOKUP(270,'Course List'!A:B,2,0)","v":"Not Taken"},{"$f":"IF(VLOOKUP(270,'Course List'!$A:$B,2,0)=\"Not Taken\",\"\",IF(VLOOKUP(270,'Course List'!$A:$C,3,0)=0,\"Unknown\",VLOOKUP(270,'Course List'!$A:$C,3,0)))","v":""},{"$f":"VLOOKUP(270,'Course List'!A:D,4,0)","v":"REAL"},{"$f":"VLOOKUP(270,'Course List'!A:E,5,0)","v":"444-A"},{"$f":"VLOOKUP(270,'Course List'!A:F,6,0)","v":"Real Estate Development"}]
[{"$f":"VLOOKUP(226,'Course List'!A:B,2,0)","v":"Not Taken"},{"$f":"IF(VLOOKUP(226,'Course List'!$A:$B,2,0)=\"Not Taken\",\"\",IF(VLOOKUP(226,'Course List'!$A:$C,3,0)=0,\"Unknown\",VLOOKUP(226,'Course List'!$A:$C,3,0)))","v":""},{"$f":"VLOOKUP(226,'Course List'!A:D,4,0)","v":"REAL"},{"$f":"VLOOKUP(226,'Course List'!A:E,5,0)","v":447},{"$f":"VLOOKUP(226,'Course List'!A:F,6,0)","v":"Legal Issues in Real Estate"}]
[{"$f":"VLOOKUP(269,'Course List'!A:B,2,0)","v":"Not Taken"},{"$f":"IF(VLOOKUP(269,'Course List'!$A:$B,2,0)=\"Not Taken\",\"\",IF(VLOOKUP(269,'Course List'!$A:$C,3,0)=0,\"Unknown\",VLOOKUP(269,'Course List'!$A:$C,3,0)))","v":""},{"$f":"VLOOKUP(269,'Course List'!A:D,4,0)","v":"REAL"},{"$f":"VLOOKUP(269,'Course List'!A:E,5,0)","v":448},{"$f":"VLOOKUP(269,'Course List'!A:F,6,0)","v":"Urban Public Finance"}]
[{"$f":"VLOOKUP(227,'Course List'!A:B,2,0)","v":"Not Taken"},{"$f":"IF(VLOOKUP(227,'Course List'!$A:$B,2,0)=\"Not Taken\",\"\",IF(VLOOKUP(227,'Course List'!$A:$C,3,0)=0,\"Unknown\",VLOOKUP(227,'Course List'!$A:$C,3,0)))","v":""},{"$f":"VLOOKUP(227,'Course List'!A:D,4,0)","v":"REAL"},{"$f":"VLOOKUP(227,'Course List'!A:E,5,0)","v":464},{"$f":"VLOOKUP(227,'Course List'!A:F,6,0)","v":"Real Estate Finance and Investments II"}]
[{"$f":"VLOOKUP(228,'Course List'!A:B,2,0)","v":"Not Taken"},{"$f":"IF(VLOOKUP(228,'Course List'!$A:$B,2,0)=\"Not Taken\",\"\",IF(VLOOKUP(228,'Course List'!$A:$C,3,0)=0,\"Unknown\",VLOOKUP(228,'Course List'!$A:$C,3,0)))","v":""},{"$f":"VLOOKUP(228,'Course List'!A:D,4,0)","v":"REAL"},{"$f":"VLOOKUP(228,'Course List'!A:E,5,0)","v":499},{"$f":"VLOOKUP(228,'Course List'!A:F,6,0)","v":"Independent Study"}]
[{"$f":"VLOOKUP(272,'Course List'!A:B,2,0)","v":"Not Taken"},{"$f":"IF(VLOOKUP(272,'Course List'!$A:$B,2,0)=\"Not Taken\",\"\",IF(VLOOKUP(272,'Course List'!$A:$C,3,0)=0,\"Unknown\",VLOOKUP(272,'Course List'!$A:$C,3,0)))","v":""},{"$f":"VLOOKUP(272,'Course List'!A:D,4,0)","v":"REAL"},{"$f":"VLOOKUP(272,'Course List'!A:E,5,0)","v":910},{"$f":"VLOOKUP(272,'Course List'!A:F,6,0)","v":"Advanced Real Estate Development and Corporate Strategy"}]
["Not Taken",{"$f":"IF(VLOOKUP(13,'Course List'!$A:$B,2,0)=\"Not Taken\",\"\",IF(VLOOKUP(13,'Course List'!$A:$C,3,0)=0,\"Unknown\",VLOOKUP(13,'Course List'!$A:$C,3,0)))","v":""},{"$f":"VLOOKUP(13,'Course List'!A:D,4,0)","v":"ACCT"},{"$f":"VLOOKUP(13,'Course List'!A:E,5,0)","v":454},{"$f":"VLOOKUP(13,'Course List'!A:F,6,0)","v":"Management Lab (M-Lab)"}]

{"sheet":"SCHEMA","index":33,"n_rows":28,"n_cols":5,"rows_kept":28,"cut":false,"hidden":false,"merged":[[2,0,2,4],[25,2,25,4]]}
["Special Competency in Health Enterprise Excellence"]
[]
[{"$f":"Formulae!A160","v":"NOT MAJORING IN THIS FIELD"}]
[]
["Status","Term","Department","Course #","Course Name"]
[]
[{"$f":"VLOOKUP(92,'Course List'!A:B,2,0)","v":"Not Taken"},{"$f":"IF(VLOOKUP(92,'Course List'!$A:$B,2,0)=\"Not Taken\",\"\",IF(VLOOKUP(92,'Course List'!$A:$C,3,0)=0,\"Unknown\",VLOOKUP(92,'Course List'!$A:$C,3,0)))","v":""},{"$f":"VLOOKUP(92,'Course List'!A:D,4,0)","v":"HEMA"},{"$f":"VLOOKUP(92,'Course List'!A:E,5,0)","v":440},{"$f":"VLOOKUP(92,'Course List'!A:F,6,0)","v":"Introduction to the Principles and Management of Health Industry Systems"}]
[]
[{"$f":"VLOOKUP(135,'Course List'!A:B,2,0)","v":"Not Taken"},{"$f":"IF(VLOOKUP(135,'Course List'!$A:$B,2,0)=\"Not Taken\",\"\",IF(VLOOKUP(135,'Course List'!$A:$C,3,0)=0,\"Unknown\",VLOOKUP(135,'Course List'!$A:$C,3,0)))","v":""},{"$f":"VLOOKUP(135,'Course List'!A:D,4,0)","v":"MGMT"},{"$f":"VLOOKUP(135,'Course List'!A:E,5,0)","v":444},{"$f":"VLOOKUP(135,'Course List'!A:F,6,0)","v":"Healthcare Economics & Strategy"}]
[{"$f":"VLOOKUP(102,'Course List'!A:B,2,0)","v":"Not Taken"},{"$f":"IF(VLOOKUP(102,'Course List'!$A:$B,2,0)=\"Not Taken\",\"\",IF(VLOOKUP(102,'Course List'!$A:$C,3,0)=0,\"Unknown\",VLOOKUP(102,'Course List'!$A:$C,3,0)))","v":""},{"$f":"VLOOKUP(102,'Course List'!A:D,4,0)","v":"INTL"},{"$f":"VLOOKUP(102,'Course List'!A:E,5,0)","v":442},{"$f":"VLOOKUP(102,'Course List'!A:F,6,0)","v":"International Healthcare Systems"}]
[{"$f":"VLOOKUP(21,'Course List'!A:B,2,0)","v":"Not Taken"},{"$f":"IF(VLOOKUP(21,'Course List'!$A:$B,2,0)=\"Not Taken\",\"\",IF(VLOOKUP(21,'Course List'!$A:$C,3,0)=0,\"Unknown\",VLOOKUP(21,'Course List'!$A:$C,3,0)))","v":""},{"$f":"VLOOKUP(21,'Course List'!A:D,4,0)","v":"HEMA"},{"$f":"VLOOKUP(21,'Course List'!A:E,5,0)","v":913},{"$f":"VLOOKUP(21,'Course List'!A:F,6,0)","v":"Biotech Business Practicum"}]
[{"$f":"VLOOKUP(271,'Course List'!A:B,2,0)","v":"Not Taken"},{"$f":"IF(VLOOKUP(271,'Course List'!$A:$B,2,0)=\"Not Taken\",\"\",IF(VLOOKUP(271,'Course List'!$A:$C,3,0)=0,\"Unknown\",VLOOKUP(271,'Course List'!$A:$C,3,0)))","v":""},{"$f":"VLOOKUP(271,'Course List'!A:D,4,0)","v":"HEMA"},{"$f":"VLOOKUP(271,'Course List'!A:E,5,0)","v":915},{"$f":"VLOOKUP(271,'Course List'!A:F,6,0)","v":"Medical Innovations"}]
[{"$f":"VLOOKUP(285,'Course List'!A:B,2,0)","v":"Not Taken"},{"$f":"IF(VLOOKUP(285,'Course List'!$A:$B,2,0)=\"Not Taken\",\"\",IF(VLOOKUP(285,'Course List'!$A:$C,3,0)=0,\"Unknown\",VLOOKUP(285,'Course List'!$A:$C,3,0)))","v":""},{"$f":"VLOOKUP(285,'Course List'!A:D,4,0)","v":"HEMA"},{"$f":"VLOOKUP(285,'Course List'!A:E,5,0)","v":916},{"$f":"VLOOKUP(285,'Course List'!A:F,6,0)","v":"Medical Innovation II: Developing Biomedical Products from Patient to Market"}]
[{"$f":"VLOOKUP(139,'Course List'!A:B,2,0)","v":"Not Taken"},{"$f":"IF(VLOOKUP(139,'Course List'!$A:$B,2,0)=\"Not Taken\",\"\",IF(VLOOKUP(139,'Course List'!$A:$C,3,0)=0,\"Unknown\",VLOOKUP(139,'Course List'!$A:$C,3,0)))","v":""},{"$f":"VLOOKUP(139,'Course List'!A:D,4,0)","v":"MGMT"},{"$f":"VLOOKUP(139,'Course List'!A:E,5,0)","v":463},{"$f":"VLOOKUP(139,'Course List'!A:F,6,0)","v":"Management of Technology"}]
[{"$f":"VLOOKUP(22,'Course List'!A:B,2,0)","v":"Not Taken"},{"$f":"IF(VLOOKUP(22,'Course List'!$A:$B,2,0)=\"Not Taken\",\"\",IF(VLOOKUP(22,'Course List'!$A:$C,3,0)=0,\"Unknown\",VLOOKUP(22,'Course List'!$A:$C,3,0)))","v":""},{"$f":"VLOOKUP(22,'Course List'!A:D,4,0)","v":"HEMA"},{"$f":"VLOOKUP(22,'Course List'!A:E,5,0)","v":914},{"$f":"VLOOKUP(22,'Course List'!A:F,6,0)","v":"Biomedical Marketing"}]
[{"$f":"VLOOKUP(85,'Course List'!A:B,2,0)","v":"Not Taken"},{"$f":"IF(VLOOKUP(85,'Course List'!$A:$B,2,0)=\"Not Taken\",\"\",IF(VLOOKUP(85,'Course List'!$A:$C,3,0)=0,\"Unknown\",VLOOKUP(85,'Course List'!$A:$C,3,0)))","v":""},{"$f":"VLOOKUP(85,'Course List'!A:D,4,0)","v":"FINC"},{"$f":"VLOOKUP(85,'Course List'!A:E,5,0)","v":932},{"$f":"VLOOKUP(85,'Course List'!A:F,6,0)","v":"Case Studies in Venture Investment and Management"}]
[{"$f":"VLOOKUP(246,'Course List'!A:B,2,0)","v":"Not Taken"},{"$f":"IF(VLOOKUP(246,'Course List'!$A:$B,2,0)=\"Not Taken\",\"\",IF(VLOOKUP(246,'Course List'!$A:$C,3,0)=0,\"Unknown\",VLOOKUP(246,'Course List'!$A:$C,3,0)))","v":""},{"$f":"VLOOKUP(246,'Course List'!A:D,4,0)","v":"TECH"},{"$f":"VLOOKUP(246,'Course List'!A:E,5,0)","v":441},{"$f":"VLOOKUP(246,'Course List'!A:F,6,0)","v":"Intellectual Capital Management"}]
[{"$f":"VLOOKUP(97,'Course List'!A:B,2,0)","v":"Not Taken"},{"$f":"IF(VLOOKUP(97,'Course List'!$A:$B,2,0)=\"Not Taken\",\"\",IF(VLOOKUP(97,'Course List'!$A:$C,3,0)=0,\"Unknown\",VLOOKUP(97,'Course List'!$A:$C,3,0)))","v":""},{"$f":"VLOOKUP(97,'Course List'!A:D,4,0)","v":"HEMA"},{"$f":"VLOOKUP(97,'Course List'!A:E,5,0)","v":453},{"$f":"VLOOKUP(97,'Course List'!A:F,6,0)","v":"Managerial Challenges in the Pharmaceutical, Biotech, and Medical Devices Industries"}]
[{"$f":"VLOOKUP(94,'Course List'!A:B,2,0)","v":"Not Taken"},{"$f":"IF(VLOOKUP(94,'Course List'!$A:$B,2,0)=\"Not Taken\",\"\",IF(VLOOKUP(94,'Course List'!$A:$C,3,0)=0,\"Unknown\",VLOOKUP(94,'Course List'!$A:$C,3,0)))","v":""},{"$f":"VLOOKUP(94,'Course List'!A:D,4,0)","v":"HEMA"},{"$f":"VLOOKUP(94,'Course List'!A:E,5,0)","v":451},{"$f":"VLOOKUP(94,'Course List'!A:F,6,0)","v":"Legal Issues in Health Care Delivery"}]
[{"$f":"VLOOKUP(255,'Course List'!A:B,2,0)","v":"Not Taken"},{"$f":"IF(VLOOKUP(255,'Course List'!$A:$B,2,0)=\"Not Taken\",\"\",IF(VLOOKUP(255,'Course List'!$A:$C,3,0)=0,\"Unknown\",VLOOKUP(255,'Course List'!$A:$C,3,0)))","v":""},{"$f":"VLOOKUP(255,'Course List'!A:D,4,0)","v":"HEMA"},{"$f":"VLOOKUP(255,'Course List'!A:E,5,0)","v":512},{"$f":"VLOOKUP(255,'Course List'!A:F,6,0)","v":"Health Services Management Field Study/Project Management"}]
[{"$f":"VLOOKUP(93,'Course List'!A:B,2,0)","v":"Not Taken"},{"$f":"IF(VLOOKUP(93,'Course List'!$A:$B,2,0)=\"Not Taken\",\"\",IF(VLOOKUP(93,'Course List'!$A:$C,3,0)=0,\"Unknown\",VLOOKUP(93,'Course List'!$A:$C,3,0)))","v":""},{"$f":"VLOOKUP(93,'Course List'!A:D,4,0)","v":"HEMA"},{"$f":"VLOOKUP(93,'Course List'!A:E,5,0)","v":441},{"$f":"VLOOKUP(93,'Course List'!A:F,6,0)","v":"Health Policy"}]
[{"$f":"VLOOKUP(3,'Course List'!A:B,2,0)","v":"Not Taken"},{"$f":"IF(VLOOKUP(3,'Course List'!$A:$B,2,0)=\"Not Taken\",\"\",IF(VLOOKUP(3,'Course List'!$A:$C,3,0)=0,\"Unknown\",VLOOKUP(3,'Course List'!$A:$C,3,0)))","v":""},{"$f":"VLOOKUP(3,'Course List'!A:D,4,0)","v":"ACCT"},{"$f":"VLOOKUP(3,'Course List'!A:E,5,0)","v":432},{"$f":"VLOOKUP(3,'Course List'!A:F,6,0)","v":"Information Technology in Healthcare Management"}]
[{"$f":"VLOOKUP(16,'Course List'!A:B,2,0)","v":"Not Taken"},{"$f":"IF(VLOOKUP(16,'Course List'!$A:$B,2,0)=\"Not Taken\",\"\",IF(VLOOKUP(16,'Course List'!$A:$C,3,0)=0,\"Unknown\",VLOOKUP(16,'Course List'!$A:$C,3,0)))","v":""},{"$f":"VLOOKUP(16,'Course List'!A:D,4,0)","v":"ACCT"},{"$f":"VLOOKUP(16,'Course List'!A:E,5,0)","v":479},{"$f":"VLOOKUP(16,'Course List'!A:F,6,0)","v":"Financial Assessment and Performance Evaluation of Healthcare Entities"}]
[{"$f":"VLOOKUP(144,'Course List'!A:B,2,0)","v":"Not Taken"},{"$f":"IF(VLOOKUP(144,'Course List'!$A:$B,2,0)=\"Not Taken\",\"\",IF(VLOOKUP(144,'Course List'!$A:$C,3,0)=0,\"Unknown\",VLOOKUP(144,'Course List'!$A:$C,3,0)))","v":""},{"$f":"VLOOKUP(144,'Course List'!A:D,4,0)","v":"MGMT"},{"$f":"VLOOKUP(144,'Course List'!A:E,5,0)","v":469},{"$f":"VLOOKUP(144,'Course List'!A:F,6,0)","v":"Empirical Methods in Strategy"}]
[{"$f":"VLOOKUP(99,'Course List'!A:B,2,0)","v":"Not Taken"},{"$f":"IF(VLOOKUP(99,'Course List'!$A:$B,2,0)=\"Not Taken\",\"\",IF(VLOOKUP(99,'Course List'!$A:$C,3,0)=0,\"Unknown\",VLOOKUP(99,'Course List'!$A:$C,3,0)))","v":""},{"$f":"VLOOKUP(99,'Course List'!A:D,4,0)","v":"HEMA"},{"$f":"VLOOKUP(99,'Course List'!A:E,5,0)","v":911},{"$f":"VLOOKUP(99,'Course List'!A:F,6,0)","v":"Healthcare System Financing"}]
[{"$f":"IF(AND(A27=\"Complete\",A28=\"Complete\"),\"Complete\",IF(AND(A27=\"Enrolled\",A28=\"Enrolled\"),\"Enrolled\",IF(AND(A27=\"Complete\",A28=\"Will Enroll\"),\"In Progress\",IF(AND(A27=\"Complete\",A28=\"Enrolled\"),\"In Progress\",IF(AND(A27=\"Will Enroll\",A28=\"Will Enroll\"),\"Will Enroll\",\"Not Taken\")))))","v":"Not Taken"},null,"MORS-454A & HEMA-452B must be taken together to count towards the HEMA Major"]
[{"$f":"VLOOKUP(189,'Course List'!A:B,2,0)","v":"Not Taken"},{"$f":"IF(VLOOKUP(189,'Course List'!$A:$B,2,0)=\"Not Taken\",\"\",IF(VLOOKUP(189,'Course List'!$A:$C,3,0)=0,\"Unknown\",VLOOKUP(189,'Course List'!$A:$C,3,0)))","v":""},{"$f":"VLOOKUP(189,'Course List'!A:D,4,0)","v":"MORS"},{"$f":"VLOOKUP(189,'Course List'!A:E,5,0)","v":"454-A"},{"$f":"VLOOKUP(189,'Course List'!A:F,6,0)","v":"Creating and Managing Strategic Alliances"}]
[{"$f":"VLOOKUP(96,'Course List'!A:B,2,0)","v":"Not Taken"},{"$f":"IF(VLOOKUP(96,'Course List'!$A:$B,2,0)=\"Not Taken\",\"\",IF(VLOOKUP(96,'Course List'!$A:$C,3,0)=0,\"Unknown\",VLOOKUP(96,'Course List'!$A:$C,3,0)))","v":""},{"$f":"VLOOKUP(96,'Course List'!A:D,4,0)","v":"HEMA"},{"$f":"VLOOKUP(96,'Course List'!A:E,5,0)","v":"452-B"},{"$f":"VLOOKUP(96,'Course List'!A:F,6,0)","v":"Advanced Strategic Management in Healthcare"}]

{"sheet":"SEEK","index":34,"n_rows":62,"n_cols":6,"rows_kept":62,"cut":false,"hidden":false,"merged":[[2,0,2,4],[3,0,3,4]]}
["Social Enterprise at Kellogg (SEEK)"]
[]
[{"$f":"Formulae!A149","v":"POTENTIAL MAJOR"},null,null,null,null,"Normal major"]
[{"$f":"Formulae!A153","v":"POTENTIAL MAJOR"},null,null,null,null,"Nonprofit specialization"]
[]
["Status","Term","Department","Course #","Course Name"]
[]
[{"$f":"VLOOKUP(234,'Course List'!A:B,2,0)","v":"Will Enroll"},{"$f":"IF(VLOOKUP(234,'Course List'!$A:$B,2,0)=\"Not Taken\",\"\",IF(VLOOKUP(234,'Course List'!$A:$C,3,0)=0,\"Unknown\",VLOOKUP(234,'Course List'!$A:$C,3,0)))","v":"2nd Yr. Fall"},{"$f":"VLOOKUP(234,'Course List'!A:D,4,0)","v":"SEEK"},{"$f":"VLOOKUP(234,'Course List'!A:E,5,0)","v":"440-A"},{"$f":"VLOOKUP(234,'Course List'!A:F,6,0)","v":"Values and Crisis Decision Making"}]
[{"$f":"VLOOKUP(231,'Course List'!A:B,2,0)","v":"Not Taken"},{"$f":"IF(VLOOKUP(231,'Course List'!$A:$B,2,0)=\"Not Taken\",\"\",IF(VLOOKUP(231,'Course List'!$A:$C,3,0)=0,\"Unknown\",VLOOKUP(231,'Course List'!$A:$C,3,0)))","v":""},{"$f":"VLOOKUP(231,'Course List'!A:D,4,0)","v":"SEEK"},{"$f":"VLOOKUP(231,'Course List'!A:E,5,0)","v":441},{"$f":"VLOOKUP(231,'Course List'!A:F,6,0)","v":"Strategic Management in Non-Market Environments"}]
[]
[{"$f":"VLOOKUP(232,'Course List'!A:B,2,0)","v":"Not Taken"},{"$f":"IF(VLOOKUP(232,'Course List'!$A:$B,2,0)=\"Not Taken\",\"\",IF(VLOOKUP(232,'Course List'!$A:$C,3,0)=0,\"Unknown\",VLOOKUP(232,'Course List'!$A:$C,3,0)))","v":""},{"$f":"VLOOKUP(232,'Course List'!A:D,4,0)","v":"SEEK"},{"$f":"VLOOKUP(232,'Course List'!A:E,5,0)","v":450},{"$f":"VLOOKUP(232,'Course List'!A:F,6,0)","v":"Mission, Stategy and Finance in the Nonprofit Sector"}]
[{"$f":"VLOOKUP(239,'Course List'!A:B,2,0)","v":"Not Taken"},{"$f":"IF(VLOOKUP(239,'Course List'!$A:$B,2,0)=\"Not Taken\",\"\",IF(VLOOKUP(239,'Course List'!$A:$C,3,0)=0,\"Unknown\",VLOOKUP(239,'Course List'!$A:$C,3,0)))","v":""},{"$f":"VLOOKUP(239,'Course List'!A:D,4,0)","v":"SEEK"},{"$f":"VLOOKUP(239,'Course List'!A:E,5,0)","v":460},{"$f":"VLOOKUP(239,'Course List'!A:F,6,0)","v":"Values-Based Leadership"}]
[{"$f":"VLOOKUP(240,'Course List'!A:B,2,0)","v":"Not Taken"},{"$f":"IF(VLOOKUP(240,'Course List'!$A:$B,2,0)=\"Not Taken\",\"\",IF(VLOOKUP(240,'Course List'!$A:$C,3,0)=0,\"Unknown\",VLOOKUP(240,'Course List'!$A:$C,3,0)))","v":""},{"$f":"VLOOKUP(240,'Course List'!A:D,4,0)","v":"SEEK"},{"$f":"VLOOKUP(240,'Course List'!A:E,5,0)","v":470},{"$f":"VLOOKUP(240,'Course List'!A:F,6,0)","v":"Public Policy Analysis for Managers"}]
[]
[{"$f":"VLOOKUP(233,'Course List'!A:B,2,0)","v":"Not Taken"},{"$f":"IF(VLOOKUP(233,'Course List'!$A:$B,2,0)=\"Not Taken\",\"\",IF(VLOOKUP(233,'Course List'!$A:$C,3,0)=0,\"Unknown\",VLOOKUP(233,'Course List'!$A:$C,3,0)))","v":""},{"$f":"VLOOKUP(233,'Course List'!A:D,4,0)","v":"SEEK"},{"$f":"VLOOKUP(233,'Course List'!A:E,5,0)","v":451},{"$f":"VLOOKUP(233,'Course List'!A:F,6,0)","v":"Leadership in Fundraising and Marketing"}]
[{"$f":"VLOOKUP(264,'Course List'!A:B,2,0)","v":"Not Taken"},{"$f":"IF(VLOOKUP(264,'Course List'!$A:$B,2,0)=\"Not Taken\",\"\",IF(VLOOKUP(264,'Course List'!$A:$C,3,0)=0,\"Unknown\",VLOOKUP(264,'Course List'!$A:$C,3,0)))","v":""},{"$f":"VLOOKUP(264,'Course List'!A:D,4,0)","v":"SEEK"},{"$f":"VLOOKUP(264,'Course List'!A:E,5,0)","v":454},{"$f":"VLOOKUP(264,'Course List'!A:F,6,0)","v":"The Education Industry"}]
[{"$f":"VLOOKUP(241,'Course List'!A:B,2,0)","v":"Not Taken"},{"$f":"IF(VLOOKUP(241,'Course List'!$A:$B,2,0)=\"Not Taken\",\"\",IF(VLOOKUP(241,'Course List'!$A:$C,3,0)=0,\"Unknown\",VLOOKUP(241,'Course List'!$A:$C,3,0)))","v":""},{"$f":"VLOOKUP(241,'Course List'!A:D,4,0)","v":"SEEK"},{"$f":"VLOOKUP(241,'Course List'!A:E,5,0)","v":499},{"$f":"VLOOKUP(241,'Course List'!A:F,6,0)","v":"Independent Study"}]
[{"$f":"VLOOKUP(256,'Course List'!A:B,2,0)","v":"Not Taken"},{"$f":"IF(VLOOKUP(256,'Course List'!$A:$B,2,0)=\"Not Taken\",\"\",IF(VLOOKUP(256,'Course List'!$A:$C,3,0)=0,\"Unknown\",VLOOKUP(256,'Course List'!$A:$C,3,0)))","v":""},{"$f":"VLOOKUP(256,'Course List'!A:D,4,0)","v":"SEEK"},{"$f":"VLOOKUP(256,'Course List'!A:E,5,0)","v":935},{"$f":"VLOOKUP(256,'Course List'!A:F,6,0)","v":"Environmental Management"}]
[{"$f":"VLOOKUP(245,'Course List'!A:B,2,0)","v":"Not Taken"},{"$f":"IF(VLOOKUP(245,'Course List'!$A:$B,2,0)=\"Not Taken\",\"\",IF(VLOOKUP(245,'Course List'!$A:$C,3,0)=0,\"Unknown\",VLOOKUP(245,'Course List'!$A:$C,3,0)))","v":""},{"$f":"VLOOKUP(245,'Course List'!A:D,4,0)","v":"SEEK"},{"$f":"VLOOKUP(245,'Course List'!A:E,5,0)","v":955},{"$f":"VLOOKUP(245,'Course List'!A:F,6,0)","v":"Advanced Studies in Board Governance"}]
[{"$f":"VLOOKUP(230,'Course List'!A:B,2,0)","v":"Not Taken"},{"$f":"IF(VLOOKUP(230,'Course List'!$A:$B,2,0)=\"Not Taken\",\"\",IF(VLOOKUP(230,'Course List'!$A:$C,3,0)=0,\"Unknown\",VLOOKUP(230,'Course List'!$A:$C,3,0)))","v":""},{"$f":"VLOOKUP(230,'Course List'!A:D,4,0)","v":"SEEK"},{"$f":"VLOOKUP(230,'Course List'!A:E,5,0)","v":956},{"$f":"VLOOKUP(230,'Course List'!A:F,6,0)","v":"Social Entrepreneurship in the Developing World"}]
[{"$f":"VLOOKUP(106,'Course List'!A:B,2,0)","v":"Not Taken"},{"$f":"IF(VLOOKUP(106,'Course List'!$A:$B,2,0)=\"Not Taken\",\"\",IF(VLOOKUP(106,'Course List'!$A:$C,3,0)=0,\"Unknown\",VLOOKUP(106,'Course List'!$A:$C,3,0)))","v":""},{"$f":"VLOOKUP(106,'Course List'!A:D,4,0)","v":"INTL"},{"$f":"VLOOKUP(106,'Course List'!A:E,5,0)","v":466},{"$f":"VLOOKUP(106,'Course List'!A:F,6,0)","v":"International Business Strategy in Non-Market Environments"}]
[{"$f":"VLOOKUP(269,'Course List'!A:B,2,0)","v":"Not Taken"},{"$f":"IF(VLOOKUP(269,'Course List'!$A:$B,2,0)=\"Not Taken\",\"\",IF(VLOOKUP(269,'Course List'!$A:$C,3,0)=0,\"Unknown\",VLOOKUP(269,'Course List'!$A:$C,3,0)))","v":""},{"$f":"VLOOKUP(269,'Course List'!A:D,4,0)","v":"REAL"},{"$f":"VLOOKUP(269,'Course List'!A:E,5,0)","v":448},{"$f":"VLOOKUP(269,'Course List'!A:F,6,0)","v":"Urban Public Finance"}]
["Not Taken",{"$f":"IF(VLOOKUP(13,'Course List'!$A:$B,2,0)=\"Not Taken\",\"\",IF(VLOOKUP(13,'Course List'!$A:$C,3,0)=0,\"Unknown\",VLOOKUP(13,'Course List'!$A:$C,3,0)))","v":""},{"$f":"VLOOKUP(13,'Course List'!A:D,4,0)","v":"ACCT"},{"$f":"VLOOKUP(13,'Course List'!A:E,5,0)","v":454},{"$f":"VLOOKUP(13,'Course List'!A:F,6,0)","v":"Management Lab (M-Lab)"}]
[{"$f":"IF(COUNTIF(A26:A29,\"Complete\")>=2,\"Complete\",IF(AND(COUNTIF(A26:A29,\"Complete\")=1,COUNTIF(A26:A29,\"Enrolled\")>=1),\"Enrolled\",IF(COUNTIF(A26:A29,\"Enrolled\")>=2,\"Enrolled\",\"Not Taken\")))","v":"Not Taken"},null,"Two half credit courses must be taken to count for one credit towards the SEEK major."]
[{"$f":"VLOOKUP(238,'Course List'!A:B,2,0)","v":"Not Taken"},{"$f":"IF(VLOOKUP(238,'Course List'!$A:$B,2,0)=\"Not Taken\",\"\",IF(VLOOKUP(238,'Course List'!$A:$C,3,0)=0,\"Unknown\",VLOOKUP(238,'Course List'!$A:$C,3,0)))","v":""},{"$f":"VLOOKUP(238,'Course List'!A:D,4,0)","v":"SEEK"},{"$f":"VLOOKUP(238,'Course List'!A:E,5,0)","v":"453-B"},{"$f":"VLOOKUP(238,'Course List'!A:F,6,0)","v":"Board Governance of Nonprofit Organizations"}]
[{"$f":"VLOOKUP(237,'Course List'!A:B,2,0)","v":"Not Taken"},{"$f":"IF(VLOOKUP(237,'Course List'!$A:$B,2,0)=\"Not Taken\",\"\",IF(VLOOKUP(237,'Course List'!$A:$C,3,0)=0,\"Unknown\",VLOOKUP(237,'Course List'!$A:$C,3,0)))","v":""},{"$f":"VLOOKUP(237,'Course List'!A:D,4,0)","v":"SEEK"},{"$f":"VLOOKUP(237,'Course List'!A:E,5,0)","v":"453-A"},{"$f":"VLOOKUP(237,'Course List'!A:F,6,0)","v":"Board Governance of Nonprofit Organizations"}]
[{"$f":"VLOOKUP(82,'Course List'!A:B,2,0)","v":"Not Taken"},{"$f":"IF(VLOOKUP(82,'Course List'!$A:$B,2,0)=\"Not Taken\",\"\",IF(VLOOKUP(82,'Course List'!$A:$C,3,0)=0,\"Unknown\",VLOOKUP(82,'Course List'!$A:$C,3,0)))","v":""},{"$f":"VLOOKUP(82,'Course List'!A:D,4,0)","v":"FINC"},{"$f":"VLOOKUP(82,'Course List'!A:E,5,0)","v":"930-A"},{"$f":"VLOOKUP(82,'Course List'!A:F,6,0)","v":"Environmental Finance"}]
[{"$f":"VLOOKUP(83,'Course List'!A:B,2,0)","v":"Not Taken"},{"$f":"IF(VLOOKUP(83,'Course List'!$A:$B,2,0)=\"Not Taken\",\"\",IF(VLOOKUP(83,'Course List'!$A:$C,3,0)=0,\"Unknown\",VLOOKUP(83,'Course List'!$A:$C,3,0)))","v":""},{"$f":"VLOOKUP(83,'Course List'!A:D,4,0)","v":"FINC"},{"$f":"VLOOKUP(83,'Course List'!A:E,5,0)","v":"930-B"},{"$f":"VLOOKUP(83,'Course List'!A:F,6,0)","v":"Environmental Finance"}]
[{"$f":"VLOOKUP(90,'Course List'!A:B,2,0)","v":"Not Taken"},{"$f":"IF(VLOOKUP(90,'Course List'!$A:$B,2,0)=\"Not Taken\",\"\",IF(VLOOKUP(90,'Course List'!$A:$C,3,0)=0,\"Unknown\",VLOOKUP(90,'Course List'!$A:$C,3,0)))","v":""},{"$f":"VLOOKUP(90,'Course List'!A:D,4,0)","v":"FINC"},{"$f":"VLOOKUP(90,'Course List'!A:E,5,0)","v":"937-A"},{"$f":"VLOOKUP(90,'Course List'!A:F,6,0)","v":"Microfinance & the Role of Financial Institutions in Development"}]
[]
[]
[]
["SEEK major with Nonprofit specialization"]
[]
[{"$f":"VLOOKUP(234,'Course List'!A:B,2,0)","v":"Will Enroll"},{"$f":"IF(VLOOKUP(234,'Course List'!$A:$B,2,0)=\"Not Taken\",\"\",IF(VLOOKUP(234,'Course List'!$A:$C,3,0)=0,\"Unknown\",VLOOKUP(234,'Course List'!$A:$C,3,0)))","v":"2nd Yr. Fall"},{"$f":"VLOOKUP(234,'Course List'!A:D,4,0)","v":"SEEK"},{"$f":"VLOOKUP(234,'Course List'!A:E,5,0)","v":"440-A"},{"$f":"VLOOKUP(234,'Course List'!A:F,6,0)","v":"Values and Crisis Decision Making"}]
[{"$f":"VLOOKUP(231,'Course List'!A:B,2,0)","v":"Not Taken"},{"$f":"IF(VLOOKUP(231,'Course List'!$A:$B,2,0)=\"Not Taken\",\"\",IF(VLOOKUP(231,'Course List'!$A:$C,3,0)=0,\"Unknown\",VLOOKUP(231,'Course List'!$A:$C,3,0)))","v":""},{"$f":"VLOOKUP(231,'Course List'!A:D,4,0)","v":"SEEK"},{"$f":"VLOOKUP(231,'Course List'!A:E,5,0)","v":441},{"$f":"VLOOKUP(231,'Course List'!A:F,6,0)","v":"Strategic Management in Non-Market Environments"}]
[{"$f":"VLOOKUP(232,'Course List'!A:B,2,0)","v":"Not Taken"},{"$f":"IF(VLOOKUP(232,'Course List'!$A:$B,2,0)=\"Not Taken\",\"\",IF(VLOOKUP(232,'Course List'!$A:$C,3,0)=0,\"Unknown\",VLOOKUP(232,'Course List'!$A:$C,3,0)))","v":""},{"$f":"VLOOKUP(232,'Course List'!A:D,4,0)","v":"SEEK"},{"$f":"VLOOKUP(232,'Course List'!A:E,5,0)","v":450},{"$f":"VLOOKUP(232,'Course List'!A:F,6,0)","v":"Mission, Stategy and Finance in the Nonprofit Sector"}]
[]
[{"$f":"VLOOKUP(233,'Course List'!A:B,2,0)","v":"Not Taken"},{"$f":"IF(VLOOKUP(233,'Course List'!$A:$B,2,0)=\"Not Taken\",\"\",IF(VLOOKUP(233,'Course List'!$A:$C,3,0)=0,\"Unknown\",VLOOKUP(233,'Course List'!$A:$C,3,0)))","v":""},{"$f":"VLOOKUP(233,'Course List'!A:D,4,0)","v":"SEEK"},{"$f":"VLOOKUP(233,'Course List'!A:E,5,0)","v":451},{"$f":"VLOOKUP(233,'Course List'!A:F,6,0)","v":"Leadership in Fundraising and Marketing"}]
[{"$f":"VLOOKUP(245,'Course List'!A:B,2,0)","v":"Not Taken"},{"$f":"IF(VLOOKUP(245,'Course List'!$A:$B,2,0)=\"Not Taken\",\"\",IF(VLOOKUP(245,'Course List'!$A:$C,3,0)=0,\"Unknown\",VLOOKUP(245,'Course List'!$A:$C,3,0)))","v":""},{"$f":"VLOOKUP(245,'Course List'!A:D,4,0)","v":"SEEK"},{"$f":"VLOOKUP(245,'Course List'!A:E,5,0)","v":955},{"$f":"VLOOKUP(245,'Course List'!A:F,6,0)","v":"Advanced Studies in Board Governance"}]
[{"$f":"VLOOKUP(230,'Course List'!A:B,2,0)","v":"Not Taken"},{"$f":"IF(VLOOKUP(230,'Course List'!$A:$B,2,0)=\"Not Taken\",\"\",IF(VLOOKUP(230,'Course List'!$A:$C,3,0)=0,\"Unknown\",VLOOKUP(230,'Course List'!$A:$C,3,0)))","v":""},{"$f":"VLOOKUP(230,'Course List'!A:D,4,0)","v":"SEEK"},{"$f":"VLOOKUP(230,'Course List'!A:E,5,0)","v":956},{"$f":"VLOOKUP(230,'Course List'!A:F,6,0)","v":"Social Entrepreneurship in the Developing World"}]
[{"$f":"IF(COUNTIF(A43:A44,\"Complete\")>=2,\"Complete\",IF(AND(COUNTIF(A43:A44,\"Complete\")=1,COUNTIF(A43:A44,\"Enrolled\")>=1),\"Enrolled\",IF(COUNTIF(A43:A44,\"Enrolled\")>=2,\"Enrolled\",\"Not Taken\")))","v":"Not Taken"},null,"Two half credit courses must be taken to count for one credit towards the SEEK major."]
[{"$f":"VLOOKUP(236,'Course List'!A:B,2,0)","v":"Not Taken"},{"$f":"IF(VLOOKUP(236,'Course List'!$A:$B,2,0)=\"Not Taken\",\"\",IF(VLOOKUP(236,'Course List'!$A:$C,3,0)=0,\"Unknown\",VLOOKUP(236,'Course List'!$A:$C,3,0)))","v":""},{"$f":"VLOOKUP(236,'Course List'!A:D,4,0)","v":"SEEK"},{"$f":"VLOOKUP(236,'Course List'!A:E,5,0)","v":"452-B"},{"$f":"VLOOKUP(236,'Course List'!A:F,6,0)","v":"Social Entrepreneurship"}]
[{"$f":"VLOOKUP(238,'Course List'!A:B,2,0)","v":"Not Taken"},{"$f":"IF(VLOOKUP(238,'Course List'!$A:$B,2,0)=\"Not Taken\",\"\",IF(VLOOKUP(238,'Course List'!$A:$C,3,0)=0,\"Unknown\",VLOOKUP(238,'Course List'!$A:$C,3,0)))","v":""},{"$f":"VLOOKUP(238,'Course List'!A:D,4,0)","v":"SEEK"},{"$f":"VLOOKUP(238,'Course List'!A:E,5,0)","v":"453-B"},{"$f":"VLOOKUP(238,'Course List'!A:F,6,0)","v":"Board Governance of Nonprofit Organizations"}]
[]
[{"$f":"VLOOKUP(233,'Course List'!A:B,2,0)","v":"Not Taken"},{"$f":"IF(VLOOKUP(233,'Course List'!$A:$B,2,0)=\"Not Taken\",\"\",IF(VLOOKUP(233,'Course List'!$A:$C,3,0)=0,\"Unknown\",VLOOKUP(233,'Course List'!$A:$C,3,0)))","v":""},{"$f":"VLOOKUP(233,'Course List'!A:D,4,0)","v":"SEEK"},{"$f":"VLOOKUP(233,'Course List'!A:E,5,0)","v":451},{"$f":"VLOOKUP(233,'Course List'!A:F,6,0)","v":"Leadership in Fundraising and Marketing"}]
[{"$f":"VLOOKUP(264,'Course List'!A:B,2,0)","v":"Not Taken"},{"$f":"IF(VLOOKUP(264,'Course List'!$A:$B,2,0)=\"Not Taken\",\"\",IF(VLOOKUP(264,'Course List'!$A:$C,3,0)=0,\"Unknown\",VLOOKUP(264,'Course List'!$A:$C,3,0)))","v":""},{"$f":"VLOOKUP(264,'Course List'!A:D,4,0)","v":"SEEK"},{"$f":"VLOOKUP(264,'Course List'!A:E,5,0)","v":454},{"$f":"VLOOKUP(264,'Course List'!A:F,6,0)","v":"The Education Industry"}]
[{"$f":"VLOOKUP(239,'Course List'!A:B,2,0)","v":"Not Taken"},{"$f":"IF(VLOOKUP(239,'Course List'!$A:$B,2,0)=\"Not Taken\",\"\",IF(VLOOKUP(239,'Course List'!$A:$C,3,0)=0,\"Unknown\",VLOOKUP(239,'Course List'!$A:$C,3,0)))","v":""},{"$f":"VLOOKUP(239,'Course List'!A:D,4,0)","v":"SEEK"},{"$f":"VLOOKUP(239,'Course List'!A:E,5,0)","v":460},{"$f":"VLOOKUP(239,'Course List'!A:F,6,0)","v":"Values-Based Leadership"}]
[{"$f":"VLOOKUP(240,'Course List'!A:B,2,0)","v":"Not Taken"},{"$f":"IF(VLOOKUP(240,'Course List'!$A:$B,2,0)=\"Not Taken\",\"\",IF(VLOOKUP(240,'Course List'!$A:$C,3,0)=0,\"Unknown\",VLOOKUP(240,'Course List'!$A:$C,3,0)))","v":""},{"$f":"VLOOKUP(240,'Course List'!A:D,4,0)","v":"SEEK"},{"$f":"VLOOKUP(240,'Course List'!A:E,5,0)","v":470},{"$f":"VLOOKUP(240,'Course List'!A:F,6,0)","v":"Public Policy Analysis for Managers"}]
[{"$f":"VLOOKUP(241,'Course List'!A:B,2,0)","v":"Not Taken"},{"$f":"IF(VLOOKUP(241,'Course List'!$A:$B,2,0)=\"Not Taken\",\"\",IF(VLOOKUP(241,'Course List'!$A:$C,3,0)=0,\"Unknown\",VLOOKUP(241,'Course List'!$A:$C,3,0)))","v":""},{"$f":"VLOOKUP(241,'Course List'!A:D,4,0)","v":"SEEK"},{"$f":"VLOOKUP(241,'Course List'!A:E,5,0)","v":499},{"$f":"VLOOKUP(241,'Course List'!A:F,6,0)","v":"Independent Study"}]
[{"$f":"VLOOKUP(256,'Course List'!A:B,2,0)","v":"Not Taken"},{"$f":"IF(VLOOKUP(256,'Course List'!$A:$B,2,0)=\"Not Taken\",\"\",IF(VLOOKUP(256,'Course List'!$A:$C,3,0)=0,\"Unknown\",VLOOKUP(256,'Course List'!$A:$C,3,0)))","v":""},{"$f":"VLOOKUP(256,'Course List'!A:D,4,0)","v":"SEEK"},{"$f":"VLOOKUP(256,'Course List'!A:E,5,0)","v":935},{"$f":"VLOOKUP(256,'Course List'!A:F,6,0)","v":"Environmental Management"}]
[{"$f":"VLOOKUP(245,'Course List'!A:B,2,0)","v":"Not Taken"},{"$f":"IF(VLOOKUP(245,'Course List'!$A:$B,2,0)=\"Not Taken\",\"\",IF(VLOOKUP(245,'Course List'!$A:$C,3,0)=0,\"Unknown\",VLOOKUP(245,'Course List'!$A:$C,3,0)))","v":""},{"$f":"VLOOKUP(245,'Course List'!A:D,4,0)","v":"SEEK"},{"$f":"VLOOKUP(245,'Course List'!A:E,5,0)","v":955},{"$f":"VLOOKUP(245,'Course List'!A:F,6,0)","v":"Advanced Studies in Board Governance"}]
[{"$f":"VLOOKUP(230,'Course List'!A:B,2,0)","v":"Not Taken"},{"$f":"IF(VLOOKUP(230,'Course List'!$A:$B,2,0)=\"Not Taken\",\"\",IF(VLOOKUP(230,'Course List'!$A:$C,3,0)=0,\"Unknown\",VLOOKUP(230,'Course List'!$A:$C,3,0)))","v":""},{"$f":"VLOOKUP(230,'Course List'!A:D,4,0)","v":"SEEK"},{"$f":"VLOOKUP(230,'Course List'!A:E,5,0)","v":956},{"$f":"VLOOKUP(230,'Course List'!A:F,6,0)","v":"Social Entrepreneurship in the Developing World"}]
[{"$f":"VLOOKUP(106,'Course List'!A:B,2,0)","v":"Not Taken"},{"$f":"IF(VLOOKUP(106,'Course List'!$A:$B,2,0)=\"Not Taken\",\"\",IF(VLOOKUP(106,'Course List'!$A:$C,3,0)=0,\"Unknown\",VLOOKUP(106,'Course List'!$A:$C,3,0)))","v":""},{"$f":"VLOOKUP(106,'Course List'!A:D,4,0)","v":"INTL"},{"$f":"VLOOKUP(106,'Course List'!A:E,5,0)","v":466},{"$f":"VLOOKUP(106,'Course List'!A:F,6,0)","v":"International Business Strategy in Non-Market Environments"}]
[{"$f":"VLOOKUP(269,'Course List'!A:B,2,0)","v":"Not Taken"},{"$f":"IF(VLOOKUP(269,'Course List'!$A:$B,2,0)=\"Not Taken\",\"\",IF(VLOOKUP(269,'Course List'!$A:$C,3,0)=0,\"Unknown\",VLOOKUP(269,'Course List'!$A:$C,3,0)))","v":""},{"$f":"VLOOKUP(269,'Course List'!A:D,4,0)","v":"REAL"},{"$f":"VLOOKUP(269,'Course List'!A:E,5,0)","v":448},{"$f":"VLOOKUP(269,'Course List'!A:F,6,0)","v":"Urban Public Finance"}]
["Not Taken",{"$f":"IF(VLOOKUP(13,'Course List'!$A:$B,2,0)=\"Not Taken\",\"\",IF(VLOOKUP(13,'Course List'!$A:$C,3,0)=0,\"Unknown\",VLOOKUP(13,'Course List'!$A:$C,3,0)))","v":""},{"$f":"VLOOKUP(13,'Course List'!A:D,4,0)","v":"ACCT"},{"$f":"VLOOKUP(13,'Course List'!A:E,5,0)","v":454},{"$f":"VLOOKUP(13,'Course List'!A:F,6,0)","v":"Management Lab (M-Lab)"}]
[{"$f":"IF(COUNTIF(A59:A62,\"Complete\")>=2,\"Complete\",IF(AND(COUNTIF(A59:A62,\"Complete\")=1,COUNTIF(A59:A62,\"Enrolled\")>=1),\"Enrolled\",IF(COUNTIF(A59:A62,\"Enrolled\")>=2,\"Enrolled\",\"Not Taken\")))","v":"Not Taken"},null,"Two half credit courses must be taken to count for one credit towards the SEEK major."]
[{"$f":"VLOOKUP(238,'Course List'!A:B,2,0)","v":"Not Taken"},{"$f":"IF(VLOOKUP(238,'Course List'!$A:$B,2,0)=\"Not Taken\",\"\",IF(VLOOKUP(238,'Course List'!$A:$C,3,0)=0,\"Unknown\",VLOOKUP(238,'Course List'!$A:$C,3,0)))","v":""},{"$f":"VLOOKUP(238,'Course List'!A:D,4,0)","v":"SEEK"},{"$f":"VLOOKUP(238,'Course List'!A:E,5,0)","v":"453-B"},{"$f":"VLOOKUP(238,'Course List'!A:F,6,0)","v":"Board Governance of Nonprofit Organizations"}]
[{"$f":"VLOOKUP(237,'Course List'!A:B,2,0)","v":"Not Taken"},{"$f":"IF(VLOOKUP(237,'Course List'!$A:$B,2,0)=\"Not Taken\",\"\",IF(VLOOKUP(237,'Course List'!$A:$C,3,0)=0,\"Unknown\",VLOOKUP(237,'Course List'!$A:$C,3,0)))","v":""},{"$f":"VLOOKUP(237,'Course List'!A:D,4,0)","v":"SEEK"},{"$f":"VLOOKUP(237,'Course List'!A:E,5,0)","v":"453-A"},{"$f":"VLOOKUP(237,'Course List'!A:F,6,0)","v":"Board Governance of Nonprofit Organizations"}]
[{"$f":"VLOOKUP(82,'Course List'!A:B,2,0)","v":"Not Taken"},{"$f":"IF(VLOOKUP(82,'Course List'!$A:$B,2,0)=\"Not Taken\",\"\",IF(VLOOKUP(82,'Course List'!$A:$C,3,0)=0,\"Unknown\",VLOOKUP(82,'Course List'!$A:$C,3,0)))","v":""},{"$f":"VLOOKUP(82,'Course List'!A:D,4,0)","v":"FINC"},{"$f":"VLOOKUP(82,'Course List'!A:E,5,0)","v":"930-A"},{"$f":"VLOOKUP(82,'Course List'!A:F,6,0)","v":"Environmental Finance"}]
[{"$f":"VLOOKUP(83,'Course List'!A:B,2,0)","v":"Not Taken"},{"$f":"IF(VLOOKUP(83,'Course List'!$A:$B,2,0)=\"Not Taken\",\"\",IF(VLOOKUP(83,'Course List'!$A:$C,3,0)=0,\"Unknown\",VLOOKUP(83,'Course List'!$A:$C,3,0)))","v":""},{"$f":"VLOOKUP(83,'Course List'!A:D,4,0)","v":"FINC"},{"$f":"VLOOKUP(83,'Course List'!A:E,5,0)","v":"930-B"},{"$f":"VLOOKUP(83,'Course List'!A:F,6,0)","v":"Environmental Finance"}]
[{"$f":"VLOOKUP(90,'Course List'!A:B,2,0)","v":"Not Taken"},{"$f":"IF(VLOOKUP(90,'Course List'!$A:$B,2,0)=\"Not Taken\",\"\",IF(VLOOKUP(90,'Course List'!$A:$C,3,0)=0,\"Unknown\",VLOOKUP(90,'Course List'!$A:$C,3,0)))","v":""},{"$f":"VLOOKUP(90,'Course List'!A:D,4,0)","v":"FINC"},{"$f":"VLOOKUP(90,'Course List'!A:E,5,0)","v":"937-A"},{"$f":"VLOOKUP(90,'Course List'!A:F,6,0)","v":"Microfinance & the Role of Financial Institutions in Development"}]

{"sheet":"Tech Industry MGMT","index":35,"n_rows":23,"n_cols":5,"rows_kept":23,"cut":false,"hidden":false,"merged":[[2,0,2,4]]}
["Technology Industry Management"]
[]
[{"$f":"Formulae!A166","v":"NOT MAJORING IN THIS FIELD"}]
[]
["Status","Term","Department","Course #","Course Name"]
[]
[{"$f":"VLOOKUP(249,'Course List'!A:B,2,0)","v":"Not Taken"},{"$f":"IF(VLOOKUP(249,'Course List'!$A:$B,2,0)=\"Not Taken\",\"\",IF(VLOOKUP(249,'Course List'!$A:$C,3,0)=0,\"Unknown\",VLOOKUP(249,'Course List'!$A:$C,3,0)))","v":""},{"$f":"VLOOKUP(249,'Course List'!A:D,4,0)","v":"TECH"},{"$f":"VLOOKUP(249,'Course List'!A:E,5,0)","v":442},{"$f":"VLOOKUP(249,'Course List'!A:F,6,0)","v":"Enterprise Technology for General Managers"}]
[]
[{"$f":"VLOOKUP(246,'Course List'!A:B,2,0)","v":"Not Taken"},{"$f":"IF(VLOOKUP(246,'Course List'!$A:$B,2,0)=\"Not Taken\",\"\",IF(VLOOKUP(246,'Course List'!$A:$C,3,0)=0,\"Unknown\",VLOOKUP(246,'Course List'!$A:$C,3,0)))","v":""},{"$f":"VLOOKUP(246,'Course List'!A:D,4,0)","v":"TECH"},{"$f":"VLOOKUP(246,'Course List'!A:E,5,0)","v":441},{"$f":"VLOOKUP(246,'Course List'!A:F,6,0)","v":"Intellectual Capital Management"}]
[{"$f":"VLOOKUP(248,'Course List'!A:B,2,0)","v":"Not Taken"},{"$f":"IF(VLOOKUP(248,'Course List'!$A:$B,2,0)=\"Not Taken\",\"\",IF(VLOOKUP(248,'Course List'!$A:$C,3,0)=0,\"Unknown\",VLOOKUP(248,'Course List'!$A:$C,3,0)))","v":""},{"$f":"VLOOKUP(248,'Course List'!A:D,4,0)","v":"TECH"},{"$f":"VLOOKUP(248,'Course List'!A:E,5,0)","v":911},{"$f":"VLOOKUP(248,'Course List'!A:F,6,0)","v":"The Strategic Impact of Information Technology"}]
[{"$f":"VLOOKUP(250,'Course List'!A:B,2,0)","v":"Not Taken"},{"$f":"IF(VLOOKUP(250,'Course List'!$A:$B,2,0)=\"Not Taken\",\"\",IF(VLOOKUP(250,'Course List'!$A:$C,3,0)=0,\"Unknown\",VLOOKUP(250,'Course List'!$A:$C,3,0)))","v":""},{"$f":"VLOOKUP(250,'Course List'!A:D,4,0)","v":"TECH"},{"$f":"VLOOKUP(250,'Course List'!A:E,5,0)","v":917},{"$f":"VLOOKUP(250,'Course List'!A:F,6,0)","v":"Analytical Marketing and Customer Relationship Management"}]
[{"$f":"VLOOKUP(251,'Course List'!A:B,2,0)","v":"Not Taken"},{"$f":"IF(VLOOKUP(251,'Course List'!$A:$B,2,0)=\"Not Taken\",\"\",IF(VLOOKUP(251,'Course List'!$A:$C,3,0)=0,\"Unknown\",VLOOKUP(251,'Course List'!$A:$C,3,0)))","v":""},{"$f":"VLOOKUP(251,'Course List'!A:D,4,0)","v":"TECH"},{"$f":"VLOOKUP(251,'Course List'!A:E,5,0)","v":918},{"$f":"VLOOKUP(251,'Course List'!A:F,6,0)","v":"Kellogg TechVenture"}]
[{"$f":"VLOOKUP(252,'Course List'!A:B,2,0)","v":"Not Taken"},{"$f":"IF(VLOOKUP(252,'Course List'!$A:$B,2,0)=\"Not Taken\",\"\",IF(VLOOKUP(252,'Course List'!$A:$C,3,0)=0,\"Unknown\",VLOOKUP(252,'Course List'!$A:$C,3,0)))","v":""},{"$f":"VLOOKUP(252,'Course List'!A:D,4,0)","v":"TECH"},{"$f":"VLOOKUP(252,'Course List'!A:E,5,0)","v":919},{"$f":"VLOOKUP(252,'Course List'!A:F,6,0)","v":"Innovation Process Management"}]
[{"$f":"VLOOKUP(277,'Course List'!A:B,2,0)","v":"Not Taken"},{"$f":"IF(VLOOKUP(277,'Course List'!$A:$B,2,0)=\"Not Taken\",\"\",IF(VLOOKUP(277,'Course List'!$A:$C,3,0)=0,\"Unknown\",VLOOKUP(277,'Course List'!$A:$C,3,0)))","v":""},{"$f":"VLOOKUP(277,'Course List'!A:D,4,0)","v":"TECH"},{"$f":"VLOOKUP(277,'Course List'!A:E,5,0)","v":443},{"$f":"VLOOKUP(277,'Course List'!A:F,6,0)","v":"Managing Portfolios and Projects"}]
[{"$f":"VLOOKUP(97,'Course List'!A:B,2,0)","v":"Not Taken"},{"$f":"IF(VLOOKUP(97,'Course List'!$A:$B,2,0)=\"Not Taken\",\"\",IF(VLOOKUP(97,'Course List'!$A:$C,3,0)=0,\"Unknown\",VLOOKUP(97,'Course List'!$A:$C,3,0)))","v":""},{"$f":"VLOOKUP(97,'Course List'!A:D,4,0)","v":"HEMA"},{"$f":"VLOOKUP(97,'Course List'!A:E,5,0)","v":453},{"$f":"VLOOKUP(97,'Course List'!A:F,6,0)","v":"Managerial Challenges in the Pharmaceutical, Biotech, and Medical Devices Industries"}]
[{"$f":"VLOOKUP(98,'Course List'!A:B,2,0)","v":"Not Taken"},{"$f":"IF(VLOOKUP(98,'Course List'!$A:$B,2,0)=\"Not Taken\",\"\",IF(VLOOKUP(98,'Course List'!$A:$C,3,0)=0,\"Unknown\",VLOOKUP(98,'Course List'!$A:$C,3,0)))","v":""},{"$f":"VLOOKUP(98,'Course List'!A:D,4,0)","v":"HEMA"},{"$f":"VLOOKUP(98,'Course List'!A:E,5,0)","v":455},{"$f":"VLOOKUP(98,'Course List'!A:F,6,0)","v":"Special Topics in the Pharmaceutical, Biotechnology and Medical Device Industries"}]
[{"$f":"VLOOKUP(139,'Course List'!A:B,2,0)","v":"Not Taken"},{"$f":"IF(VLOOKUP(139,'Course List'!$A:$B,2,0)=\"Not Taken\",\"\",IF(VLOOKUP(139,'Course List'!$A:$C,3,0)=0,\"Unknown\",VLOOKUP(139,'Course List'!$A:$C,3,0)))","v":""},{"$f":"VLOOKUP(139,'Course List'!A:D,4,0)","v":"MGMT"},{"$f":"VLOOKUP(139,'Course List'!A:E,5,0)","v":463},{"$f":"VLOOKUP(139,'Course List'!A:F,6,0)","v":"Management of Technology"}]
[{"$f":"VLOOKUP(175,'Course List'!A:B,2,0)","v":"Not Taken"},{"$f":"IF(VLOOKUP(175,'Course List'!$A:$B,2,0)=\"Not Taken\",\"\",IF(VLOOKUP(175,'Course List'!$A:$C,3,0)=0,\"Unknown\",VLOOKUP(175,'Course List'!$A:$C,3,0)))","v":""},{"$f":"VLOOKUP(175,'Course List'!A:D,4,0)","v":"MKTG"},{"$f":"VLOOKUP(175,'Course List'!A:E,5,0)","v":468},{"$f":"VLOOKUP(175,'Course List'!A:F,6,0)","v":"Technology Marketing"}]
[{"$f":"VLOOKUP(178,'Course List'!A:B,2,0)","v":"Not Taken"},{"$f":"IF(VLOOKUP(178,'Course List'!$A:$B,2,0)=\"Not Taken\",\"\",IF(VLOOKUP(178,'Course List'!$A:$C,3,0)=0,\"Unknown\",VLOOKUP(178,'Course List'!$A:$C,3,0)))","v":""},{"$f":"VLOOKUP(178,'Course List'!A:D,4,0)","v":"MKTG"},{"$f":"VLOOKUP(178,'Course List'!A:E,5,0)","v":913},{"$f":"VLOOKUP(178,'Course List'!A:F,6,0)","v":"Internet Marketing"}]
[{"$f":"VLOOKUP(178,'Course List'!A:B,2,0)","v":"Not Taken"},{"$f":"IF(VLOOKUP(178,'Course List'!$A:$B,2,0)=\"Not Taken\",\"\",IF(VLOOKUP(178,'Course List'!$A:$C,3,0)=0,\"Unknown\",VLOOKUP(178,'Course List'!$A:$C,3,0)))","v":""},{"$f":"VLOOKUP(178,'Course List'!A:D,4,0)","v":"MKTG"},{"$f":"VLOOKUP(178,'Course List'!A:E,5,0)","v":913},{"$f":"VLOOKUP(178,'Course List'!A:F,6,0)","v":"Internet Marketing"}]
[{"$f":"VLOOKUP(225,'Course List'!A:B,2,0)","v":"Not Taken"},{"$f":"IF(VLOOKUP(225,'Course List'!$A:$B,2,0)=\"Not Taken\",\"\",IF(VLOOKUP(225,'Course List'!$A:$C,3,0)=0,\"Unknown\",VLOOKUP(225,'Course List'!$A:$C,3,0)))","v":""},{"$f":"VLOOKUP(225,'Course List'!A:D,4,0)","v":"MKTG"},{"$f":"VLOOKUP(225,'Course List'!A:E,5,0)","v":952},{"$f":"VLOOKUP(225,'Course List'!A:F,6,0)","v":"Strategic Data-Driven Marketing"}]
[{"$f":"VLOOKUP(219,'Course List'!A:B,2,0)","v":"Not Taken"},{"$f":"IF(VLOOKUP(219,'Course List'!$A:$B,2,0)=\"Not Taken\",\"\",IF(VLOOKUP(219,'Course List'!$A:$C,3,0)=0,\"Unknown\",VLOOKUP(219,'Course List'!$A:$C,3,0)))","v":""},{"$f":"VLOOKUP(219,'Course List'!A:D,4,0)","v":"OPNS"},{"$f":"VLOOKUP(219,'Course List'!A:E,5,0)","v":915},{"$f":"VLOOKUP(219,'Course List'!A:F,6,0)","v":"Information Technology and Business Process Management"}]
["Not Taken",{"$f":"IF(VLOOKUP(13,'Course List'!$A:$B,2,0)=\"Not Taken\",\"\",IF(VLOOKUP(13,'Course List'!$A:$C,3,0)=0,\"Unknown\",VLOOKUP(13,'Course List'!$A:$C,3,0)))","v":""},{"$f":"VLOOKUP(13,'Course List'!A:D,4,0)","v":"ACCT"},{"$f":"VLOOKUP(13,'Course List'!A:E,5,0)","v":454},{"$f":"VLOOKUP(13,'Course List'!A:F,6,0)","v":"Management Lab (M-Lab)"}]

{"sheet":"Formulae","index":36,"n_rows":169,"n_cols":1,"rows_kept":169,"cut":false,"hidden":true,"merged":[]}
["Accounting Information & Management"]
[{"$f":"IF(AND(AND('ACCT Info & MGMT'!A9=\"Complete\",COUNTIF('ACCT Info & MGMT'!A7:A8,\"Complete\")>=1),COUNTIF('ACCT Info & MGMT'!A11:A19,\"Complete\")>=1),\"MAJOR COMPLETED\",IF(AND(AND('ACCT Info & MGMT'!A9=\"Enrolled\",COUNTIF('ACCT Info & MGMT'!A7:A8,\"Complete\")>=1),COUNTIF('ACCT Info & MGMT'!A11:A19,\"Complete\")>=1),\"MAJOR COMPLETED THIS QUARTER\",IF(AND(AND('ACCT Info & MGMT'!A9=\"Enrolled\",COUNTIF('ACCT Info & MGMT'!A7:A8,\"Complete\")>=1),COUNTIF('ACCT Info & MGMT'!A11:A19,\"Enrolled\")>=1),\"MAJOR COMPLETED THIS QUARTER\",IF(AND(AND('ACCT Info & MGMT'!A9=\"Enrolled\",COUNTIF('ACCT Info & MGMT'!A7:A8,\"Enrolled\")>=1),COUNTIF('ACCT Info & MGMT'!A11:A19,\"Enrolled\")>=1),\"MAJOR COMPLETED THIS QUARTER\",IF(AND(AND('ACCT Info & MGMT'!A9=\"Complete\",COUNTIF('ACCT Info & MGMT'!A7:A8,\"Complete\")>=1),COUNTIF('ACCT Info & MGMT'!A11:A19,\"Enrolled\")>=1),\"MAJOR COMPLETED THIS QUARTER\",IF(AND(AND('ACCT Info & MGMT'!A9=\"Complete\",COUNTIF('ACCT Info & MGMT'!A7:A8,\"Enrolled\")>=1),COUNTIF('ACCT Info & MGMT'!A11:A19,\"Complete\")>=1),\"MAJOR COMPLETED THIS QUARTER\",IF(AND(AND('ACCT Info & MGMT'!A9=\"Enrolled\",COUNTIF('ACCT Info & MGMT'!A7:A8,\"Enrolled\")>=1),COUNTIF('ACCT Info & MGMT'!A11:A19,\"Complete\")>=1),\"MAJOR COMPLETED THIS QUARTER\",IF(AND(AND('ACCT Info & MGMT'!A9=\"Complete\",COUNTIF('ACCT Info & MGMT'!A7:A8,\"Enrolled\")>=1),COUNTIF('ACCT Info & MGMT'!A11:A19,\"Enrolled\")>=1),\"MAJOR COMPLETED THIS QUARTER\",$A$3))))))))","v":"NOT MAJORING IN THIS FIELD"}]
[{"$f":"IF(OR(OR('ACCT Info & MGMT'!A9=\"Complete\",'ACCT Info & MGMT'!A9=\"Enrolled\",'ACCT Info & MGMT'!A9=\"Will Enroll\")),A4,A6)","v":"NOT MAJORING IN THIS FIELD"}]
[{"$f":"IF(OR(COUNTIF('ACCT Info & MGMT'!A7:A8,\"Complete\")>=1,COUNTIF('ACCT Info & MGMT'!A7:A8,\"Enrolled\")>=1),A5,IF(OR(COUNTIF('ACCT Info & MGMT'!A7:A8,\"Complete\")>=1,COUNTIF('ACCT Info & MGMT'!A7:A8,\"Will Enroll\")>=1),A5,IF(OR(COUNTIF('ACCT Info & MGMT'!A7:A8,\"Enrolled\")>=1,COUNTIF('ACCT Info & MGMT'!A7:A8,\"Will Enroll\")>=1),A5,IF(COUNTIF('ACCT Info & MGMT'!A7:A8,\"Will Enroll\")>=1,A5,IF(COUNTIF('ACCT Info & MGMT'!A7:A8,\"Enrolled\")>1,A5,A6)))))","v":"NOT MAJORING IN THIS FIELD"}]
[{"$f":"IF(OR(OR(COUNTIF('ACCT Info & MGMT'!A11:A19,\"Complete\")>=1),COUNTIF('ACCT Info & MGMT'!A11:A19,\"Enrolled\")>=1,COUNTIF('ACCT Info & MGMT'!A11:A19,\"Will Enroll\")>=1),\"MAJOR IN PROGRESS\",A6)","v":"NOT MAJORING IN THIS FIELD"}]
[{"$f":"IF(COUNTIF('ACCT Info & MGMT'!A7:A9,\"Enrolled\")>=1,\"POTENTIAL MAJOR\",IF(COUNTIF('ACCT Info & MGMT'!A7:A9,\"Complete\")>=1,\"POTENTIAL MAJOR\",IF(COUNTIF('ACCT Info & MGMT'!A7:A9,\"Will Enroll\")>=1,\"POTENTIAL MAJOR\",\"NOT MAJORING IN THIS FIELD\")))","v":"NOT MAJORING IN THIS FIELD"}]
["Accounting Information & Management 1Y"]
[{"$f":"IF(AND('ACCT Info & MGMT 1Y & MMM'!$A$7=\"Complete\",COUNTIF('ACCT Info & MGMT 1Y & MMM'!$A$9:$A$16,\"Complete\")>=2),\"MAJOR COMPLETED\",IF(AND(AND('ACCT Info & MGMT 1Y & MMM'!$A$7=\"Complete\",COUNTIF('ACCT Info & MGMT 1Y & MMM'!$A$9:$A$16,\"Complete\")>=1,COUNTIF('ACCT Info & MGMT 1Y & MMM'!$A$9:$A$16,\"Enrolled\")>=1)),\"MAJOR COMPLETED THIS QUARTER\",IF(AND('ACCT Info & MGMT 1Y & MMM'!$A$7=\"Complete\",COUNTIF('ACCT Info & MGMT 1Y & MMM'!$A$9:$A$16,\"Enrolled\")>=2),\"MAJOR COMPLETED THIS QUARTER\",IF(AND('ACCT Info & MGMT 1Y & MMM'!$A$7=\"Enrolled\",COUNTIF('ACCT Info & MGMT 1Y & MMM'!$A$9:$A$16,\"Enrolled\")>=2),\"MAJOR COMPLETED THIS QUARTER\",IF(AND(AND('ACCT Info & MGMT 1Y & MMM'!$A$7=\"Enrolled\",COUNTIF('ACCT Info & MGMT 1Y & MMM'!$A$9:$A$16,\"Complete\")>=1),COUNTIF('ACCT Info & MGMT 1Y & MMM'!$A$9:$A$16,\"Enrolled\")>=1),\"MAJOR COMPLETED THIS QUARTER\",IF(AND('ACCT Info & MGMT 1Y & MMM'!$A$7=\"Enrolled\",COUNTIF('ACCT Info & MGMT 1Y & MMM'!$A$9:$A$16,\"Complete\")>=2),\"MAJOR COMPLETED THIS QUARTER\",$A$9))))))","v":"NOT MAJORING IN THIS FIELD"}]
[{"$f":"IF(OR(OR('ACCT Info & MGMT 1Y & MMM'!A7=\"Complete\",'ACCT Info & MGMT 1Y & MMM'!A7=\"Enrolled\",'ACCT Info & MGMT 1Y & MMM'!A7=\"Will Enroll\")),A10,A11)","v":"NOT MAJORING IN THIS FIELD"}]
[{"$f":"IF(OR(OR(COUNTIF('ACCT Info & MGMT 1Y & MMM'!A9:A16,\"Complete\")>=1),COUNTIF('ACCT Info & MGMT 1Y & MMM'!A9:A16,\"Enrolled\")>=1,COUNTIF('ACCT Info & MGMT 1Y & MMM'!A9:A16,\"Will Enroll\")>=1),\"MAJOR IN PROGRESS\",A11)","v":"NOT MAJORING IN THIS FIELD"}]
[{"$f":"IF('ACCT Info & MGMT 1Y & MMM'!$A$7=\"Complete\",\"POTENTIAL MAJOR\",IF('ACCT Info & MGMT 1Y & MMM'!$A$7=\"Enrolled\",\"POTENTIAL MAJOR\",IF('ACCT Info & MGMT 1Y & MMM'!$A$7=\"Will Enroll\",\"POTENTIAL MAJOR\",\"NOT MAJORING IN THIS FIELD\")))","v":"NOT MAJORING IN THIS FIELD"}]
["Analytical Consulting"]
[{"$f":"IF(AND(AND(COUNTIF('Analyt Consulting'!A8:A10,\"Complete\")>=2,COUNTIF('Analyt Consulting'!A13:A15,\"Complete\")>=1),COUNTIF('Analyt Consulting'!A18:A21,\"Complete\")>=1),\"MAJOR COMPLETED\",IF(AND(AND(COUNTIF('Analyt Consulting'!A8:A10,\"Complete\")>=1,COUNTIF('Analyt Consulting'!A13:A15,\"Complete\")>=2),COUNTIF('Analyt Consulting'!A18:A21,\"Complete\")>=1),\"MAJOR COMPLETED\",IF(AND(AND(COUNTIF('Analyt Consulting'!A8:A10,\"Complete\")>=1,COUNTIF('Analyt Consulting'!A13:A15,\"Complete\")>=1),COUNTIF('Analyt Consulting'!A18:A21,\"Complete\")>=2),\"MAJOR COMPLETED\",IF(AND(AND(COUNTIF('Analyt Consulting'!A8:A10,\"Enrolled\")>=2,COUNTIF('Analyt Consulting'!A13:A15,\"Complete\")>=1),COUNTIF('Analyt Consulting'!A18:A21,\"Complete\")>=1),\"MAJOR COMPLETED THIS QUARTER\",IF(AND(AND(COUNTIF('Analyt Consulting'!A8:A10,\"Complete\")>=1,COUNTIF('Analyt Consulting'!A13:A15,\"Enrolled\")>=2),COUNTIF('Analyt Consulting'!A18:A21,\"Complete\")>=1),\"MAJOR COMPLETED THIS QUARTER\",IF(AND(AND(COUNTIF('Analyt Consulting'!A8:A10,\"Complete\")>=1,COUNTIF('Analyt Consulting'!A13:A15,\"Complete\")>=1),COUNTIF('Analyt Consulting'!A18:A21,\"Enrolled\")>=2),\"MAJOR COMPLETED THIS QUARTER\",IF(AND(AND(COUNTIF('Analyt Consulting'!A8:A10,\"Complete\")>=2,COUNTIF('Analyt Consulting'!A13:A15,\"Enrolled\")>=1),COUNTIF('Analyt Consulting'!A18:A21,\"Complete\")>=1),\"MAJOR COMPLETED THIS QUARTER\",IF(AND(AND(COUNTIF('Analyt Consulting'!A8:A10,\"Complete\")>=2,COUNTIF('Analyt Consulting'!A13:A15,\"Complete\")>=1),COUNTIF('Analyt Consulting'!A18:A21,\"Enrolled\")>=1),\"MAJOR COMPLETED THIS QUARTER\",IF(AND(AND(COUNTIF('Analyt Consulting'!A8:A10,\"Enrolled\")>=1,COUNTIF('Analyt Consulting'!A13:A15,\"Complete\")>=2),COUNTIF('Analyt Consulting'!A18:A21,\"Complete\")>=1),\"MAJOR COMPLETED THIS QUARTER\",IF(AND(AND(COUNTIF('Analyt Consulting'!A8:A10,\"Complete\")>=1,COUNTIF('Analyt Consulting'!A13:A15,\"Complete\")>=2),COUNTIF('Analyt Consulting'!A18:A21,\"Enrolled\")>=1),\"MAJOR COMPLETED THIS QUARTER\",IF(AND(AND(COUNTIF('Analyt Consulting'!A8:A10,\"Enrolled\")>=1,COUNTIF('Analyt Consulting'!A13:A15,\"Complete\")>=1),COUNTIF('Analyt Consulting'!A18:A21,\"Complete\")>=2),\"MAJOR COMPLETED THIS QUARTER\",IF(AND(AND(COUNTIF('Analyt Consulting'!A8:A10,\"Complete\")>=1,COUNTIF('Analyt Consulting'!A13:A15,\"Enrolled\")>=1),COUNTIF('Analyt Consulting'!A18:A21,\"Complete\")>=2),\"MAJOR COMPLETED THIS QUARTER\",IF(AND(AND(COUNTIF('Analyt Consulting'!A8:A10,\"Enrolled\")>=2,COUNTIF('Analyt Consulting'!A13:A15,\"Enrolled\")>=1),COUNTIF('Analyt Consulting'!A18:A21,\"Enrolled\")>=1),\"MAJOR COMPLETED THIS QUARTER\",IF(AND(AND(COUNTIF('Analyt Consulting'!A8:A10,\"Enrolled\")>=1,COUNTIF('Analyt Consulting'!A13:A15,\"Enrolled\")>=2),COUNTIF('Analyt Consulting'!A18:A21,\"Enrolled\")>=1),\"MAJOR COMPLETED THIS QUARTER\",IF(AND(AND(COUNTIF('Analyt Consulting'!A8:A10,\"Enrolled\")>=1,COUNTIF('Analyt Consulting'!A13:A15,\"Enrolled\")>=1),COUNTIF('Analyt Consulting'!A18:A21,\"Enrolled\")>=2),\"MAJOR COMPLETED THIS QUARTER\",IF(AND(AND(COUNTIF('Analyt Consulting'!A8:A10,\"Complete\")>=2,COUNTIF('Analyt Consulting'!A13:A15,\"Enrolled\")>=1),COUNTIF('Analyt Consulting'!A18:A21,\"Enrolled\")>=1),\"MAJOR COMPLETED THIS QUARTER\",IF(AND(AND(COUNTIF('Analyt Consulting'!A8:A10,\"Enrolled\")>=1,COUNTIF('Analyt Consulting'!A13:A15,\"Complete\")>=2),COUNTIF('Analyt Consulting'!A18:A21,\"Enrolled\")>=1),\"MAJOR COMPLETED THIS QUARTER\",IF(AND(AND(COUNTIF('Analyt Consulting'!A8:A10,\"Enrolled\")>=1,COUNTIF('Analyt Consulting'!A13:A15,\"Enrolled\")>=1),COUNTIF('Analyt Consulting'!A18:A21,\"Complete\")>=2),\"MAJOR COMPLETED THIS QUARTER\",IF(AND(AND(AND(COUNTIF('Analyt Consulting'!A8:A10,\"Complete\")>=1,COUNTIF('Analyt Consulting'!A13:A15,\"Complete\")>=1),COUNTIF('Analyt Consulting'!A18:A21,\"Complete\")>=1),COUNTIF('Analyt Consulting'!A8:A10,\"Enrolled\")>=1),\"MAJOR COMPLETED THIS QUARTER\",IF(AND(AND(AND(COUNTIF('Analyt Consulting'!A8:A10,\"Complete\")>=1,COUNTIF('Analyt Consulting'!A13:A15,\"Complete\")>=1),COUNTIF('Analyt Consulting'!A18:A21,\"Complete\")>=1),COUNTIF('Analyt Consulting'!A13:A15,\"Enrolled\")>=1),\"MAJOR COMPLETED THIS QUARTER\",IF(AND(AND(AND(COUNTIF('Analyt Consulting'!A8:A10,\"Complete\")>=1,COUNTIF('Analyt Consulting'!A13:A15,\"Complete\")>=1),COUNTIF('Analyt Consulting'!A18:A21,\"Complete\")>=1),COUNTIF('Analyt Consulting'!A18:A21,\"Enrolled\")>=1),\"MAJOR COMPLETED THIS QUARTER\",IF(AND(AND(COUNTIF('Analyt Consulting'!A8:A10,\"Complete\")>=1,COUNTIF('Analyt Consulting'!A13:A15,\"Enrolled\")>=2),COUNTIF('Analyt Consulting'!A18:A21,\"Enrolled\")>=1),\"MAJOR COMPLETED THIS QUARTER\",IF(AND(AND(COUNTIF('Analyt Consulting'!A8:A10,\"Complete\")>=1,COUNTIF('Analyt Consulting'!A13:A15,\"Enrolled\")>=1),COUNTIF('Analyt Consulting'!A18:A21,\"Enrolled\")>=2),\"MAJOR COMPLETED THIS QUARTER\",IF(AND(AND(COUNTIF('Analyt Consulting'!A8:A10,\"Enrolled\")>=2,COUNTIF('Analyt Consulting'!A13:A15,\"Complete\")>=1),COUNTIF('Analyt Consulting'!A18:A21,\"Enrolled\")>=1),\"MAJOR COMPLETED THIS QUARTER\",IF(AND(AND(COUNTIF('Analyt Consulting'!A8:A10,\"Enrolled\")>=1,COUNTIF('Analyt Consulting'!A13:A15,\"Complete\")>=1),COUNTIF('Analyt Consulting'!A18:A21,\"Enrolled\")>=2),\"MAJOR COMPLETED THIS QUARTER\",IF(AND(AND(COUNTIF('Analyt Consulting'!A8:A10,\"Enrolled\")>=2,COUNTIF('Analyt Consulting'!A13:A15,\"Enrolled\")>=1),COUNTIF('Analyt Consulting'!A18:A21,\"Complete\")>=1),\"MAJOR COMPLETED THIS QUARTER\",IF(AND(AND(COUNTIF('Analyt Consulting'!A8:A10,\"Enrolled\")>=1,COUNTIF('Analyt Consulting'!A13:A15,\"Enrolled\")>=2),COUNTIF('Analyt Consulting'!A18:A21,\"Complete\")>=1),\"MAJOR COMPLETED THIS QUARTER\",IF(AND(AND(AND(COUNTIF('Analyt Consulting'!A8:A10,\"Complete\")>=1,COUNTIF('Analyt Consulting'!A13:A15,\"Complete\")>=1),COUNTIF('Analyt Consulting'!A18:A21,\"Enrolled\")>=1),COUNTIF('Analyt Consulting'!A8:A10,\"Enrolled\")>=1),\"MAJOR COMPLETED THIS QUARTER\",IF(AND(AND(AND(COUNTIF('Analyt Consulting'!A8:A10,\"Complete\")>=1,COUNTIF('Analyt Consulting'!A13:A15,\"Complete\")>=1),COUNTIF('Analyt Consulting'!A18:A21,\"Enrolled\")>=1),COUNTIF('Analyt Consulting'!A13:A15,\"Enrolled\")>=1),\"MAJOR COMPLETED THIS QUARTER\",IF(AND(AND(AND(COUNTIF('Analyt Consulting'!A8:A10,\"Enrolled\")>=1,COUNTIF('Analyt Consulting'!A13:A15,\"Complete\")>=1),COUNTIF('Analyt Consulting'!A18:A21,\"Complete\")>=1),COUNTIF('Analyt Consulting'!A18:A21,\"Enrolled\")>=1),\"MAJOR COMPLETED THIS QUARTER\",IF(AND(AND(AND(COUNTIF('Analyt Consulting'!A8:A10,\"Complete\")>=1,COUNTIF('Analyt Consulting'!A13:A15,\"Complete\")>=1),COUNTIF('Analyt Consulting'!A18:A21,\"Enrolled\")>=1),COUNTIF('Analyt Consulting'!A8:A10,\"Enrolled\")>=1),\"MAJOR COMPLETED THIS QUARTER\",IF(AND(AND(AND(COUNTIF('Analyt Consulting'!A8:A10,\"Complete\")>=1,COUNTIF('Analyt Consulting'!A13:A15,\"Enrolled\")>=1),COUNTIF('Analyt Consulting'!A18:A21,\"Complete\")>=1),COUNTIF('Analyt Consulting'!A8:A10,\"Enrolled\")>=1),\"MAJOR COMPLETED THIS QUARTER\",IF(AND(AND(AND(COUNTIF('Analyt Consulting'!A8:A10,\"Enrolled\")>=1,COUNTIF('Analyt Consulting'!A13:A15,\"Complete\")>=1),COUNTIF('Analyt Consulting'!A18:A21,\"Complete\")>=1),COUNTIF('Analyt Consulting'!A13:A15,\"Enrolled\")>=1),\"MAJOR COMPLETED THIS QUARTER\",IF(AND(AND(AND(COUNTIF('Analyt Consulting'!A8:A10,\"Complete\")>=1,COUNTIF('Analyt Consulting'!A13:A15,\"Enrolled\")>=1),COUNTIF('Analyt Consulting'!A18:A21,\"Complete\")>=1),COUNTIF('Analyt Consulting'!A18:A21,\"Enrolled\")>=1),\"MAJOR COMPLETED THIS QUARTER\",IF(AND(AND(AND(COUNTIF('Analyt Consulting'!A8:A10,\"Complete\")>=1,COUNTIF('Analyt Consulting'!A8:A10,\"Enrolled\")>=1),COUNTIF('Analyt Consulting'!A13:A15,\"Enrolled\")>=1),COUNTIF('Analyt Consulting'!A18:A21,\"Enrolled\")>=1),\"MAJOR COMPLETED THIS QUARTER\",IF(AND(AND(AND(COUNTIF('Analyt Consulting'!A8:A10,\"Enrolled\")>=1,COUNTIF('Analyt Consulting'!A13:A15,\"Complete\")>=1),COUNTIF('Analyt Consulting'!A13:A15,\"Enrolled\")>=1),COUNTIF('Analyt Consulting'!A18:A21,\"Enrolled\")>=1),\"MAJOR COMPLETED THIS QUARTER\",IF(AND(AND(AND(COUNTIF('Analyt Consulting'!A8:A10,\"Enrolled\")>=1,COUNTIF('Analyt Consulting'!A13:A15,\"Enrolled\")>=1),COUNTIF('Analyt Consulting'!A18:A21,\"Complete\")>=1),COUNTIF('Analyt Consulting'!A18:A21,\"Enrolled\")>=1),\"MAJOR COMPLETED THIS QUARTER\",$A$14)))))))))))))))))))))))))))))))))))))","v":"NOT MAJORING IN THIS FIELD"}]
[{"$f":"IF(COUNTIF('Analyt Consulting'!A8:A10,\"Complete\")>1,A16,IF(COUNTIF('Analyt Consulting'!A8:A10,\"Will Enroll\")>1,A16,IF(COUNTIF('Analyt Consulting'!A8:A10,\"Enrolled\")>1,A16,A15)))","v":"NOT MAJORING IN THIS FIELD"}]
[{"$f":"IF(AND(COUNTIF('Analyt Consulting'!A8:A10,\"Complete\")>=1,COUNTIF('Analyt Consulting'!A8:A10,\"Enrolled\")>=1),A16,IF(AND(COUNTIF('Analyt Consulting'!A8:A10,\"Complete\")>=1,COUNTIF('Analyt Consulting'!A8:A10,\"Will Enroll\")>=1),A16,IF(AND(COUNTIF('Analyt Consulting'!A8:A10,\"Enrolled\")>=1,COUNTIF('Analyt Consulting'!A8:A10,\"Will Enroll\")>=1),A16,A18)))","v":"NOT MAJORING IN THIS FIELD"}]
[{"$f":"IF(OR(COUNTIF('Analyt Consulting'!A13:A15,\"Complete\")>=1,COUNTIF('Analyt Consulting'!A13:A15,\"Enrolled\")>=1),A17,IF(OR(COUNTIF('Analyt Consulting'!A13:A15,\"Complete\")>=1,COUNTIF('Analyt Consulting'!A13:A15,\"Will Enroll\")>=1),A17,IF(OR(COUNTIF('Analyt Consulting'!A13:A15,\"Enrolled\")>=1,COUNTIF('Analyt Consulting'!A13:A15,\"Will Enroll\")>=1),A17,A18)))","v":"NOT MAJORING IN THIS FIELD"}]
[{"$f":"IF(OR(COUNTIF('Analyt Consulting'!A18:A21,\"Complete\")>=1,COUNTIF('Analyt Consulting'!A18:A21,\"Enrolled\")>=1),\"MAJOR IN PROGRESS\",IF(OR(COUNTIF('Analyt Consulting'!A18:A21,\"Complete\")>=1,COUNTIF('Analyt Consulting'!A18:A21,\"Will Enroll\")>=1),\"MAJOR IN PROGRESS\",IF(OR(COUNTIF('Analyt Consulting'!A18:A21,\"Enrolled\")>=1,COUNTIF('Analyt Consulting'!A18:A21,\"Will Enroll\")>=1),\"MAJOR IN PROGRESS\",A18)))","v":"NOT MAJORING IN THIS FIELD"}]
[{"$f":"IF(COUNTIF('Analyt Consulting'!A13:A15,\"Complete\")>1,A20,IF(COUNTIF('Analyt Consulting'!A13:A15,\"Will Enroll\")>1,A20,IF(COUNTIF('Analyt Consulting'!A13:A15,\"Enrolled\")>1,A20,A19)))","v":"NOT MAJORING IN THIS FIELD"}]
[{"$f":"IF(AND(COUNTIF('Analyt Consulting'!A13:A15,\"Complete\")>=1,COUNTIF('Analyt Consulting'!A13:A15,\"Enrolled\")>=1),A20,IF(AND(COUNTIF('Analyt Consulting'!A13:A15,\"Complete\")>=1,COUNTIF('Analyt Consulting'!A13:A15,\"Will Enroll\")>=1),A20,IF(AND(COUNTIF('Analyt Consulting'!A13:A15,\"Enrolled\")>=1,COUNTIF('Analyt Consulting'!A13:A15,\"Will Enroll\")>=1),A20,A22)))","v":"NOT MAJORING IN THIS FIELD"}]
[{"$f":"IF(OR(COUNTIF('Analyt Consulting'!A8:A10,\"Complete\")>=1,COUNTIF('Analyt Consulting'!A8:A10,\"Enrolled\")>=1),A21,IF(OR(COUNTIF('Analyt Consulting'!A8:A10,\"Complete\")>=1,COUNTIF('Analyt Consulting'!A8:A10,\"Will Enroll\")>=1),A21,IF(OR(COUNTIF('Analyt Consulting'!A8:A10,\"Enrolled\")>=1,COUNTIF('Analyt Consulting'!A8:A10,\"Will Enroll\")>=1),A21,A22)))","v":"NOT MAJORING IN THIS FIELD"}]
[{"$f":"IF(OR(COUNTIF('Analyt Consulting'!A18:A21,\"Complete\")>=1,COUNTIF('Analyt Consulting'!A18:A21,\"Enrolled\")>=1),\"MAJOR IN PROGRESS\",IF(OR(COUNTIF('Analyt Consulting'!A18:A21,\"Complete\")>=1,COUNTIF('Analyt Consulting'!A18:A21,\"Will Enroll\")>=1),\"MAJOR IN PROGRESS\",IF(OR(COUNTIF('Analyt Consulting'!A18:A21,\"Enrolled\")>=1,COUNTIF('Analyt Consulting'!A18:A21,\"Will Enroll\")>=1),\"MAJOR IN PROGRESS\",A22)))","v":"NOT MAJORING IN THIS FIELD"}]
[{"$f":"IF(COUNTIF('Analyt Consulting'!A18:A21,\"Complete\")>1,A24,IF(COUNTIF('Analyt Consulting'!A18:A21,\"Will Enroll\")>1,A24,IF(COUNTIF('Analyt Consulting'!A18:A21,\"Enrolled\")>1,A24,A23)))","v":"NOT MAJORING IN THIS FIELD"}]
[{"$f":"IF(AND(COUNTIF('Analyt Consulting'!A18:A21,\"Complete\")>=1,COUNTIF('Analyt Consulting'!A18:A21,\"Enrolled\")>=1),A24,IF(AND(COUNTIF('Analyt Consulting'!A18:A21,\"Complete\")>=1,COUNTIF('Analyt Consulting'!A18:A21,\"Will Enroll\")>=1),A24,IF(AND(COUNTIF('Analyt Consulting'!A18:A21,\"Enrolled\")>=1,COUNTIF('Analyt Consulting'!A18:A21,\"Will Enroll\")>=1),A24,A26)))","v":"NOT MAJORING IN THIS FIELD"}]
[{"$f":"IF(OR(COUNTIF('Analyt Consulting'!A8:A10,\"Complete\")>=1,COUNTIF('Analyt Consulting'!A8:A10,\"Enrolled\")>=1),A25,IF(OR(COUNTIF('Analyt Consulting'!A8:A10,\"Complete\")>=1,COUNTIF('Analyt Consulting'!A8:A10,\"Will Enroll\")>=1),A25,IF(OR(COUNTIF('Analyt Consulting'!A8:A10,\"Enrolled\")>=1,COUNTIF('Analyt Consulting'!A8:A10,\"Will Enroll\")>=1),A25,A26)))","v":"NOT MAJORING IN THIS FIELD"}]
[{"$f":"IF(OR(COUNTIF('Analyt Consulting'!A13:A15,\"Complete\")>=1,COUNTIF('Analyt Consulting'!A13:A15,\"Enrolled\")>=1),\"MAJOR IN PROGRESS\",IF(OR(COUNTIF('Analyt Consulting'!A13:A15,\"Complete\")>=1,COUNTIF('Analyt Consulting'!A13:A15,\"Will Enroll\")>=1),\"MAJOR IN PROGRESS\",IF(OR(COUNTIF('Analyt Consulting'!A13:A15,\"Enrolled\")>=1,COUNTIF('Analyt Consulting'!A13:A15,\"Will Enroll\")>=1),\"MAJOR IN PROGRESS\",A26)))","v":"NOT MAJORING IN THIS FIELD"}]
[{"$f":"IF(COUNTIF('Analyt Consulting'!A8:A21,\"Complete\")>=1,\"POTENTIAL MAJOR\",IF(COUNTIF('Analyt Consulting'!A8:A21,\"Enrolled\")>=1,\"POTENTIAL MAJOR\",IF(COUNTIF('Analyt Consulting'!A8:A21,\"Will Enroll\")>=1,\"POTENTIAL MAJOR\",\"NOT MAJORING IN THIS FIELD\")))","v":"NOT MAJORING IN THIS FIELD"}]
["Analytical Finance"]
[{"$f":"IF(AND(AND(COUNTIF('Analytical Finance'!A7:A8,\"Complete\")=2,'Analytical Finance'!A11=\"Complete\"),COUNTIF('Analytical Finance'!A13:A20,\"Complete\")>=4),\"MAJOR COMPLETED\",IF(AND(AND('Analytical Finance'!A9=\"Complete\",'Analytical Finance'!A11=\"Complete\"),COUNTIF('Analytical Finance'!A13:A20,\"Complete\")>=4),\"MAJOR COMPLETED\",IF(AND(AND(COUNTIF('Analytical Finance'!A7:A8,\"Complete\")=2,'Analytical Finance'!A11=\"Enrolled\"),COUNTIF('Analytical Finance'!A13:A20,\"Complete\")>=4),\"MAJOR COMPLETED THIS QUARTER\",IF(AND(AND(AND(COUNTIF('Analytical Finance'!A7:A8,\"Complete\")=2,'Analytical Finance'!A11=\"Enrolled\"),COUNTIF('Analytical Finance'!A13:A20,\"Complete\")=3),COUNTIF('Analytical Finance'!A13:A20,\"Enrolled\")>=1),\"MAJOR COMPLETED THIS QUARTER\",IF(AND(AND(AND(COUNTIF('Analytical Finance'!A7:A8,\"Complete\")=2,'Analytical Finance'!A11=\"Enrolled\"),COUNTIF('Analytical Finance'!A13:A20,\"Complete\")=2),COUNTIF('Analytical Finance'!A13:A20,\"Enrolled\")>=2),\"MAJOR COMPLETED THIS QUARTER\",IF(AND(AND(AND(COUNTIF('Analytical Finance'!A7:A8,\"Complete\")=2,'Analytical Finance'!A11=\"Enrolled\"),COUNTIF('Analytical Finance'!A13:A20,\"Complete\")=1),COUNTIF('Analytical Finance'!A13:A20,\"Enrolled\")>=3),\"MAJOR COMPLETED THIS QUARTER\",IF(AND(AND(COUNTIF('Analytical Finance'!A7:A8,\"Complete\")=2,'Analytical Finance'!A11=\"Enrolled\"),COUNTIF('Analytical Finance'!A13:A20,\"Enrolled\")>=4),\"MAJOR COMPLETED THIS QUARTER\",IF(AND(AND('Analytical Finance'!A9=\"Complete\",'Analytical Finance'!A11=\"Enrolled\"),COUNTIF('Analytical Finance'!A13:A20,\"Complete\")>=4),\"MAJOR COMPLETED THIS QUARTER\",IF(AND(AND(AND('Analytical Finance'!A9=\"Complete\",'Analytical Finance'!A11=\"Enrolled\"),COUNTIF('Analytical Finance'!A13:A20,\"Complete\")=3),COUNTIF('Analytical Finance'!A13:A20,\"Enrolled\")>=1),\"MAJOR COMPLETED THIS QUARTER\",IF(AND(AND(AND('Analytical Finance'!A9=\"Complete\",'Analytical Finance'!A11=\"Enrolled\"),COUNTIF('Analytical Finance'!A13:A20,\"Complete\")=2),COUNTIF('Analytical Finance'!A13:A20,\"Enrolled\")>=2),\"MAJOR COMPLETED THIS QUARTER\",IF(AND(AND(AND('Analytical Finance'!A9=\"Complete\",'Analytical Finance'!A11=\"Enrolled\"),COUNTIF('Analytical Finance'!A13:A20,\"Complete\")=1),COUNTIF('Analytical Finance'!A13:A20,\"Enrolled\")>=3),\"MAJOR COMPLETED THIS QUARTER\",IF(AND(AND('Analytical Finance'!A9=\"Complete\",'Analytical Finance'!A11=\"Enrolled\"),COUNTIF('Analytical Finance'!A13:A19,\"Enrolled\")>=4),\"MAJOR COMPLETED THIS QUARTER\",IF(AND(AND(AND(COUNTIF('Analytical Finance'!A7:A8,\"Complete\")=2,'Analytical Finance'!A11=\"Complete\"),COUNTIF('Analytical Finance'!A13:A20,\"Complete\")=3),COUNTIF('Analytical Finance'!A13:A20,\"Enrolled\")>=1),\"MAJOR COMPLETED THIS QUARTER\",IF(AND(AND(AND(COUNTIF('Analytical Finance'!A7:A8,\"Complete\")=2,'Analytical Finance'!A11=\"Complete\"),COUNTIF('Analytical Finance'!A13:A20,\"Complete\")=2),COUNTIF('Analytical Finance'!A13:A20,\"Enrolled\")>=2),\"MAJOR COMPLETED THIS QUARTER\",IF(AND(AND(AND(COUNTIF('Analytical Finance'!A7:A8,\"Complete\")=2,'Analytical Finance'!A11=\"Complete\"),COUNTIF('Analytical Finance'!A13:A20,\"Complete\")=1),COUNTIF('Analytical Finance'!A13:A20,\"Enrolled\")>=3),\"MAJOR COMPLETED THIS QUARTER\",IF(AND(AND(COUNTIF('Analytical Finance'!A7:A8,\"Complete\")=2,'Analytical Finance'!A11=\"Complete\"),COUNTIF('Analytical Finance'!A13:A20,\"Enrolled\")>=4),\"MAJOR COMPLETED THIS QUARTER\",IF(AND(AND(AND('Analytical Finance'!A9=\"Complete\",'Analytical Finance'!A11=\"Complete\"),COUNTIF('Analytical Finance'!A13:A20,\"Complete\")=3),COUNTIF('Analytical Finance'!A13:A20,\"Enrolled\")>=1),\"MAJOR COMPLETED THIS QUARTER\",IF(AND(AND(AND('Analytical Finance'!A9=\"Complete\",'Analytical Finance'!A11=\"Complete\"),COUNTIF('Analytical Finance'!A13:A20,\"Complete\")=2),COUNTIF('Analytical Finance'!A13:A20,\"Enrolled\")>=2),\"MAJOR COMPLETED THIS QUARTER\",IF(AND(AND(AND('Analytical Finance'!A9=\"Complete\",'Analytical Finance'!A11=\"Complete\"),COUNTIF('Analytical Finance'!A13:A20,\"Complete\")=1),COUNTIF('Analytical Finance'!A13:A20,\"Enrolled\")>=3),\"MAJOR COMPLETED THIS QUARTER\",IF(AND(AND('Analytical Finance'!A9=\"Complete\",'Analytical Finance'!A11=\"Complete\"),COUNTIF('Analytical Finance'!A13:A20,\"Enrolled\")>=4),\"MAJOR COMPLETED THIS QUARTER\",IF(AND(AND(AND('Analytical Finance'!A7=\"Complete\",'Analytical Finance'!A8=\"Enrolled\",'Analytical Finance'!A11=\"Enrolled\"),COUNTIF('Analytical Finance'!A13:A20,\"Complete\")=3),COUNTIF('Analytical Finance'!A13:A20,\"Enrolled\")>=1),\"MAJOR COMPLETED THIS QUARTER\",IF(AND(AND(AND('Analytical Finance'!A7=\"Complete\",'Analytical Finance'!A8=\"Enrolled\",'Analytical Finance'!A11=\"Enrolled\"),COUNTIF('Analytical Finance'!A13:A20,\"Complete\")=2),COUNTIF('Analytical Finance'!A13:A20,\"Enrolled\")>=2),\"MAJOR COMPLETED THIS QUARTER\",IF(AND(AND(AND('Analytical Finance'!A7=\"Complete\",'Analytical Finance'!A8=\"Enrolled\",'Analytical Finance'!A11=\"Enrolled\"),COUNTIF('Analytical Finance'!A13:A20,\"Complete\")=1),COUNTIF('Analytical Finance'!A13:A20,\"Enrolled\")>=3),\"MAJOR COMPLETED THIS QUARTER\",IF(AND(AND(AND('Analytical Finance'!A7=\"Complete\",'Analytical Finance'!A8=\"Enrolled\"),'Analytical Finance'!A11=\"Enrolled\"),COUNTIF('Analytical Finance'!A13:A20,\"Enrolled\")>=4),\"MAJOR COMPLETED THIS QUARTER\",IF(AND(AND(AND('Analytical Finance'!A7=\"Complete\",'Analytical Finance'!A8=\"Enrolled\"),'Analytical Finance'!A11=\"Enrolled\"),COUNTIF('Analytical Finance'!A13:A20,\"Complete\")>=4),\"MAJOR COMPLETED THIS QUARTER\",IF(AND(AND(AND('Analytical Finance'!A7=\"Complete\",'Analytical Finance'!A8=\"Enrolled\",'Analytical Finance'!A11=\"Complete\"),COUNTIF('Analytical Finance'!A13:A20,\"Complete\")=3),COUNTIF('Analytical Finance'!A13:A20,\"Enrolled\")>=1),\"MAJOR COMPLETED THIS QUARTER\",IF(AND(AND(AND('Analytical Finance'!A7=\"Complete\",'Analytical Finance'!A8=\"Enrolled\",'Analytical Finance'!A11=\"Complete\"),COUNTIF('Analytical Finance'!A13:A20,\"Complete\")=2),COUNTIF('Analytical Finance'!A13:A20,\"Enrolled\")>=2),\"MAJOR COMPLETED THIS QUARTER\",IF(AND(AND(AND('Analytical Finance'!A7=\"Complete\",'Analytical Finance'!A8=\"Enrolled\",'Analytical Finance'!A11=\"Complete\"),COUNTIF('Analytical Finance'!A13:A20,\"Complete\")=1),COUNTIF('Analytical Finance'!A13:A20,\"Enrolled\")>=3),\"MAJOR COMPLETED THIS QUARTER\",IF(AND(AND(AND('Analytical Finance'!A7=\"Complete\",'Analytical Finance'!A8=\"Enrolled\"),'Analytical Finance'!A11=\"Complete\"),COUNTIF('Analytical Finance'!A13:A20,\"Enrolled\")>=4),\"MAJOR COMPLETED THIS QUARTER\",IF(AND(AND(AND('Analytical Finance'!A7=\"Complete\",'Analytical Finance'!A8=\"Enrolled\"),'Analytical Finance'!A11=\"Complete\"),COUNTIF('Analytical Finance'!A13:A20,\"Complete\")>=4),\"MAJOR COMPLETED THIS QUARTER\",$A$29))))))))))))))))))))))))))))))","v":"NOT MAJORING IN THIS FIELD"}]
[{"$f":"IF(OR(OR('Analytical Finance'!A9=\"Complete\",'Analytical Finance'!A9=\"Enrolled\",'Analytical Finance'!A9=\"Will Enroll\")),A30,IF(COUNTIF('Analytical Finance'!A7:A8,\"Complete\")=2,A30,IF(COUNTIF('Analytical Finance'!A7:A8,\"Will Enroll\")=2,A30,IF(AND(COUNTIF('Analytical Finance'!A7:A8,\"Complete\")=1,COUNTIF('Analytical Finance'!A7:A8,\"Enrolled\")=1),A30,IF(AND(COUNTIF('Analytical Finance'!A7:A8,\"Complete\")=1,COUNTIF('Analytical Finance'!A7:A8,\"Will Enroll\")=1),A30,A31)))))","v":"NOT MAJORING IN THIS FIELD"}]
[{"$f":"IF(OR(OR('Analytical Finance'!A11=\"Complete\",'Analytical Finance'!A11=\"Enrolled\",'Analytical Finance'!A11=\"Will Enroll\")),A38,A31)","v":"NOT MAJORING IN THIS FIELD"}]
[{"$f":"IF(AND(COUNTIF('Analytical Finance'!A7:A8,\"Waived\")=1,COUNTIF('Analytical Finance'!A7:A8,\"Complete\")=1),$A$32,IF(AND(COUNTIF('Analytical Finance'!A7:A8,\"Waived\")=1,COUNTIF('Analytical Finance'!A7:A8,\"Enrolled\")=1),$A$33,IF(AND(COUNTIF('Analytical Finance'!A7:A8,\"Waived\")=1,COUNTIF('Analytical Finance'!A7:A8,\"Will Enroll\")=1),$A$34,$A$39)))","v":"NOT MAJORING IN THIS FIELD"}]
[{"$f":"IF('Analytical Finance'!A11=\"Complete\",$A$35,IF('Analytical Finance'!A11=\"Enrolled\",$A$36,IF('Analytical Finance'!A11=\"Will Enroll\",$A$37,$A$39)))","v":"NOT MAJORING IN THIS FIELD"}]
[{"$f":"IF('Analytical Finance'!A11=\"Complete\",$A$36,IF('Analytical Finance'!A11=\"Enrolled\",$A$36,IF('Analytical Finance'!A11=\"Will Enroll\",$A$37,$A$39)))","v":"NOT MAJORING IN THIS FIELD"}]
[{"$f":"IF('Analytical Finance'!A11=\"Complete\",$A$37,IF('Analytical Finance'!A11=\"Enrolled\",$A$37,IF('Analytical Finance'!A11=\"Will Enroll\",$A$37,$A$39)))","v":"NOT MAJORING IN THIS FIELD"}]
[{"$f":"IF(AND(COUNTIF('Analytical Finance'!A13:A20,\"Complete\")>=3,COUNTIF('Analytical Finance'!A13:A20,\"Enrolled\")>=1),\"MAJOR Completed THIS QUARTER\",IF(AND(COUNTIF('Analytical Finance'!A13:A20,\"Complete\")>=3,COUNTIF('Analytical Finance'!A13:A20,\"Will Enroll\")>=1),\"MAJOR IN PROGRESS\",IF(AND(COUNTIF('Analytical Finance'!A13:A20,\"Complete\")>=2,COUNTIF('Analytical Finance'!A13:A20,\"Enrolled\")>=2),\"MAJOR COMPLETED THIS QUARTER\",IF(AND(AND(COUNTIF('Analytical Finance'!A13:A20,\"Complete\")>=2,COUNTIF('Analytical Finance'!A13:A20,\"Enrolled\")>=1),COUNTIF('Analytical Finance'!A13:A20,\"Will Enroll\")>=1),\"MAJOR IN PROGRESS\",IF(AND(COUNTIF('Analytical Finance'!A13:A20,\"Complete\")>=2,COUNTIF('Analytical Finance'!A13:A20,\"Will Enroll\")>=2),\"MAJOR IN PROGRESS\",IF(AND(COUNTIF('Analytical Finance'!A13:A20,\"Complete\")>=1,COUNTIF('Analytical Finance'!A13:A20,\"Enrolled\")>=3),\"MAJOR COMPLETED THIS QUARTER\",IF(AND(AND(COUNTIF('Analytical Finance'!A13:A20,\"Complete\")>=1,COUNTIF('Analytical Finance'!A13:A20,\"Enrolled\")>=2),COUNTIF('Analytical Finance'!A13:A20,\"Will Enroll\")>=1),\"MAJOR IN PROGRESS\",IF(AND(AND(COUNTIF('Analytical Finance'!A13:A20,\"Complete\")>=1,COUNTIF('Analytical Finance'!A13:A20,\"Enrolled\")>=1),COUNTIF('Analytical Finance'!A13:A20,\"Will Enroll\")>=2),\"MAJOR IN PROGRESS\",IF(AND(COUNTIF('Analytical Finance'!A13:A20,\"Complete\")>=1,COUNTIF('Analytical Finance'!A13:A20,\"Will Enroll\")>=3),\"MAJOR IN PROGRESS\",IF(COUNTIF('Analytical Finance'!A13:A20,\"Enrolled\")>=4,\"MAJOR COMPLETED THIS QUARTER\",IF(AND(COUNTIF('Analytical Finance'!A13:A20,\"Enrolled\")>=3,COUNTIF('Analytical Finance'!A13:A20,\"Will Enroll\")>=1),\"MAJOR IN PROGRESS\",IF(AND(COUNTIF('Analytical Finance'!A13:A20,\"Enrolled\")>=2,COUNTIF('Analytical Finance'!A13:A20,\"Will Enroll\")>=2),\"MAJOR IN PROGRESS\",IF(AND(COUNTIF('Analytical Finance'!A13:A20,\"Enrolled\")>=1,COUNTIF('Analytical Finance'!A13:A20,\"Will Enroll\")>=3),\"MAJOR IN PROGRESS\",IF(COUNTIF('Analytical Finance'!A13:A20,\"Will Enroll\")>=4,\"MAJOR IN PROGRESS\",IF(COUNTIF('Analytical Finance'!A13:A20,\"Complete\")>=4,\"MAJOR COMPLETED\",A39)))))))))))))))","v":"NOT MAJORING IN THIS FIELD"}]
[{"$f":"IF(AND(COUNTIF('Analytical Finance'!A13:A20,\"Complete\")>=3,COUNTIF('Analytical Finance'!A13:A20,\"Enrolled\")>=1),\"MAJOR Completed THIS QUARTER\",IF(AND(COUNTIF('Analytical Finance'!A13:A20,\"Complete\")>=3,COUNTIF('Analytical Finance'!A13:A20,\"Will Enroll\")>=1),\"MAJOR IN PROGRESS\",IF(AND(COUNTIF('Analytical Finance'!A13:A20,\"Complete\")>=2,COUNTIF('Analytical Finance'!A13:A20,\"Enrolled\")>=2),\"MAJOR COMPLETED THIS QUARTER\",IF(AND(AND(COUNTIF('Analytical Finance'!A13:A20,\"Complete\")>=2,COUNTIF('Analytical Finance'!A13:A20,\"Enrolled\")>=1),COUNTIF('Analytical Finance'!A13:A20,\"Will Enroll\")>=1),\"MAJOR IN PROGRESS\",IF(AND(COUNTIF('Analytical Finance'!A13:A20,\"Complete\")>=2,COUNTIF('Analytical Finance'!A13:A20,\"Will Enroll\")>=2),\"MAJOR IN PROGRESS\",IF(AND(COUNTIF('Analytical Finance'!A13:A20,\"Complete\")>=1,COUNTIF('Analytical Finance'!A13:A20,\"Enrolled\")>=3),\"MAJOR COMPLETED THIS QUARTER\",IF(AND(AND(COUNTIF('Analytical Finance'!A13:A20,\"Complete\")>=1,COUNTIF('Analytical Finance'!A13:A20,\"Enrolled\")>=2),COUNTIF('Analytical Finance'!A13:A20,\"Will Enroll\")>=1),\"MAJOR IN PROGRESS\",IF(AND(AND(COUNTIF('Analytical Finance'!A13:A20,\"Complete\")>=1,COUNTIF('Analytical Finance'!A13:A20,\"Enrolled\")>=1),COUNTIF('Analytical Finance'!A13:A20,\"Will Enroll\")>=2),\"MAJOR IN PROGRESS\",IF(AND(COUNTIF('Analytical Finance'!A13:A20,\"Complete\")>=1,COUNTIF('Analytical Finance'!A13:A20,\"Will Enroll\")>=3),\"MAJOR IN PROGRESS\",IF(COUNTIF('Analytical Finance'!A13:A20,\"Enrolled\")>=4,\"MAJOR COMPLETED THIS QUARTER\",IF(AND(COUNTIF('Analytical Finance'!A13:A20,\"Enrolled\")>=3,COUNTIF('Analytical Finance'!A13:A20,\"Will Enroll\")>=1),\"MAJOR IN PROGRESS\",IF(AND(COUNTIF('Analytical Finance'!A13:A20,\"Enrolled\")>=2,COUNTIF('Analytical Finance'!A13:A20,\"Will Enroll\")>=2),\"MAJOR IN PROGRESS\",IF(AND(COUNTIF('Analytical Finance'!A13:A20,\"Enrolled\")>=1,COUNTIF('Analytical Finance'!A13:A20,\"Will Enroll\")>=3),\"MAJOR IN PROGRESS\",IF(COUNTIF('Analytical Finance'!A13:A20,\"Will Enroll\")>=4,\"MAJOR IN PROGRESS\",IF(COUNTIF('Analytical Finance'!A13:A20,\"Complete\")>=4,\"MAJOR COMPLETED THIS QUARTER\",A39)))))))))))))))","v":"NOT MAJORING IN THIS FIELD"}]
[{"$f":"IF(AND(COUNTIF('Analytical Finance'!A13:A20,\"Complete\")>=3,COUNTIF('Analytical Finance'!A13:A20,\"Enrolled\")>=1),\"MAJOR IN PROGRESS\",IF(AND(COUNTIF('Analytical Finance'!A13:A20,\"Complete\")>=3,COUNTIF('Analytical Finance'!A13:A20,\"Will Enroll\")>=1),\"MAJOR IN PROGRESS\",IF(AND(COUNTIF('Analytical Finance'!A13:A20,\"Complete\")>=2,COUNTIF('Analytical Finance'!A13:A20,\"Enrolled\")>=2),\"MAJOR IN PROGRESS\",IF(AND(AND(COUNTIF('Analytical Finance'!A13:A20,\"Complete\")>=2,COUNTIF('Analytical Finance'!A13:A20,\"Enrolled\")>=1),COUNTIF('Analytical Finance'!A13:A20,\"Will Enroll\")>=1),\"MAJOR IN PROGRESS\",IF(AND(COUNTIF('Analytical Finance'!A13:A20,\"Complete\")>=2,COUNTIF('Analytical Finance'!A13:A20,\"Will Enroll\")>=2),\"MAJOR IN PROGRESS\",IF(AND(COUNTIF('Analytical Finance'!A13:A20,\"Complete\")>=1,COUNTIF('Analytical Finance'!A13:A20,\"Enrolled\")>=3),\"MAJOR IN PROGRESS\",IF(AND(AND(COUNTIF('Analytical Finance'!A13:A20,\"Complete\")>=1,COUNTIF('Analytical Finance'!A13:A20,\"Enrolled\")>=2),COUNTIF('Analytical Finance'!A13:A20,\"Will Enroll\")>=1),\"MAJOR IN PROGRESS\",IF(AND(AND(COUNTIF('Analytical Finance'!A13:A20,\"Complete\")>=1,COUNTIF('Analytical Finance'!A13:A20,\"Enrolled\")>=1),COUNTIF('Analytical Finance'!A13:A20,\"Will Enroll\")>=2),\"MAJOR IN PROGRESS\",IF(AND(COUNTIF('Analytical Finance'!A13:A20,\"Complete\")>=1,COUNTIF('Analytical Finance'!A13:A20,\"Will Enroll\")>=3),\"MAJOR IN PROGRESS\",IF(COUNTIF('Analytical Finance'!A13:A20,\"Enrolled\")>=4,\"MAJOR IN PROGRESS\",IF(AND(COUNTIF('Analytical Finance'!A13:A20,\"Enrolled\")>=3,COUNTIF('Analytical Finance'!A13:A20,\"Will Enroll\")>=1),\"MAJOR IN PROGRESS\",IF(AND(COUNTIF('Analytical Finance'!A13:A20,\"Enrolled\")>=2,COUNTIF('Analytical Finance'!A13:A20,\"Will Enroll\")>=2),\"MAJOR IN PROGRESS\",IF(AND(COUNTIF('Analytical Finance'!A13:A20,\"Enrolled\")>=1,COUNTIF('Analytical Finance'!A13:A20,\"Will Enroll\")>=3),\"MAJOR IN PROGRESS\",IF(COUNTIF('Analytical Finance'!A13:A20,\"Will Enroll\")>=4,\"MAJOR IN PROGRESS\",IF(COUNTIF('Analytical Finance'!A13:A20,\"Complete\")>=4,\"MAJOR IN PROGRESS\",A39)))))))))))))))","v":"NOT MAJORING IN THIS FIELD"}]
[{"$f":"IF(AND(COUNTIF('Analytical Finance'!A13:A20,\"Complete\")>=3,COUNTIF('Analytical Finance'!A13:A20,\"Enrolled\")>=1),\"MAJOR IN PROGRESS\",IF(AND(COUNTIF('Analytical Finance'!A13:A20,\"Complete\")>=3,COUNTIF('Analytical Finance'!A13:A20,\"Will Enroll\")>=1),\"MAJOR IN PROGRESS\",IF(AND(COUNTIF('Analytical Finance'!A13:A20,\"Complete\")>=2,COUNTIF('Analytical Finance'!A13:A20,\"Enrolled\")>=2),\"MAJOR IN PROGRESS\",IF(AND(AND(COUNTIF('Analytical Finance'!A13:A20,\"Complete\")>=2,COUNTIF('Analytical Finance'!A13:A20,\"Enrolled\")>=1),COUNTIF('Analytical Finance'!A13:A20,\"Will Enroll\")>=1),\"MAJOR IN PROGRESS\",IF(AND(COUNTIF('Analytical Finance'!A13:A20,\"Complete\")>=2,COUNTIF('Analytical Finance'!A13:A20,\"Will Enroll\")>=2),\"MAJOR IN PROGRESS\",IF(AND(COUNTIF('Analytical Finance'!A13:A20,\"Complete\")>=1,COUNTIF('Analytical Finance'!A13:A20,\"Enrolled\")>=3),\"MAJOR IN PROGRESS\",IF(AND(AND(COUNTIF('Analytical Finance'!A13:A20,\"Complete\")>=1,COUNTIF('Analytical Finance'!A13:A20,\"Enrolled\")>=2),COUNTIF('Analytical Finance'!A13:A20,\"Will Enroll\")>=1),\"MAJOR IN PROGRESS\",IF(AND(AND(COUNTIF('Analytical Finance'!A13:A20,\"Complete\")>=1,COUNTIF('Analytical Finance'!A13:A20,\"Enrolled\")>=1),COUNTIF('Analytical Finance'!A13:A20,\"Will Enroll\")>=2),\"MAJOR IN PROGRESS\",IF(AND(COUNTIF('Analytical Finance'!A13:A20,\"Complete\")>=1,COUNTIF('Analytical Finance'!A13:A20,\"Will Enroll\")>=3),\"MAJOR IN PROGRESS\",IF(COUNTIF('Analytical Finance'!A13:A20,\"Enrolled\")>=4,\"MAJOR IN PROGRESS\",IF(AND(COUNTIF('Analytical Finance'!A13:A20,\"Enrolled\")>=3,COUNTIF('Analytical Finance'!A13:A20,\"Will Enroll\")>=1),\"MAJOR IN PROGRESS\",IF(AND(COUNTIF('Analytical Finance'!A13:A20,\"Enrolled\")>=2,COUNTIF('Analytical Finance'!A13:A20,\"Will Enroll\")>=2),\"MAJOR IN PROGRESS\",IF(AND(COUNTIF('Analytical Finance'!A13:A20,\"Enrolled\")>=1,COUNTIF('Analytical Finance'!A13:A20,\"Will Enroll\")>=3),\"MAJOR IN PROGRESS\",IF(COUNTIF('Analytical Finance'!A13:A20,\"Will Enroll\")>=4,\"MAJOR IN PROGRESS\",IF(COUNTIF('Analytical Finance'!A13:A20,\"Complete\")>=4,\"MAJOR IN PROGRESS\",A39)))))))))))))))","v":"NOT MAJORING IN THIS FIELD"}]
[{"$f":"IF(COUNTIF('Analytical Finance'!A7:A9,\"Complete\")>=1,\"POTENTIAL MAJOR\",IF(COUNTIF('Analytical Finance'!A7:A9,\"Enrolled\")>=1,\"POTENTIAL MAJOR\",IF(COUNTIF('Analytical Finance'!A7:A9,\"Will Enroll\")>=1,\"POTENTIAL MAJOR\",\"NOT MAJORING IN THIS FIELD\")))","v":"NOT MAJORING IN THIS FIELD"}]
["Biotechnology"]
[{"$f":"IF(COUNTIF(Biotech!A7:A10,\"Complete\")>=1,$A$42,IF(COUNTIF(Biotech!A7:A10,\"Enrolled\")>=1,$A$43,IF(COUNTIF(Biotech!A7:A10,\"Will Enroll\")>=1,$A$44,$A$44)))","v":"NOT MAJORING IN THIS FIELD"}]
[{"$f":"IF(COUNTIF(Biotech!A7:A20,\"Complete\")>=3,\"MAJOR COMPLETED\",IF(AND(COUNTIF(Biotech!A7:A20,\"Complete\")>=2,COUNTIF(Biotech!A7:A20,\"Enrolled\")>=1),\"MAJOR COMPLETED THIS QUARTER\",IF(AND(COUNTIF(Biotech!A7:A20,\"Complete\")>=1,COUNTIF(Biotech!A7:A20,\"Enrolled\")>=2),\"MAJOR COMPLETED THIS QUARTER\",IF(COUNTIF(Biotech!A7:A20,\"Enrolled\")>=3,\"MAJOR COMPLETED THIS QUARTER\",IF(AND(COUNTIF(Biotech!A7:A20,\"Complete\")>=2,COUNTIF(Biotech!A7:A20,\"Will Enroll\")>=1),\"MAJOR IN PROGRESS\",IF(AND(COUNTIF(Biotech!A7:A20,\"Complete\")>=1,COUNTIF(Biotech!A7:A20,\"Will Enroll\")>=2),\"MAJOR IN PROGRESS\",IF(AND(COUNTIF(Biotech!A7:A20,\"Enrolled\")>=2,COUNTIF(Biotech!A7:A20,\"Will Enroll\")>=1),\"MAJOR IN PROGRESS\",IF(COUNTIF(Biotech!A7:A20,\"Will Enroll\")>=3,\"MAJOR IN PROGRESS\",IF(AND(AND(COUNTIF(Biotech!A7:A20,\"Complete\")>=1),COUNTIF(Biotech!A7:A20,\"Enrolled\")>=1,COUNTIF(Biotech!A7:A20,\"Will Enroll\")>=1),\"MAJOR IN PROGRESS\",IF(AND(COUNTIF(Biotech!A7:A20,\"Enrolled\")>=1,COUNTIF(Biotech!A7:A20,\"Will Enroll\")>=2),\"MAJOR IN PROGRESS\",IF(COUNTIF(Biotech!A7:A10,\"Complete\")>=1,\"POTENTIAL MAJOR\",IF(COUNTIF(Biotech!A7:A10,\"Enrolled\")>=1,\"POTENTIAL MAJOR\",IF(COUNTIF(Biotech!A7:A10,\"Will Enroll\")>=1,\"POTENTIAL MAJOR\",\"NOT MAJORING IN THIS FIELD\")))))))))))))","v":"NOT MAJORING IN THIS FIELD"}]
[{"$f":"IF(COUNTIF(Biotech!A7:A20,\"Complete\")>=3,\"MAJOR COMPLETED THIS QUARTER\",IF(AND(COUNTIF(Biotech!A7:A20,\"Complete\")>=2,COUNTIF(Biotech!A7:A20,\"Enrolled\")>=1),\"MAJOR COMPLETED THIS QUARTER\",IF(AND(COUNTIF(Biotech!A7:A20,\"Complete\")>=1,COUNTIF(Biotech!A7:A20,\"Enrolled\")>=2),\"MAJOR COMPLETED THIS QUARTER\",IF(COUNTIF(Biotech!A7:A20,\"Enrolled\")>=3,\"MAJOR COMPLETED THIS QUARTER\",IF(AND(COUNTIF(Biotech!A7:A20,\"Complete\")>=2,COUNTIF(Biotech!A7:A20,\"Will Enroll\")>=1),\"MAJOR IN PROGRESS\",IF(AND(COUNTIF(Biotech!A7:A20,\"Complete\")>=1,COUNTIF(Biotech!A7:A20,\"Will Enroll\")>=2),\"MAJOR IN PROGRESS\",IF(AND(COUNTIF(Biotech!A7:A20,\"Enrolled\")>=2,COUNTIF(Biotech!A7:A20,\"Will Enroll\")>=1),\"MAJOR IN PROGRESS\",IF(COUNTIF(Biotech!A7:A20,\"Will Enroll\")>=3,\"MAJOR IN PROGRESS\",IF(AND(AND(COUNTIF(Biotech!A7:A20,\"Complete\")>=1),COUNTIF(Biotech!A7:A20,\"Enrolled\")>=1,COUNTIF(Biotech!A7:A20,\"Will Enroll\")>=1),\"MAJOR IN PROGRESS\",IF(AND(COUNTIF(Biotech!A7:A20,\"Enrolled\")>=1,COUNTIF(Biotech!A7:A20,\"Will Enroll\")>=2),\"MAJOR IN PROGRESS\",IF(COUNTIF(Biotech!A7:A10,\"Complete\")>=1,\"POTENTIAL MAJOR\",IF(COUNTIF(Biotech!A7:A10,\"Enrolled\")>=1,\"POTENTIAL MAJOR\",IF(COUNTIF(Biotech!A7:A10,\"Will Enroll\")>=1,\"POTENTIAL MAJOR\",\"NOT MAJORING IN THIS FIELD\")))))))))))))","v":"NOT MAJORING IN THIS FIELD"}]
[{"$f":"IF(COUNTIF(Biotech!A7:A20,\"Complete\")=3,\"MAJOR IN PROGRESS\",IF(AND(COUNTIF(Biotech!A7:A20,\"Complete\")>=2,COUNTIF(Biotech!A7:A20,\"Enrolled\")>=1),\"MAJOR IN PROGRESS\",IF(AND(COUNTIF(Biotech!A7:A20,\"Complete\")>=1,COUNTIF(Biotech!A7:A20,\"Enrolled\")>=2),\"MAJOR IN PROGRESS\",IF(COUNTIF(Biotech!A7:A20,\"Enrolled\")>=3,\"MAJOR IN PROGRESS\",IF(AND(COUNTIF(Biotech!A7:A20,\"Complete\")>=2,COUNTIF(Biotech!A7:A20,\"Will Enroll\")>=1),\"MAJOR IN PROGRESS\",IF(AND(COUNTIF(Biotech!A7:A20,\"Complete\")>=1,COUNTIF(Biotech!A7:A20,\"Will Enroll\")>=2),\"MAJOR IN PROGRESS\",IF(AND(COUNTIF(Biotech!A7:A20,\"Enrolled\")>=2,COUNTIF(Biotech!A7:A20,\"Will Enroll\")>=1),\"MAJOR IN PROGRESS\",IF(COUNTIF(Biotech!A7:A20,\"Will Enroll\")>=3,\"MAJOR IN PROGRESS\",IF(AND(AND(COUNTIF(Biotech!A7:A20,\"Complete\")>=1),COUNTIF(Biotech!A7:A20,\"Enrolled\")>=1,COUNTIF(Biotech!A7:A20,\"Will Enroll\")>=1),\"MAJOR IN PROGRESS\",IF(AND(COUNTIF(Biotech!A7:A20,\"Enrolled\")>=1,COUNTIF(Biotech!A7:A20,\"Will Enroll\")>=2),\"MAJOR IN PROGRESS\",IF(COUNTIF(Biotech!A7:A10,\"Complete\")>=1,\"POTENTIAL MAJOR\",IF(COUNTIF(Biotech!A7:A10,\"Enrolled\")>=1,\"POTENTIAL MAJOR\",IF(COUNTIF(Biotech!A7:A10,\"Will Enroll\")>=1,\"POTENTIAL MAJOR\",\"NOT MAJORING IN THIS FIELD\")))))))))))))","v":"NOT MAJORING IN THIS FIELD"}]
["Decision Sciences"]
[{"$f":"IF(COUNTIF(DECS!A7:A16,\"Complete\")=3,\"MAJOR COMPLETED\",IF(AND(COUNTIF(DECS!A7:A16,\"Complete\")=2,COUNTIF(DECS!A7:A16,\"Enrolled\")>=1),\"MAJOR COMPLETED THIS QUARTER\",IF(AND(COUNTIF(DECS!A7:A16,\"Complete\")=1,COUNTIF(DECS!A7:A16,\"Enrolled\")>=2),\"MAJOR COMPLETED THIS QUARTER\",IF(COUNTIF(DECS!A7:A16,\"Enrolled\")=3,\"MAJOR COMPLETED THIS QUARTER\",IF(AND(COUNTIF(DECS!A7:A16,\"Complete\")>=2,COUNTIF(DECS!A7:A16,\"Will Enroll\")>=1),\"MAJOR IN PROGRESS\",IF(AND(COUNTIF(DECS!A7:A16,\"Complete\")>=1,COUNTIF(DECS!A7:A16,\"Will Enroll\")>=2),\"MAJOR IN PROGRESS\",IF(AND(COUNTIF(DECS!A7:A16,\"Enrolled\")>=2,COUNTIF(DECS!A7:A16,\"Will Enroll\")>=1),\"MAJOR IN PROGRESS\",IF(COUNTIF(DECS!A7:A16,\"Will Enroll\")>=3,\"MAJOR IN PROGRESS\",IF(AND(AND(COUNTIF(DECS!A7:A16,\"Complete\")>=1),COUNTIF(DECS!A7:A16,\"Enrolled\")>=1,COUNTIF(DECS!A7:A16,\"Will Enroll\")>=1),\"MAJOR IN PROGRESS\",IF(AND(COUNTIF(DECS!A7:A16,\"Enrolled\")>=1,COUNTIF(DECS!A7:A16,\"Will Enroll\")>=2),\"MAJOR IN PROGRESS\",IF(COUNTIF(DECS!A7:A16,\"Complete\")>=1,\"POTENTIAL MAJOR\",IF(COUNTIF(DECS!A7:A16,\"Enrolled\")>=1,\"POTENTIAL MAJOR\",IF(COUNTIF(DECS!A7:A16,\"Will Enroll\")>=1,\"POTENTIAL MAJOR\",\"NOT MAJORING IN THIS FIELD\")))))))))))))","v":"NOT MAJORING IN THIS FIELD"}]
["Entrepreneurship & Innovation"]
[{"$f":"IF(AND('ENTR & Innovation'!A7=\"Complete\",COUNTIF('ENTR & Innovation'!A9:A44,\"Complete\")>=3),\"MAJOR COMPLETED\",IF(AND(AND('ENTR & Innovation'!A7=\"Complete\",COUNTIF('ENTR & Innovation'!A9:A44,\"Complete\")>=2,COUNTIF('ENTR & Innovation'!A9:A44,\"Enrolled\")>=1)),\"MAJOR COMPLETED THIS QUARTER\",IF(AND(AND('ENTR & Innovation'!A7=\"Complete\",COUNTIF('ENTR & Innovation'!A9:A44,\"Complete\")>=1,COUNTIF('ENTR & Innovation'!A9:A44,\"Enrolled\")>=2)),\"MAJOR COMPLETED THIS QUARTER\",IF(AND('ENTR & Innovation'!A7=\"Complete\",COUNTIF('ENTR & Innovation'!A9:A44,\"Enrolled\")>=3),\"MAJOR COMPLETED THIS QUARTER\",IF(AND('ENTR & Innovation'!A7=\"Enrolled\",COUNTIF('ENTR & Innovation'!A9:A44,\"Enrolled\")>=3),\"MAJOR COMPLETED THIS QUARTER\",IF(AND(AND('ENTR & Innovation'!A7=\"Enrolled\",COUNTIF('ENTR & Innovation'!A9:A44,\"Complete\")>=2),COUNTIF('ENTR & Innovation'!A9:A44,\"Enrolled\")>=1),\"MAJOR COMPLETED THIS QUARTER\",IF(AND(AND('ENTR & Innovation'!A7=\"Enrolled\",COUNTIF('ENTR & Innovation'!A9:A44,\"Complete\")>=1),COUNTIF('ENTR & Innovation'!A9:A44,\"Enrolled\")>=2),\"MAJOR COMPLETED THIS QUARTER\",IF(AND('ENTR & Innovation'!A7=\"Enrolled\",COUNTIF('ENTR & Innovation'!A9:A44,\"Complete\")>=3),\"MAJOR COMPLETED THIS QUARTER\",$A$49))))))))","v":"NOT MAJORING IN THIS FIELD"}]
[{"$f":"IF(OR(OR('ENTR & Innovation'!A7=\"Complete\",'ENTR & Innovation'!A7=\"Enrolled\",'ENTR & Innovation'!A7=\"Will Enroll\")),$A$50,$A$51)","v":"NOT MAJORING IN THIS FIELD"}]
[{"$f":"IF(AND(COUNTIF('ENTR & Innovation'!A9:A44,\"Complete\")>=2,COUNTIF('ENTR & Innovation'!A9:A44,\"Enrolled\")>=1),\"MAJOR IN PROGRESS\",IF(AND(COUNTIF('ENTR & Innovation'!A9:A44,\"Complete\")>=1,COUNTIF('ENTR & Innovation'!A9:A44,\"Enrolled\")>=2),\"MAJOR IN PROGRESS\",IF(AND(COUNTIF('ENTR & Innovation'!A9:A44,\"Complete\")>=2,COUNTIF('ENTR & Innovation'!A9:A44,\"Will Enroll\")>=1),\"MAJOR IN PROGRESS\",IF(AND(COUNTIF('ENTR & Innovation'!A9:A44,\"Complete\")>=1,COUNTIF('ENTR & Innovation'!A9:A44,\"Will Enroll\")>=2),\"MAJOR IN PROGRESS\",IF(AND(COUNTIF('ENTR & Innovation'!A9:A44,\"Enrolled\")>=2,COUNTIF('ENTR & Innovation'!A9:A44,\"Will Enroll\")>=1),\"MAJOR IN PROGRESS\",IF(COUNTIF('ENTR & Innovation'!A9:A44,\"Will Enroll\")>=3,\"MAJOR IN PROGRESS\",IF(COUNTIF('ENTR & Innovation'!A9:A44,\"Complete\")>=3,\"MAJOR IN PROGRESS\",IF(COUNTIF('ENTR & Innovation'!A9:A44,\"Enrolled\")>=3,\"MAJOR IN PROGRESS\",IF(AND(AND(COUNTIF('ENTR & Innovation'!A9:A44,\"Complete\")>=1),COUNTIF('ENTR & Innovation'!A9:A44,\"Enrolled\")>=1,COUNTIF('ENTR & Innovation'!A9:A44,\"Will Enroll\")>=1),\"MAJOR IN PROGRESS\",IF(AND(COUNTIF('ENTR & Innovation'!A9:A44,\"Enrolled\")>=1,COUNTIF('ENTR & Innovation'!A9:A44,\"Will Enroll\")>=2),\"MAJOR IN PROGRESS\",$A$51))))))))))","v":"NOT MAJORING IN THIS FIELD"}]
[{"$f":"IF('ENTR & Innovation'!A7=\"Complete\",\"POTENTIAL MAJOR\",IF('ENTR & Innovation'!A7=\"Enrolled\",\"POTENTIAL MAJOR\",IF('ENTR & Innovation'!A7=\"Will Enroll\",\"POTENTIAL MAJOR\",\"NOT MAJORING IN THIS FIELD\")))","v":"NOT MAJORING IN THIS FIELD"}]
["Finance"]
[{"$f":"IF(AND(COUNTIF(FINC!A7:A8,\"Complete\")=2,COUNTIF(FINC!A11:A16,\"Complete\")>=3),\"MAJOR COMPLETED\",IF(AND(FINC!A9=\"Complete\",COUNTIF(FINC!A11:A16,\"Complete\")>=3),\"MAJOR COMPLETED\",IF(AND(AND(COUNTIF(FINC!A7:A8,\"Complete\")=2,COUNTIF(FINC!A11:A16,\"Complete\")>=1,COUNTIF(FINC!A18:A44,\"Complete\")>=2)),\"MAJOR COMPLETED\",IF(AND(AND(COUNTIF(FINC!A7:A8,\"Complete\")=2,COUNTIF(FINC!A11:A16,\"Complete\")>=2,COUNTIF(FINC!A18:A44,\"Complete\")>=1)),\"MAJOR COMPLETED\",IF(AND(AND(FINC!A9=\"Complete\",COUNTIF(FINC!A11:A16,\"Complete\")>=1,COUNTIF(FINC!A18:A44,\"Complete\")>=2)),\"MAJOR COMPLETED\",IF(AND(AND(COUNTIF(FINC!A7:A8,\"Complete\")=2,COUNTIF(FINC!A11:A16,\"Complete\")>=1,COUNTIF(FINC!A18:A44,\"Complete\")>=2)),\"MAJOR COMPLETED\",IF(AND(AND(FINC!A9=\"Complete\",COUNTIF(FINC!A11:A16,\"Complete\")>=2,COUNTIF(FINC!A18:A44,\"Complete\")>=1)),\"MAJOR COMPLETED\",IF(AND(AND(COUNTIF(FINC!A7:A8,\"Complete\")=2,COUNTIF(FINC!A11:A16,\"Complete\")>=2,COUNTIF(FINC!A11:A16,\"Enrolled\")>=1)),\"MAJOR COMPLETED THIS QUARTER\",IF(AND(AND(FINC!A9=\"Complete\",COUNTIF(FINC!A11:A16,\"Complete\")>=2,COUNTIF(FINC!A11:A16,\"Enrolled\")>=1)),\"MAJOR COMPLETED THIS QUARTER\",IF(AND(AND(COUNTIF(FINC!A7:A8,\"Complete\")=2,COUNTIF(FINC!A11:A16,\"Complete\")>=1,COUNTIF(FINC!A11:A16,\"Enrolled\")>=2)),\"MAJOR COMPLETED THIS QUARTER\",IF(AND(AND(FINC!A9=\"Complete\",COUNTIF(FINC!A11:A16,\"Complete\")>=1,COUNTIF(FINC!A11:A16,\"Enrolled\")>=2)),\"MAJOR COMPLETED THIS QUARTER\",IF(AND(AND(FINC!A9=\"Complete\",COUNTIF(FINC!A11:A16,\"Complete\")>=2,COUNTIF(FINC!A11:A16,\"Enrolled\")>=1)),\"MAJOR COMPLETED THIS QUARTER\",IF(AND(AND(COUNTIF(FINC!A7:A8,\"Complete\")=2,COUNTIF(FINC!A11:A16,\"Complete\")>=1,COUNTIF(FINC!A11:A16,\"Enrolled\")>=2)),\"MAJOR COMPLETED THIS QUARTER\",IF(AND(COUNTIF(FINC!A7:A8,\"Complete\")>=2,COUNTIF(FINC!A11:A16,\"Enrolled\")>=3),\"MAJOR COMPLETED THIS QUARTER\",IF(AND(FINC!A9=\"Complete\",COUNTIF(FINC!A11:A16,\"Enrolled\")>=3),\"MAJOR COMPLETED THIS QUARTER\",IF(AND(AND(AND(COUNTIF(FINC!A7:A8,\"Complete\")=1,COUNTIF(FINC!A7:A8,\"Enrolled\")=1),COUNTIF(FINC!A11:A16,\"Complete\")>=1),COUNTIF(FINC!A11:A16,\"Enrolled\")>=2),\"MAJOR COMPLETED THIS QUARTER\",IF(AND(AND(AND(COUNTIF(FINC!A7:A8,\"Complete\")=1,COUNTIF(FINC!A7:A8,\"Enrolled\")=1),COUNTIF(FINC!A11:A16,\"Complete\")>=2),COUNTIF(FINC!A11:A16,\"Enrolled\")>=1),\"MAJOR COMPLETED THIS QUARTER\",IF(AND(AND(COUNTIF(FINC!A7:A8,\"Complete\")=1,COUNTIF(FINC!A7:A8,\"Enrolled\")=1),COUNTIF(FINC!A11:A16,\"Enrolled\")>=3),\"MAJOR COMPLETED THIS QUARTER\",IF(AND(AND(COUNTIF(FINC!A7:A8,\"Complete\")=1,COUNTIF(FINC!A7:A8,\"Enrolled\")=1),COUNTIF(FINC!A11:A16,\"Complete\")>=3),\"MAJOR COMPLETED THIS QUARTER\",IF(AND(AND(AND(COUNTIF(FINC!A7:A8,\"Complete\")=1,COUNTIF(FINC!A7:A8,\"Enrolled\")=1),COUNTIF(FINC!A11:A16,\"Complete\")>=1),COUNTIF(FINC!A18:A44,\"Complete\")>=2),\"MAJOR COMPLETED THIS QUARTER\",IF(AND(AND(AND(COUNTIF(FINC!A7:A8,\"Complete\")=1,COUNTIF(FINC!A7:A8,\"Enrolled\")=1),COUNTIF(FINC!A11:A16,\"Enrolled\")>=1),COUNTIF(FINC!A18:A44,\"Complete\")>=2),\"MAJOR COMPLETED THIS QUARTER\",IF(AND(AND(AND(COUNTIF(FINC!A7:A8,\"Complete\")=1,COUNTIF(FINC!A7:A8,\"Enrolled\")=1),COUNTIF(FINC!A11:A16,\"Enrolled\")>=1),COUNTIF(FINC!A18:A44,\"Enrolled\")>=2),\"MAJOR COMPLETED THIS QUARTER\",IF(AND(AND(AND(AND(COUNTIF(FINC!A7:A8,\"Complete\")=1,COUNTIF(FINC!A7:A8,\"Enrolled\")=1),COUNTIF(FINC!A11:A16,\"Enrolled\")>=1),COUNTIF(FINC!A18:A44,\"Enrolled\")>=1),COUNTIF(FINC!A18:A44,\"Complete\")>=1),\"MAJOR COMPLETED THIS QUARTER\",IF(AND(AND(COUNTIF(FINC!A7:A8,\"Complete\")=2,COUNTIF(FINC!A11:A16,\"Enrolled\")>=1,COUNTIF(FINC!A18:A44,\"Complete\")>=2)),\"MAJOR COMPLETED THIS QUARTER\",IF(AND(AND(COUNTIF(FINC!A7:A8,\"Complete\")=2,COUNTIF(FINC!A11:A16,\"Enrolled\")>=1,COUNTIF(FINC!A18:A44,\"Enrolled\")>=2)),\"MAJOR COMPLETED THIS QUARTER\",IF(AND(AND(AND(COUNTIF(FINC!A7:A8,\"Complete\")=2,COUNTIF(FINC!A11:A16,\"Enrolled\")=1),COUNTIF(FINC!A18:A44,\"Complete\")>=1),COUNTIF(FINC!A18:A44,\"Enrolled\")>=1),\"MAJOR COMPLETED THIS QUARTER\",IF(AND(AND(AND(COUNTIF(FINC!A7:A8,\"Complete\")=2,COUNTIF(FINC!A11:A16,\"Complete\")=1),COUNTIF(FINC!A18:A44,\"Complete\")>=1),COUNTIF(FINC!A18:A44,\"Enrolled\")>=1),\"MAJOR COMPLETED THIS QUARTER\",IF(AND(AND(COUNTIF(FINC!A7:A8,\"Complete\")=2,COUNTIF(FINC!A11:A16,\"Complete\")>=1,COUNTIF(FINC!A18:A44,\"Enrolled\")>=2)),\"MAJOR COMPLETED THIS QUARTER\",IF(AND(AND(AND(COUNTIF(FINC!A7:A8,\"Complete\")=1,COUNTIF(FINC!A7:A8,\"Enrolled\")=1),COUNTIF(FINC!A11:A16,\"Complete\")>=2),COUNTIF(FINC!A18:A44,\"Complete\")>=1),\"MAJOR COMPLETED THIS QUARTER\",IF(AND(AND(AND(AND(COUNTIF(FINC!A7:A8,\"Complete\")=1,COUNTIF(FINC!A7:A8,\"Enrolled\")=1),COUNTIF(FINC!A11:A16,\"Enrolled\")>=1),COUNTIF(FINC!A11:A16,\"Complete\")>=1),COUNTIF(FINC!A18:A44,\"Complete\")>=1),\"MAJOR COMPLETED THIS QUARTER\",IF(AND(AND(AND(COUNTIF(FINC!A7:A8,\"Complete\")=1,COUNTIF(FINC!A7:A8,\"Enrolled\")=1),COUNTIF(FINC!A11:A16,\"Enrolled\")>=2),COUNTIF(FINC!A18:A44,\"Complete\")>=1),\"MAJOR COMPLETED THIS QUARTER\",IF(AND(AND(AND(COUNTIF(FINC!A7:A8,\"Complete\")=1,COUNTIF(FINC!A7:A8,\"Enrolled\")=1),COUNTIF(FINC!A11:A16,\"Enrolled\")>=2),COUNTIF(FINC!A18:A44,\"Enrolled\")>=1),\"MAJOR COMPLETED THIS QUARTER\",IF(AND(AND(AND(COUNTIF(FINC!A7:A8,\"Complete\")=2,COUNTIF(FINC!A11:A16,\"Complete\")=1),COUNTIF(FINC!A11:A16,\"Enrolled\")>=1),COUNTIF(FINC!A18:A44,\"Complete\")>=1),\"MAJOR COMPLETED THIS QUARTER\",IF(AND(AND(AND(COUNTIF(FINC!A7:A8,\"Complete\")=2,COUNTIF(FINC!A11:A16,\"Complete\")=1),COUNTIF(FINC!A11:A16,\"Enrolled\")>=1),COUNTIF(FINC!A18:A44,\"Enrolled\")>=1),\"MAJOR COMPLETED THIS QUARTER\",IF(AND(AND(COUNTIF(FINC!A7:A8,\"Complete\")=2,COUNTIF(FINC!A11:A16,\"Enrolled\")>=2,COUNTIF(FINC!A18:A44,\"Complete\")>=1)),\"MAJOR COMPLETED THIS QUARTER\",IF(AND(AND(COUNTIF(FINC!A7:A8,\"Complete\")=2,COUNTIF(FINC!A11:A16,\"Enrolled\")>=2,COUNTIF(FINC!A18:A44,\"Enrolled\")>=1)),\"MAJOR COMPLETED THIS QUARTER\",IF(AND(AND(COUNTIF(FINC!A7:A8,\"Complete\")=2,COUNTIF(FINC!A11:A16,\"Complete\")>=2,COUNTIF(FINC!A18:A44,\"Enrolled\")>=1)),\"MAJOR COMPLETED THIS QUARTER\",IF(AND(AND(FINC!A9=\"Complete\",COUNTIF(FINC!A11:A16,\"Complete\")>=1,COUNTIF(FINC!A18:A44,\"Complete\")>=2)),\"MAJOR COMPLETED THIS QUARTER\",IF(AND(AND(FINC!A9=\"Complete\",COUNTIF(FINC!A11:A16,\"Enrolled\")>=1,COUNTIF(FINC!A18:A44,\"Complete\")>=2)),\"MAJOR COMPLETED THIS QUARTER\",IF(AND(AND(FINC!A9=\"Complete\",COUNTIF(FINC!A11:A16,\"Complete\")>=1,COUNTIF(FINC!A18:A44,\"Enrolled\")>=2)),\"MAJOR COMPLETED THIS QUARTER\",IF(AND(AND(FINC!A9=\"Complete\",COUNTIF(FINC!A11:A16,\"Enrolled\")>=1,COUNTIF(FINC!A18:A44,\"Enrolled\")>=2)),\"MAJOR COMPLETED THIS QUARTER\",IF(AND(AND(AND(FINC!A9=\"Complete\",COUNTIF(FINC!A11:A16,\"Complete\")=1),COUNTIF(FINC!A18:A44,\"Complete\")>=1),COUNTIF(FINC!A18:A44,\"Enrolled\")>=1),\"MAJOR COMPLETED THIS QUARTER\",IF(AND(AND(AND(FINC!A9=\"Complete\",COUNTIF(FINC!A11:A16,\"Enrolled\")=1),COUNTIF(FINC!A18:A44,\"Complete\")>=1),COUNTIF(FINC!A18:A44,\"Enrolled\")>=1),\"MAJOR COMPLETED THIS QUARTER\",IF(AND(AND(AND(FINC!A9=\"Complete\",COUNTIF(FINC!A11:A16,\"Enrolled\")=1),COUNTIF(FINC!A11:A16,\"Complete\")>=1),COUNTIF(FINC!A18:A44,\"Complete\")>=1),\"MAJOR COMPLETED THIS QUARTER\",IF(AND(AND(AND(FINC!A9=\"Complete\",COUNTIF(FINC!A11:A16,\"Enrolled\")=1),COUNTIF(FINC!A11:A16,\"Complete\")>=1),COUNTIF(FINC!A18:A44,\"Enrolled\")>=1),\"MAJOR COMPLETED THIS QUARTER\",IF(AND(AND(FINC!A9=\"Complete\",COUNTIF(FINC!A11:A16,\"Enrolled\")>=2,COUNTIF(FINC!A18:A44,\"Complete\")>=1)),\"MAJOR COMPLETED THIS QUARTER\",$A$54))))))))))))))))))))))))))))))))))))))))))))))","v":"NOT MAJORING IN THIS FIELD"}]
[{"$f":"IF(AND(AND(FINC!A9=\"Complete\",COUNTIF(FINC!A11:A16,\"Enrolled\")>=2,COUNTIF(FINC!A18:A44,\"Enrolled\")>=1)),\"MAJOR COMPLETED THIS QUARTER\",IF(AND(AND(FINC!A9=\"Complete\",COUNTIF(FINC!A11:A16,\"Complete\")>=2,COUNTIF(FINC!A18:A44,\"Enrolled\")>=1)),\"MAJOR COMPLETED THIS QUARTER\",IF(AND(AND(AND(COUNTIF(FINC!A7:A8,\"Complete\")>=1),COUNTIF(FINC!A7:A8,\"Enrolled\")>=1,COUNTIF(FINC!A11:A16,\"Complete\")>=1),COUNTIF(FINC!A18:A44,\"Enrolled\")>=2),\"MAJOR COMPLETED THIS QUARTER\",IF(AND(AND(AND(AND(COUNTIF(FINC!A7:A8,\"Complete\")>=1),COUNTIF(FINC!A7:A8,\"Enrolled\")>=1),COUNTIF(FINC!A11:A16,\"Complete\")>=1,COUNTIF(FINC!A18:A44,\"Complete\")>=1),COUNTIF(FINC!A18:A44,\"Enrolled\")>=1),\"MAJOR COMPLETED THIS QUARTER\",IF(AND(AND(AND(COUNTIF(FINC!A7:A8,\"Complete\")>=1),COUNTIF(FINC!A7:A8,\"Enrolled\")>=1,COUNTIF(FINC!A11:A16,\"Complete\")>=2),COUNTIF(FINC!A18:A44,\"Enrolled\")>=1),\"MAJOR COMPLETED THIS QUARTER\",IF(AND(AND(AND(AND(COUNTIF(FINC!A7:A8,\"Complete\")>=1),COUNTIF(FINC!A7:A8,\"Enrolled\")>=1),COUNTIF(FINC!A11:A16,\"Complete\")>=1,COUNTIF(FINC!A11:A16,\"Enrolled\")>=1),COUNTIF(FINC!A18:A44,\"Enrolled\")>=1),\"MAJOR COMPLETED THIS QUARTER\",IF(AND(AND(COUNTIF(FINC!A7:A8,\"Complete\")>=1),COUNTIF(FINC!A7:A8,\"Enrolled\")>=1,COUNTIF(FINC!A11:A16,\"Will Enroll\")>=3),\"MAJOR IN PROGRESS\",IF(AND(AND(COUNTIF(FINC!A7:A8,\"Complete\")>=1),COUNTIF(FINC!A7:A8,\"Will Enroll\")>=1,COUNTIF(FINC!A11:A16,\"Will Enroll\")>=3),\"MAJOR IN PROGRESS\",IF(AND(AND(COUNTIF(FINC!A7:A8,\"Complete\")>=1),COUNTIF(FINC!A7:A8,\"Will Enroll\")>=1,COUNTIF(FINC!A11:A16,\"Complete\")>=3),\"MAJOR IN PROGRESS\",IF(AND(AND(COUNTIF(FINC!A7:A8,\"Complete\")>=1),COUNTIF(FINC!A7:A8,\"Will Enroll\")>=1,COUNTIF(FINC!A11:A16,\"Enrolled\")>=3),\"MAJOR IN PROGRESS\",IF(AND(AND(AND(COUNTIF(FINC!A7:A8,\"Complete\")>=1),COUNTIF(FINC!A7:A8,\"Enrolled\")>=1,COUNTIF(FINC!A11:A16,\"Will Enroll\")>=2),COUNTIF(FINC!A11:A16,\"Complete\")>=1),\"MAJOR IN PROGRESS\",IF(AND(AND(AND(COUNTIF(FINC!A7:A8,\"Complete\")>=1),COUNTIF(FINC!A7:A8,\"Enrolled\")>=1,COUNTIF(FINC!A11:A16,\"Will Enroll\")>=2),COUNTIF(FINC!A11:A16,\"Enrolled\")>=1),\"MAJOR IN PROGRESS\",IF(AND(AND(AND(COUNTIF(FINC!A7:A8,\"Complete\")>=1),COUNTIF(FINC!A7:A8,\"Enrolled\")>=1,COUNTIF(FINC!A11:A16,\"Complete\")>=2),COUNTIF(FINC!A11:A16,\"Will Enroll\")>=1),\"MAJOR IN PROGRESS\",IF(AND(AND(AND(COUNTIF(FINC!A7:A8,\"Complete\")>=1),COUNTIF(FINC!A7:A8,\"Enrolled\")>=1,COUNTIF(FINC!A11:A16,\"Enrolled\")>=2),COUNTIF(FINC!A11:A16,\"Will Enroll\")>=1),\"MAJOR IN PROGRESS\",IF(AND(AND(AND(AND(COUNTIF(FINC!A7:A8,\"Complete\")>=1),COUNTIF(FINC!A7:A8,\"Enrolled\")>=1,COUNTIF(FINC!A11:A16,\"Complete\")>=1),COUNTIF(FINC!A11:A16,\"Enrolled\")>=1),COUNTIF(FINC!A11:A16,\"Will Enroll\")>=1),\"MAJOR IN PROGRESS\",IF(AND(AND(AND(AND(COUNTIF(FINC!A7:A8,\"Complete\")>=1),COUNTIF(FINC!A7:A8,\"Will Enroll\")>=1,COUNTIF(FINC!A11:A16,\"Complete\")>=1),COUNTIF(FINC!A11:A16,\"Enrolled\")>=1),COUNTIF(FINC!A11:A16,\"Will Enroll\")>=1),\"MAJOR IN PROGRESS\",IF(AND(AND(AND(COUNTIF(FINC!A7:A8,\"Complete\")>=1),COUNTIF(FINC!A7:A8,\"Will Enroll\")>=1,COUNTIF(FINC!A11:A16,\"Complete\")>=2),COUNTIF(FINC!A11:A16,\"Will Enroll\")>=1),\"MAJOR IN PROGRESS\",IF(AND(AND(AND(COUNTIF(FINC!A7:A8,\"Complete\")>=1),COUNTIF(FINC!A7:A8,\"Will Enroll\")>=1,COUNTIF(FINC!A11:A16,\"Complete\")>=1),COUNTIF(FINC!A11:A16,\"Will Enroll\")>=2),\"MAJOR IN PROGRESS\",IF(AND(AND(AND(COUNTIF(FINC!A7:A8,\"Complete\")>=1),COUNTIF(FINC!A7:A8,\"Will Enroll\")>=1,COUNTIF(FINC!A11:A16,\"Complete\")>=2),COUNTIF(FINC!A11:A16,\"Enrolled\")>=1),\"MAJOR IN PROGRESS\",IF(AND(AND(AND(COUNTIF(FINC!A7:A8,\"Complete\")>=1),COUNTIF(FINC!A7:A8,\"Will Enroll\")>=1,COUNTIF(FINC!A11:A16,\"Complete\")>=1),COUNTIF(FINC!A11:A16,\"Enrolled\")>=2),\"MAJOR IN PROGRESS\",IF(AND(AND(AND(COUNTIF(FINC!A7:A8,\"Complete\")>=1),COUNTIF(FINC!A7:A8,\"Will Enroll\")>=1,COUNTIF(FINC!A11:A16,\"Enrolled\")>=2),COUNTIF(FINC!A11:A16,\"Will Enroll\")>=1),\"MAJOR IN PROGRESS\",IF(AND(AND(AND(COUNTIF(FINC!A7:A8,\"Complete\")>=1),COUNTIF(FINC!A7:A8,\"Will Enroll\")>=1,COUNTIF(FINC!A11:A16,\"Enrolled\")>=1),COUNTIF(FINC!A11:A16,\"Will Enroll\")>=2),\"MAJOR IN PROGRESS\",IF(AND(FINC!A9=\"Enrolled\",COUNTIF(FINC!A11:A16,\"Will Enroll\")>=3),\"MAJOR IN PROGRESS\",IF(AND(AND(FINC!A9=\"Enrolled\"),COUNTIF(FINC!A11:A16,\"Complete\")>=2,COUNTIF(FINC!A11:A16,\"Will Enroll\")>=1),\"MAJOR IN PROGRESS\",IF(AND(AND(FINC!A9=\"Enrolled\"),COUNTIF(FINC!A11:A16,\"Complete\")>=1,COUNTIF(FINC!A11:A16,\"Will Enroll\")>=2),\"MAJOR IN PROGRESS\",IF(AND(AND(AND(FINC!A9=\"Enrolled\"),COUNTIF(FINC!A11:A16,\"Complete\")>=1,COUNTIF(FINC!A11:A16,\"Enrolled\")>=1),COUNTIF(FINC!A11:A16,\"Will Enroll\")>=1),\"MAJOR IN PROGRESS\",IF(AND(FINC!A9=\"Will Enroll\",COUNTIF(FINC!A11:A16,\"Complete\")>=3),\"MAJOR IN PROGRESS\",IF(AND(FINC!A9=\"Will Enroll\",COUNTIF(FINC!A11:A16,\"Enrolled\")>=3),\"MAJOR IN PROGRESS\",IF(AND(FINC!A9=\"Will Enroll\",COUNTIF(FINC!A11:A16,\"Will Enroll\")>=3),\"MAJOR IN PROGRESS\",IF(AND(AND(FINC!A9=\"Will Enroll\"),COUNTIF(FINC!A11:A16,\"Complete\")>=2,COUNTIF(FINC!A11:A16,\"Will Enroll\")>=1),\"MAJOR IN PROGRESS\",IF(AND(AND(FINC!A9=\"Will Enroll\"),COUNTIF(FINC!A11:A16,\"Complete\")>=2,COUNTIF(FINC!A11:A16,\"Enrolled\")>=1),\"MAJOR IN PROGRESS\",IF(AND(AND(FINC!A9=\"Will Enroll\"),COUNTIF(FINC!A11:A16,\"Complete\")>=1,COUNTIF(FINC!A11:A16,\"Enrolled\")>=2),\"MAJOR IN PROGRESS\",IF(AND(AND(FINC!A9=\"Will Enroll\"),COUNTIF(FINC!A11:A16,\"Complete\")>=1,COUNTIF(FINC!A11:A16,\"Will Enroll\")>=2),\"MAJOR IN PROGRESS\",IF(AND(AND(AND(FINC!A9=\"Will Enroll\"),COUNTIF(FINC!A11:A16,\"Complete\")>=1,COUNTIF(FINC!A11:A16,\"Enrolled\")>=1),COUNTIF(FINC!A11:A16,\"Will Enroll\")>=1),\"MAJOR IN PROGRESS\",$A$55))))))))))))))))))))))))))))))))))","v":"NOT MAJORING IN THIS FIELD"}]
[{"$f":"IF(AND(AND(AND(FINC!A9=\"Complete\"),COUNTIF(FINC!A11:A16,\"Complete\")>=1,COUNTIF(FINC!A18:A44,\"Complete\")>=1),COUNTIF(FINC!A18:A44,\"Will Enroll\")>=1),\"MAJOR IN PROGRESS\",IF(AND(AND(AND(FINC!A9=\"Complete\"),COUNTIF(FINC!A11:A16,\"Complete\")>=1,COUNTIF(FINC!A18:A44,\"Enrolled\")>=1),COUNTIF(FINC!A18:A44,\"Will Enroll\")>=1),\"MAJOR IN PROGRESS\",IF(AND(AND(FINC!A9=\"Complete\"),COUNTIF(FINC!A11:A16,\"Complete\")>=1,COUNTIF(FINC!A18:A44,\"Will Enroll\")>=2),\"MAJOR IN PROGRESS\",IF(AND(AND(AND(FINC!A9=\"Complete\"),COUNTIF(FINC!A11:A16,\"Enrolled\")>=1,COUNTIF(FINC!A18:A44,\"Complete\")>=1),COUNTIF(FINC!A18:A44,\"Will Enroll\")>=1),\"MAJOR IN PROGRESS\",IF(AND(AND(AND(FINC!A9=\"Complete\"),COUNTIF(FINC!A11:A16,\"Enrolled\")>=1,COUNTIF(FINC!A18:A44,\"Enrolled\")>=1),COUNTIF(FINC!A18:A44,\"Will Enroll\")>=1),\"MAJOR IN PROGRESS\",IF(AND(AND(FINC!A9=\"Complete\"),COUNTIF(FINC!A11:A16,\"Enrolled\")>=1,COUNTIF(FINC!A18:A44,\"Will Enroll\")>=2),\"MAJOR IN PROGRESS\",IF(AND(AND(AND(FINC!A9=\"Complete\"),COUNTIF(FINC!A11:A16,\"Will Enroll\")>=1,COUNTIF(FINC!A18:A44,\"Complete\")>=1),COUNTIF(FINC!A18:A44,\"Will Enroll\")>=1),\"MAJOR IN PROGRESS\",IF(AND(AND(AND(FINC!A9=\"Complete\"),COUNTIF(FINC!A11:A16,\"Will Enroll\")>=1,COUNTIF(FINC!A18:A44,\"Enrolled\")>=1),COUNTIF(FINC!A18:A44,\"Will Enroll\")>=1),\"MAJOR IN PROGRESS\",IF(AND(AND(FINC!A9=\"Complete\"),COUNTIF(FINC!A11:A16,\"Will Enroll\")>=1,COUNTIF(FINC!A18:A44,\"Will Enroll\")>=2),\"MAJOR IN PROGRESS\",IF(AND(AND(FINC!A9=\"Complete\"),COUNTIF(FINC!A11:A16,\"Will Enroll\")>=1,COUNTIF(FINC!A18:A44,\"Complete\")>=2),\"MAJOR IN PROGRESS\",IF(AND(AND(FINC!A9=\"Complete\"),COUNTIF(FINC!A11:A16,\"Will Enroll\")>=1,COUNTIF(FINC!A18:A44,\"Enrolled\")>=2),\"MAJOR IN PROGRESS\",IF(AND(AND(AND(FINC!A9=\"Enrolled\"),COUNTIF(FINC!A11:A16,\"Complete\")>=1,COUNTIF(FINC!A18:A44,\"Complete\")>=1),COUNTIF(FINC!A18:A44,\"Will Enroll\")>=1),\"MAJOR IN PROGRESS\",IF(AND(AND(AND(FINC!A9=\"Enrolled\"),COUNTIF(FINC!A11:A16,\"Complete\")>=1,COUNTIF(FINC!A18:A44,\"Enrolled\")>=1),COUNTIF(FINC!A18:A44,\"Will Enroll\")>=1),\"MAJOR IN PROGRESS\",IF(AND(AND(FINC!A9=\"Enrolled\"),COUNTIF(FINC!A11:A16,\"Complete\")>=1,COUNTIF(FINC!A18:A44,\"Will Enroll\")>=2),\"MAJOR IN PROGRESS\",IF(AND(AND(AND(FINC!A9=\"Enrolled\"),COUNTIF(FINC!A11:A16,\"Enrolled\")>=1,COUNTIF(FINC!A18:A44,\"Complete\")>=1),COUNTIF(FINC!A18:A44,\"Will Enroll\")>=1),\"MAJOR IN PROGRESS\",IF(AND(AND(AND(FINC!A9=\"Enrolled\"),COUNTIF(FINC!A11:A16,\"Enrolled\")>=1,COUNTIF(FINC!A18:A44,\"Enrolled\")>=1),COUNTIF(FINC!A18:A44,\"Will Enroll\")>=1),\"MAJOR IN PROGRESS\",IF(AND(AND(FINC!A9=\"Enrolled\"),COUNTIF(FINC!A11:A16,\"Enrolled\")>=1,COUNTIF(FINC!A18:A44,\"Will Enroll\")>=2),\"MAJOR IN PROGRESS\",IF(AND(AND(AND(FINC!A9=\"Enrolled\"),COUNTIF(FINC!A11:A16,\"Will Enroll\")>=1,COUNTIF(FINC!A18:A44,\"Complete\")>=1),COUNTIF(FINC!A18:A44,\"Will Enroll\")>=1),\"MAJOR IN PROGRESS\",IF(AND(AND(AND(FINC!A9=\"Enrolled\"),COUNTIF(FINC!A11:A16,\"Will Enroll\")>=1,COUNTIF(FINC!A18:A44,\"Enrolled\")>=1),COUNTIF(FINC!A18:A44,\"Will Enroll\")>=1),\"MAJOR IN PROGRESS\",IF(AND(AND(FINC!A9=\"Enrolled\"),COUNTIF(FINC!A11:A16,\"Will Enroll\")>=1,COUNTIF(FINC!A18:A44,\"Will Enroll\")>=2),\"MAJOR IN PROGRESS\",IF(AND(AND(FINC!A9=\"Enrolled\"),COUNTIF(FINC!A11:A16,\"Will Enroll\")>=1,COUNTIF(FINC!A18:A44,\"Complete\")>=2),\"MAJOR IN PROGRESS\",IF(AND(AND(FINC!A9=\"Enrolled\"),COUNTIF(FINC!A11:A16,\"Will Enroll\")>=1,COUNTIF(FINC!A18:A44,\"Enrolled\")>=2),\"MAJOR IN PROGRESS\",IF(AND(AND(AND(FINC!A9=\"Will Enroll\"),COUNTIF(FINC!A11:A16,\"Complete\")>=1,COUNTIF(FINC!A18:A44,\"Complete\")>=1),COUNTIF(FINC!A18:A44,\"Will Enroll\")>=1),\"MAJOR IN PROGRESS\",IF(AND(AND(AND(FINC!A9=\"Will Enroll\"),COUNTIF(FINC!A11:A16,\"Complete\")>=1,COUNTIF(FINC!A18:A44,\"Enrolled\")>=1),COUNTIF(FINC!A18:A44,\"Will Enroll\")>=1),\"MAJOR IN PROGRESS\",IF(AND(AND(FINC!A9=\"Will Enroll\"),COUNTIF(FINC!A11:A16,\"Complete\")>=1,COUNTIF(FINC!A18:A44,\"Will Enroll\")>=2),\"MAJOR IN PROGRESS\",IF(AND(AND(AND(FINC!A9=\"Will Enroll\"),COUNTIF(FINC!A11:A16,\"Enrolled\")>=1,COUNTIF(FINC!A18:A44,\"Complete\")>=1),COUNTIF(FINC!A18:A44,\"Will Enroll\")>=1),\"MAJOR IN PROGRESS\",IF(AND(AND(AND(FINC!A9=\"Will Enroll\"),COUNTIF(FINC!A11:A16,\"Enrolled\")>=1,COUNTIF(FINC!A18:A44,\"Enrolled\")>=1),COUNTIF(FINC!A18:A44,\"Will Enroll\")>=1),\"MAJOR IN PROGRESS\",IF(AND(AND(FINC!A9=\"Will Enroll\"),COUNTIF(FINC!A11:A16,\"Enrolled\")>=1,COUNTIF(FINC!A18:A44,\"Will Enroll\")>=2),\"MAJOR IN PROGRESS\",IF(AND(AND(AND(FINC!A9=\"Will Enroll\"),COUNTIF(FINC!A11:A16,\"Will Enroll\")>=1,COUNTIF(FINC!A18:A44,\"Complete\")>=1),COUNTIF(FINC!A18:A44,\"Will Enroll\")>=1),\"MAJOR IN PROGRESS\",IF(AND(AND(AND(FINC!A9=\"Will Enroll\"),COUNTIF(FINC!A11:A16,\"Will Enroll\")>=1,COUNTIF(FINC!A18:A44,\"Enrolled\")>=1),COUNTIF(FINC!A18:A44,\"Will Enroll\")>=1),\"MAJOR IN PROGRESS\",IF(AND(AND(FINC!A9=\"Will Enroll\"),COUNTIF(FINC!A11:A16,\"Will Enroll\")>=1,COUNTIF(FINC!A18:A44,\"Will Enroll\")>=2),\"MAJOR IN PROGRESS\",IF(AND(AND(FINC!A9=\"Will Enroll\"),COUNTIF(FINC!A11:A16,\"Will Enroll\")>=1,COUNTIF(FINC!A18:A44,\"Complete\")>=2),\"MAJOR IN PROGRESS\",IF(AND(AND(FINC!A9=\"Will Enroll\"),COUNTIF(FINC!A11:A16,\"Will Enroll\")>=1,COUNTIF(FINC!A18:A44,\"Enrolled\")>=2),\"MAJOR IN PROGRESS\",IF(AND(AND(FINC!A9=\"Will Enroll\"),COUNTIF(FINC!A11:A16,\"Complete\")>=1,COUNTIF(FINC!A18:A44,\"Complete\")>=2),\"MAJOR IN PROGRESS\",IF(AND(AND(FINC!A9=\"Will Enroll\"),COUNTIF(FINC!A11:A16,\"Complete\")>=1,COUNTIF(FINC!A18:A44,\"Enrolled\")>=2),\"MAJOR IN PROGRESS\",IF(AND(AND(FINC!A9=\"Will Enroll\"),COUNTIF(FINC!A11:A16,\"Enrolled\")>=1,COUNTIF(FINC!A18:A44,\"Complete\")>=2),\"MAJOR IN PROGRESS\",IF(AND(AND(FINC!A9=\"Will Enroll\"),COUNTIF(FINC!A11:A16,\"Enrolled\")>=1,COUNTIF(FINC!A18:A44,\"Enrolled\")>=2),\"MAJOR IN PROGRESS\",IF(AND(AND(AND(FINC!A9=\"Will Enroll\"),COUNTIF(FINC!A11:A16,\"Complete\")>=1,COUNTIF(FINC!A18:A44,\"Complete\")>=1),COUNTIF(FINC!A18:A44,\"Enrolled\")>=1),\"MAJOR IN PROGRESS\",IF(AND(AND(AND(FINC!A9=\"Will Enroll\"),COUNTIF(FINC!A11:A16,\"Enrolled\")>=1,COUNTIF(FINC!A18:A44,\"Complete\")>=1),COUNTIF(FINC!A18:A44,\"Enrolled\")>=1),\"MAJOR IN PROGRESS\",IF(AND(AND(FINC!A9=\"Complete\",COUNTIF(FINC!A11:A16,\"Complete\")>=2,COUNTIF(FINC!A11:A46,\"Will Enroll\")>=1)),\"MAJOR IN PROGRESS\",$A$56))))))))))))))))))))))))))))))))))))))))","v":"NOT MAJORING IN THIS FIELD"}]
[{"$f":"IF(AND(AND(AND(AND(COUNTIF(FINC!A7:A8,\"Complete\")>=1),COUNTIF(FINC!A7:A8,\"Will Enroll\")>=1),COUNTIF(FINC!A11:A16,\"Complete\")>=1,COUNTIF(FINC!A18:A44,\"Complete\")>=1),COUNTIF(FINC!A18:A44,\"Will Enroll\")>=1),\"MAJOR IN PROGRESS\",IF(AND(AND(AND(AND(COUNTIF(FINC!A7:A8,\"Complete\")>=1),COUNTIF(FINC!A7:A8,\"Will Enroll\")>=1),COUNTIF(FINC!A11:A16,\"Complete\")>=1,COUNTIF(FINC!A18:A44,\"Enrolled\")>=1),COUNTIF(FINC!A18:A44,\"Will Enroll\")>=1),\"MAJOR IN PROGRESS\",IF(AND(AND(AND(AND(COUNTIF(FINC!A7:A8,\"Complete\")>=1),COUNTIF(FINC!A7:A8,\"Will Enroll\")>=1),COUNTIF(FINC!A11:A16,\"Complete\")>=1,COUNTIF(FINC!A18:A44,\"Complete\")>=1),COUNTIF(FINC!A18:A44,\"Enrolled\")>=1),\"MAJOR IN PROGRESS\",IF(AND(AND(AND(COUNTIF(FINC!A7:A8,\"Complete\")>=1),COUNTIF(FINC!A7:A8,\"Will Enroll\")>=1,COUNTIF(FINC!A11:A16,\"Complete\")>=1),COUNTIF(FINC!A18:A44,\"Will Enroll\")>=2),\"MAJOR IN PROGRESS\",IF(AND(AND(AND(COUNTIF(FINC!A7:A8,\"Complete\")>=1),COUNTIF(FINC!A7:A8,\"Will Enroll\")>=1,COUNTIF(FINC!A11:A16,\"Complete\")>=1),COUNTIF(FINC!A18:A44,\"Enrolled\")>=2),\"MAJOR IN PROGRESS\",IF(AND(AND(AND(COUNTIF(FINC!A7:A8,\"Complete\")>=1),COUNTIF(FINC!A7:A8,\"Will Enroll\")>=1,COUNTIF(FINC!A11:A16,\"Complete\")>=1),COUNTIF(FINC!A18:A44,\"Complete\")>=2),\"MAJOR IN PROGRESS\",IF(AND(AND(AND(AND(COUNTIF(FINC!A7:A8,\"Complete\")>=1),COUNTIF(FINC!A7:A8,\"Will Enroll\")>=1),COUNTIF(FINC!A11:A16,\"Enrolled\")>=1,COUNTIF(FINC!A18:A44,\"Complete\")>=1),COUNTIF(FINC!A18:A44,\"Will Enroll\")>=1),\"MAJOR IN PROGRESS\",IF(AND(AND(AND(AND(COUNTIF(FINC!A7:A8,\"Complete\")>=1),COUNTIF(FINC!A7:A8,\"Will Enroll\")>=1),COUNTIF(FINC!A11:A16,\"Enrolled\")>=1,COUNTIF(FINC!A18:A44,\"Enrolled\")>=1),COUNTIF(FINC!A18:A44,\"Will Enroll\")>=1),\"MAJOR IN PROGRESS\",IF(AND(AND(AND(AND(COUNTIF(FINC!A7:A8,\"Complete\")>=1),COUNTIF(FINC!A7:A8,\"Will Enroll\")>=1),COUNTIF(FINC!A11:A16,\"Enrolled\")>=1,COUNTIF(FINC!A18:A44,\"Complete\")>=1),COUNTIF(FINC!A18:A44,\"Enrolled\")>=1),\"MAJOR IN PROGRESS\",IF(AND(AND(AND(COUNTIF(FINC!A7:A8,\"Complete\")>=1),COUNTIF(FINC!A7:A8,\"Will Enroll\")>=1,COUNTIF(FINC!A11:A16,\"Enrolled\")>=1),COUNTIF(FINC!A18:A44,\"Will Enroll\")>=2),\"MAJOR IN PROGRESS\",IF(AND(AND(AND(COUNTIF(FINC!A7:A8,\"Complete\")>=1),COUNTIF(FINC!A7:A8,\"Will Enroll\")>=1,COUNTIF(FINC!A11:A16,\"Enrolled\")>=1),COUNTIF(FINC!A18:A44,\"Enrolled\")>=2),\"MAJOR IN PROGRESS\",IF(AND(AND(AND(COUNTIF(FINC!A7:A8,\"Complete\")>=1),COUNTIF(FINC!A7:A8,\"Will Enroll\")>=1,COUNTIF(FINC!A11:A16,\"Enrolled\")>=1),COUNTIF(FINC!A18:A44,\"Complete\")>=2),\"MAJOR IN PROGRESS\",IF(AND(AND(AND(AND(COUNTIF(FINC!A7:A8,\"Enrolled\")>=1),COUNTIF(FINC!A7:A8,\"Will Enroll\")>=1),COUNTIF(FINC!A11:A16,\"Complete\")>=1,COUNTIF(FINC!A18:A44,\"Complete\")>=1),COUNTIF(FINC!A18:A44,\"Will Enroll\")>=1),\"MAJOR IN PROGRESS\",IF(AND(AND(AND(AND(COUNTIF(FINC!A7:A8,\"Enrolled\")>=1),COUNTIF(FINC!A7:A8,\"Will Enroll\")>=1),COUNTIF(FINC!A11:A16,\"Complete\")>=1,COUNTIF(FINC!A18:A44,\"Enrolled\")>=1),COUNTIF(FINC!A18:A44,\"Will Enroll\")>=1),\"MAJOR IN PROGRESS\",IF(AND(AND(AND(AND(COUNTIF(FINC!A7:A8,\"Enrolled\")>=1),COUNTIF(FINC!A7:A8,\"Will Enroll\")>=1),COUNTIF(FINC!A11:A16,\"Complete\")>=1,COUNTIF(FINC!A18:A44,\"Complete\")>=1),COUNTIF(FINC!A18:A44,\"Enrolled\")>=1),\"MAJOR IN PROGRESS\",IF(AND(AND(AND(COUNTIF(FINC!A7:A8,\"Enrolled\")>=1),COUNTIF(FINC!A7:A8,\"Will Enroll\")>=1,COUNTIF(FINC!A11:A16,\"Complete\")>=1),COUNTIF(FINC!A18:A44,\"Will Enroll\")>=2),\"MAJOR IN PROGRESS\",IF(AND(AND(AND(COUNTIF(FINC!A7:A8,\"Enrolled\")>=1),COUNTIF(FINC!A7:A8,\"Will Enroll\")>=1,COUNTIF(FINC!A11:A16,\"Complete\")>=1),COUNTIF(FINC!A18:A44,\"Enrolled\")>=2),\"MAJOR IN PROGRESS\",IF(AND(AND(AND(COUNTIF(FINC!A7:A8,\"Enrolled\")>=1),COUNTIF(FINC!A7:A8,\"Will Enroll\")>=1,COUNTIF(FINC!A11:A16,\"Complete\")>=1),COUNTIF(FINC!A18:A44,\"Complete\")>=2),\"MAJOR IN PROGRESS\",IF(AND(AND(AND(AND(COUNTIF(FINC!A7:A8,\"Enrolled\")>=1),COUNTIF(FINC!A7:A8,\"Will Enroll\")>=1),COUNTIF(FINC!A11:A16,\"Enrolled\")>=1,COUNTIF(FINC!A18:A44,\"Complete\")>=1),COUNTIF(FINC!A18:A44,\"Will Enroll\")>=1),\"MAJOR IN PROGRESS\",IF(AND(AND(AND(AND(COUNTIF(FINC!A7:A8,\"Enrolled\")>=1),COUNTIF(FINC!A7:A8,\"Will Enroll\")>=1),COUNTIF(FINC!A11:A16,\"Enrolled\")>=1,COUNTIF(FINC!A18:A44,\"Enrolled\")>=1),COUNTIF(FINC!A18:A44,\"Will Enroll\")>=1),\"MAJOR IN PROGRESS\",IF(AND(AND(AND(AND(COUNTIF(FINC!A7:A8,\"Enrolled\")>=1),COUNTIF(FINC!A7:A8,\"Will Enroll\")>=1),COUNTIF(FINC!A11:A16,\"Enrolled\")>=1,COUNTIF(FINC!A18:A44,\"Complete\")>=1),COUNTIF(FINC!A18:A44,\"Enrolled\")>=1),\"MAJOR IN PROGRESS\",IF(AND(AND(AND(COUNTIF(FINC!A7:A8,\"Enrolled\")>=1),COUNTIF(FINC!A7:A8,\"Will Enroll\")>=1,COUNTIF(FINC!A11:A16,\"Enrolled\")>=1),COUNTIF(FINC!A18:A44,\"Will Enroll\")>=2),\"MAJOR IN PROGRESS\",IF(AND(AND(AND(COUNTIF(FINC!A7:A8,\"Enrolled\")>=1),COUNTIF(FINC!A7:A8,\"Will Enroll\")>=1,COUNTIF(FINC!A11:A16,\"Enrolled\")>=1),COUNTIF(FINC!A18:A44,\"Enrolled\")>=2),\"MAJOR IN PROGRESS\",IF(AND(AND(AND(COUNTIF(FINC!A7:A8,\"Enrolled\")>=1),COUNTIF(FINC!A7:A8,\"Will Enroll\")>=1,COUNTIF(FINC!A11:A16,\"Enrolled\")>=1),COUNTIF(FINC!A18:A44,\"Complete\")>=2),\"MAJOR IN PROGRESS\",IF(AND(AND(AND(COUNTIF(FINC!A7:A8,\"Will Enroll\")>=2),COUNTIF(FINC!A11:A16,\"Complete\")>=1,COUNTIF(FINC!A18:A44,\"Complete\")>=1),COUNTIF(FINC!A18:A44,\"Will Enroll\")>=1),\"MAJOR IN PROGRESS\",IF(AND(AND(AND(COUNTIF(FINC!A7:A8,\"Will Enroll\")>=2),COUNTIF(FINC!A11:A16,\"Complete\")>=1,COUNTIF(FINC!A18:A44,\"Enrolled\")>=1),COUNTIF(FINC!A18:A44,\"Will Enroll\")>=1),\"MAJOR IN PROGRESS\",IF(AND(AND(AND(COUNTIF(FINC!A7:A8,\"Will Enroll\")>=2),COUNTIF(FINC!A11:A16,\"Complete\")>=1,COUNTIF(FINC!A18:A44,\"Complete\")>=1),COUNTIF(FINC!A18:A44,\"Enrolled\")>=1),\"MAJOR IN PROGRESS\",IF(AND(AND(COUNTIF(FINC!A7:A8,\"Will Enroll\")>=2,COUNTIF(FINC!A11:A16,\"Complete\")>=1),COUNTIF(FINC!A18:A44,\"Will Enroll\")>=2),\"MAJOR IN PROGRESS\",IF(AND(AND(COUNTIF(FINC!A7:A8,\"Will Enroll\")>=2,COUNTIF(FINC!A11:A16,\"Complete\")>=1),COUNTIF(FINC!A18:A44,\"Enrolled\")>=2),\"MAJOR IN PROGRESS\",IF(AND(AND(COUNTIF(FINC!A7:A8,\"Will Enroll\")>=2,COUNTIF(FINC!A11:A16,\"Complete\")>=1),COUNTIF(FINC!A18:A44,\"Complete\")>=2),\"MAJOR IN PROGRESS\",IF(AND(AND(AND(COUNTIF(FINC!A7:A8,\"Will Enroll\")>=2),COUNTIF(FINC!A11:A16,\"Enrolled\")>=1,COUNTIF(FINC!A18:A44,\"Complete\")>=1),COUNTIF(FINC!A18:A44,\"Will Enroll\")>=1),\"MAJOR IN PROGRESS\",IF(AND(AND(AND(COUNTIF(FINC!A7:A8,\"Will Enroll\")>=2),COUNTIF(FINC!A11:A16,\"Enrolled\")>=1,COUNTIF(FINC!A18:A44,\"Enrolled\")>=1),COUNTIF(FINC!A18:A44,\"Will Enroll\")>=1),\"MAJOR IN PROGRESS\",IF(AND(AND(AND(COUNTIF(FINC!A7:A8,\"Will Enroll\")>=2),COUNTIF(FINC!A11:A16,\"Enrolled\")>=1,COUNTIF(FINC!A18:A44,\"Complete\")>=1),COUNTIF(FINC!A18:A44,\"Enrolled\")>=1),\"MAJOR IN PROGRESS\",IF(AND(AND(COUNTIF(FINC!A7:A8,\"Will Enroll\")>=2,COUNTIF(FINC!A11:A16,\"Enrolled\")>=1),COUNTIF(FINC!A18:A44,\"Will Enroll\")>=2),\"MAJOR IN PROGRESS\",IF(AND(AND(COUNTIF(FINC!A7:A8,\"Will Enroll\")>=2,COUNTIF(FINC!A11:A16,\"Enrolled\")>=1),COUNTIF(FINC!A18:A44,\"Enrolled\")>=2),\"MAJOR IN PROGRESS\",IF(AND(AND(COUNTIF(FINC!A7:A8,\"Will Enroll\")>=2,COUNTIF(FINC!A11:A16,\"Enrolled\")>=1),COUNTIF(FINC!A18:A44,\"Complete\")>=2),\"MAJOR IN PROGRESS\",IF(AND(AND(AND(AND(COUNTIF(FINC!A7:A8,\"Complete\")>=1),COUNTIF(FINC!A7:A8,\"Enrolled\")>=1),COUNTIF(FINC!A11:A16,\"Complete\")>=1,COUNTIF(FINC!A18:A44,\"Complete\")>=1),COUNTIF(FINC!A18:A44,\"Will Enroll\")>=1),\"MAJOR IN PROGRESS\",IF(AND(AND(AND(AND(COUNTIF(FINC!A7:A8,\"Complete\")>=1),COUNTIF(FINC!A7:A8,\"Enrolled\")>=1),COUNTIF(FINC!A11:A16,\"Complete\")>=1,COUNTIF(FINC!A18:A44,\"Enrolled\")>=1),COUNTIF(FINC!A18:A44,\"Will Enroll\")>=1),\"MAJOR IN PROGRESS\",IF(AND(AND(AND(AND(COUNTIF(FINC!A7:A8,\"Complete\")>=1),COUNTIF(FINC!A7:A8,\"Enrolled\")>=1),COUNTIF(FINC!A11:A16,\"Complete\")>=1,COUNTIF(FINC!A18:A44,\"Complete\")>=1),COUNTIF(FINC!A18:A44,\"Enrolled\")>=1),\"MAJOR IN PROGRESS\",IF(AND(AND(AND(COUNTIF(FINC!A7:A8,\"Complete\")>=1),COUNTIF(FINC!A7:A8,\"Enrolled\")>=1,COUNTIF(FINC!A11:A16,\"Complete\")>=1),COUNTIF(FINC!A18:A44,\"Will Enroll\")>=2),\"MAJOR IN PROGRESS\",IF(AND(AND(AND(COUNTIF(FINC!A7:A8,\"Complete\")>=1),COUNTIF(FINC!A7:A8,\"Enrolled\")>=1,COUNTIF(FINC!A11:A16,\"Complete\")>=1),COUNTIF(FINC!A18:A44,\"Enrolled\")>=2),\"MAJOR IN PROGRESS\",IF(AND(AND(AND(COUNTIF(FINC!A7:A8,\"Complete\")>=1),COUNTIF(FINC!A7:A8,\"Enrolled\")>=1,COUNTIF(FINC!A11:A16,\"Complete\")>=1),COUNTIF(FINC!A18:A44,\"Complete\")>=2),\"MAJOR IN PROGRESS\",$A$57))))))))))))))))))))))))))))))))))))))))))","v":"NOT MAJORING IN THIS FIELD"}]
[{"$f":"IF(AND(AND(AND(AND(COUNTIF(FINC!A7:A8,\"Complete\")>=1),COUNTIF(FINC!A7:A8,\"Enrolled\")>=1),COUNTIF(FINC!A11:A16,\"Enrolled\")>=1,COUNTIF(FINC!A18:A44,\"Complete\")>=1),COUNTIF(FINC!A18:A44,\"Will Enroll\")>=1),\"MAJOR IN PROGRESS\",IF(AND(AND(AND(AND(COUNTIF(FINC!A7:A8,\"Complete\")>=1),COUNTIF(FINC!A7:A8,\"Enrolled\")>=1),COUNTIF(FINC!A11:A16,\"Enrolled\")>=1,COUNTIF(FINC!A18:A44,\"Enrolled\")>=1),COUNTIF(FINC!A18:A44,\"Will Enroll\")>=1),\"MAJOR IN PROGRESS\",IF(AND(AND(AND(AND(COUNTIF(FINC!A7:A8,\"Complete\")>=1),COUNTIF(FINC!A7:A8,\"Enrolled\")>=1),COUNTIF(FINC!A11:A16,\"Enrolled\")>=1,COUNTIF(FINC!A18:A44,\"Complete\")>=1),COUNTIF(FINC!A18:A44,\"Enrolled\")>=1),\"MAJOR IN PROGRESS\",IF(AND(AND(AND(COUNTIF(FINC!A7:A8,\"Complete\")>=1),COUNTIF(FINC!A7:A8,\"Enrolled\")>=1,COUNTIF(FINC!A11:A16,\"Enrolled\")>=1),COUNTIF(FINC!A18:A44,\"Will Enroll\")>=2),\"MAJOR IN PROGRESS\",IF(AND(AND(AND(COUNTIF(FINC!A7:A8,\"Complete\")>=1),COUNTIF(FINC!A7:A8,\"Enrolled\")>=1,COUNTIF(FINC!A11:A16,\"Enrolled\")>=1),COUNTIF(FINC!A18:A44,\"Enrolled\")>=2),\"MAJOR IN PROGRESS\",IF(AND(AND(AND(COUNTIF(FINC!A7:A8,\"Complete\")>=1),COUNTIF(FINC!A7:A8,\"Enrolled\")>=1,COUNTIF(FINC!A11:A16,\"Enrolled\")>=1),COUNTIF(FINC!A18:A44,\"Complete\")>=2),\"MAJOR IN PROGRESS\",IF(AND(AND(AND(AND(COUNTIF(FINC!A7:A8,\"Complete\")>=1),COUNTIF(FINC!A7:A8,\"Will Enroll\")>=1),COUNTIF(FINC!A11:A16,\"Will Enroll\")>=1,COUNTIF(FINC!A18:A44,\"Complete\")>=1),COUNTIF(FINC!A18:A44,\"Will Enroll\")>=1),\"MAJOR IN PROGRESS\",IF(AND(AND(AND(AND(COUNTIF(FINC!A7:A8,\"Complete\")>=1),COUNTIF(FINC!A7:A8,\"Will Enroll\")>=1),COUNTIF(FINC!A11:A16,\"Will Enroll\")>=1,COUNTIF(FINC!A18:A44,\"Enrolled\")>=1),COUNTIF(FINC!A18:A44,\"Will Enroll\")>=1),\"MAJOR IN PROGRESS\",IF(AND(AND(AND(AND(COUNTIF(FINC!A7:A8,\"Complete\")>=1),COUNTIF(FINC!A7:A8,\"Will Enroll\")>=1),COUNTIF(FINC!A11:A16,\"Will Enroll\")>=1,COUNTIF(FINC!A18:A44,\"Complete\")>=1),COUNTIF(FINC!A18:A44,\"Enrolled\")>=1),\"MAJOR IN PROGRESS\",IF(AND(AND(AND(COUNTIF(FINC!A7:A8,\"Complete\")>=1),COUNTIF(FINC!A7:A8,\"Will Enroll\")>=1,COUNTIF(FINC!A11:A16,\"Will Enroll\")>=1),COUNTIF(FINC!A18:A44,\"Will Enroll\")>=2),\"MAJOR IN PROGRESS\",IF(AND(AND(AND(COUNTIF(FINC!A7:A8,\"Complete\")>=1),COUNTIF(FINC!A7:A8,\"Will Enroll\")>=1,COUNTIF(FINC!A11:A16,\"Will Enroll\")>=1),COUNTIF(FINC!A18:A44,\"Enrolled\")>=2),\"MAJOR IN PROGRESS\",IF(AND(AND(AND(COUNTIF(FINC!A7:A8,\"Complete\")>=1),COUNTIF(FINC!A7:A8,\"Will Enroll\")>=1,COUNTIF(FINC!A11:A16,\"Will Enroll\")>=1),COUNTIF(FINC!A18:A44,\"Complete\")>=2),\"MAJOR IN PROGRESS\",IF(AND(AND(AND(AND(COUNTIF(FINC!A7:A8,\"Enrolled\")>=1),COUNTIF(FINC!A7:A8,\"Will Enroll\")>=1),COUNTIF(FINC!A11:A16,\"Will Enroll\")>=1,COUNTIF(FINC!A18:A44,\"Complete\")>=1),COUNTIF(FINC!A18:A44,\"Will Enroll\")>=1),\"MAJOR IN PROGRESS\",IF(AND(AND(AND(AND(COUNTIF(FINC!A7:A8,\"Enrolled\")>=1),COUNTIF(FINC!A7:A8,\"Will Enroll\")>=1),COUNTIF(FINC!A11:A16,\"Will Enroll\")>=1,COUNTIF(FINC!A18:A44,\"Enrolled\")>=1),COUNTIF(FINC!A18:A44,\"Will Enroll\")>=1),\"MAJOR IN PROGRESS\",IF(AND(AND(AND(AND(COUNTIF(FINC!A7:A8,\"Enrolled\")>=1),COUNTIF(FINC!A7:A8,\"Will Enroll\")>=1),COUNTIF(FINC!A11:A16,\"Will Enroll\")>=1,COUNTIF(FINC!A18:A44,\"Complete\")>=1),COUNTIF(FINC!A18:A44,\"Enrolled\")>=1),\"MAJOR IN PROGRESS\",IF(AND(AND(AND(COUNTIF(FINC!A7:A8,\"Enrolled\")>=1),COUNTIF(FINC!A7:A8,\"Will Enroll\")>=1,COUNTIF(FINC!A11:A16,\"Will Enroll\")>=1),COUNTIF(FINC!A18:A44,\"Will Enroll\")>=2),\"MAJOR IN PROGRESS\",IF(AND(AND(AND(COUNTIF(FINC!A7:A8,\"Enrolled\")>=1),COUNTIF(FINC!A7:A8,\"Will Enroll\")>=1,COUNTIF(FINC!A11:A16,\"Will Enroll\")>=1),COUNTIF(FINC!A18:A44,\"Enrolled\")>=2),\"MAJOR IN PROGRESS\",IF(AND(AND(AND(COUNTIF(FINC!A7:A8,\"Enrolled\")>=1),COUNTIF(FINC!A7:A8,\"Will Enroll\")>=1,COUNTIF(FINC!A11:A16,\"Will Enroll\")>=1),COUNTIF(FINC!A18:A44,\"Complete\")>=2),\"MAJOR IN PROGRESS\",IF(AND(AND(AND(COUNTIF(FINC!A7:A8,\"Will Enroll\")>=2),COUNTIF(FINC!A11:A16,\"Will Enroll\")>=1,COUNTIF(FINC!A18:A44,\"Complete\")>=1),COUNTIF(FINC!A18:A44,\"Will Enroll\")>=1),\"MAJOR IN PROGRESS\",IF(AND(AND(AND(COUNTIF(FINC!A7:A8,\"Will Enroll\")>=2),COUNTIF(FINC!A11:A16,\"Will Enroll\")>=1,COUNTIF(FINC!A18:A44,\"Enrolled\")>=1),COUNTIF(FINC!A18:A44,\"Will Enroll\")>=1),\"MAJOR IN PROGRESS\",IF(AND(AND(AND(COUNTIF(FINC!A7:A8,\"Will Enroll\")>=2),COUNTIF(FINC!A11:A16,\"Will Enroll\")>=1,COUNTIF(FINC!A18:A44,\"Complete\")>=1),COUNTIF(FINC!A18:A44,\"Enrolled\")>=1),\"MAJOR IN PROGRESS\",IF(AND(AND(COUNTIF(FINC!A7:A8,\"Will Enroll\")>=2,COUNTIF(FINC!A11:A16,\"Will Enroll\")>=1),COUNTIF(FINC!A18:A44,\"Will Enroll\")>=2),\"MAJOR IN PROGRESS\",IF(AND(AND(COUNTIF(FINC!A7:A8,\"Will Enroll\")>=2,COUNTIF(FINC!A11:A16,\"Will Enroll\")>=1),COUNTIF(FINC!A18:A44,\"Enrolled\")>=2),\"MAJOR IN PROGRESS\",IF(AND(AND(COUNTIF(FINC!A7:A8,\"Will Enroll\")>=2,COUNTIF(FINC!A11:A16,\"Will Enroll\")>=1),COUNTIF(FINC!A18:A44,\"Complete\")>=2),\"MAJOR IN PROGRESS\",IF(AND(AND(COUNTIF(FINC!A7:A8,\"Complete\")>=2,COUNTIF(FINC!A11:A16,\"Complete\")>=2),COUNTIF(FINC!A11:A46,\"Will Enroll\")>=1),\"MAJOR IN PROGRESS\",$A$58)))))))))))))))))))))))))","v":"NOT MAJORING IN THIS FIELD"}]
[{"$f":"IF(AND(AND(AND(COUNTIF(FINC!A7:A8,\"Complete\")>=2),COUNTIF(FINC!A11:A16,\"Complete\")>=1,COUNTIF(FINC!A18:A44,\"Complete\")>=1),COUNTIF(FINC!A18:A44,\"Will Enroll\")>=1),\"MAJOR IN PROGRESS\",IF(AND(AND(AND(COUNTIF(FINC!A7:A8,\"Complete\")>=2),COUNTIF(FINC!A11:A16,\"Complete\")>=1,COUNTIF(FINC!A18:A44,\"Enrolled\")>=1),COUNTIF(FINC!A18:A44,\"Will Enroll\")>=1),\"MAJOR IN PROGRESS\",IF(AND(AND(AND(COUNTIF(FINC!A7:A8,\"Complete\")>=2),COUNTIF(FINC!A11:A16,\"Enrolled\")>=1,COUNTIF(FINC!A18:A44,\"Complete\")>=1),COUNTIF(FINC!A18:A44,\"Will Enroll\")>=1),\"MAJOR IN PROGRESS\",IF(AND(AND(AND(COUNTIF(FINC!A7:A8,\"Complete\")>=2),COUNTIF(FINC!A11:A16,\"Enrolled\")>=1,COUNTIF(FINC!A18:A44,\"Enrolled\")>=1),COUNTIF(FINC!A18:A44,\"Will Enroll\")>=1),\"MAJOR IN PROGRESS\",IF(AND(AND(AND(COUNTIF(FINC!A7:A8,\"Complete\")>=2),COUNTIF(FINC!A11:A16,\"Will Enroll\")>=1,COUNTIF(FINC!A18:A44,\"Complete\")>=1),COUNTIF(FINC!A18:A44,\"Will Enroll\")>=1),\"MAJOR IN PROGRESS\",IF(AND(AND(AND(COUNTIF(FINC!A7:A8,\"Complete\")>=2),COUNTIF(FINC!A11:A16,\"Will Enroll\")>=1,COUNTIF(FINC!A18:A44,\"Enrolled\")>=1),COUNTIF(FINC!A18:A44,\"Will Enroll\")>=1),\"MAJOR IN PROGRESS\",IF(AND(AND(COUNTIF(FINC!A7:A8,\"Complete\")>=2),COUNTIF(FINC!A11:A16,\"Complete\")>=1,COUNTIF(FINC!A18:A44,\"Will Enroll\")>=2),\"MAJOR IN PROGRESS\",IF(AND(AND(COUNTIF(FINC!A7:A8,\"Complete\")>=2),COUNTIF(FINC!A11:A16,\"Enrolled\")>=1,COUNTIF(FINC!A18:A44,\"Will Enroll\")>=2),\"MAJOR IN PROGRESS\",IF(AND(AND(COUNTIF(FINC!A7:A8,\"Complete\")>=2),COUNTIF(FINC!A11:A16,\"Will Enroll\")>=1,COUNTIF(FINC!A18:A44,\"Complete\")>=2),\"MAJOR IN PROGRESS\",IF(AND(AND(COUNTIF(FINC!A7:A8,\"Complete\")>=2),COUNTIF(FINC!A11:A16,\"Will Enroll\")>=1,COUNTIF(FINC!A18:A44,\"Enrolled\")>=2),\"MAJOR IN PROGRESS\",IF(AND(AND(COUNTIF(FINC!A7:A8,\"Complete\")>=2),COUNTIF(FINC!A11:A16,\"Will Enroll\")>=1,COUNTIF(FINC!A18:A44,\"Will Enroll\")>=2),\"MAJOR IN PROGRESS\",IF(AND(AND(AND(COUNTIF(FINC!A7:A8,\"Complete\")>=2),COUNTIF(FINC!A11:A16,\"Will Enroll\")>=1,COUNTIF(FINC!A18:A44,\"Complete\")>=1),COUNTIF(FINC!A18:A44,\"Enrolled\")>=1),\"MAJOR IN PROGRESS\",IF(AND(AND(AND(COUNTIF(FINC!A7:A8,\"Complete\")>=1),COUNTIF(FINC!A7:A8,\"Enrolled\")>=1,COUNTIF(FINC!A11:A16,\"Will Enroll\")>=1),COUNTIF(FINC!A18:A44,\"Will Enroll\")>=2),\"MAJOR IN PROGRESS\",IF(AND(AND(AND(COUNTIF(FINC!A7:A8,\"Complete\")>=1),COUNTIF(FINC!A7:A8,\"Enrolled\")>=1,COUNTIF(FINC!A11:A16,\"Will Enroll\")>=2),COUNTIF(FINC!A18:A44,\"Will Enroll\")>=1),\"MAJOR IN PROGRESS\",IF(AND(AND(AND(COUNTIF(FINC!A7:A8,\"Complete\")>=1),COUNTIF(FINC!A7:A8,\"Will Enroll\")>=1,COUNTIF(FINC!A11:A16,\"Will Enroll\")>=2),COUNTIF(FINC!A18:A44,\"Will Enroll\")>=1),\"MAJOR IN PROGRESS\",IF(AND(AND(AND(COUNTIF(FINC!A7:A8,\"Enrolled\")>=1),COUNTIF(FINC!A7:A8,\"Will Enroll\")>=1,COUNTIF(FINC!A11:A16,\"Will Enroll\")>=2),COUNTIF(FINC!A18:A44,\"Will Enroll\")>=1),\"MAJOR IN PROGRESS\",IF(AND(AND(COUNTIF(FINC!A7:A8,\"Will Enroll\")>=2),COUNTIF(FINC!A11:A18,\"Will Enroll\")>=2,COUNTIF(FINC!A18:A44,\"Will Enroll\")>=1),\"MAJOR IN PROGRESS\",IF(AND(AND(FINC!A9=\"Will Enroll\"),COUNTIF(FINC!A11:A16,\"Will Enroll\")>=2,COUNTIF(FINC!A18:A44,\"Will Enroll\")>=1),\"MAJOR IN PROGRESS\",IF(AND(AND(FINC!A9=\"Enrolled\"),COUNTIF(FINC!A11:A16,\"Will Enroll\")>=2,COUNTIF(FINC!A18:A44,\"Will Enroll\")>=1),\"MAJOR IN PROGRESS\",IF(AND(AND(COUNTIF(FINC!A7:A8,\"Complete\")>=2),COUNTIF(FINC!A11:A16,\"Will Enroll\")>=2,COUNTIF(FINC!A18:A44,\"Will Enroll\")>=1),\"MAJOR IN PROGRESS\",IF(AND(COUNTIF(FINC!A7:A8,\"Complete\")>=2,COUNTIF(FINC!A11:A16,\"Will Enroll\")>=3),\"MAJOR IN PROGRESS\",IF(AND(FINC!A9=\"Complete\",COUNTIF(FINC!A11:A16,\"Will Enroll\")>=3),\"MAJOR IN PROGRESS\",IF(AND(AND(FINC!A9=\"Complete\",COUNTIF(FINC!A11:A16,\"Enrolled\")>=2),COUNTIF(FINC!A11:A16,\"Will Enroll\")>=1),\"MAJOR IN PROGRESS\",IF(AND(AND(FINC!A9=\"Complete\",COUNTIF(FINC!A11:A16,\"Enrolled\")>=1),COUNTIF(FINC!A11:A16,\"Will Enroll\")>=2),\"MAJOR IN PROGRESS\",IF(AND(AND(AND(FINC!A9=\"Complete\",COUNTIF(FINC!A11:A16,\"Will Enroll\")>=1),COUNTIF(FINC!A18:A44,\"Complete\")>=1),COUNTIF(FINC!A18:A44,\"Enrolled\")>=1),\"MAJOR IN PROGRESS\",IF(AND(AND(AND(FINC!A9=\"Enrolled\",COUNTIF(FINC!A11:A16,\"Will Enroll\")>=1),COUNTIF(FINC!A18:A44,\"Complete\")>=1),COUNTIF(FINC!A18:A44,\"Enrolled\")>=1),\"MAJOR IN PROGRESS\",IF(AND(AND(FINC!A9=\"Enrolled\",COUNTIF(FINC!A11:A16,\"Will Enroll\")>=2),COUNTIF(FINC!A18:A44,\"Complete\")>=1),\"MAJOR IN PROGRESS\",IF(AND(AND(AND(COUNTIF(FINC!A7:A8,\"Complete\")>=1),COUNTIF(FINC!A7:A8,\"Enrolled\")>=1,COUNTIF(FINC!A11:A16,\"Will Enroll\")>=1),COUNTIF(FINC!A18:A44,\"Enrolled\")>=2),\"MAJOR IN PROGRESS\",IF(AND(AND(AND(AND(COUNTIF(FINC!A7:A8,\"Complete\")>=1),COUNTIF(FINC!A7:A8,\"Enrolled\")>=1),COUNTIF(FINC!A11:A16,\"Will Enroll\")>=1,COUNTIF(FINC!A18:A44,\"Enrolled\")>=1),COUNTIF(FINC!A18:A44,\"Will Enroll\")>=1),\"MAJOR IN PROGRESS\",IF(AND(AND(AND(COUNTIF(FINC!A7:A8,\"Complete\")>=1),COUNTIF(FINC!A7:A8,\"Enrolled\")>=1,COUNTIF(FINC!A11:A16,\"Complete\")>=2),COUNTIF(FINC!A18:A44,\"Enrolled\")>=1),\"MAJOR IN PROGRESS\",IF(AND(AND(AND(COUNTIF(FINC!A7:A8,\"Complete\")>=1),COUNTIF(FINC!A7:A8,\"Enrolled\")>=1,COUNTIF(FINC!A11:A16,\"Complete\")>=2),COUNTIF(FINC!A18:A44,\"Will Enroll\")>=1),\"MAJOR IN PROGRESS\",$A$59)))))))))))))))))))))))))))))))","v":"NOT MAJORING IN THIS FIELD"}]
[{"$f":"IF(AND(COUNTIF(FINC!A7:A8,\"Waived\")=1,COUNTIF(FINC!A7:A8,\"Complete\")=1),$A$60,IF(AND(COUNTIF(FINC!A7:A8,\"Waived\")=1,COUNTIF(FINC!A7:A8,\"Enrolled\")=1),$A$61,IF(AND(COUNTIF(FINC!A7:A8,\"Waived\")=1,COUNTIF(FINC!A7:A8,\"Will Enroll\")=1),$A$62,$A$66)))","v":"NOT MAJORING IN THIS FIELD"}]
[{"$f":"IF(COUNTIF(FINC!A11:A16,\"Complete\")>=1,$A$63,IF(COUNTIF(FINC!A11:A16,\"Enrolled\")>=1,$A$64,IF(COUNTIF(FINC!A11:A16,\"Will Enroll\")>=1,$A$65,$A$66)))","v":"NOT MAJORING IN THIS FIELD"}]
[{"$f":"IF(COUNTIF(FINC!A11:A16,\"Complete\")>=1,$A$64,IF(COUNTIF(FINC!A11:A16,\"Enrolled\")>=1,$A$64,IF(COUNTIF(FINC!A11:A16,\"Will Enroll\")>=1,$A$65,$A$66)))","v":"NOT MAJORING IN THIS FIELD"}]
[{"$f":"IF(COUNTIF(FINC!A11:A16,\"Complete\")>=1,$A$65,IF(COUNTIF(FINC!A11:A16,\"Enrolled\")>=1,$A$65,IF(COUNTIF(FINC!A11:A16,\"Will Enroll\")>=1,$A$65,$A$66)))","v":"NOT MAJORING IN THIS FIELD"}]
[{"$f":"IF(AND(COUNTIF(FINC!A11:A46,\"Complete\")>=2,COUNTIF(FINC!A11:A46,\"Enrolled\")>=1),\"MAJOR COMPLETED THIS QUARTER\",IF(AND(COUNTIF(FINC!A11:A46,\"Complete\")>=1,COUNTIF(FINC!A11:A46,\"Enrolled\")>=2),\"MAJOR COMPLETED THIS QUARTER\",IF(AND(COUNTIF(FINC!A11:A46,\"Complete\")>=2,COUNTIF(FINC!A11:A46,\"Will Enroll\")>=1),\"MAJOR IN PROGRESS\",IF(AND(COUNTIF(FINC!A11:A46,\"Complete\")>=1,COUNTIF(FINC!A11:A46,\"Will Enroll\")>=2),\"MAJOR IN PROGRESS\",IF(AND(COUNTIF(FINC!A11:A46,\"Enrolled\")>=2,COUNTIF(FINC!A11:A46,\"Will Enroll\")>=1),\"MAJOR IN PROGRESS\",IF(COUNTIF(FINC!A11:A46,\"Will Enroll\")>=3,\"MAJOR IN PROGRESS\",IF(COUNTIF(FINC!A11:A46,\"Complete\")>=3,\"MAJOR COMPLETED\",IF(COUNTIF(FINC!A11:A46,\"Enrolled\")>=3,\"MAJOR COMPLETED THIS QUARTER\",IF(AND(AND(COUNTIF(FINC!A11:A46,\"Complete\")>=1),COUNTIF(FINC!A11:A46,\"Enrolled\")>=1,COUNTIF(FINC!A11:A46,\"Will Enroll\")>=1),\"MAJOR IN PROGRESS\",IF(AND(COUNTIF(FINC!A11:A46,\"Enrolled\")>=1,COUNTIF(FINC!A11:A46,\"Will Enroll\")>=2),\"MAJOR IN PROGRESS\",$A$66))))))))))","v":"NOT MAJORING IN THIS FIELD"}]
[{"$f":"IF(AND(COUNTIF(FINC!A11:A46,\"Complete\")>=2,COUNTIF(FINC!A11:A46,\"Enrolled\")>=1),\"MAJOR COMPLETED THIS QUARTER\",IF(AND(COUNTIF(FINC!A11:A46,\"Complete\")>=1,COUNTIF(FINC!A11:A46,\"Enrolled\")>=2),\"MAJOR COMPLETED THIS QUARTER\",IF(AND(COUNTIF(FINC!A11:A46,\"Complete\")>=2,COUNTIF(FINC!A11:A46,\"Will Enroll\")>=1),\"MAJOR IN PROGRESS\",IF(AND(COUNTIF(FINC!A11:A46,\"Complete\")>=1,COUNTIF(FINC!A11:A46,\"Will Enroll\")>=2),\"MAJOR IN PROGRESS\",IF(AND(COUNTIF(FINC!A11:A46,\"Enrolled\")>=2,COUNTIF(FINC!A11:A46,\"Will Enroll\")>=1),\"MAJOR IN PROGRESS\",IF(COUNTIF(FINC!A11:A46,\"Will Enroll\")>=3,\"MAJOR IN PROGRESS\",IF(COUNTIF(FINC!A11:A46,\"Complete\")>=3,\"MAJOR COMPLETED THIS QUARTER\",IF(COUNTIF(FINC!A11:A46,\"Enrolled\")>=3,\"MAJOR COMPLETED THIS QUARTER\",IF(AND(AND(COUNTIF(FINC!A11:A46,\"Complete\")>=1),COUNTIF(FINC!A11:A46,\"Enrolled\")>=1,COUNTIF(FINC!A11:A46,\"Will Enroll\")>=1),\"MAJOR IN PROGRESS\",IF(AND(COUNTIF(FINC!A11:A46,\"Enrolled\")>=1,COUNTIF(FINC!A11:A46,\"Will Enroll\")>=2),\"MAJOR IN PROGRESS\",$A$66))))))))))","v":"NOT MAJORING IN THIS FIELD"}]
[{"$f":"IF(AND(COUNTIF(FINC!A11:A46,\"Complete\")>=2,COUNTIF(FINC!A11:A46,\"Enrolled\")>=1),\"MAJOR IN PROGRESS\",IF(AND(COUNTIF(FINC!A11:A46,\"Complete\")>=1,COUNTIF(FINC!A11:A46,\"Enrolled\")>=2),\"MAJOR IN PROGRESS\",IF(AND(COUNTIF(FINC!A11:A46,\"Complete\")>=2,COUNTIF(FINC!A11:A46,\"Will Enroll\")>=1),\"MAJOR IN PROGRESS\",IF(AND(COUNTIF(FINC!A11:A46,\"Complete\")>=1,COUNTIF(FINC!A11:A46,\"Will Enroll\")>=2),\"MAJOR IN PROGRESS\",IF(AND(COUNTIF(FINC!A11:A46,\"Enrolled\")>=2,COUNTIF(FINC!A11:A46,\"Will Enroll\")>=1),\"MAJOR IN PROGRESS\",IF(COUNTIF(FINC!A11:A46,\"Will Enroll\")>=3,\"MAJOR IN PROGRESS\",IF(COUNTIF(FINC!A11:A46,\"Complete\")>=3,\"MAJOR IN PROGRESS\",IF(COUNTIF(FINC!A11:A46,\"Enrolled\")>=3,\"MAJOR IN PROGRESS\",IF(AND(AND(COUNTIF(FINC!A11:A46,\"Complete\")>=1),COUNTIF(FINC!A11:A46,\"Enrolled\")>=1,COUNTIF(FINC!A11:A46,\"Will Enroll\")>=1),\"MAJOR IN PROGRESS\",IF(AND(COUNTIF(FINC!A11:A46,\"Enrolled\")>=1,COUNTIF(FINC!A11:A46,\"Will Enroll\")>=2),\"MAJOR IN PROGRESS\",$A$66))))))))))","v":"NOT MAJORING IN THIS FIELD"}]
[{"$f":"IF(COUNTIF(FINC!A7:A9,\"Enrolled\")>=1,\"POTENTIAL MAJOR\",IF(COUNTIF(FINC!A7:A9,\"Complete\")>=1,\"POTENTIAL MAJOR\",IF(COUNTIF(FINC!A7:A9,\"Will Enroll\")>=1,\"POTENTIAL MAJOR\",\"NOT MAJORING IN THIS FIELD\")))","v":"NOT MAJORING IN THIS FIELD"}]
["Health Industry Management - Health Industry track"]
[{"$f":"IF(AND(HEMA!A8=\"Complete\",COUNTIF(HEMA!A11:A20,\"Complete\")>=3),\"MAJOR COMPLETED\",IF(AND(AND(HEMA!A8=\"Complete\",COUNTIF(HEMA!A11:A20,\"Complete\")>=2,COUNTIF(HEMA!A11:A20,\"Enrolled\")>=1)),\"MAJOR COMPLETED THIS QUARTER\",IF(AND(AND(HEMA!A8=\"Complete\",COUNTIF(HEMA!A11:A20,\"Complete\")>=1,COUNTIF(HEMA!A11:A20,\"Enrolled\")>=2)),\"MAJOR COMPLETED THIS QUARTER\",IF(AND(HEMA!A8=\"Complete\",COUNTIF(HEMA!A11:A20,\"Enrolled\")>=3),\"MAJOR COMPLETED THIS QUARTER\",IF(AND(HEMA!A8=\"Enrolled\",COUNTIF(HEMA!A11:A20,\"Enrolled\")>=3),\"MAJOR COMPLETED THIS QUARTER\",IF(AND(AND(HEMA!A8=\"Enrolled\",COUNTIF(HEMA!A11:A20,\"Complete\")>=2),COUNTIF(HEMA!A11:A20,\"Enrolled\")>=1),\"MAJOR COMPLETED THIS QUARTER\",IF(AND(AND(HEMA!A8=\"Enrolled\",COUNTIF(HEMA!A11:A20,\"Complete\")>=1),COUNTIF(HEMA!A11:A20,\"Enrolled\")>=2),\"MAJOR COMPLETED THIS QUARTER\",IF(AND(HEMA!A8=\"Enrolled\",COUNTIF(HEMA!A11:A20,\"Complete\")>=3),\"MAJOR COMPLETED THIS QUARTER\",$A$69))))))))","v":"NOT MAJORING IN THIS FIELD"}]
[{"$f":"IF(OR(OR(HEMA!A8=\"Complete\",HEMA!A8=\"Enrolled\",HEMA!A8=\"Will Enroll\")),$A$70,$A$71)","v":"NOT MAJORING IN THIS FIELD"}]
[{"$f":"IF(AND(COUNTIF(HEMA!A11:A20,\"Complete\")>=2,COUNTIF(HEMA!A11:A20,\"Enrolled\")>=1),\"MAJOR IN PROGRESS\",IF(AND(COUNTIF(HEMA!A11:A20,\"Complete\")>=1,COUNTIF(HEMA!A11:A20,\"Enrolled\")>=2),\"MAJOR IN PROGRESS\",IF(AND(COUNTIF(HEMA!A11:A20,\"Complete\")>=2,COUNTIF(HEMA!A11:A20,\"Will Enroll\")>=1),\"MAJOR IN PROGRESS\",IF(AND(COUNTIF(HEMA!A11:A20,\"Complete\")>=1,COUNTIF(HEMA!A11:A20,\"Will Enroll\")>=2),\"MAJOR IN PROGRESS\",IF(AND(COUNTIF(HEMA!A11:A20,\"Enrolled\")>=2,COUNTIF(HEMA!A11:A20,\"Will Enroll\")>=1),\"MAJOR IN PROGRESS\",IF(COUNTIF(HEMA!A11:A20,\"Will Enroll\")>=3,\"MAJOR IN PROGRESS\",IF(COUNTIF(HEMA!A11:A20,\"Complete\")>=3,\"MAJOR IN PROGRESS\",IF(COUNTIF(HEMA!A11:A20,\"Enrolled\")>=3,\"MAJOR IN PROGRESS\",IF(AND(AND(COUNTIF(HEMA!A11:A20,\"Complete\")>=1),COUNTIF(HEMA!A11:A20,\"Enrolled\")>=1,COUNTIF(HEMA!A11:A20,\"Will Enroll\")>=1),\"MAJOR IN PROGRESS\",IF(AND(COUNTIF(HEMA!A11:A20,\"Enrolled\")>=1,COUNTIF(HEMA!A11:A20,\"Will Enroll\")>=2),\"MAJOR IN PROGRESS\",$A$71))))))))))","v":"NOT MAJORING IN THIS FIELD"}]
[{"$f":"IF(HEMA!A8=\"Waived\",$A$72,$A$73)","v":"NOT MAJORING IN THIS FIELD"}]
[{"$f":"IF(AND(COUNTIF(HEMA!A11:A20,\"Complete\")>=3,COUNTIF(HEMA!A11:A20,\"Enrolled\")>=1),\"MAJOR COMPLETED THIS QUARTER\",IF(AND(COUNTIF(HEMA!A11:A20,\"Complete\")>=3,COUNTIF(HEMA!A11:A20,\"Will Enroll\")>=1),\"MAJOR IN PROGRESS\",IF(AND(COUNTIF(HEMA!A11:A20,\"Complete\")>=2,COUNTIF(HEMA!A11:A20,\"Enrolled\")>=2),\"MAJOR COMPLETED THIS QUARTER\",IF(AND(AND(COUNTIF(HEMA!A11:A20,\"Complete\")>=2,COUNTIF(HEMA!A11:A20,\"Enrolled\")>=1),COUNTIF(HEMA!A11:A20,\"Will Enroll\")>=1),\"MAJOR IN PROGRESS\",IF(AND(COUNTIF(HEMA!A11:A20,\"Complete\")>=2,COUNTIF(HEMA!A11:A20,\"Will Enroll\")>=2),\"MAJOR IN PROGRESS\",IF(AND(COUNTIF(HEMA!A11:A20,\"Complete\")>=1,COUNTIF(HEMA!A11:A20,\"Enrolled\")>=3),\"MAJOR COMPLETED THIS QUARTER\",IF(AND(AND(COUNTIF(HEMA!A11:A20,\"Complete\")>=1,COUNTIF(HEMA!A11:A20,\"Enrolled\")>=2),COUNTIF(HEMA!A11:A20,\"Will Enroll\")>=1),\"MAJOR IN PROGRESS\",IF(AND(AND(COUNTIF(HEMA!A11:A20,\"Complete\")>=1,COUNTIF(HEMA!A11:A20,\"Enrolled\")>=1),COUNTIF(HEMA!A11:A20,\"Will Enroll\")>=2),\"MAJOR IN PROGRESS\",IF(AND(COUNTIF(HEMA!A11:A20,\"Complete\")>=1,COUNTIF(HEMA!A11:A20,\"Will Enroll\")>=3),\"MAJOR IN PROGRESS\",IF(COUNTIF(HEMA!A11:A20,\"Enrolled\")>=4,\"MAJOR COMPLETED THIS QUARTER\",IF(AND(COUNTIF(HEMA!A11:A20,\"Enrolled\")>=3,COUNTIF(HEMA!A11:A20,\"Will Enroll\")>=1),\"MAJOR IN PROGRESS\",IF(AND(COUNTIF(HEMA!A11:A20,\"Enrolled\")>=2,COUNTIF(HEMA!A11:A20,\"Will Enroll\")>=2),\"MAJOR IN PROGRESS\",IF(AND(COUNTIF(HEMA!A11:A20,\"Enrolled\")>=1,COUNTIF(HEMA!A11:A20,\"Will Enroll\")>=3),\"MAJOR IN PROGRESS\",IF(COUNTIF(HEMA!A11:A20,\"Will Enroll\")>=4,\"MAJOR IN PROGRESS\",IF(COUNTIF(HEMA!A11:A20,\"Complete\")>=4,\"MAJOR COMPLETED\",$A$73)))))))))))))))","v":"NOT MAJORING IN THIS FIELD"}]
[{"$f":"IF(HEMA!A8=\"Complete\",\"POTENTIAL MAJOR\",IF(HEMA!A8=\"Enrolled\",\"POTENTIAL MAJOR\",IF(HEMA!A8=\"Will Enroll\",\"POTENTIAL MAJOR\",\"NOT MAJORING IN THIS FIELD\")))","v":"NOT MAJORING IN THIS FIELD"}]
["Health Industry Management - Biotech and Medical Products track"]
[{"$f":"IF(AND(HEMA!A8=\"Complete\",COUNTIF(HEMA!A25:A35,\"Complete\")>=3),\"MAJOR COMPLETED\",IF(AND(AND(HEMA!A8=\"Complete\",COUNTIF(HEMA!A25:A35,\"Complete\")>=2,COUNTIF(HEMA!A25:A35,\"Enrolled\")>=1)),\"MAJOR COMPLETED THIS QUARTER\",IF(AND(AND(HEMA!A8=\"Complete\",COUNTIF(HEMA!A25:A35,\"Complete\")>=1,COUNTIF(HEMA!A25:A35,\"Enrolled\")>=2)),\"MAJOR COMPLETED THIS QUARTER\",IF(AND(HEMA!A8=\"Complete\",COUNTIF(HEMA!A25:A35,\"Enrolled\")>=3),\"MAJOR COMPLETED THIS QUARTER\",IF(AND(HEMA!A8=\"Enrolled\",COUNTIF(HEMA!A25:A35,\"Enrolled\")>=3),\"MAJOR COMPLETED THIS QUARTER\",IF(AND(AND(HEMA!A8=\"Enrolled\",COUNTIF(HEMA!A25:A35,\"Complete\")>=2),COUNTIF(HEMA!A25:A35,\"Enrolled\")>=1),\"MAJOR COMPLETED THIS QUARTER\",IF(AND(AND(HEMA!A8=\"Enrolled\",COUNTIF(HEMA!A25:A35,\"Complete\")>=1),COUNTIF(HEMA!A25:A35,\"Enrolled\")>=2),\"MAJOR COMPLETED THIS QUARTER\",IF(AND(HEMA!A8=\"Enrolled\",COUNTIF(HEMA!A25:A35,\"Complete\")>=3),\"MAJOR COMPLETED THIS QUARTER\",$A$76))))))))","v":"NOT MAJORING IN THIS FIELD"}]
[{"$f":"IF(OR(OR(HEMA!A8=\"Complete\",HEMA!A8=\"Enrolled\",HEMA!A8=\"Will Enroll\")),$A$77,$A$78)","v":"NOT MAJORING IN THIS FIELD"}]
[{"$f":"IF(AND(COUNTIF(HEMA!A25:A35,\"Complete\")>=2,COUNTIF(HEMA!A25:A35,\"Enrolled\")>=1),\"MAJOR IN PROGRESS\",IF(AND(COUNTIF(HEMA!A25:A35,\"Complete\")>=1,COUNTIF(HEMA!A25:A35,\"Enrolled\")>=2),\"MAJOR IN PROGRESS\",IF(AND(COUNTIF(HEMA!A25:A35,\"Complete\")>=2,COUNTIF(HEMA!A25:A35,\"Will Enroll\")>=1),\"MAJOR IN PROGRESS\",IF(AND(COUNTIF(HEMA!A25:A35,\"Complete\")>=1,COUNTIF(HEMA!A25:A35,\"Will Enroll\")>=2),\"MAJOR IN PROGRESS\",IF(AND(COUNTIF(HEMA!A25:A35,\"Enrolled\")>=2,COUNTIF(HEMA!A25:A35,\"Will Enroll\")>=1),\"MAJOR IN PROGRESS\",IF(COUNTIF(HEMA!A25:A35,\"Will Enroll\")>=3,\"MAJOR IN PROGRESS\",IF(COUNTIF(HEMA!A25:A35,\"Complete\")>=3,\"MAJOR IN PROGRESS\",IF(COUNTIF(HEMA!A25:A35,\"Enrolled\")>=3,\"MAJOR IN PROGRESS\",IF(AND(AND(COUNTIF(HEMA!A25:A35,\"Complete\")>=1),COUNTIF(HEMA!A25:A35,\"Enrolled\")>=1,COUNTIF(HEMA!A25:A35,\"Will Enroll\")>=1),\"MAJOR IN PROGRESS\",IF(AND(COUNTIF(HEMA!A25:A35,\"Enrolled\")>=1,COUNTIF(HEMA!A25:A35,\"Will Enroll\")>=2),\"MAJOR IN PROGRESS\",$A$78))))))))))","v":"NOT MAJORING IN THIS FIELD"}]
[{"$f":"IF(HEMA!A8=\"Waived\",$A$79,$A$80)","v":"NOT MAJORING IN THIS FIELD"}]
[{"$f":"IF(AND(COUNTIF(HEMA!A25:A35,\"Complete\")>=3,COUNTIF(HEMA!A25:A35,\"Enrolled\")>=1),\"MAJOR COMPLETED THIS QUARTER\",IF(AND(COUNTIF(HEMA!A25:A35,\"Complete\")>=3,COUNTIF(HEMA!A25:A35,\"Will Enroll\")>=1),\"MAJOR IN PROGRESS\",IF(AND(COUNTIF(HEMA!A25:A35,\"Complete\")>=2,COUNTIF(HEMA!A25:A35,\"Enrolled\")>=2),\"MAJOR COMPLETED THIS QUARTER\",IF(AND(AND(COUNTIF(HEMA!A25:A35,\"Complete\")>=2,COUNTIF(HEMA!A25:A35,\"Enrolled\")>=1),COUNTIF(HEMA!A25:A35,\"Will Enroll\")>=1),\"MAJOR IN PROGRESS\",IF(AND(COUNTIF(HEMA!A25:A35,\"Complete\")>=2,COUNTIF(HEMA!A25:A35,\"Will Enroll\")>=2),\"MAJOR IN PROGRESS\",IF(AND(COUNTIF(HEMA!A25:A35,\"Complete\")>=1,COUNTIF(HEMA!A25:A35,\"Enrolled\")>=3),\"MAJOR COMPLETED THIS QUARTER\",IF(AND(AND(COUNTIF(HEMA!A25:A35,\"Complete\")>=1,COUNTIF(HEMA!A25:A35,\"Enrolled\")>=2),COUNTIF(HEMA!A25:A35,\"Will Enroll\")>=1),\"MAJOR IN PROGRESS\",IF(AND(AND(COUNTIF(HEMA!A25:A35,\"Complete\")>=1,COUNTIF(HEMA!A25:A35,\"Enrolled\")>=1),COUNTIF(HEMA!A25:A35,\"Will Enroll\")>=2),\"MAJOR IN PROGRESS\",IF(AND(COUNTIF(HEMA!A25:A35,\"Complete\")>=1,COUNTIF(HEMA!A25:A35,\"Will Enroll\")>=3),\"MAJOR IN PROGRESS\",IF(COUNTIF(HEMA!A25:A35,\"Enrolled\")>=4,\"MAJOR COMPLETED THIS QUARTER\",IF(AND(COUNTIF(HEMA!A25:A35,\"Enrolled\")>=3,COUNTIF(HEMA!A25:A35,\"Will Enroll\")>=1),\"MAJOR IN PROGRESS\",IF(AND(COUNTIF(HEMA!A25:A35,\"Enrolled\")>=2,COUNTIF(HEMA!A25:A35,\"Will Enroll\")>=2),\"MAJOR IN PROGRESS\",IF(AND(COUNTIF(HEMA!A25:A35,\"Enrolled\")>=1,COUNTIF(HEMA!A25:A35,\"Will Enroll\")>=3),\"MAJOR IN PROGRESS\",IF(COUNTIF(HEMA!A25:A35,\"Will Enroll\")>=4,\"MAJOR IN PROGRESS\",IF(COUNTIF(HEMA!A25:A35,\"Complete\")>=4,\"MAJOR COMPLETED\",$A$80)))))))))))))))","v":"NOT MAJORING IN THIS FIELD"}]
[{"$f":"IF(HEMA!A8=\"Complete\",\"POTENTIAL MAJOR\",IF(HEMA!A8=\"Enrolled\",\"POTENTIAL MAJOR\",IF(HEMA!A8=\"Will Enroll\",\"POTENTIAL MAJOR\",\"NOT MAJORING IN THIS FIELD\")))","v":"NOT MAJORING IN THIS FIELD"}]
["Health Industry Management"]
[{"$f":"IF(AND(COUNTIF(HIMT!A8:A22,\"Complete\")>=3,COUNTIF(HIMT!A18:A23,\"Complete\")>=1),\"MAJOR COMPLETED\",IF(AND(COUNTIF(HIMT!A8:A22,\"Complete\")>=2,COUNTIF(HIMT!A18:A23,\"Complete\")>=2),\"MAJOR COMPLETED\",IF(AND(COUNTIF(HIMT!A8:A22,\"Complete\")>=1,COUNTIF(HIMT!A18:A23,\"Complete\")>=3),\"MAJOR COMPLETED\",IF(AND(COUNTIF(HIMT!A8:A22,\"Complete\")>=1,COUNTIF(HIMT!A18:A23,\"Enrolled\")>=3),\"MAJOR COMPLETED THIS QUARTER\",IF(AND(AND(COUNTIF(HIMT!A8:A22,\"Complete\")>=1,COUNTIF(HIMT!A18:A23,\"Complete\")>=1),COUNTIF(HIMT!A18:A23,\"Enrolled\")>=2),\"MAJOR COMPLETED THIS QUARTER\",IF(AND(AND(COUNTIF(HIMT!A8:A22,\"Complete\")>=1,COUNTIF(HIMT!A18:A23,\"Complete\")>=2),COUNTIF(HIMT!A18:A23,\"Enrolled\")>=1),\"MAJOR COMPLETED THIS QUARTER\",IF(AND(COUNTIF(HIMT!A8:A22,\"Complete\")>=2,COUNTIF(HIMT!A18:A23,\"Enrolled\")>=2),\"MAJOR COMPLETED THIS QUARTER\",IF(AND(AND(COUNTIF(HIMT!A8:A22,\"Complete\")>=2,COUNTIF(HIMT!A18:A23,\"Complete\")>=1),COUNTIF(HIMT!A18:A23,\"Enrolled\")>=1),\"MAJOR COMPLETED THIS QUARTER\",IF(AND(COUNTIF(HIMT!A8:A22,\"Complete\")>=3,COUNTIF(HIMT!A18:A23,\"Enrolled\")>=1),\"MAJOR COMPLETED THIS QUARTER\",IF(AND(COUNTIF(HIMT!A8:A22,\"Enrolled\")>=3,COUNTIF(HIMT!A18:A23,\"Complete\")>=1),\"MAJOR COMPLETED THIS QUARTER\",IF(AND(AND(COUNTIF(HIMT!A8:A22,\"Complete\")>=1,COUNTIF(HIMT!A8:A22,\"Enrolled\")>=2),COUNTIF(HIMT!A18:A23,\"Complete\")>=1),\"MAJOR COMPLETED THIS QUARTER\",IF(AND(AND(COUNTIF(HIMT!A8:A22,\"Complete\")>=2,COUNTIF(HIMT!A8:A22,\"Enrolled\")>=1),COUNTIF(HIMT!A18:A23,\"Complete\")>=1),\"MAJOR COMPLETED THIS QUARTER\",IF(AND(COUNTIF(HIMT!A8:A22,\"Enrolled\")>=2,COUNTIF(HIMT!A18:A23,\"Complete\")>=2),\"MAJOR COMPLETED THIS QUARTER\",IF(AND(AND(COUNTIF(HIMT!A8:A22,\"Complete\")>=1,COUNTIF(HIMT!A8:A22,\"Enrolled\")>=1),COUNTIF(HIMT!A18:A23,\"Complete\")>=2),\"MAJOR COMPLETED THIS QUARTER\",IF(AND(COUNTIF(HIMT!A8:A22,\"Enrolled\")>=1,COUNTIF(HIMT!A18:A23,\"Complete\")>=3),\"MAJOR COMPLETED THIS QUARTER\",IF(AND(AND(COUNTIF(HIMT!A8:A22,\"Complete\")>=1,COUNTIF(HIMT!A8:A22,\"Enrolled\")>=1),COUNTIF(HIMT!A18:A23,\"Enrolled\")>=2),\"MAJOR COMPLETED THIS QUARTER\",IF(AND(AND(COUNTIF(HIMT!A8:A22,\"Enrolled\")>=2,COUNTIF(HIMT!A18:A23,\"Complete\")>=1),COUNTIF(HIMT!A18:A23,\"Enrolled\")>=1),\"MAJOR COMPLETED THIS QUARTER\",IF(AND(COUNTIF(HIMT!A8:A22,\"Enrolled\")>=3,COUNTIF(HIMT!A18:A23,\"Enrolled\")>=1),\"MAJOR COMPLETED THIS QUARTER\",IF(AND(COUNTIF(HIMT!A8:A22,\"Enrolled\")>=2,COUNTIF(HIMT!A18:A23,\"Enrolled\")>=2),\"MAJOR COMPLETED THIS QUARTER\",IF(AND(COUNTIF(HIMT!A8:A22,\"Enrolled\")>=1,COUNTIF(HIMT!A18:A23,\"Enrolled\")>=3),\"MAJOR COMPLETED THIS QUARTER\",IF(AND(AND(AND(COUNTIF(HIMT!A8:A22,\"Complete\")>=1,COUNTIF(HIMT!A8:A22,\"Enrolled\")>=1),COUNTIF(HIMT!A18:A23,\"Complete\")>=1),COUNTIF(HIMT!A18:A23,\"Enrolled\")>=1),\"MAJOR COMPLETED THIS QUARTER\",IF(AND(AND(COUNTIF(HIMT!A8:A22,\"Complete\")>=2,COUNTIF(HIMT!A8:A22,\"Enrolled\")>=1),COUNTIF(HIMT!A18:A23,\"Enrolled\")>=1),\"MAJOR COMPLETED THIS QUARTER\",IF(AND(AND(COUNTIF(HIMT!A8:A22,\"Complete\")>=1,COUNTIF(HIMT!A8:A22,\"Enrolled\")>=2),COUNTIF(HIMT!A18:A23,\"Enrolled\")>=1),\"MAJOR COMPLETED THIS QUARTER\",IF(AND(AND(COUNTIF(HIMT!A8:A22,\"Enrolled\")>=1,COUNTIF(HIMT!A18:A23,\"Complete\")>=2),COUNTIF(HIMT!A18:A23,\"Enrolled\")>=1),\"MAJOR COMPLETED THIS QUARTER\",IF(AND(AND(COUNTIF(HIMT!A8:A22,\"Enrolled\")>=1,COUNTIF(HIMT!A18:A23,\"Complete\")>=1),COUNTIF(HIMT!A18:A23,\"Enrolled\")>=2),\"MAJOR COMPLETED THIS QUARTER\",$A$83)))))))))))))))))))))))))","v":"NOT MAJORING IN THIS FIELD"}]
[{"$f":"IF(AND(AND(COUNTIF(HIMT!A8:A22,\"Complete\")>=2),COUNTIF(HIMT!A18:A23,\"Complete\")>=1,COUNTIF(HIMT!A18:A23,\"Will Enroll\")>=1),\"MAJOR IN PROGRESS\",IF(AND(AND(COUNTIF(HIMT!A8:A22,\"Complete\")>=2),COUNTIF(HIMT!A18:A23,\"Enrolled\")>=1,COUNTIF(HIMT!A18:A23,\"Will Enroll\")>=1),\"MAJOR IN PROGRESS\",IF(AND(COUNTIF(HIMT!A8:A22,\"Complete\")>=2,COUNTIF(HIMT!A18:A23,\"Will Enroll\")>=2),\"MAJOR IN PROGRESS\",IF(AND(AND(AND(COUNTIF(HIMT!A8:A22,\"Complete\")>=1),COUNTIF(HIMT!A8:A22,\"Will Enroll\")>=1),COUNTIF(HIMT!A18:A23,\"Enrolled\")>=1,COUNTIF(HIMT!A18:A23,\"Will Enroll\")>=1),\"MAJOR IN PROGRESS\",IF(AND(AND(AND(COUNTIF(HIMT!A8:A22,\"Complete\")>=1),COUNTIF(HIMT!A8:A22,\"Will Enroll\")>=1),COUNTIF(HIMT!A18:A23,\"Complete\")>=1,COUNTIF(HIMT!A18:A23,\"Will Enroll\")>=1),\"MAJOR IN PROGRESS\",IF(AND(AND(COUNTIF(HIMT!A8:A22,\"Complete\")>=1),COUNTIF(HIMT!A8:A22,\"Will Enroll\")>=1,COUNTIF(HIMT!A18:A23,\"Will Enroll\")>=2),\"MAJOR IN PROGRESS\",IF(AND(AND(COUNTIF(HIMT!A8:A22,\"Complete\")>=1),COUNTIF(HIMT!A8:A22,\"Will Enroll\")>=1,COUNTIF(HIMT!A18:A23,\"Complete\")>=2),\"MAJOR IN PROGRESS\",IF(AND(AND(COUNTIF(HIMT!A8:A22,\"Complete\")>=1),COUNTIF(HIMT!A8:A22,\"Will Enroll\")>=1,COUNTIF(HIMT!A18:A23,\"Enrolled\")>=2),\"MAJOR IN PROGRESS\",IF(AND(AND(AND(COUNTIF(HIMT!A8:A22,\"Complete\")>=1),COUNTIF(HIMT!A8:A22,\"Will Enroll\")>=1),COUNTIF(HIMT!A18:A23,\"Complete\")>=1,COUNTIF(HIMT!A18:A23,\"Enrolled\")>=1),\"MAJOR IN PROGRESS\",IF(AND(AND(AND(COUNTIF(HIMT!A8:A22,\"Complete\")>=1),COUNTIF(HIMT!A8:A22,\"Enrolled\")>=1),COUNTIF(HIMT!A18:A23,\"Complete\")>=1,COUNTIF(HIMT!A18:A23,\"Will Enroll\")>=1),\"MAJOR IN PROGRESS\",IF(AND(AND(AND(COUNTIF(HIMT!A8:A22,\"Complete\")>=1),COUNTIF(HIMT!A8:A22,\"Enrolled\")>=1),COUNTIF(HIMT!A18:A23,\"Enrolled\")>=1,COUNTIF(HIMT!A18:A23,\"Will Enroll\")>=1),\"MAJOR IN PROGRESS\",IF(AND(AND(COUNTIF(HIMT!A8:A22,\"Complete\")>=1),COUNTIF(HIMT!A8:A22,\"Enrolled\")>=1,COUNTIF(HIMT!A18:A23,\"Will Enroll\")>=2),\"MAJOR IN PROGRESS\",IF(AND(AND(COUNTIF(HIMT!A8:A22,\"Will Enroll\")>=1),COUNTIF(HIMT!A8:A22,\"Enrolled\")>=1,COUNTIF(HIMT!A18:A23,\"Will Enroll\")>=2),\"MAJOR IN PROGRESS\",IF(AND(AND(COUNTIF(HIMT!A8:A22,\"Will Enroll\")>=1),COUNTIF(HIMT!A8:A22,\"Enrolled\")>=1,COUNTIF(HIMT!A18:A23,\"Complete\")>=2),\"MAJOR IN PROGRESS\",IF(AND(AND(COUNTIF(HIMT!A8:A22,\"Will Enroll\")>=1),COUNTIF(HIMT!A8:A22,\"Enrolled\")>=1,COUNTIF(HIMT!A18:A23,\"Enrolled\")>=2),\"MAJOR IN PROGRESS\",IF(AND(AND(AND(COUNTIF(HIMT!A8:A22,\"Enrolled\")>=1),COUNTIF(HIMT!A8:A22,\"Will Enroll\")>=1),COUNTIF(HIMT!A18:A23,\"Complete\")>=1,COUNTIF(HIMT!A18:A23,\"Will Enroll\")>=1),\"MAJOR IN PROGRESS\",IF(AND(AND(AND(COUNTIF(HIMT!A8:A22,\"Enrolled\")>=1),COUNTIF(HIMT!A8:A22,\"Will Enroll\")>=1),COUNTIF(HIMT!A18:A23,\"Enrolled\")>=1,COUNTIF(HIMT!A18:A23,\"Will Enroll\")>=1),\"MAJOR IN PROGRESS\",IF(AND(AND(COUNTIF(HIMT!A8:A22,\"Will Enroll\")>=2),COUNTIF(HIMT!A18:A23,\"Complete\")>=1,COUNTIF(HIMT!A18:A23,\"Will Enroll\")>=1),\"MAJOR IN PROGRESS\",IF(AND(AND(COUNTIF(HIMT!A8:A22,\"Will Enroll\")>=2),COUNTIF(HIMT!A18:A23,\"Enrolled\")>=1,COUNTIF(HIMT!A18:A23,\"Will Enroll\")>=1),\"MAJOR IN PROGRESS\",IF(AND(COUNTIF(HIMT!A8:A22,\"Will Enroll\")>=2,COUNTIF(HIMT!A18:A23,\"Will Enroll\")>=2),\"MAJOR IN PROGRESS\",IF(AND(COUNTIF(HIMT!A8:A22,\"Will Enroll\")>=2,COUNTIF(HIMT!A18:A23,\"Complete\")>=2),\"MAJOR IN PROGRESS\",IF(AND(COUNTIF(HIMT!A8:A22,\"Will Enroll\")>=2,COUNTIF(HIMT!A18:A23,\"Enrolled\")>=2),\"MAJOR IN PROGRESS\",IF(AND(AND(COUNTIF(HIMT!A8:A22,\"Will Enroll\")>=2),COUNTIF(HIMT!A18:A23,\"Complete\")>=1,COUNTIF(HIMT!A18:A23,\"Enrolled\")>=1),\"MAJOR IN PROGRESS\",IF(AND(COUNTIF(HIMT!A8:A22,\"Will Enroll\")>=1,COUNTIF(HIMT!A18:A23,\"Complete\")>=3),\"MAJOR IN PROGRESS\",IF(AND(AND(COUNTIF(HIMT!A8:A22,\"Will Enroll\")>=1),COUNTIF(HIMT!A18:A23,\"Complete\")>=2,COUNTIF(HIMT!A18:A23,\"Enrolled\")>=1),\"MAJOR IN PROGRESS\",IF(AND(AND(COUNTIF(HIMT!A8:A22,\"Complete\")>=1),COUNTIF(HIMT!A18:A23,\"Complete\")>=2,COUNTIF(HIMT!A18:A23,\"Will Enroll\")>=1),\"MAJOR IN PROGRESS\",IF(AND(AND(COUNTIF(HIMT!A8:A22,\"Enrolled\")>=1),COUNTIF(HIMT!A18:A23,\"Complete\")>=2,COUNTIF(HIMT!A18:A23,\"Will Enroll\")>=1),\"MAJOR IN PROGRESS\",IF(AND(AND(COUNTIF(HIMT!A8:A22,\"Will Enroll\")>=1),COUNTIF(HIMT!A18:A23,\"Complete\")>=2,COUNTIF(HIMT!A18:A23,\"Will Enroll\")>=1),\"MAJOR IN PROGRESS\",IF(AND(AND(COUNTIF(HIMT!A8:A22,\"Will Enroll\")>=1),COUNTIF(HIMT!A18:A23,\"Complete\")>=1,COUNTIF(HIMT!A18:A23,\"Enrolled\")>=2),\"MAJOR IN PROGRESS\",IF(AND(AND(COUNTIF(HIMT!A8:A22,\"Complete\")>=1),COUNTIF(HIMT!A18:A23,\"Complete\")>=1,COUNTIF(HIMT!A18:A23,\"Will Enroll\")>=2),\"MAJOR IN PROGRESS\",IF(AND(AND(COUNTIF(HIMT!A8:A22,\"Enrolled\")>=1),COUNTIF(HIMT!A18:A23,\"Complete\")>=1,COUNTIF(HIMT!A18:A23,\"Will Enroll\")>=2),\"MAJOR IN PROGRESS\",IF(AND(AND(COUNTIF(HIMT!A8:A22,\"Will Enroll\")>=1),COUNTIF(HIMT!A18:A23,\"Complete\")>=1,COUNTIF(HIMT!A18:A23,\"Will Enroll\")>=2),\"MAJOR IN PROGRESS\",IF(AND(AND(AND(COUNTIF(HIMT!A8:A22,\"Complete\")>=1),COUNTIF(HIMT!A18:A23,\"Complete\")>=1),COUNTIF(HIMT!A18:A23,\"Enrolled\")>=1,COUNTIF(HIMT!A18:A23,\"Will Enroll\")>=1),\"MAJOR IN PROGRESS\",IF(AND(AND(AND(COUNTIF(HIMT!A8:A22,\"Enrolled\")>=1),COUNTIF(HIMT!A18:A23,\"Complete\")>=1),COUNTIF(HIMT!A18:A23,\"Enrolled\")>=1,COUNTIF(HIMT!A18:A23,\"Will Enroll\")>=1),\"MAJOR IN PROGRESS\",IF(AND(AND(AND(COUNTIF(HIMT!A8:A22,\"Will Enroll\")>=1),COUNTIF(HIMT!A18:A23,\"Complete\")>=1),COUNTIF(HIMT!A18:A23,\"Enrolled\")>=1,COUNTIF(HIMT!A18:A23,\"Will Enroll\")>=1),\"MAJOR IN PROGRESS\",IF(AND(AND(COUNTIF(HIMT!A8:A22,\"Complete\")>=1),COUNTIF(HIMT!A18:A23,\"Enrolled\")>=2,COUNTIF(HIMT!A18:A23,\"Will Enroll\")>=1),\"MAJOR IN PROGRESS\",IF(AND(AND(COUNTIF(HIMT!A8:A22,\"Enrolled\")>=1),COUNTIF(HIMT!A18:A23,\"Enrolled\")>=2,COUNTIF(HIMT!A18:A23,\"Will Enroll\")>=1),\"MAJOR IN PROGRESS\",IF(AND(AND(COUNTIF(HIMT!A8:A22,\"Will Enroll\")>=1),COUNTIF(HIMT!A18:A23,\"Enrolled\")>=2,COUNTIF(HIMT!A18:A23,\"Will Enroll\")>=1),\"MAJOR IN PROGRESS\",IF(AND(COUNTIF(HIMT!A8:A22,\"Will Enroll\")>=1,COUNTIF(HIMT!A18:A23,\"Enrolled\")>=3),\"MAJOR IN PROGRESS\",IF(AND(COUNTIF(HIMT!A8:A22,\"Complete\")>=1,COUNTIF(HIMT!A18:A23,\"Will Enroll\")>=3),\"MAJOR IN PROGRESS\",IF(AND(COUNTIF(HIMT!A8:A22,\"Enrolled\")>=1,COUNTIF(HIMT!A18:A23,\"Will Enroll\")>=3),\"MAJOR IN PROGRESS\",IF(AND(COUNTIF(HIMT!A8:A22,\"Will Enroll\")>=1,COUNTIF(HIMT!A18:A23,\"Will Enroll\")>=3),\"MAJOR IN PROGRESS\",IF(AND(COUNTIF(HIMT!A8:A22,\"Complete\")>=3,COUNTIF(HIMT!A18:A23,\"Will Enroll\")>=1),\"MAJOR IN PROGRESS\",IF(AND(COUNTIF(HIMT!A8:A22,\"Will Enroll\")>=3,COUNTIF(HIMT!A18:A23,\"Will Enroll\")>=1),\"MAJOR IN PROGRESS\",IF(AND(COUNTIF(HIMT!A8:A22,\"Will Enroll\")>=3,COUNTIF(HIMT!A18:A23,\"Enrolled\")>=1),\"MAJOR IN PROGRESS\",IF(AND(COUNTIF(HIMT!A8:A22,\"Will Enroll\")>=3,COUNTIF(HIMT!A18:A23,\"Complete\")>=1),\"MAJOR IN PROGRESS\",IF(AND(COUNTIF(HIMT!A8:A22,\"Enrolled\")>=3,COUNTIF(HIMT!A18:A23,\"Will Enroll\")>=1),\"MAJOR IN PROGRESS\",IF(AND(AND(COUNTIF(HIMT!A8:A22,\"Complete\")>=2),COUNTIF(HIMT!A8:A22,\"Enrolled\")>=1,COUNTIF(HIMT!A18:A23,\"Will Enroll\")>=1),\"MAJOR IN PROGRESS\",IF(AND(AND(COUNTIF(HIMT!A8:A22,\"Complete\")>=2),COUNTIF(HIMT!A8:A22,\"Will Enroll\")>=1,COUNTIF(HIMT!A18:A23,\"Complete\")>=1),\"MAJOR IN PROGRESS\",IF(AND(AND(COUNTIF(HIMT!A8:A22,\"Complete\")>=2),COUNTIF(HIMT!A8:A22,\"Will Enroll\")>=1,COUNTIF(HIMT!A18:A23,\"Enrolled\")>=1),\"MAJOR IN PROGRESS\",IF(AND(AND(COUNTIF(HIMT!A8:A22,\"Complete\")>=2),COUNTIF(HIMT!A8:A22,\"Will Enroll\")>=1,COUNTIF(HIMT!A18:A23,\"Will Enroll\")>=1),\"MAJOR IN PROGRESS\",IF(AND(AND(COUNTIF(HIMT!A8:A22,\"Complete\")>=1),COUNTIF(HIMT!A8:A22,\"Enrolled\")>=2,COUNTIF(HIMT!A18:A23,\"Will Enroll\")>=1),\"MAJOR IN PROGRESS\",IF(AND(AND(COUNTIF(HIMT!A8:A22,\"Complete\")>=1),COUNTIF(HIMT!A8:A22,\"Will Enroll\")>=2,COUNTIF(HIMT!A18:A23,\"Complete\")>=1),\"MAJOR IN PROGRESS\",IF(AND(AND(COUNTIF(HIMT!A8:A22,\"Complete\")>=1),COUNTIF(HIMT!A8:A22,\"Will Enroll\")>=2,COUNTIF(HIMT!A18:A23,\"Enrolled\")>=1),\"MAJOR IN PROGRESS\",IF(AND(AND(COUNTIF(HIMT!A8:A22,\"Complete\")>=1),COUNTIF(HIMT!A8:A22,\"Will Enroll\")>=2,COUNTIF(HIMT!A18:A23,\"Will Enroll\")>=1),\"MAJOR IN PROGRESS\",IF(AND(AND(AND(COUNTIF(HIMT!A8:A22,\"Complete\")>=1),COUNTIF(HIMT!A8:A22,\"Enrolled\")>=1),COUNTIF(HIMT!A8:A22,\"Will Enroll\")>=1,COUNTIF(HIMT!A18:A23,\"Complete\")>=1),\"MAJOR IN PROGRESS\",IF(AND(AND(AND(COUNTIF(HIMT!A8:A22,\"Complete\")>=1),COUNTIF(HIMT!A8:A22,\"Enrolled\")>=1),COUNTIF(HIMT!A8:A22,\"Will Enroll\")>=1,COUNTIF(HIMT!A18:A23,\"Enrolled\")>=1),\"MAJOR IN PROGRESS\",$A$84)))))))))))))))))))))))))))))))))))))))))))))))))))))))))","v":"NOT MAJORING IN THIS FIELD"}]
[{"$f":"IF(AND(AND(AND(COUNTIF(HIMT!A8:A22,\"Complete\")>=1),COUNTIF(HIMT!A8:A22,\"Enrolled\")>=1),COUNTIF(HIMT!A8:A22,\"Will Enroll\")>=1,COUNTIF(HIMT!A18:A23,\"Will Enroll\")>=1),\"MAJOR IN PROGRESS\",IF(AND(AND(COUNTIF(HIMT!A8:A22,\"Enrolled\")>=2),COUNTIF(HIMT!A8:A22,\"Will Enroll\")>=1,COUNTIF(HIMT!A18:A23,\"Will Enroll\")>=1),\"MAJOR IN PROGRESS\",IF(AND(AND(COUNTIF(HIMT!A8:A22,\"Enrolled\")>=2),COUNTIF(HIMT!A8:A22,\"Will Enroll\")>=1,COUNTIF(HIMT!A18:A23,\"Enrolled\")>=1),\"MAJOR IN PROGRESS\",IF(AND(AND(COUNTIF(HIMT!A8:A22,\"Enrolled\")>=2),COUNTIF(HIMT!A8:A22,\"Will Enroll\")>=1,COUNTIF(HIMT!A18:A23,\"Will Enroll\")>=1),\"MAJOR IN PROGRESS\",IF(AND(AND(COUNTIF(HIMT!A8:A22,\"Will Enroll\")>=1),COUNTIF(HIMT!A18:A23,\"Enrolled\")>=1,COUNTIF(HIMT!A18:A23,\"Will Enroll\")>=2),\"MAJOR IN PROGRESS\",$A$85)))))","v":"NOT MAJORING IN THIS FIELD"}]
[{"$f":"IF(COUNTIF(HIMT!A8:A22,\"Enrolled\")>=1,\"POTENTIAL MAJOR\",IF(COUNTIF(HIMT!A8:A22,\"Complete\")>=1,\"POTENTIAL MAJOR\",IF(COUNTIF(HIMT!A18:A23,\"Enrolled\")>=1,\"POTENTIAL MAJOR\",IF(COUNTIF(HIMT!A18:A23,\"Complete\")>=1,\"POTENTIAL MAJOR\",IF(COUNTIF(HIMT!A18:A23,\"Will Enroll\")>=1,\"POTENTIAL MAJOR\",\"NOT MAJORING IN THIS FIELD\")))))","v":"NOT MAJORING IN THIS FIELD"}]
["Human Resource Management"]
[{"$f":"IF(AND(COUNTIF(HR!A7:A8,\"Complete\")>1,COUNTIF(HR!A10:A15,\"Complete\")>=2),\"MAJOR COMPLETED\",IF(AND(AND(COUNTIF(HR!A7:A8,\"Complete\")>1,COUNTIF(HR!A10:A15,\"Complete\")>=1,COUNTIF(HR!A10:A15,\"Enrolled\")>=1)),\"MAJOR COMPLETED THIS QUARTER\",IF(AND(COUNTIF(HR!A7:A8,\"Complete\")>1,COUNTIF(HR!A10:A15,\"Enrolled\")>=2),\"MAJOR COMPLETED THIS QUARTER\",IF(AND(COUNTIF(HR!A7:A8,\"Enrolled\")>1,COUNTIF(HR!A10:A15,\"Enrolled\")>=2),\"MAJOR COMPLETED THIS QUARTER\",IF(AND(AND(COUNTIF(HR!A7:A8,\"Enrolled\")>1,COUNTIF(HR!A10:A15,\"Complete\")>=1),COUNTIF(HR!A10:A15,\"Enrolled\")>=1),\"MAJOR COMPLETED THIS QUARTER\",IF(AND(AND(AND(COUNTIF(HR!A7:A8,\"Complete\")=1,COUNTIF(HR!A7:A8,\"Enrolled\")=1,COUNTIF(HR!A10:A15,\"Complete\")>=1,COUNTIF(HR!A10:A15,\"Enrolled\")>=1))),\"MAJOR COMPLETED THIS QUARTER\",IF(AND(AND(COUNTIF(HR!A7:A8,\"Complete\")=1,COUNTIF(HR!A7:A8,\"Enrolled\")=1),COUNTIF(HR!A10:A15,\"Enrolled\")>1),\"MAJOR COMPLETED THIS QUARTER\",IF(AND(AND(COUNTIF(HR!A7:A8,\"Complete\")>=1,COUNTIF(HR!A7:A8,\"Enrolled\")>=1),COUNTIF(HR!A10:A15,\"Complete\")>=2),\"MAJOR COMPLETED THIS QUARTER\",IF(AND(COUNTIF(HR!A7:A8,\"Enrolled\")>=2,COUNTIF(HR!A10:A15,\"Complete\")>=2),\"MAJOR COMPLETED THIS QUARTER\",$A$88)))))))))","v":"NOT MAJORING IN THIS FIELD"}]
[{"$f":"IF(COUNTIF(HR!A7:A8,\"Complete\")=2,$A$89,IF(COUNTIF(HR!A7:A8,\"Enrolled\")=2,$A$89,IF(COUNTIF(HR!A7:A8,\"Will Enroll\")=2,$A$89,IF(AND(COUNTIF(HR!A7:A8,\"Complete\")=1,COUNTIF(HR!A7:A8,\"Enrolled\")=1),$A$89,IF(AND(COUNTIF(HR!A7:A8,\"Complete\")=1,COUNTIF(HR!A7:A8,\"Will Enroll\")=1),$A$89,IF(AND(COUNTIF(HR!A7:A8,\"Enrolled\")=1,COUNTIF(HR!A7:A8,\"Will Enroll\")=1),$A$89,$A$90))))))","v":"NOT MAJORING IN THIS FIELD"}]
[{"$f":"IF(AND(COUNTIF(HR!A10:A15,\"Complete\")>=1,COUNTIF(HR!A10:A15,\"Will Enroll\")>=1),\"MAJOR IN PROGRESS\",IF(AND(COUNTIF(HR!A10:A15,\"Enrolled\")>=1,COUNTIF(HR!A10:A15,\"Will Enroll\")>=1),\"MAJOR IN PROGRESS\",IF(AND(COUNTIF(HR!A10:A15,\"Complete\")>=1,COUNTIF(HR!A10:A15,\"Enrolled\")>=1),\"MAJOR IN PROGRESS\",IF(COUNTIF(HR!A10:A15,\"Will Enroll\")>=2,\"MAJOR IN PROGRESS\",IF(COUNTIF(HR!A10:A15,\"Complete\")>=2,\"MAJOR IN PROGRESS\",IF(COUNTIF(HR!A10:A15,\"Enrolled\")>=2,\"MAJOR IN PROGRESS\",$A$90))))))","v":"NOT MAJORING IN THIS FIELD"}]
[{"$f":"IF(COUNTIF(HR!A7:A8,\"Enrolled\")>0,\"POTENTIAL MAJOR\",IF(COUNTIF(HR!A7:A8,\"Complete\")>0,\"POTENTIAL MAJOR\",IF(COUNTIF(HR!A7:A8,\"Will Enroll\")>0,\"POTENTIAL MAJOR\",\"NOT MAJORING IN THIS FIELD\")))","v":"NOT MAJORING IN THIS FIELD"}]
["International Business"]
[{"$f":"IF(COUNTIF(INTL!A7:A10,\"Complete\")>=4,\"MAJOR COMPLETED\",IF(AND(COUNTIF(INTL!A7:A10,\"Complete\")>=3,COUNTIF(INTL!A12:A18,\"Complete\")>=1),\"MAJOR COMPLETED\",IF(AND(COUNTIF(INTL!A7:A10,\"Complete\")>=2,COUNTIF(INTL!A12:A18,\"Complete\")>=2),\"MAJOR COMPLETED\",IF(AND(COUNTIF(INTL!A7:A10,\"Complete\")>=1,COUNTIF(INTL!A12:A18,\"Complete\")>=3),\"MAJOR COMPLETED\",IF(AND(COUNTIF(INTL!A7:A10,\"Complete\")>=3,COUNTIF(INTL!A7:A10,\"Enrolled\")>=1),\"MAJOR COMPLETED THIS QUARTER\",IF(AND(COUNTIF(INTL!A7:A10,\"Complete\")>=2,COUNTIF(INTL!A7:A10,\"Enrolled\")>=2),\"MAJOR COMPLETED THIS QUARTER\",IF(AND(COUNTIF(INTL!A7:A10,\"Complete\")>=1,COUNTIF(INTL!A7:A10,\"Enrolled\")>=3),\"MAJOR COMPLETED THIS QUARTER\",IF(COUNTIF(INTL!A7:A10,\"Enrolled\")>=4,\"MAJOR COMPLETED THIS QUARTER\",IF(AND(COUNTIF(INTL!A7:A10,\"Complete\")>=3,COUNTIF(INTL!A12:A18,\"Enrolled\")>=1),\"MAJOR COMPLETED THIS QUARTER\",IF(AND(COUNTIF(INTL!A7:A10,\"Enrolled\")>=3,COUNTIF(INTL!A12:A18,\"Enrolled\")>=1),\"MAJOR COMPLETED THIS QUARTER\",IF(AND(COUNTIF(INTL!A7:A10,\"Enrolled\")>=3,COUNTIF(INTL!A12:A18,\"Complete\")>=1),\"MAJOR COMPLETED THIS QUARTER\",IF(AND(AND(COUNTIF(INTL!A7:A10,\"Complete\")>=2,COUNTIF(INTL!A7:A10,\"Enrolled\")>=1,COUNTIF(INTL!A12:A18,\"Complete\")>=1)),\"MAJOR COMPLETED THIS QUARTER\",IF(AND(AND(COUNTIF(INTL!A7:A10,\"Complete\")>=2,COUNTIF(INTL!A7:A10,\"Enrolled\")>=1,COUNTIF(INTL!A12:A18,\"Enrolled\")>=1)),\"MAJOR COMPLETED THIS QUARTER\",IF(AND(AND(COUNTIF(INTL!A7:A10,\"Complete\")>=1,COUNTIF(INTL!A7:A10,\"Enrolled\")>=2,COUNTIF(INTL!A12:A18,\"Complete\")>=1)),\"MAJOR COMPLETED THIS QUARTER\",IF(AND(AND(COUNTIF(INTL!A7:A10,\"Complete\")>=1,COUNTIF(INTL!A7:A10,\"Enrolled\")>=2,COUNTIF(INTL!A12:A18,\"Enrolled\")>=1)),\"MAJOR COMPLETED THIS QUARTER\",IF(AND(AND(COUNTIF(INTL!A7:A10,\"Complete\")>=2,COUNTIF(INTL!A12:A18,\"Complete\")>=1,COUNTIF(INTL!A12:A18,\"Enrolled\")>=1)),\"MAJOR COMPLETED THIS QUARTER\",IF(AND(COUNTIF(INTL!A7:A10,\"Complete\")>=2,COUNTIF(INTL!A12:A18,\"Enrolled\")>=2),\"MAJOR COMPLETED THIS QUARTER\",IF(AND(AND(COUNTIF(INTL!A7:A10,\"Complete\")>=1,COUNTIF(INTL!A7:A10,\"Enrolled\")>=1,COUNTIF(INTL!A12:A18,\"Complete\")>=2)),\"MAJOR COMPLETED THIS QUARTER\",IF(AND(AND(AND(COUNTIF(INTL!A7:A10,\"Complete\")=1,COUNTIF(INTL!A7:A10,\"Enrolled\")=1),COUNTIF(INTL!A12:A18,\"Complete\")>=1),COUNTIF(INTL!A12:A18,\"Enrolled\")>=1),\"MAJOR COMPLETED THIS QUARTER\",IF(AND(AND(COUNTIF(INTL!A7:A10,\"Complete\")>=1,COUNTIF(INTL!A7:A10,\"Enrolled\")>=1,COUNTIF(INTL!A12:A18,\"Enrolled\")>=2)),\"MAJOR COMPLETED THIS QUARTER\",IF(AND(COUNTIF(INTL!A7:A10,\"Enrolled\")>=2,COUNTIF(INTL!A12:A18,\"Complete\")>=2),\"MAJOR COMPLETED THIS QUARTER\",IF(AND(AND(COUNTIF(INTL!A7:A10,\"Enrolled\")>=2,COUNTIF(INTL!A12:A18,\"Complete\")>=1,COUNTIF(INTL!A12:A18,\"Enrolled\")>=1)),\"MAJOR COMPLETED THIS QUARTER\",IF(AND(COUNTIF(INTL!A7:A10,\"Enrolled\")>=2,COUNTIF(INTL!A12:A18,\"Enrolled\")>=2),\"MAJOR COMPLETED THIS QUARTER\",IF(AND(AND(COUNTIF(INTL!A7:A10,\"Complete\")>=1,COUNTIF(INTL!A12:A18,\"Complete\")>=2,COUNTIF(INTL!A12:A18,\"Enrolled\")>=1)),\"MAJOR COMPLETED THIS QUARTER\",IF(AND(AND(COUNTIF(INTL!A7:A10,\"Complete\")>=1,COUNTIF(INTL!A12:A18,\"Complete\")>=1,COUNTIF(INTL!A12:A18,\"Enrolled\")>=2)),\"MAJOR COMPLETED THIS QUARTER\",IF(AND(COUNTIF(INTL!A7:A10,\"Complete\")>=1,COUNTIF(INTL!A12:A18,\"Enrolled\")>=3),\"MAJOR COMPLETED THIS QUARTER\",IF(AND(COUNTIF(INTL!A7:A10,\"Enrolled\")>=1,COUNTIF(INTL!A12:A18,\"Complete\")>=3),\"MAJOR COMPLETED THIS QUARTER\",$A$93)))))))))))))))))))))))))))","v":"NOT MAJORING IN THIS FIELD"}]
[{"$f":"IF(OR(OR(COUNTIF(INTL!A7:A10,\"Complete\")>=1),COUNTIF(INTL!A7:A10,\"Enrolled\")>=1,COUNTIF(INTL!A7:A10,\"Will Enroll\")>=1),$A$94,$A$95)","v":"NOT MAJORING IN THIS FIELD"}]
[{"$f":"IF(AND(COUNTIF(INTL!A7:A19,\"Complete\")>=3,COUNTIF(INTL!A7:A19,\"Enrolled\")>=1),\"MAJOR IN PROGRESS\",IF(AND(COUNTIF(INTL!A7:A19,\"Complete\")>=3,COUNTIF(INTL!A7:A19,\"Will Enroll\")>=1),\"MAJOR IN PROGRESS\",IF(AND(COUNTIF(INTL!A7:A19,\"Complete\")>=2,COUNTIF(INTL!A7:A19,\"Enrolled\")>=2),\"MAJOR IN PROGRESS\",IF(AND(AND(COUNTIF(INTL!A7:A19,\"Complete\")>=2,COUNTIF(INTL!A7:A19,\"Enrolled\")>=1),COUNTIF(INTL!A7:A19,\"Will Enroll\")>=1),\"MAJOR IN PROGRESS\",IF(AND(COUNTIF(INTL!A7:A19,\"Complete\")>=2,COUNTIF(INTL!A7:A19,\"Will Enroll\")>=2),\"MAJOR IN PROGRESS\",IF(AND(COUNTIF(INTL!A7:A19,\"Complete\")>=1,COUNTIF(INTL!A7:A19,\"Enrolled\")>=3),\"MAJOR IN PROGRESS\",IF(AND(AND(COUNTIF(INTL!A7:A19,\"Complete\")>=1,COUNTIF(INTL!A7:A19,\"Enrolled\")>=2),COUNTIF(INTL!A7:A19,\"Will Enroll\")>=1),\"MAJOR IN PROGRESS\",IF(AND(AND(COUNTIF(INTL!A7:A19,\"Complete\")>=1,COUNTIF(INTL!A7:A19,\"Enrolled\")>=1),COUNTIF(INTL!A7:A19,\"Will Enroll\")>=2),\"MAJOR IN PROGRESS\",IF(AND(COUNTIF(INTL!A7:A19,\"Complete\")>=1,COUNTIF(INTL!A7:A19,\"Will Enroll\")>=3),\"MAJOR IN PROGRESS\",IF(COUNTIF(INTL!A7:A19,\"Enrolled\")>=4,\"MAJOR IN PROGRESS\",IF(AND(COUNTIF(INTL!A7:A19,\"Enrolled\")>=3,COUNTIF(INTL!A7:A19,\"Will Enroll\")>=1),\"MAJOR IN PROGRESS\",IF(AND(COUNTIF(INTL!A7:A19,\"Enrolled\")>=2,COUNTIF(INTL!A7:A19,\"Will Enroll\")>=2),\"MAJOR IN PROGRESS\",IF(AND(COUNTIF(INTL!A7:A19,\"Enrolled\")>=1,COUNTIF(INTL!A7:A19,\"Will Enroll\")>=3),\"MAJOR IN PROGRESS\",IF(COUNTIF(INTL!A7:A19,\"Will Enroll\")>=4,\"MAJOR IN PROGRESS\",IF(COUNTIF(INTL!A7:A19,\"Complete\")>=4,\"MAJOR IN PROGRESS\",$A$95)))))))))))))))","v":"NOT MAJORING IN THIS FIELD"}]
[{"$f":"IF(AND(AND(COUNTIF(INTL!A7:A10,\"Enrolled\")>=1,COUNTIF(INTL!A12:A18,\"Complete\")>=2,COUNTIF(INTL!A12:A18,\"Enrolled\")>=1)),\"MAJOR COMPLETED THIS QUARTER\",IF(AND(AND(COUNTIF(INTL!A7:A10,\"Enrolled\")>=1,COUNTIF(INTL!A12:A18,\"Complete\")>=1,COUNTIF(INTL!A12:A18,\"Enrolled\")>=2)),\"MAJOR COMPLETED THIS QUARTER\",IF(AND(COUNTIF(INTL!A7:A10,\"Enrolled\")>=1,COUNTIF(INTL!A12:A18,\"Enrolled\")>=2),\"MAJOR COMPLETED THIS QUARTER\",IF(AND(COUNTIF(HIMT!A8:A22,\"Complete\")>=3,COUNTIF(HIMT!A18:A23,\"Will Enroll\")>=1),\"MAJOR IN PROGRESS\",IF(AND(COUNTIF(HIMT!A8:A22,\"Will Enroll\")>=3,COUNTIF(HIMT!A18:A23,\"Will Enroll\")>=1),\"MAJOR IN PROGRESS\",IF(AND(COUNTIF(HIMT!A8:A22,\"Will Enroll\")>=3,COUNTIF(HIMT!A18:A23,\"Enrolled\")>=1),\"MAJOR IN PROGRESS\",IF(AND(COUNTIF(HIMT!A8:A22,\"Will Enroll\")>=3,COUNTIF(HIMT!A18:A23,\"Complete\")>=1),\"MAJOR IN PROGRESS\",IF(AND(COUNTIF(HIMT!A8:A22,\"Enrolled\")>=3,COUNTIF(HIMT!A18:A23,\"Will Enroll\")>=1),\"MAJOR IN PROGRESS\",IF(AND(AND(COUNTIF(HIMT!A8:A22,\"Complete\")>=2),COUNTIF(HIMT!A8:A22,\"Enrolled\")>=1,COUNTIF(HIMT!A18:A23,\"Will Enroll\")>=1),\"MAJOR IN PROGRESS\",IF(AND(AND(COUNTIF(HIMT!A8:A22,\"Complete\")>=2),COUNTIF(HIMT!A8:A22,\"Will Enroll\")>=1,COUNTIF(HIMT!A18:A23,\"Complete\")>=1),\"MAJOR IN PROGRESS\",IF(AND(AND(COUNTIF(HIMT!A8:A22,\"Complete\")>=2),COUNTIF(HIMT!A8:A22,\"Will Enroll\")>=1,COUNTIF(HIMT!A18:A23,\"Enrolled\")>=1),\"MAJOR IN PROGRESS\",IF(AND(AND(COUNTIF(HIMT!A8:A22,\"Complete\")>=2),COUNTIF(HIMT!A8:A22,\"Will Enroll\")>=1,COUNTIF(HIMT!A18:A23,\"Will Enroll\")>=1),\"MAJOR IN PROGRESS\",IF(AND(AND(COUNTIF(HIMT!A8:A22,\"Complete\")>=1),COUNTIF(HIMT!A8:A22,\"Enrolled\")>=2,COUNTIF(HIMT!A18:A23,\"Will Enroll\")>=1),\"MAJOR IN PROGRESS\",IF(AND(AND(COUNTIF(HIMT!A8:A22,\"Complete\")>=1),COUNTIF(HIMT!A8:A22,\"Will Enroll\")>=2,COUNTIF(HIMT!A18:A23,\"Complete\")>=1),\"MAJOR IN PROGRESS\",IF(AND(AND(COUNTIF(HIMT!A8:A22,\"Complete\")>=1),COUNTIF(HIMT!A8:A22,\"Will Enroll\")>=2,COUNTIF(HIMT!A18:A23,\"Enrolled\")>=1),\"MAJOR IN PROGRESS\",IF(AND(AND(COUNTIF(HIMT!A8:A22,\"Complete\")>=1),COUNTIF(HIMT!A8:A22,\"Will Enroll\")>=2,COUNTIF(HIMT!A18:A23,\"Will Enroll\")>=1),\"MAJOR IN PROGRESS\",IF(AND(AND(AND(COUNTIF(HIMT!A8:A22,\"Complete\")>=1),COUNTIF(HIMT!A8:A22,\"Enrolled\")>=1),COUNTIF(HIMT!A8:A22,\"Will Enroll\")>=1,COUNTIF(HIMT!A18:A23,\"Complete\")>=1),\"MAJOR IN PROGRESS\",IF(AND(AND(AND(COUNTIF(HIMT!A8:A22,\"Complete\")>=1),COUNTIF(HIMT!A8:A22,\"Enrolled\")>=1),COUNTIF(HIMT!A8:A22,\"Will Enroll\")>=1,COUNTIF(HIMT!A18:A23,\"Enrolled\")>=1),\"MAJOR IN PROGRESS\",IF(AND(AND(AND(COUNTIF(HIMT!A8:A22,\"Complete\")>=1),COUNTIF(HIMT!A8:A22,\"Enrolled\")>=1),COUNTIF(HIMT!A8:A22,\"Will Enroll\")>=1,COUNTIF(HIMT!A18:A23,\"Will Enroll\")>=1),\"MAJOR IN PROGRESS\",IF(AND(AND(COUNTIF(HIMT!A8:A22,\"Enrolled\")>=2),COUNTIF(HIMT!A8:A22,\"Will Enroll\")>=1,COUNTIF(HIMT!A18:A23,\"Will Enroll\")>=1),\"MAJOR IN PROGRESS\",IF(AND(AND(COUNTIF(HIMT!A8:A22,\"Enrolled\")>=2),COUNTIF(HIMT!A8:A22,\"Will Enroll\")>=1,COUNTIF(HIMT!A18:A23,\"Enrolled\")>=1),\"MAJOR IN PROGRESS\",IF(AND(AND(COUNTIF(HIMT!A8:A22,\"Enrolled\")>=2),COUNTIF(HIMT!A8:A22,\"Will Enroll\")>=1,COUNTIF(HIMT!A18:A23,\"Will Enroll\")>=1),\"MAJOR IN PROGRESS\",IF(COUNTIF(INTL!A7:A10,\"Enrolled\")>=1,\"POTENTIAL MAJOR\",IF(COUNTIF(INTL!A7:A10,\"Complete\")>=1,\"POTENTIAL MAJOR\",IF(COUNTIF(INTL!A7:A10,\"Will Enroll\")>=1,\"POTENTIAL MAJOR\",\"NOT MAJORING IN THIS FIELD\")))))))))))))))))))))))))","v":"NOT MAJORING IN THIS FIELD"}]
["Management & Organizations"]
[{"$f":"IF(COUNTIF('MGMT & Org'!A7:A32,\"Complete\")=3,\"MAJOR COMPLETED\",IF(AND(COUNTIF('MGMT & Org'!A7:A32,\"Complete\")=2,COUNTIF('MGMT & Org'!A7:A32,\"Enrolled\")>=1),\"MAJOR COMPLETED THIS QUARTER\",IF(AND(COUNTIF('MGMT & Org'!A7:A32,\"Complete\")=1,COUNTIF('MGMT & Org'!A7:A32,\"Enrolled\")>=2),\"MAJOR COMPLETED THIS QUARTER\",IF(COUNTIF('MGMT & Org'!A7:A32,\"Enrolled\")=3,\"MAJOR COMPLETED THIS QUARTER\",IF(AND(COUNTIF('MGMT & Org'!A7:A32,\"Complete\")>=2,COUNTIF('MGMT & Org'!A7:A32,\"Will Enroll\")>=1),\"MAJOR IN PROGRESS\",IF(AND(COUNTIF('MGMT & Org'!A7:A32,\"Complete\")>=1,COUNTIF('MGMT & Org'!A7:A32,\"Will Enroll\")>=2),\"MAJOR IN PROGRESS\",IF(AND(COUNTIF('MGMT & Org'!A7:A32,\"Enrolled\")>=2,COUNTIF('MGMT & Org'!A7:A32,\"Will Enroll\")>=1),\"MAJOR IN PROGRESS\",IF(COUNTIF('MGMT & Org'!A7:A32,\"Will Enroll\")>=3,\"MAJOR IN PROGRESS\",IF(AND(AND(COUNTIF('MGMT & Org'!A7:A32,\"Complete\")>=1),COUNTIF('MGMT & Org'!A7:A32,\"Enrolled\")>=1,COUNTIF('MGMT & Org'!A7:A32,\"Will Enroll\")>=1),\"MAJOR IN PROGRESS\",IF(AND(COUNTIF('MGMT & Org'!A7:A32,\"Enrolled\")>=1,COUNTIF('MGMT & Org'!A7:A32,\"Will Enroll\")>=2),\"MAJOR IN PROGRESS\",IF(COUNTIF('MGMT & Org'!A7:A32,\"Complete\")=2,\"POTENTIAL MAJOR\",IF(COUNTIF('MGMT & Org'!A7:A32,\"Complete\")=1,\"POTENTIAL MAJOR\",IF(COUNTIF('MGMT & Org'!A7:A32,\"Enrolled\")>=1,\"POTENTIAL MAJOR\",IF(COUNTIF('MGMT & Org'!A7:A32,\"Will Enroll\")>=1,\"POTENTIAL MAJOR\",\"NOT MAJORING IN THIS FIELD\"))))))))))))))","v":"NOT MAJORING IN THIS FIELD"}]
["Management & Strategy"]
[{"$f":"IF(AND(AND(COUNTIF('MGMT & Strat'!A9:A14,\"Complete\")>=2,'MGMT & Strat'!A7=\"Complete\"),COUNTIF('MGMT & Strat'!A16:A35,\"Complete\")>=1),\"MAJOR COMPLETED\",IF(AND(COUNTIF('MGMT & Strat'!A9:A14,\"Complete\")>=3,'MGMT & Strat'!A7=\"Complete\"),\"MAJOR COMPLETED\",IF(AND(AND(COUNTIF('MGMT & Strat'!A9:A14,\"Complete\")>=2,'MGMT & Strat'!A7=\"Complete\"),COUNTIF('MGMT & Strat'!A16:A35,\"Enrolled\")>=1),\"MAJOR COMPLETED THIS QUARTER\",IF(AND(AND(AND('MGMT & Strat'!A7=\"Complete\",COUNTIF('MGMT & Strat'!A9:A14,\"Complete\")=1),COUNTIF('MGMT & Strat'!A9:A14,\"Enrolled\")>=1),COUNTIF('MGMT & Strat'!A16:A35,\"Complete\")>=1),\"MAJOR COMPLETED THIS QUARTER\",IF(AND(AND(AND('MGMT & Strat'!A7=\"Complete\",COUNTIF('MGMT & Strat'!A9:A14,\"Complete\")=1),COUNTIF('MGMT & Strat'!A9:A14,\"Enrolled\")>=1),COUNTIF('MGMT & Strat'!A16:A35,\"Enrolled\")>=1),\"MAJOR COMPLETED THIS QUARTER\",IF(AND(AND(COUNTIF('MGMT & Strat'!A9:A14,\"Enrolled\")>=2,'MGMT & Strat'!A7=\"Complete\"),COUNTIF('MGMT & Strat'!A16:A35,\"Complete\")>=1),\"MAJOR COMPLETED THIS QUARTER\",IF(AND(AND(COUNTIF('MGMT & Strat'!A9:A14,\"Enrolled\")>=2,'MGMT & Strat'!A7=\"Complete\"),COUNTIF('MGMT & Strat'!A16:A35,\"Enrolled\")>=1),\"MAJOR COMPLETED THIS QUARTER\",IF(AND(AND(COUNTIF('MGMT & Strat'!A9:A14,\"Complete\")>=2,'MGMT & Strat'!A7=\"Enrolled\"),COUNTIF('MGMT & Strat'!A16:A35,\"Complete\")>=1),\"MAJOR COMPLETED THIS QUARTER\",IF(AND(AND(COUNTIF('MGMT & Strat'!A9:A14,\"Complete\")>=2,'MGMT & Strat'!A7=\"Enrolled\"),COUNTIF('MGMT & Strat'!A16:A35,\"Enrolled\")>=1),\"MAJOR COMPLETED THIS QUARTER\",IF(AND(AND(AND('MGMT & Strat'!A7=\"Enrolled\",COUNTIF('MGMT & Strat'!A9:A14,\"Complete\")=1),COUNTIF('MGMT & Strat'!A9:A14,\"Enrolled\")>=1),COUNTIF('MGMT & Strat'!A16:A35,\"Complete\")>=1),\"MAJOR COMPLETED THIS QUARTER\",IF(AND(AND(AND('MGMT & Strat'!A7=\"Enrolled\",COUNTIF('MGMT & Strat'!A9:A14,\"Complete\")=1),COUNTIF('MGMT & Strat'!A9:A14,\"Enrolled\")>=1),COUNTIF('MGMT & Strat'!A16:A35,\"Enrolled\")>=1),\"MAJOR COMPLETED THIS QUARTER\",IF(AND(AND(COUNTIF('MGMT & Strat'!A9:A14,\"Enrolled\")>=2,'MGMT & Strat'!A7=\"Enrolled\"),COUNTIF('MGMT & Strat'!A16:A35,\"Complete\")>=1),\"MAJOR COMPLETED THIS QUARTER\",IF(AND(AND(COUNTIF('MGMT & Strat'!A9:A14,\"Enrolled\")>=2,'MGMT & Strat'!A7=\"Enrolled\"),COUNTIF('MGMT & Strat'!A16:A35,\"Enrolled\")>=1),\"MAJOR COMPLETED THIS QUARTER\",IF(AND(AND(COUNTIF('MGMT & Strat'!A9:A14,\"Complete\")>=2,'MGMT & Strat'!A7=\"Complete\"),COUNTIF('MGMT & Strat'!A9:A14,\"Enrolled\")>=1),\"MAJOR COMPLETED THIS QUARTER\",IF(AND(AND(COUNTIF('MGMT & Strat'!A9:A14,\"Complete\")>=1,'MGMT & Strat'!A7=\"Complete\"),COUNTIF('MGMT & Strat'!A9:A14,\"Enrolled\")>=2),\"MAJOR COMPLETED THIS QUARTER\",IF(AND(COUNTIF('MGMT & Strat'!A9:A14,\"Enrolled\")>=3,'MGMT & Strat'!A7=\"Complete\"),\"MAJOR COMPLETED THIS QUARTER\",$A$100))))))))))))))))","v":"NOT MAJORING IN THIS FIELD"}]
[{"$f":"IF(OR(OR('MGMT & Strat'!A7=\"Complete\",'MGMT & Strat'!A7=\"Enrolled\",'MGMT & Strat'!A7=\"Will Enroll\")),$A$101,$A$103)","v":"NOT MAJORING IN THIS FIELD"}]
[{"$f":"IF(AND(COUNTIF('MGMT & Strat'!A9:A14,\"Complete\")>=2,COUNTIF('MGMT & Strat'!A16:A35,\"Complete\")>=1),\"MAJOR IN PROGRESS\",IF(AND(COUNTIF('MGMT & Strat'!A9:A14,\"Complete\")>=2,COUNTIF('MGMT & Strat'!A16:A35,\"Enrolled\")>=1),\"MAJOR IN PROGRESS\",IF(AND(COUNTIF('MGMT & Strat'!A9:A14,\"Complete\")>=2,COUNTIF('MGMT & Strat'!A16:A35,\"Will Enroll\")>=1),\"MAJOR IN PROGRESS\",IF(AND(COUNTIF('MGMT & Strat'!A9:A14,\"Enrolled\")>=2,COUNTIF('MGMT & Strat'!A16:A35,\"Enrolled\")>=1),\"MAJOR IN PROGRESS\",IF(AND(COUNTIF('MGMT & Strat'!A9:A14,\"Enrolled\")>=2,COUNTIF('MGMT & Strat'!A16:A35,\"Complete\")>=1),\"MAJOR IN PROGRESS\",IF(AND(COUNTIF('MGMT & Strat'!A9:A14,\"Enrolled\")>=2,COUNTIF('MGMT & Strat'!A16:A35,\"Will Enroll\")>=1),\"MAJOR IN PROGRESS\",IF(AND(COUNTIF('MGMT & Strat'!A9:A14,\"Will Enroll\")>=2,COUNTIF('MGMT & Strat'!A16:A35,\"Complete\")>=1),\"MAJOR IN PROGRESS\",IF(AND(COUNTIF('MGMT & Strat'!A9:A14,\"Will Enroll\")>=2,COUNTIF('MGMT & Strat'!A16:A35,\"Enrolled\")>=1),\"MAJOR IN PROGRESS\",IF(AND(COUNTIF('MGMT & Strat'!A9:A14,\"Will Enroll\")>=2,COUNTIF('MGMT & Strat'!A16:A35,\"Will Enroll\")>=1),\"MAJOR IN PROGRESS\",IF(AND(AND(COUNTIF('MGMT & Strat'!A9:A14,\"Complete\")>=1),COUNTIF('MGMT & Strat'!A9:A14,\"Enrolled\")>=1,COUNTIF('MGMT & Strat'!A16:A35,\"Complete\")>=1),\"MAJOR IN PROGRESS\",IF(AND(AND(COUNTIF('MGMT & Strat'!A9:A14,\"Complete\")>=1),COUNTIF('MGMT & Strat'!A9:A14,\"Enrolled\")>=1,COUNTIF('MGMT & Strat'!A16:A35,\"Enrolled\")>=1),\"MAJOR IN PROGRESS\",IF(AND(AND(COUNTIF('MGMT & Strat'!A9:A14,\"Complete\")>=1),COUNTIF('MGMT & Strat'!A9:A14,\"Enrolled\")>=1,COUNTIF('MGMT & Strat'!A16:A35,\"Will Enroll\")>=1),\"MAJOR IN PROGRESS\",IF(AND(AND(COUNTIF('MGMT & Strat'!A9:A14,\"Complete\")>=1),COUNTIF('MGMT & Strat'!A9:A14,\"Will Enroll\")>=1,COUNTIF('MGMT & Strat'!A16:A35,\"Complete\")>=1),\"MAJOR IN PROGRESS\",IF(AND(AND(COUNTIF('MGMT & Strat'!A9:A14,\"Complete\")>=1),COUNTIF('MGMT & Strat'!A9:A14,\"Will Enroll\")>=1,COUNTIF('MGMT & Strat'!A16:A35,\"Enrolled\")>=1),\"MAJOR IN PROGRESS\",IF(AND(AND(COUNTIF('MGMT & Strat'!A9:A14,\"Complete\")>=1),COUNTIF('MGMT & Strat'!A9:A14,\"Will Enroll\")>=1,COUNTIF('MGMT & Strat'!A16:A35,\"Will Enroll\")>=1),\"MAJOR IN PROGRESS\",IF(AND(AND(COUNTIF('MGMT & Strat'!A9:A14,\"Enrolled\")>=1),COUNTIF('MGMT & Strat'!A9:A14,\"Will Enroll\")>=1,COUNTIF('MGMT & Strat'!A16:A35,\"Complete\")>=1),\"MAJOR IN PROGRESS\",IF(AND(AND(COUNTIF('MGMT & Strat'!A9:A14,\"Enrolled\")>=1),COUNTIF('MGMT & Strat'!A9:A14,\"Will Enroll\")>=1,COUNTIF('MGMT & Strat'!A16:A35,\"Enrolled\")>=1),\"MAJOR IN PROGRESS\",IF(AND(AND(COUNTIF('MGMT & Strat'!A9:A14,\"Enrolled\")>=1),COUNTIF('MGMT & Strat'!A9:A14,\"Will Enroll\")>=1,COUNTIF('MGMT & Strat'!A16:A35,\"Will Enroll\")>=1),\"MAJOR IN PROGRESS\",$A$102))))))))))))))))))","v":"NOT MAJORING IN THIS FIELD"}]
[{"$f":"IF(AND(COUNTIF('MGMT & Strat'!A9:A14,\"Complete\")>=2,COUNTIF('MGMT & Strat'!A9:A14,\"Will Enroll\")>=1),\"MAJOR IN PROGRESS\",IF(AND(COUNTIF('MGMT & Strat'!A9:A14,\"Complete\")>=1,COUNTIF('MGMT & Strat'!A9:A14,\"Will Enroll\")>=2),\"MAJOR IN PROGRESS\",IF(AND(COUNTIF('MGMT & Strat'!A9:A14,\"Enrolled\")>=2,COUNTIF('MGMT & Strat'!A9:A14,\"Will Enroll\")>=1),\"MAJOR IN PROGRESS\",IF(COUNTIF('MGMT & Strat'!A9:A14,\"Will Enroll\")>=3,\"MAJOR IN PROGRESS\",IF(AND(AND(COUNTIF('MGMT & Strat'!A9:A14,\"Complete\")>=1),COUNTIF('MGMT & Strat'!A9:A14,\"Enrolled\")>=1,COUNTIF('MGMT & Strat'!A9:A14,\"Will Enroll\")>=1),\"MAJOR IN PROGRESS\",IF(AND(COUNTIF('MGMT & Strat'!A9:A14,\"Enrolled\")>=1,COUNTIF('MGMT & Strat'!A9:A14,\"Will Enroll\")>=2),\"MAJOR IN PROGRESS\",$A$103))))))","v":"NOT MAJORING IN THIS FIELD"}]
[{"$f":"IF('MGMT & Strat'!A7=\"Enrolled\",\"POTENTIAL MAJOR\",IF('MGMT & Strat'!A7=\"Complete\",\"POTENTIAL MAJOR\",IF(COUNTIF('MGMT & Strat'!A9:A14,\"Enrolled\")>=1,\"POTENTIAL MAJOR\",IF(COUNTIF('MGMT & Strat'!A9:A14,\"Complete\")>=1,\"POTENTIAL MAJOR\",IF(COUNTIF('MGMT & Strat'!A9:A14,\"Will Enroll\")>=1,\"POTENTIAL MAJOR\",\"NOT MAJORING IN THIS FIELD\")))))","v":"NOT MAJORING IN THIS FIELD"}]
["Managerial Economics"]
[{"$f":"IF(COUNTIF('Managerial Econ'!A7:A20,\"Complete\")=3,\"MAJOR COMPLETED\",IF(AND(COUNTIF('Managerial Econ'!A7:A20,\"Complete\")=2,COUNTIF('Managerial Econ'!A7:A20,\"Enrolled\")>=1),\"MAJOR COMPLETED THIS QUARTER\",IF(AND(COUNTIF('Managerial Econ'!A7:A20,\"Complete\")=1,COUNTIF('Managerial Econ'!A7:A20,\"Enrolled\")>=2),\"MAJOR COMPLETED THIS QUARTER\",IF(COUNTIF('Managerial Econ'!A7:A20,\"Enrolled\")=3,\"MAJOR COMPLETED THIS QUARTER\",IF(AND(COUNTIF('Managerial Econ'!A7:A20,\"Complete\")>=2,COUNTIF('Managerial Econ'!A7:A20,\"Will Enroll\")>=1),\"MAJOR IN PROGRESS\",IF(AND(COUNTIF('Managerial Econ'!A7:A20,\"Complete\")>=1,COUNTIF('Managerial Econ'!A7:A20,\"Will Enroll\")>=2),\"MAJOR IN PROGRESS\",IF(AND(COUNTIF('Managerial Econ'!A7:A20,\"Enrolled\")>=2,COUNTIF('Managerial Econ'!A7:A20,\"Will Enroll\")>=1),\"MAJOR IN PROGRESS\",IF(COUNTIF('Managerial Econ'!A7:A20,\"Will Enroll\")>=3,\"MAJOR IN PROGRESS\",IF(AND(AND(COUNTIF('Managerial Econ'!A7:A20,\"Complete\")>=1),COUNTIF('Managerial Econ'!A7:A20,\"Enrolled\")>=1,COUNTIF('Managerial Econ'!A7:A20,\"Will Enroll\")>=1),\"MAJOR IN PROGRESS\",IF(AND(COUNTIF('Managerial Econ'!A7:A20,\"Enrolled\")>=1,COUNTIF('Managerial Econ'!A7:A20,\"Will Enroll\")>=2),\"MAJOR IN PROGRESS\",IF(COUNTIF('Managerial Econ'!A7:A20,\"Complete\")>=1,\"POTENTIAL MAJOR\",IF(COUNTIF('Managerial Econ'!A7:A20,\"Enrolled\")>=1,\"POTENTIAL MAJOR\",IF(COUNTIF('Managerial Econ'!A7:A20,\"Will Enroll\")>=1,\"POTENTIAL MAJOR\",\"NOT MAJORING IN THIS FIELD\")))))))))))))","v":"NOT MAJORING IN THIS FIELD"}]
["Marketing"]
[{"$f":"IF(AND(COUNTIF(Marketing!A7:A8,\"Complete\")>1,COUNTIF(Marketing!A10:A30,\"Complete\")>=2),\"MAJOR COMPLETED\",IF(AND(AND(COUNTIF(Marketing!A7:A8,\"Complete\")>1,COUNTIF(Marketing!A10:A30,\"Complete\")>=1,COUNTIF(Marketing!A10:A30,\"Enrolled\")>=1)),\"MAJOR COMPLETED THIS QUARTER\",IF(AND(COUNTIF(Marketing!A7:A8,\"Complete\")>1,COUNTIF(Marketing!A10:A30,\"Enrolled\")>=2),\"MAJOR COMPLETED THIS QUARTER\",IF(AND(COUNTIF(Marketing!A7:A8,\"Enrolled\")>1,COUNTIF(Marketing!A10:A30,\"Enrolled\")>=2),\"MAJOR COMPLETED THIS QUARTER\",IF(AND(AND(COUNTIF(Marketing!A7:A8,\"Enrolled\")>1,COUNTIF(Marketing!A10:A30,\"Complete\")>=1),COUNTIF(Marketing!A10:A30,\"Enrolled\")>=1),\"MAJOR COMPLETED THIS QUARTER\",IF(AND(AND(AND(COUNTIF(Marketing!A7:A8,\"Complete\")=1,COUNTIF(Marketing!A7:A8,\"Enrolled\")=1,COUNTIF(Marketing!A10:A30,\"Complete\")>=1,COUNTIF(Marketing!A10:A30,\"Enrolled\")>=1))),\"MAJOR COMPLETED THIS QUARTER\",IF(AND(AND(COUNTIF(Marketing!A7:A8,\"Complete\")=1,COUNTIF(Marketing!A7:A8,\"Enrolled\")=1),COUNTIF(Marketing!A10:A30,\"Enrolled\")>1),\"MAJOR COMPLETED THIS QUARTER\",IF(AND(AND(COUNTIF(Marketing!A7:A8,\"Complete\")>=1,COUNTIF(Marketing!A7:A8,\"Enrolled\")>=1),COUNTIF(Marketing!A10:A30,\"Complete\")>=2),\"MAJOR COMPLETED THIS QUARTER\",IF(AND(COUNTIF(Marketing!A7:A8,\"Enrolled\")>=2,COUNTIF(Marketing!A10:A30,\"Complete\")>=2),\"MAJOR COMPLETED THIS QUARTER\",$A$108)))))))))","v":"NOT MAJORING IN THIS FIELD"}]
[{"$f":"IF(COUNTIF(Marketing!A7:A8,\"Complete\")=2,$A$109,IF(COUNTIF(Marketing!A7:A8,\"Enrolled\")=2,$A$109,IF(COUNTIF(Marketing!A7:A8,\"Will Enroll\")=2,$A$109,IF(AND(COUNTIF(Marketing!A7:A8,\"Complete\")=1,COUNTIF(Marketing!A7:A8,\"Enrolled\")=1),$A$109,IF(AND(COUNTIF(Marketing!A7:A8,\"Complete\")=1,COUNTIF(Marketing!A7:A8,\"Will Enroll\")=1),$A$109,IF(AND(COUNTIF(Marketing!A7:A8,\"Enrolled\")=1,COUNTIF(Marketing!A7:A8,\"Will Enroll\")=1),$A$109,IF(AND(COUNTIF(Marketing!A7:A8,\"Waived\")=1,COUNTIF(Marketing!A7:A8,\"Complete\")=1),$A$110,IF(AND(COUNTIF(Marketing!A7:A8,\"Waived\")=1,COUNTIF(Marketing!A7:A8,\"Enrolled\")=1),$A$111,IF(AND(COUNTIF(Marketing!A7:A8,\"Waived\")=1,COUNTIF(Marketing!A7:A8,\"Will Enroll\")=1),$A$112,IF(COUNTIF(Marketing!A7:A8,\"Waived\")=2,$A$113,$A$114))))))))))","v":"NOT MAJORING IN THIS FIELD"}]
[{"$f":"IF(AND(COUNTIF(Marketing!A10:A30,\"Complete\")>=1,COUNTIF(Marketing!A10:A30,\"Will Enroll\")>=1),\"MAJOR IN PROGRESS\",IF(AND(COUNTIF(Marketing!A10:A30,\"Enrolled\")>=1,COUNTIF(Marketing!A10:A30,\"Will Enroll\")>=1),\"MAJOR IN PROGRESS\",IF(AND(COUNTIF(Marketing!A10:A30,\"Complete\")>=1,COUNTIF(Marketing!A10:A30,\"Enrolled\")>=1),\"MAJOR IN PROGRESS\",IF(COUNTIF(Marketing!A10:A30,\"Will Enroll\")>=2,\"MAJOR IN PROGRESS\",IF(COUNTIF(Marketing!A10:A30,\"Complete\")>=2,\"MAJOR IN PROGRESS\",IF(COUNTIF(Marketing!A10:A30,\"Enrolled\")>=2,\"MAJOR IN PROGRESS\",$A$114))))))","v":"NOT MAJORING IN THIS FIELD"}]
[{"$f":"IF(AND(COUNTIF(Marketing!A10:A30,\"Complete\")>=2,COUNTIF(Marketing!A10:A30,\"Enrolled\")>=1),\"MAJOR COMPLETED THIS QUARTER\",IF(AND(COUNTIF(Marketing!A10:A30,\"Complete\")>=1,COUNTIF(Marketing!A10:A30,\"Enrolled\")>=2),\"MAJOR COMPLETED THIS QUARTER\",IF(AND(COUNTIF(Marketing!A10:A30,\"Complete\")>=2,COUNTIF(Marketing!A10:A30,\"Will Enroll\")>=1),\"MAJOR IN PROGRESS\",IF(AND(COUNTIF(Marketing!A10:A30,\"Complete\")>=1,COUNTIF(Marketing!A10:A30,\"Will Enroll\")>=2),\"MAJOR IN PROGRESS\",IF(AND(COUNTIF(Marketing!A10:A30,\"Enrolled\")>=2,COUNTIF(Marketing!A10:A30,\"Will Enroll\")>=1),\"MAJOR IN PROGRESS\",IF(COUNTIF(Marketing!A10:A30,\"Will Enroll\")>=3,\"MAJOR IN PROGRESS\",IF(COUNTIF(Marketing!A10:A30,\"Complete\")>=3,\"MAJOR COMPLETED\",IF(COUNTIF(Marketing!A10:A30,\"Enrolled\")>=3,\"MAJOR COMPLETED THIS QUARTER\",IF(AND(AND(COUNTIF(Marketing!A10:A30,\"Complete\")>=1),COUNTIF(Marketing!A10:A30,\"Enrolled\")>=1,COUNTIF(Marketing!A10:A30,\"Will Enroll\")>=1),\"MAJOR IN PROGRESS\",IF(AND(COUNTIF(Marketing!A10:A30,\"Enrolled\")>=1,COUNTIF(Marketing!A10:A30,\"Will Enroll\")>=2),\"MAJOR IN PROGRESS\",$A$114))))))))))","v":"NOT MAJORING IN THIS FIELD"}]
[{"$f":"IF(AND(COUNTIF(Marketing!A10:A30,\"Complete\")>=2,COUNTIF(Marketing!A10:A30,\"Enrolled\")>=1),\"MAJOR COMPLETED THIS QUARTER\",IF(AND(COUNTIF(Marketing!A10:A30,\"Complete\")>=1,COUNTIF(Marketing!A10:A30,\"Enrolled\")>=2),\"MAJOR COMPLETED THIS QUARTER\",IF(AND(COUNTIF(Marketing!A10:A30,\"Complete\")>=2,COUNTIF(Marketing!A10:A30,\"Will Enroll\")>=1),\"MAJOR IN PROGRESS\",IF(AND(COUNTIF(Marketing!A10:A30,\"Complete\")>=1,COUNTIF(Marketing!A10:A30,\"Will Enroll\")>=2),\"MAJOR IN PROGRESS\",IF(AND(COUNTIF(Marketing!A10:A30,\"Enrolled\")>=2,COUNTIF(Marketing!A10:A30,\"Will Enroll\")>=1),\"MAJOR IN PROGRESS\",IF(COUNTIF(Marketing!A10:A30,\"Will Enroll\")>=3,\"MAJOR IN PROGRESS\",IF(COUNTIF(Marketing!A10:A30,\"Complete\")>=3,\"MAJOR COMPLETED THIS QUARTER\",IF(COUNTIF(Marketing!A10:A30,\"Enrolled\")>=3,\"MAJOR COMPLETED THIS QUARTER\",IF(AND(AND(COUNTIF(Marketing!A10:A30,\"Complete\")>=1),COUNTIF(Marketing!A10:A30,\"Enrolled\")>=1,COUNTIF(Marketing!A10:A30,\"Will Enroll\")>=1),\"MAJOR IN PROGRESS\",IF(AND(COUNTIF(Marketing!A10:A30,\"Enrolled\")>=1,COUNTIF(Marketing!A10:A30,\"Will Enroll\")>=2),\"MAJOR IN PROGRESS\",$A$114))))))))))","v":"NOT MAJORING IN THIS FIELD"}]
[{"$f":"IF(AND(COUNTIF(Marketing!A10:A30,\"Complete\")>=2,COUNTIF(Marketing!A10:A30,\"Enrolled\")>=1),\"MAJOR IN PROGRESS\",IF(AND(COUNTIF(Marketing!A10:A30,\"Complete\")>=1,COUNTIF(Marketing!A10:A30,\"Enrolled\")>=2),\"MAJOR IN PROGRESS\",IF(AND(COUNTIF(Marketing!A10:A30,\"Complete\")>=2,COUNTIF(Marketing!A10:A30,\"Will Enroll\")>=1),\"MAJOR IN PROGRESS\",IF(AND(COUNTIF(Marketing!A10:A30,\"Complete\")>=1,COUNTIF(Marketing!A10:A30,\"Will Enroll\")>=2),\"MAJOR IN PROGRESS\",IF(AND(COUNTIF(Marketing!A10:A30,\"Enrolled\")>=2,COUNTIF(Marketing!A10:A30,\"Will Enroll\")>=1),\"MAJOR IN PROGRESS\",IF(COUNTIF(Marketing!A10:A30,\"Will Enroll\")>=3,\"MAJOR IN PROGRESS\",IF(COUNTIF(Marketing!A10:A30,\"Complete\")>=3,\"MAJOR IN PROGRESS\",IF(COUNTIF(Marketing!A10:A30,\"Enrolled\")>=3,\"MAJOR IN PROGRESS\",IF(AND(AND(COUNTIF(Marketing!A10:A30,\"Complete\")>=1),COUNTIF(Marketing!A10:A30,\"Enrolled\")>=1,COUNTIF(Marketing!A10:A30,\"Will Enroll\")>=1),\"MAJOR IN PROGRESS\",IF(AND(COUNTIF(Marketing!A10:A30,\"Enrolled\")>=1,COUNTIF(Marketing!A10:A30,\"Will Enroll\")>=2),\"MAJOR IN PROGRESS\",$A$114))))))))))","v":"NOT MAJORING IN THIS FIELD"}]
[{"$f":"IF(AND(COUNTIF(Marketing!A10:A30,\"Complete\")>=3,COUNTIF(Marketing!A10:A30,\"Enrolled\")>=1),\"MAJOR COMPLETED THIS QUARTER\",IF(AND(COUNTIF(Marketing!A10:A30,\"Complete\")>=3,COUNTIF(Marketing!A10:A30,\"Will Enroll\")>=1),\"MAJOR IN PROGRESS\",IF(AND(COUNTIF(Marketing!A10:A30,\"Complete\")>=2,COUNTIF(Marketing!A10:A30,\"Enrolled\")>=2),\"MAJOR COMPLETED THIS QUARTER\",IF(AND(AND(COUNTIF(Marketing!A10:A30,\"Complete\")>=2,COUNTIF(Marketing!A10:A30,\"Enrolled\")>=1),COUNTIF(Marketing!A10:A30,\"Will Enroll\")>=1),\"MAJOR IN PROGRESS\",IF(AND(COUNTIF(Marketing!A10:A30,\"Complete\")>=2,COUNTIF(Marketing!A10:A30,\"Will Enroll\")>=2),\"MAJOR IN PROGRESS\",IF(AND(COUNTIF(Marketing!A10:A30,\"Complete\")>=1,COUNTIF(Marketing!A10:A30,\"Enrolled\")>=3),\"MAJOR COMPLETED THIS QUARTER\",IF(AND(AND(COUNTIF(Marketing!A10:A30,\"Complete\")>=1,COUNTIF(Marketing!A10:A30,\"Enrolled\")>=2),COUNTIF(Marketing!A10:A30,\"Will Enroll\")>=1),\"MAJOR IN PROGRESS\",IF(AND(AND(COUNTIF(Marketing!A10:A30,\"Complete\")>=1,COUNTIF(Marketing!A10:A30,\"Enrolled\")>=1),COUNTIF(Marketing!A10:A30,\"Will Enroll\")>=2),\"MAJOR IN PROGRESS\",IF(AND(COUNTIF(Marketing!A10:A30,\"Complete\")>=1,COUNTIF(Marketing!A10:A30,\"Will Enroll\")>=3),\"MAJOR IN PROGRESS\",IF(COUNTIF(Marketing!A10:A30,\"Enrolled\")>=4,\"MAJOR COMPLETED THIS QUARTER\",IF(AND(COUNTIF(Marketing!A10:A30,\"Enrolled\")>=3,COUNTIF(Marketing!A10:A30,\"Will Enroll\")>=1),\"MAJOR IN PROGRESS\",IF(AND(COUNTIF(Marketing!A10:A30,\"Enrolled\")>=2,COUNTIF(Marketing!A10:A30,\"Will Enroll\")>=2),\"MAJOR IN PROGRESS\",IF(AND(COUNTIF(Marketing!A10:A30,\"Enrolled\")>=1,COUNTIF(Marketing!A10:A30,\"Will Enroll\")>=3),\"MAJOR IN PROGRESS\",IF(COUNTIF(Marketing!A10:A30,\"Will Enroll\")>=4,\"MAJOR IN PROGRESS\",IF(COUNTIF(Marketing!A10:A30,\"Complete\")>=4,\"MAJOR COMPLETED\",$A$114)))))))))))))))","v":"NOT MAJORING IN THIS FIELD"}]
[{"$f":"IF(COUNTIF(Marketing!A7:A8,\"Enrolled\")>0,\"POTENTIAL MAJOR\",IF(COUNTIF(Marketing!A7:A8,\"Complete\")>0,\"POTENTIAL MAJOR\",IF(COUNTIF(Marketing!A7:A8,\"Will Enroll\")>0,\"POTENTIAL MAJOR\",\"NOT MAJORING IN THIS FIELD\")))","v":"NOT MAJORING IN THIS FIELD"}]
["Marketing 1Y"]
[{"$f":"IF(AND('Marketing 1Y'!$A$7=\"Complete\",COUNTIF('Marketing 1Y'!A9:A29,\"Complete\")>=2),\"MAJOR COMPLETED\",IF(AND(AND('Marketing 1Y'!$A$7=\"Complete\",COUNTIF('Marketing 1Y'!$A$9:$A$18,\"Complete\")>=1,COUNTIF('Marketing 1Y'!$A$9:$A$18,\"Enrolled\")>=1)),\"MAJOR COMPLETED THIS QUARTER\",IF(AND('Marketing 1Y'!$A$7=\"Complete\",COUNTIF('Marketing 1Y'!A9:A29,\"Enrolled\")>=2),\"MAJOR COMPLETED THIS QUARTER\",IF(AND($A$7=\"Enrolled\",COUNTIF('Marketing 1Y'!A9:A29,\"Enrolled\")>=2),\"MAJOR COMPLETED THIS QUARTER\",IF(AND(AND('Marketing 1Y'!$A$7=\"Enrolled\",COUNTIF('Marketing 1Y'!A9:A29,\"Complete\")>=1),COUNTIF('Marketing 1Y'!$A$9:$A$18,\"Enrolled\")>=1),\"MAJOR COMPLETED THIS QUARTER\",IF(AND('Marketing 1Y'!$A$7=\"Enrolled\",COUNTIF('Marketing 1Y'!A9:A29,\"Complete\")>=2),\"MAJOR COMPLETED THIS QUARTER\",IF(AND('Marketing 1Y'!$A$7=\"Enrolled\",COUNTIF('Marketing 1Y'!A9:A29,\"Enrolled\")>=2),\"MAJOR COMPLETED THIS QUARTER\",$A$117)))))))","v":"NOT MAJORING IN THIS FIELD"}]
[{"$f":"IF(OR(OR('Marketing 1Y'!A7=\"Complete\",'Marketing 1Y'!A7=\"Enrolled\",'Marketing 1Y'!A7=\"Will Enroll\")),$A$118,IF('Marketing 1Y'!$A$7=\"Waived\",$A$119,$A$120))","v":"NOT MAJORING IN THIS FIELD"}]
[{"$f":"IF(AND(COUNTIF('Marketing 1Y'!A9:A29,\"Complete\")>=1,COUNTIF('Marketing 1Y'!A9:A29,\"Will Enroll\")>=1),\"MAJOR IN PROGRESS\",IF(AND(COUNTIF('Marketing 1Y'!A9:A29,\"Enrolled\")>=1,COUNTIF('Marketing 1Y'!A9:A29,\"Will Enroll\")>=1),\"MAJOR IN PROGRESS\",IF(AND(COUNTIF('Marketing 1Y'!A9:A29,\"Complete\")>=1,COUNTIF('Marketing 1Y'!A9:A29,\"Enrolled\")>=1),\"MAJOR IN PROGRESS\",IF(COUNTIF('Marketing 1Y'!A9:A29,\"Will Enroll\")>=2,\"MAJOR IN PROGRESS\",IF(COUNTIF('Marketing 1Y'!A9:A29,\"Complete\")>=2,\"MAJOR IN PROGRESS\",IF(COUNTIF('Marketing 1Y'!A9:A29,\"Enrolled\")>=2,\"MAJOR IN PROGRESS\",$A$120))))))","v":"NOT MAJORING IN THIS FIELD"}]
[{"$f":"IF(AND(COUNTIF('Marketing 1Y'!A9:A29,\"Complete\")>=2,COUNTIF('Marketing 1Y'!A9:A29,\"Enrolled\")>=1),\"MAJOR COMPLETED THIS QUARTER\",IF(AND(COUNTIF('Marketing 1Y'!A9:A29,\"Complete\")>=1,COUNTIF('Marketing 1Y'!A9:A29,\"Enrolled\")>=2),\"MAJOR COMPLETED THIS QUARTER\",IF(AND(COUNTIF('Marketing 1Y'!A9:A29,\"Complete\")>=2,COUNTIF('Marketing 1Y'!A9:A29,\"Will Enroll\")>=1),\"MAJOR IN PROGRESS\",IF(AND(COUNTIF('Marketing 1Y'!A9:A29,\"Complete\")>=1,COUNTIF('Marketing 1Y'!A9:A29,\"Will Enroll\")>=2),\"MAJOR IN PROGRESS\",IF(AND(COUNTIF('Marketing 1Y'!A9:A29,\"Enrolled\")>=2,COUNTIF('Marketing 1Y'!A9:A29,\"Will Enroll\")>=1),\"MAJOR IN PROGRESS\",IF(COUNTIF('Marketing 1Y'!A9:A29,\"Will Enroll\")>=3,\"MAJOR IN PROGRESS\",IF(COUNTIF('Marketing 1Y'!A9:A29,\"Complete\")>=3,\"MAJOR COMPLETED\",IF(COUNTIF('Marketing 1Y'!A9:A29,\"Enrolled\")>=3,\"MAJOR COMPLETED THIS QUARTER\",IF(AND(AND(COUNTIF('Marketing 1Y'!A9:A29,\"Complete\")>=1),COUNTIF('Marketing 1Y'!A9:A29,\"Enrolled\")>=1,COUNTIF('Marketing 1Y'!A9:A29,\"Will Enroll\")>=1),\"MAJOR IN PROGRESS\",IF(AND(COUNTIF('Marketing 1Y'!A9:A29,\"Enrolled\")>=1,COUNTIF('Marketing 1Y'!A9:A29,\"Will Enroll\")>=2),\"MAJOR IN PROGRESS\",$A$120))))))))))","v":"NOT MAJORING IN THIS FIELD"}]
[{"$f":"IF('Marketing 1Y'!$A$7=\"Complete\",\"POTENTIAL MAJOR\",IF('Marketing 1Y'!$A$7=\"Enrolled\",\"POTENTIAL MAJOR\",IF('Marketing 1Y'!$A$7=\"Complete\",\"POTENTIAL MAJOR\",IF('Marketing 1Y'!$A$7=\"Will Enroll\",\"POTENTIAL MAJOR\",\"NOT MAJORING IN THIS FIELD\"))))","v":"NOT MAJORING IN THIS FIELD"}]
["Marketing Management"]
[{"$f":"IF(AND(COUNTIF('MKTG MGMT'!A7:A9,\"Complete\")>=3,COUNTIF('MKTG MGMT'!A11:A29,\"Complete\")>=3),\"MAJOR COMPLETED\",IF(AND(AND(COUNTIF('MKTG MGMT'!A7:A9,\"Complete\")>=3,COUNTIF('MKTG MGMT'!A11:A29,\"Complete\")>=2,COUNTIF('MKTG MGMT'!A11:A29,\"Enrolled\")>=1)),\"MAJOR COMPLETED THIS QUARTER\",IF(AND(AND(COUNTIF('MKTG MGMT'!A7:A9,\"Complete\")>=3,COUNTIF('MKTG MGMT'!A11:A29,\"Complete\")>=1,COUNTIF('MKTG MGMT'!A11:A29,\"Enrolled\")>=2)),\"MAJOR COMPLETED THIS QUARTER\",IF(AND(COUNTIF('MKTG MGMT'!A7:A9,\"Complete\")>=3,COUNTIF('MKTG MGMT'!A11:A29,\"Enrolled\")>=3),\"MAJOR COMPLETED THIS QUARTER\",IF(AND(AND(COUNTIF('MKTG MGMT'!A7:A9,\"Complete\")>=2,COUNTIF('MKTG MGMT'!A7:A9,\"Enrolled\")>=1,COUNTIF('MKTG MGMT'!A11:A29,\"Complete\")>=3)),\"MAJOR COMPLETED THIS QUARTER\",IF(AND(AND(AND(COUNTIF('MKTG MGMT'!A7:A9,\"Complete\")=2,COUNTIF('MKTG MGMT'!A7:A9,\"Enrolled\")=1,COUNTIF('MKTG MGMT'!A11:A29,\"Complete\")>=1,COUNTIF('MKTG MGMT'!A11:A29,\"Enrolled\")>=2))),\"MAJOR COMPLETED THIS QUARTER\",IF(AND(AND(COUNTIF('MKTG MGMT'!A7:A9,\"Complete\")>=2,COUNTIF('MKTG MGMT'!A7:A9,\"Enrolled\")>=1,COUNTIF('MKTG MGMT'!A11:A29,\"Enrolled\")>=3)),\"MAJOR COMPLETED THIS QUARTER\",IF(AND(AND(COUNTIF('MKTG MGMT'!A7:A9,\"Complete\")>=1,COUNTIF('MKTG MGMT'!A7:A9,\"Enrolled\")>=2,COUNTIF('MKTG MGMT'!A11:A29,\"Complete\")>=3)),\"MAJOR COMPLETED THIS QUARTER\",IF(AND(AND(AND(COUNTIF('MKTG MGMT'!A7:A9,\"Complete\")=1,COUNTIF('MKTG MGMT'!A7:A9,\"Enrolled\")=2,COUNTIF('MKTG MGMT'!A11:A29,\"Complete\")>=2,COUNTIF('MKTG MGMT'!A11:A29,\"Enrolled\")>=1))),\"MAJOR COMPLETED THIS QUARTER\",IF(AND(AND(AND(COUNTIF('MKTG MGMT'!A7:A9,\"Complete\")=1,COUNTIF('MKTG MGMT'!A7:A9,\"Enrolled\")=2,COUNTIF('MKTG MGMT'!A11:A29,\"Complete\")>=1,COUNTIF('MKTG MGMT'!A11:A29,\"Enrolled\")>=2))),\"MAJOR COMPLETED THIS QUARTER\",IF(AND(AND(COUNTIF('MKTG MGMT'!A7:A9,\"Complete\")>=1,COUNTIF('MKTG MGMT'!A7:A9,\"Enrolled\")>=2,COUNTIF('MKTG MGMT'!A11:A29,\"Enrolled\")>=3)),\"MAJOR COMPLETED THIS QUARTER\",IF(AND(COUNTIF('MKTG MGMT'!A7:A9,\"Enrolled\")>=3,COUNTIF('MKTG MGMT'!A11:A29,\"Complete\")>=3),\"MAJOR COMPLETED THIS QUARTER\",IF(AND(AND(COUNTIF('MKTG MGMT'!A7:A9,\"Enrolled\")>=3,COUNTIF('MKTG MGMT'!A11:A29,\"Complete\")>=2,COUNTIF('MKTG MGMT'!A11:A29,\"Enrolled\")>=1)),\"MAJOR COMPLETED THIS QUARTER\",IF(AND(AND(COUNTIF('MKTG MGMT'!A7:A9,\"Enrolled\")>=3,COUNTIF('MKTG MGMT'!A11:A29,\"Complete\")>=1,COUNTIF('MKTG MGMT'!A11:A29,\"Enrolled\")>=2)),\"MAJOR COMPLETED THIS QUARTER\",IF(AND(COUNTIF('MKTG MGMT'!A7:A9,\"Enrolled\")>=3,COUNTIF('MKTG MGMT'!A11:A29,\"Enrolled\")>=3),\"MAJOR COMPLETED THIS QUARTER\",$A$123)))))))))))))))","v":"NOT MAJORING IN THIS FIELD"}]
[{"$f":"IF(AND(AND(COUNTIF('MKTG MGMT'!A7:A9,\"Waived\")>=1,COUNTIF('MKTG MGMT'!A7:A9,\"Complete\")>=2,COUNTIF('MKTG MGMT'!A11:A29,\"Complete\")>=4)),\"MAJOR COMPLETED\",IF(AND(AND(AND(COUNTIF('MKTG MGMT'!A7:A9,\"Waived\")=1,COUNTIF('MKTG MGMT'!A7:A9,\"Complete\")>=2,COUNTIF('MKTG MGMT'!A11:A29,\"Complete\")>=3,COUNTIF('MKTG MGMT'!A11:A29,\"Enrolled\")>=1))),\"MAJOR COMPLETED THIS QUARTER\",IF(AND(AND(AND(COUNTIF('MKTG MGMT'!A7:A9,\"Waived\")=1,COUNTIF('MKTG MGMT'!A7:A9,\"Complete\")>=2,COUNTIF('MKTG MGMT'!A11:A29,\"Complete\")>=2,COUNTIF('MKTG MGMT'!A11:A29,\"Enrolled\")>=2))),\"MAJOR COMPLETED THIS QUARTER\",IF(AND(AND(AND(COUNTIF('MKTG MGMT'!A7:A9,\"Waived\")=1,COUNTIF('MKTG MGMT'!A7:A9,\"Complete\")>=2,COUNTIF('MKTG MGMT'!A11:A29,\"Complete\")>=1,COUNTIF('MKTG MGMT'!A11:A29,\"Enrolled\")>=3))),\"MAJOR COMPLETED THIS QUARTER\",IF(AND(AND(COUNTIF('MKTG MGMT'!A7:A9,\"Waived\")>=1,COUNTIF('MKTG MGMT'!A7:A9,\"Complete\")>=2,COUNTIF('MKTG MGMT'!A11:A29,\"Enrolled\")>=4)),\"MAJOR COMPLETED THIS QUARTER\",IF(AND(AND(AND(COUNTIF('MKTG MGMT'!A7:A9,\"Waived\")=1,COUNTIF('MKTG MGMT'!A7:A9,\"Complete\")=1,COUNTIF('MKTG MGMT'!A7:A9,\"Enrolled\")>=1,COUNTIF('MKTG MGMT'!A11:A29,\"Complete\")>=4))),\"MAJOR COMPLETED THIS QUARTER\",IF(AND(AND(AND(COUNTIF('MKTG MGMT'!A7:A9,\"Waived\")=1,COUNTIF('MKTG MGMT'!A7:A9,\"Complete\")=1,COUNTIF('MKTG MGMT'!A7:A9,\"Enrolled\")>=1,COUNTIF('MKTG MGMT'!A11:A29,\"Enrolled\")>=4))),\"MAJOR COMPLETED THIS QUARTER\",IF(AND(AND(AND(AND(COUNTIF('MKTG MGMT'!A7:A9,\"Waived\")=1,COUNTIF('MKTG MGMT'!A7:A9,\"Complete\")=1,COUNTIF('MKTG MGMT'!A7:A9,\"Enrolled\")>=1,COUNTIF('MKTG MGMT'!A11:A29,\"Complete\")>=3,COUNTIF('MKTG MGMT'!A11:A29,\"Enrolled\")>=1)))),\"MAJOR COMPLETED THIS QUARTER\",IF(AND(AND(AND(AND(COUNTIF('MKTG MGMT'!A7:A9,\"Waived\")=1,COUNTIF('MKTG MGMT'!A7:A9,\"Complete\")=1,COUNTIF('MKTG MGMT'!A7:A9,\"Enrolled\")>=1,COUNTIF('MKTG MGMT'!A11:A29,\"Complete\")>=2,COUNTIF('MKTG MGMT'!A11:A29,\"Enrolled\")>=2)))),\"MAJOR COMPLETED THIS QUARTER\",IF(AND(AND(AND(AND(COUNTIF('MKTG MGMT'!A7:A9,\"Waived\")=1,COUNTIF('MKTG MGMT'!A7:A9,\"Complete\")=1,COUNTIF('MKTG MGMT'!A7:A9,\"Enrolled\")>=1,COUNTIF('MKTG MGMT'!A11:A29,\"Complete\")>=1,COUNTIF('MKTG MGMT'!A11:A29,\"Enrolled\")>=3)))),\"MAJOR COMPLETED THIS QUARTER\",IF(AND(AND(COUNTIF('MKTG MGMT'!A7:A9,\"Waived\")>=2,COUNTIF('MKTG MGMT'!A7:A9,\"Complete\")>=1,COUNTIF('MKTG MGMT'!A11:A29,\"Complete\")>=5)),\"MAJOR COMPLETED\",IF(AND(AND(COUNTIF('MKTG MGMT'!A7:A9,\"Waived\")>=2,COUNTIF('MKTG MGMT'!A7:A9,\"Complete\")>=1,COUNTIF('MKTG MGMT'!A11:A29,\"Enrolled\")>=5)),\"MAJOR COMPLETED THIS QUARTER\",IF(AND(AND(AND(COUNTIF('MKTG MGMT'!A7:A9,\"Waived\")=2,COUNTIF('MKTG MGMT'!A7:A9,\"Complete\")=1,COUNTIF('MKTG MGMT'!A11:A29,\"Complete\")>=4,COUNTIF('MKTG MGMT'!A11:A29,\"Enrolled\")>=1))),\"MAJOR COMPLETED THIS QUARTER\",IF(AND(AND(AND(COUNTIF('MKTG MGMT'!A7:A9,\"Waived\")=2,COUNTIF('MKTG MGMT'!A7:A9,\"Complete\")=1,COUNTIF('MKTG MGMT'!A11:A29,\"Complete\")>=3,COUNTIF('MKTG MGMT'!A11:A29,\"Enrolled\")>=2))),\"MAJOR COMPLETED THIS QUARTER\",IF(AND(AND(AND(COUNTIF('MKTG MGMT'!A7:A9,\"Waived\")=2,COUNTIF('MKTG MGMT'!A7:A9,\"Complete\")=1,COUNTIF('MKTG MGMT'!A11:A29,\"Complete\")>=2,COUNTIF('MKTG MGMT'!A11:A29,\"Enrolled\")>=3))),\"MAJOR COMPLETED THIS QUARTER\",IF(AND(AND(AND(COUNTIF('MKTG MGMT'!A7:A9,\"Waived\")=2,COUNTIF('MKTG MGMT'!A7:A9,\"Complete\")=1,COUNTIF('MKTG MGMT'!A11:A29,\"Complete\")>=1,COUNTIF('MKTG MGMT'!A11:A29,\"Enrolled\")>=4))),\"MAJOR COMPLETED THIS QUARTER\",IF(AND(AND(COUNTIF('MKTG MGMT'!A7:A9,\"Waived\")>=2,COUNTIF('MKTG MGMT'!A7:A9,\"Enrolled\")>=1,COUNTIF('MKTG MGMT'!A11:A29,\"Complete\")>=5)),\"MAJOR COMPLETED THIS QUARTER\",IF(AND(AND(COUNTIF('MKTG MGMT'!A7:A9,\"Waived\")>=2,COUNTIF('MKTG MGMT'!A7:A9,\"Enrolled\")>=1,COUNTIF('MKTG MGMT'!A11:A29,\"Enrolled\")>=5)),\"MAJOR COMPLETED THIS QUARTER\",IF(AND(AND(AND(COUNTIF('MKTG MGMT'!A7:A9,\"Waived\")=2,COUNTIF('MKTG MGMT'!A7:A9,\"Enrolled\")=1,COUNTIF('MKTG MGMT'!A11:A29,\"Complete\")>=4,COUNTIF('MKTG MGMT'!A11:A29,\"Enrolled\")>=1))),\"MAJOR COMPLETED THIS QUARTER\",IF(AND(AND(AND(COUNTIF('MKTG MGMT'!A7:A9,\"Waived\")=2,COUNTIF('MKTG MGMT'!A7:A9,\"Enrolled\")=1,COUNTIF('MKTG MGMT'!A11:A29,\"Complete\")>=3,COUNTIF('MKTG MGMT'!A11:A29,\"Enrolled\")>=2))),\"MAJOR COMPLETED THIS QUARTER\",IF(AND(AND(AND(COUNTIF('MKTG MGMT'!A7:A9,\"Waived\")=2,COUNTIF('MKTG MGMT'!A7:A9,\"Enrolled\")=1,COUNTIF('MKTG MGMT'!A11:A29,\"Complete\")>=2,COUNTIF('MKTG MGMT'!A11:A29,\"Enrolled\")>=3))),\"MAJOR COMPLETED THIS QUARTER\",IF(AND(AND(AND(COUNTIF('MKTG MGMT'!A7:A9,\"Waived\")=2,COUNTIF('MKTG MGMT'!A7:A9,\"Enrolled\")=1,COUNTIF('MKTG MGMT'!A11:A29,\"Complete\")>=1,COUNTIF('MKTG MGMT'!A11:A29,\"Enrolled\")>=4))),\"MAJOR COMPLETED THIS QUARTER\",$A$124))))))))))))))))))))))","v":"NOT MAJORING IN THIS FIELD"}]
[{"$f":"IF(AND(COUNTIF('MKTG MGMT'!A7:A9,\"Complete\")=2,COUNTIF('MKTG MGMT'!A7:A9,\"Waived\")=1),$A$127,IF(AND(COUNTIF('MKTG MGMT'!A7:A9,\"Enrolled\")=2,COUNTIF('MKTG MGMT'!A7:A9,\"Waived\")=1),$A$128,IF(AND(COUNTIF('MKTG MGMT'!A7:A9,\"Will Enroll\")=2,COUNTIF('MKTG MGMT'!A7:A9,\"Waived\")=1),$A$129,IF(AND(COUNTIF('MKTG MGMT'!A7:A9,\"Enrolled\")=2,COUNTIF('MKTG MGMT'!A7:A9,\"Waived\")=1),$A$128,IF(AND(AND(COUNTIF('MKTG MGMT'!A7:A9,\"Complete\")>=1,COUNTIF('MKTG MGMT'!A7:A9,\"Enrolled\")>=1,COUNTIF('MKTG MGMT'!A7:A9,\"Waived\")>=1)),$A$128,IF(AND(AND(COUNTIF('MKTG MGMT'!A7:A9,\"Complete\")>=1,COUNTIF('MKTG MGMT'!A7:A9,\"Will Enroll\")>=1,COUNTIF('MKTG MGMT'!A7:A9,\"Waived\")>=1)),$A$129,IF(AND(AND(COUNTIF('MKTG MGMT'!A7:A9,\"Enrolled\")>=1,COUNTIF('MKTG MGMT'!A7:A9,\"Will Enroll\")>=1,COUNTIF('MKTG MGMT'!A7:A9,\"Waived\")>=1)),$A$129,IF(AND(AND(COUNTIF('MKTG MGMT'!A7:A9,\"Complete\")>=3),COUNTIF('MKTG MGMT'!A11:A29,\"Complete\")>=2,COUNTIF('MKTG MGMT'!A11:A29,\"Will Enroll\")>=1),\"MAJOR IN PROGRESS\",IF(AND(AND(COUNTIF('MKTG MGMT'!A7:A9,\"Complete\")>=3),COUNTIF('MKTG MGMT'!A11:A29,\"Complete\")>=1,COUNTIF('MKTG MGMT'!A11:A29,\"Will Enroll\")>=2),\"MAJOR IN PROGRESS\",IF(AND(AND(COUNTIF('MKTG MGMT'!A7:A9,\"Complete\")>=3),COUNTIF('MKTG MGMT'!A11:A29,\"Enrolled\")>=2,COUNTIF('MKTG MGMT'!A11:A29,\"Will Enroll\")>=1),\"MAJOR IN PROGRESS\",IF(AND(AND(COUNTIF('MKTG MGMT'!A7:A9,\"Complete\")>=3),COUNTIF('MKTG MGMT'!A11:A29,\"Enrolled\")>=1,COUNTIF('MKTG MGMT'!A11:A29,\"Will Enroll\")>=2),\"MAJOR IN PROGRESS\",IF(AND(AND(AND(COUNTIF('MKTG MGMT'!A7:A9,\"Complete\")>=3),COUNTIF('MKTG MGMT'!A11:A29,\"Complete\")>=1,COUNTIF('MKTG MGMT'!A11:A29,\"Enrolled\")>=1),COUNTIF('MKTG MGMT'!A11:A29,\"Will Enroll\")>=1),\"MAJOR IN PROGRESS\",IF(AND(COUNTIF('MKTG MGMT'!A7:A9,\"Complete\")>=3,COUNTIF('MKTG MGMT'!A11:A29,\"Will Enroll\")>=3),\"MAJOR IN PROGRESS\",IF(AND(AND(COUNTIF('MKTG MGMT'!A7:A9,\"Complete\")>=2),COUNTIF('MKTG MGMT'!A7:A9,\"Will Enroll\")>=1,COUNTIF('MKTG MGMT'!A11:A29,\"Complete\")>=3),\"MAJOR IN PROGRESS\",IF(AND(AND(COUNTIF('MKTG MGMT'!A7:A9,\"Complete\")>=2),COUNTIF('MKTG MGMT'!A7:A9,\"Will Enroll\")>=1,COUNTIF('MKTG MGMT'!A11:A29,\"Enrolled\")>=3),\"MAJOR IN PROGRESS\",IF(AND(AND(COUNTIF('MKTG MGMT'!A7:A9,\"Complete\")>=2),COUNTIF('MKTG MGMT'!A7:A9,\"Will Enroll\")>=1,COUNTIF('MKTG MGMT'!A11:A29,\"Will Enroll\")>=3),\"MAJOR IN PROGRESS\",IF(AND(AND(AND(COUNTIF('MKTG MGMT'!A7:A9,\"Complete\")>=2),COUNTIF('MKTG MGMT'!A7:A9,\"Will Enroll\")>=1,COUNTIF('MKTG MGMT'!A11:A29,\"Complete\")>=1),COUNTIF('MKTG MGMT'!A11:A29,\"Enrolled\")>=2),\"MAJOR IN PROGRESS\",IF(AND(AND(AND(COUNTIF('MKTG MGMT'!A7:A9,\"Complete\")>=2),COUNTIF('MKTG MGMT'!A7:A9,\"Will Enroll\")>=1,COUNTIF('MKTG MGMT'!A11:A29,\"Complete\")>=2),COUNTIF('MKTG MGMT'!A11:A29,\"Will Enroll\")>=1),\"MAJOR IN PROGRESS\",IF(AND(AND(AND(COUNTIF('MKTG MGMT'!A7:A9,\"Complete\")>=2),COUNTIF('MKTG MGMT'!A7:A9,\"Will Enroll\")>=1,COUNTIF('MKTG MGMT'!A11:A29,\"Complete\")>=2),COUNTIF('MKTG MGMT'!A11:A29,\"Enrolled\")>=1),\"MAJOR IN PROGRESS\",IF(AND(AND(AND(COUNTIF('MKTG MGMT'!A7:A9,\"Complete\")>=2),COUNTIF('MKTG MGMT'!A7:A9,\"Will Enroll\")>=1,COUNTIF('MKTG MGMT'!A11:A29,\"Enrolled\")>=2),COUNTIF('MKTG MGMT'!A11:A29,\"Will Enroll\")>=1),\"MAJOR IN PROGRESS\",IF(AND(AND(AND(COUNTIF('MKTG MGMT'!A7:A9,\"Complete\")>=2),COUNTIF('MKTG MGMT'!A7:A9,\"Will Enroll\")>=1,COUNTIF('MKTG MGMT'!A11:A29,\"Enrolled\")>=1),COUNTIF('MKTG MGMT'!A11:A29,\"Will Enroll\")>=2),\"MAJOR IN PROGRESS\",IF(AND(AND(AND(AND(COUNTIF('MKTG MGMT'!A7:A9,\"Complete\")>=2),COUNTIF('MKTG MGMT'!A7:A9,\"Will Enroll\")>=1),COUNTIF('MKTG MGMT'!A11:A29,\"Complete\")>=1,COUNTIF('MKTG MGMT'!A11:A29,\"Enrolled\")>=1),COUNTIF('MKTG MGMT'!A11:A29,\"Will Enroll\")>=1),\"MAJOR IN PROGRESS\",IF(AND(AND(AND(COUNTIF('MKTG MGMT'!A7:A9,\"Complete\")>=2),COUNTIF('MKTG MGMT'!A7:A9,\"Will Enroll\")>=1,COUNTIF('MKTG MGMT'!A11:A29,\"Complete\")>=1),COUNTIF('MKTG MGMT'!A11:A29,\"Will Enroll\")>=2),\"MAJOR IN PROGRESS\",IF(AND(AND(COUNTIF('MKTG MGMT'!A7:A9,\"Complete\")>=2),COUNTIF('MKTG MGMT'!A7:A9,\"Enrolled\")>=1,COUNTIF('MKTG MGMT'!A11:A29,\"Will Enroll\")>=3),\"MAJOR IN PROGRESS\",IF(AND(AND(AND(COUNTIF('MKTG MGMT'!A7:A9,\"Complete\")>=2),COUNTIF('MKTG MGMT'!A7:A9,\"Enrolled\")>=1,COUNTIF('MKTG MGMT'!A11:A29,\"Complete\")>=2),COUNTIF('MKTG MGMT'!A11:A29,\"Will Enroll\")>=1),\"MAJOR IN PROGRESS\",IF(AND(AND(AND(COUNTIF('MKTG MGMT'!A7:A9,\"Complete\")>=2),COUNTIF('MKTG MGMT'!A7:A9,\"Enrolled\")>=1,COUNTIF('MKTG MGMT'!A11:A29,\"Enrolled\")>=2),COUNTIF('MKTG MGMT'!A11:A29,\"Will Enroll\")>=1),\"MAJOR IN PROGRESS\",IF(AND(AND(AND(COUNTIF('MKTG MGMT'!A7:A9,\"Complete\")>=2),COUNTIF('MKTG MGMT'!A7:A9,\"Enrolled\")>=1,COUNTIF('MKTG MGMT'!A11:A29,\"Enrolled\")>=1),COUNTIF('MKTG MGMT'!A11:A29,\"Will Enroll\")>=2),\"MAJOR IN PROGRESS\",IF(AND(AND(AND(AND(COUNTIF('MKTG MGMT'!A7:A9,\"Complete\")>=2),COUNTIF('MKTG MGMT'!A7:A9,\"Enrolled\")>=1),COUNTIF('MKTG MGMT'!A11:A29,\"Complete\")>=1,COUNTIF('MKTG MGMT'!A11:A29,\"Enrolled\")>=1),COUNTIF('MKTG MGMT'!A11:A29,\"Will Enroll\")>=1),\"MAJOR IN PROGRESS\",IF(AND(AND(AND(COUNTIF('MKTG MGMT'!A7:A9,\"Complete\")>=2),COUNTIF('MKTG MGMT'!A7:A9,\"Enrolled\")>=1,COUNTIF('MKTG MGMT'!A11:A29,\"Complete\")>=1),COUNTIF('MKTG MGMT'!A11:A29,\"Will Enroll\")>=2),\"MAJOR IN PROGRESS\",IF(AND(AND(COUNTIF('MKTG MGMT'!A7:A9,\"Complete\")>=1),COUNTIF('MKTG MGMT'!A7:A9,\"Enrolled\")>=2,COUNTIF('MKTG MGMT'!A11:A29,\"Will Enroll\")>=3),\"MAJOR IN PROGRESS\",IF(AND(AND(AND(COUNTIF('MKTG MGMT'!A7:A9,\"Complete\")>=1),COUNTIF('MKTG MGMT'!A7:A9,\"Enrolled\")>=2,COUNTIF('MKTG MGMT'!A11:A29,\"Complete\")>=2),COUNTIF('MKTG MGMT'!A11:A29,\"Will Enroll\")>=1),\"MAJOR IN PROGRESS\",IF(AND(AND(AND(COUNTIF('MKTG MGMT'!A7:A9,\"Complete\")>=1),COUNTIF('MKTG MGMT'!A7:A9,\"Enrolled\")>=2,COUNTIF('MKTG MGMT'!A11:A29,\"Enrolled\")>=2),COUNTIF('MKTG MGMT'!A11:A29,\"Will Enroll\")>=1),\"MAJOR IN PROGRESS\",IF(AND(AND(AND(COUNTIF('MKTG MGMT'!A7:A9,\"Complete\")>=1),COUNTIF('MKTG MGMT'!A7:A9,\"Enrolled\")>=2,COUNTIF('MKTG MGMT'!A11:A29,\"Enrolled\")>=1),COUNTIF('MKTG MGMT'!A11:A29,\"Will Enroll\")>=2),\"MAJOR IN PROGRESS\",IF(AND(AND(AND(AND(COUNTIF('MKTG MGMT'!A7:A9,\"Complete\")>=1),COUNTIF('MKTG MGMT'!A7:A9,\"Enrolled\")>=2),COUNTIF('MKTG MGMT'!A11:A29,\"Complete\")>=1,COUNTIF('MKTG MGMT'!A11:A29,\"Enrolled\")>=1),COUNTIF('MKTG MGMT'!A11:A29,\"Will Enroll\")>=1),\"MAJOR IN PROGRESS\",IF(AND(AND(AND(COUNTIF('MKTG MGMT'!A7:A9,\"Complete\")>=1),COUNTIF('MKTG MGMT'!A7:A9,\"Enrolled\")>=2,COUNTIF('MKTG MGMT'!A11:A29,\"Complete\")>=1),COUNTIF('MKTG MGMT'!A11:A29,\"Will Enroll\")>=2),\"MAJOR IN PROGRESS\",IF(AND(COUNTIF('MKTG MGMT'!A7:A9,\"Enrolled\")>=3,COUNTIF('MKTG MGMT'!A11:A29,\"Will Enroll\")>=3),\"MAJOR IN PROGRESS\",IF(AND(AND(COUNTIF('MKTG MGMT'!A7:A9,\"Enrolled\")>=3,COUNTIF('MKTG MGMT'!A11:A29,\"Complete\")>=2),COUNTIF('MKTG MGMT'!A11:A29,\"Will Enroll\")>=1),\"MAJOR IN PROGRESS\",IF(AND(AND(COUNTIF('MKTG MGMT'!A7:A9,\"Enrolled\")>=3,COUNTIF('MKTG MGMT'!A11:A29,\"Enrolled\")>=2),COUNTIF('MKTG MGMT'!A11:A29,\"Will Enroll\")>=1),\"MAJOR IN PROGRESS\",IF(AND(AND(COUNTIF('MKTG MGMT'!A7:A9,\"Enrolled\")>=3,COUNTIF('MKTG MGMT'!A11:A29,\"Enrolled\")>=1),COUNTIF('MKTG MGMT'!A11:A29,\"Will Enroll\")>=2),\"MAJOR IN PROGRESS\",IF(AND(AND(AND(COUNTIF('MKTG MGMT'!A7:A9,\"Enrolled\")>=3),COUNTIF('MKTG MGMT'!A11:A29,\"Complete\")>=1,COUNTIF('MKTG MGMT'!A11:A29,\"Enrolled\")>=1),COUNTIF('MKTG MGMT'!A11:A29,\"Will Enroll\")>=1),\"MAJOR IN PROGRESS\",IF(AND(AND(COUNTIF('MKTG MGMT'!A7:A9,\"Enrolled\")>=3,COUNTIF('MKTG MGMT'!A11:A29,\"Complete\")>=1),COUNTIF('MKTG MGMT'!A11:A29,\"Will Enroll\")>=2),\"MAJOR IN PROGRESS\",$A$125)))))))))))))))))))))))))))))))))))))))))","v":"NOT MAJORING IN THIS FIELD"}]
[{"$f":"IF(AND(AND(AND(COUNTIF('MKTG MGMT'!A7:A9,\"Complete\")>=1),COUNTIF('MKTG MGMT'!A7:A9,\"Enrolled\")>=1),COUNTIF('MKTG MGMT'!A7:A9,\"Will Enroll\")>=1,COUNTIF('MKTG MGMT'!A11:A29,\"Complete\")>=3),\"MAJOR IN PROGRESS\",IF(AND(AND(AND(COUNTIF('MKTG MGMT'!A7:A9,\"Complete\")>=1),COUNTIF('MKTG MGMT'!A7:A9,\"Enrolled\")>=1),COUNTIF('MKTG MGMT'!A7:A9,\"Will Enroll\")>=1,COUNTIF('MKTG MGMT'!A11:A29,\"Enrolled\")>=3),\"MAJOR IN PROGRESS\",IF(AND(AND(AND(COUNTIF('MKTG MGMT'!A7:A9,\"Complete\")>=1),COUNTIF('MKTG MGMT'!A7:A9,\"Enrolled\")>=1),COUNTIF('MKTG MGMT'!A7:A9,\"Will Enroll\")>=1,COUNTIF('MKTG MGMT'!A11:A29,\"Will Enroll\")>=3),\"MAJOR IN PROGRESS\",IF(AND(AND(AND(AND(COUNTIF('MKTG MGMT'!A7:A9,\"Complete\")>=1),COUNTIF('MKTG MGMT'!A7:A9,\"Enrolled\")>=1),COUNTIF('MKTG MGMT'!A7:A9,\"Will Enroll\")>=1,COUNTIF('MKTG MGMT'!A11:A29,\"Complete\")>=1),COUNTIF('MKTG MGMT'!A11:A29,\"Enrolled\")>=2),\"MAJOR IN PROGRESS\",IF(AND(AND(AND(AND(COUNTIF('MKTG MGMT'!A7:A9,\"Complete\")>=1),COUNTIF('MKTG MGMT'!A7:A9,\"Enrolled\")>=1),COUNTIF('MKTG MGMT'!A7:A9,\"Will Enroll\")>=1,COUNTIF('MKTG MGMT'!A11:A29,\"Complete\")>=2),COUNTIF('MKTG MGMT'!A11:A29,\"Will Enroll\")>=1),\"MAJOR IN PROGRESS\",IF(AND(AND(AND(AND(COUNTIF('MKTG MGMT'!A7:A9,\"Complete\")>=1),COUNTIF('MKTG MGMT'!A7:A9,\"Enrolled\")>=1),COUNTIF('MKTG MGMT'!A7:A9,\"Will Enroll\")>=1,COUNTIF('MKTG MGMT'!A11:A29,\"Complete\")>=2),COUNTIF('MKTG MGMT'!A11:A29,\"Enrolled\")>=1),\"MAJOR IN PROGRESS\",IF(AND(AND(AND(AND(COUNTIF('MKTG MGMT'!A7:A9,\"Complete\")>=1),COUNTIF('MKTG MGMT'!A7:A9,\"Enrolled\")>=1),COUNTIF('MKTG MGMT'!A7:A9,\"Will Enroll\")>=1,COUNTIF('MKTG MGMT'!A11:A29,\"Enrolled\")>=2),COUNTIF('MKTG MGMT'!A11:A29,\"Will Enroll\")>=1),\"MAJOR IN PROGRESS\",IF(AND(AND(AND(AND(COUNTIF('MKTG MGMT'!A7:A9,\"Complete\")>=1),COUNTIF('MKTG MGMT'!A7:A9,\"Enrolled\")>=1),COUNTIF('MKTG MGMT'!A7:A9,\"Will Enroll\")>=1,COUNTIF('MKTG MGMT'!A11:A29,\"Enrolled\")>=1),COUNTIF('MKTG MGMT'!A11:A29,\"Will Enroll\")>=2),\"MAJOR IN PROGRESS\",IF(AND(AND(AND(AND(AND(COUNTIF('MKTG MGMT'!A7:A9,\"Complete\")>=1),COUNTIF('MKTG MGMT'!A7:A9,\"Enrolled\")>=1),COUNTIF('MKTG MGMT'!A7:A9,\"Will Enroll\")>=1),COUNTIF('MKTG MGMT'!A11:A29,\"Complete\")>=1,COUNTIF('MKTG MGMT'!A11:A29,\"Enrolled\")>=1),COUNTIF('MKTG MGMT'!A11:A29,\"Will Enroll\")>=1),\"MAJOR IN PROGRESS\",IF(AND(AND(AND(AND(COUNTIF('MKTG MGMT'!A7:A9,\"Complete\")>=1),COUNTIF('MKTG MGMT'!A7:A9,\"Enrolled\")>=1),COUNTIF('MKTG MGMT'!A7:A9,\"Will Enroll\")>=1,COUNTIF('MKTG MGMT'!A11:A29,\"Complete\")>=1),COUNTIF('MKTG MGMT'!A11:A29,\"Will Enroll\")>=2),\"MAJOR IN PROGRESS\",IF(AND(AND(COUNTIF('MKTG MGMT'!A7:A9,\"Enrolled\")>=2),COUNTIF('MKTG MGMT'!A7:A9,\"Will Enroll\")>=1,COUNTIF('MKTG MGMT'!A11:A29,\"Complete\")>=3),\"MAJOR IN PROGRESS\",IF(AND(AND(COUNTIF('MKTG MGMT'!A7:A9,\"Enrolled\")>=2),COUNTIF('MKTG MGMT'!A7:A9,\"Will Enroll\")>=1,COUNTIF('MKTG MGMT'!A11:A29,\"Enrolled\")>=3),\"MAJOR IN PROGRESS\",IF(AND(AND(COUNTIF('MKTG MGMT'!A7:A9,\"Enrolled\")>=2),COUNTIF('MKTG MGMT'!A7:A9,\"Will Enroll\")>=1,COUNTIF('MKTG MGMT'!A11:A29,\"Will Enroll\")>=3),\"MAJOR IN PROGRESS\",IF(AND(AND(AND(COUNTIF('MKTG MGMT'!A7:A9,\"Enrolled\")>=2),COUNTIF('MKTG MGMT'!A7:A9,\"Will Enroll\")>=1,COUNTIF('MKTG MGMT'!A11:A29,\"Complete\")>=1),COUNTIF('MKTG MGMT'!A11:A29,\"Enrolled\")>=2),\"MAJOR IN PROGRESS\",IF(AND(AND(AND(COUNTIF('MKTG MGMT'!A7:A9,\"Enrolled\")>=2),COUNTIF('MKTG MGMT'!A7:A9,\"Will Enroll\")>=1,COUNTIF('MKTG MGMT'!A11:A29,\"Complete\")>=2),COUNTIF('MKTG MGMT'!A11:A29,\"Will Enroll\")>=1),\"MAJOR IN PROGRESS\",IF(AND(AND(AND(COUNTIF('MKTG MGMT'!A7:A9,\"Enrolled\")>=2),COUNTIF('MKTG MGMT'!A7:A9,\"Will Enroll\")>=1,COUNTIF('MKTG MGMT'!A11:A29,\"Complete\")>=2),COUNTIF('MKTG MGMT'!A11:A29,\"Enrolled\")>=1),\"MAJOR IN PROGRESS\",IF(AND(AND(AND(COUNTIF('MKTG MGMT'!A7:A9,\"Enrolled\")>=2),COUNTIF('MKTG MGMT'!A7:A9,\"Will Enroll\")>=1,COUNTIF('MKTG MGMT'!A11:A29,\"Enrolled\")>=2),COUNTIF('MKTG MGMT'!A11:A29,\"Will Enroll\")>=1),\"MAJOR IN PROGRESS\",IF(AND(AND(AND(COUNTIF('MKTG MGMT'!A7:A9,\"Enrolled\")>=2),COUNTIF('MKTG MGMT'!A7:A9,\"Will Enroll\")>=1,COUNTIF('MKTG MGMT'!A11:A29,\"Enrolled\")>=1),COUNTIF('MKTG MGMT'!A11:A29,\"Will Enroll\")>=2),\"MAJOR IN PROGRESS\",IF(AND(AND(AND(AND(COUNTIF('MKTG MGMT'!A7:A9,\"Enrolled\")>=2),COUNTIF('MKTG MGMT'!A7:A9,\"Will Enroll\")>=1),COUNTIF('MKTG MGMT'!A11:A29,\"Complete\")>=1,COUNTIF('MKTG MGMT'!A11:A29,\"Enrolled\")>=1),COUNTIF('MKTG MGMT'!A11:A29,\"Will Enroll\")>=1),\"MAJOR IN PROGRESS\",IF(AND(AND(AND(COUNTIF('MKTG MGMT'!A7:A9,\"Enrolled\")>=2),COUNTIF('MKTG MGMT'!A7:A9,\"Will Enroll\")>=1,COUNTIF('MKTG MGMT'!A11:A29,\"Complete\")>=1),COUNTIF('MKTG MGMT'!A11:A29,\"Will Enroll\")>=2),\"MAJOR IN PROGRESS\",IF(AND(AND(COUNTIF('MKTG MGMT'!A7:A9,\"Enrolled\")>=1),COUNTIF('MKTG MGMT'!A7:A9,\"Will Enroll\")>=2,COUNTIF('MKTG MGMT'!A11:A29,\"Complete\")>=3),\"MAJOR IN PROGRESS\",IF(AND(AND(COUNTIF('MKTG MGMT'!A7:A9,\"Enrolled\")>=1),COUNTIF('MKTG MGMT'!A7:A9,\"Will Enroll\")>=2,COUNTIF('MKTG MGMT'!A11:A29,\"Enrolled\")>=3),\"MAJOR IN PROGRESS\",IF(AND(AND(COUNTIF('MKTG MGMT'!A7:A9,\"Enrolled\")>=1),COUNTIF('MKTG MGMT'!A7:A9,\"Will Enroll\")>=2,COUNTIF('MKTG MGMT'!A11:A29,\"Will Enroll\")>=3),\"MAJOR IN PROGRESS\",IF(AND(AND(AND(COUNTIF('MKTG MGMT'!A7:A9,\"Enrolled\")>=1),COUNTIF('MKTG MGMT'!A7:A9,\"Will Enroll\")>=2,COUNTIF('MKTG MGMT'!A11:A29,\"Complete\")>=1),COUNTIF('MKTG MGMT'!A11:A29,\"Enrolled\")>=2),\"MAJOR IN PROGRESS\",IF(AND(AND(AND(COUNTIF('MKTG MGMT'!A7:A9,\"Enrolled\")>=1),COUNTIF('MKTG MGMT'!A7:A9,\"Will Enroll\")>=2,COUNTIF('MKTG MGMT'!A11:A29,\"Complete\")>=2),COUNTIF('MKTG MGMT'!A11:A29,\"Will Enroll\")>=1),\"MAJOR IN PROGRESS\",IF(AND(AND(AND(COUNTIF('MKTG MGMT'!A7:A9,\"Enrolled\")>=1),COUNTIF('MKTG MGMT'!A7:A9,\"Will Enroll\")>=2,COUNTIF('MKTG MGMT'!A11:A29,\"Complete\")>=2),COUNTIF('MKTG MGMT'!A11:A29,\"Enrolled\")>=1),\"MAJOR IN PROGRESS\",IF(AND(AND(AND(COUNTIF('MKTG MGMT'!A7:A9,\"Enrolled\")>=1),COUNTIF('MKTG MGMT'!A7:A9,\"Will Enroll\")>=2,COUNTIF('MKTG MGMT'!A11:A29,\"Enrolled\")>=2),COUNTIF('MKTG MGMT'!A11:A29,\"Will Enroll\")>=1),\"MAJOR IN PROGRESS\",IF(AND(AND(AND(COUNTIF('MKTG MGMT'!A7:A9,\"Enrolled\")>=1),COUNTIF('MKTG MGMT'!A7:A9,\"Will Enroll\")>=2,COUNTIF('MKTG MGMT'!A11:A29,\"Enrolled\")>=1),COUNTIF('MKTG MGMT'!A11:A29,\"Will Enroll\")>=2),\"MAJOR IN PROGRESS\",IF(AND(AND(AND(AND(COUNTIF('MKTG MGMT'!A7:A9,\"Enrolled\")>=1),COUNTIF('MKTG MGMT'!A7:A9,\"Will Enroll\")>=2),COUNTIF('MKTG MGMT'!A11:A29,\"Complete\")>=1,COUNTIF('MKTG MGMT'!A11:A29,\"Enrolled\")>=1),COUNTIF('MKTG MGMT'!A11:A29,\"Will Enroll\")>=1),\"MAJOR IN PROGRESS\",IF(AND(AND(AND(COUNTIF('MKTG MGMT'!A7:A9,\"Enrolled\")>=1),COUNTIF('MKTG MGMT'!A7:A9,\"Will Enroll\")>=2,COUNTIF('MKTG MGMT'!A11:A29,\"Complete\")>=1),COUNTIF('MKTG MGMT'!A11:A29,\"Will Enroll\")>=2),\"MAJOR IN PROGRESS\",IF(AND(COUNTIF('MKTG MGMT'!A7:A9,\"Will Enroll\")>=3,COUNTIF('MKTG MGMT'!A11:A29,\"Complete\")>=3),\"MAJOR IN PROGRESS\",IF(AND(COUNTIF('MKTG MGMT'!A7:A9,\"Will Enroll\")>=3,COUNTIF('MKTG MGMT'!A11:A29,\"Enrolled\")>=3),\"MAJOR IN PROGRESS\",IF(AND(COUNTIF('MKTG MGMT'!A7:A9,\"Will Enroll\")>=3,COUNTIF('MKTG MGMT'!A11:A29,\"Will Enroll\")>=3),\"MAJOR IN PROGRESS\",IF(AND(AND(COUNTIF('MKTG MGMT'!A7:A9,\"Will Enroll\")>=3,COUNTIF('MKTG MGMT'!A11:A29,\"Complete\")>=1),COUNTIF('MKTG MGMT'!A11:A29,\"Enrolled\")>=2),\"MAJOR IN PROGRESS\",IF(AND(AND(COUNTIF('MKTG MGMT'!A7:A9,\"Will Enroll\")>=3,COUNTIF('MKTG MGMT'!A11:A29,\"Complete\")>=2),COUNTIF('MKTG MGMT'!A11:A29,\"Will Enroll\")>=1),\"MAJOR IN PROGRESS\",IF(AND(AND(COUNTIF('MKTG MGMT'!A7:A9,\"Will Enroll\")>=3,COUNTIF('MKTG MGMT'!A11:A29,\"Complete\")>=2),COUNTIF('MKTG MGMT'!A11:A29,\"Enrolled\")>=1),\"MAJOR IN PROGRESS\",IF(AND(AND(COUNTIF('MKTG MGMT'!A7:A9,\"Will Enroll\")>=3,COUNTIF('MKTG MGMT'!A11:A29,\"Enrolled\")>=2),COUNTIF('MKTG MGMT'!A11:A29,\"Will Enroll\")>=1),\"MAJOR IN PROGRESS\",IF(AND(AND(COUNTIF('MKTG MGMT'!A7:A9,\"Will Enroll\")>=3,COUNTIF('MKTG MGMT'!A11:A29,\"Enrolled\")>=1),COUNTIF('MKTG MGMT'!A11:A29,\"Will Enroll\")>=2),\"MAJOR IN PROGRESS\",IF(AND(AND(AND(COUNTIF('MKTG MGMT'!A7:A9,\"Will Enroll\")>=3),COUNTIF('MKTG MGMT'!A11:A29,\"Complete\")>=1,COUNTIF('MKTG MGMT'!A11:A29,\"Enrolled\")>=1),COUNTIF('MKTG MGMT'!A11:A29,\"Will Enroll\")>=1),\"MAJOR IN PROGRESS\",IF(AND(AND(COUNTIF('MKTG MGMT'!A7:A9,\"Will Enroll\")>=3,COUNTIF('MKTG MGMT'!A11:A29,\"Complete\")>=1),COUNTIF('MKTG MGMT'!A11:A29,\"Will Enroll\")>=2),\"MAJOR IN PROGRESS\",$A$126))))))))))))))))))))))))))))))))))))))))","v":"NOT MAJORING IN THIS FIELD"}]
[{"$f":"IF(AND(AND(COUNTIF('MKTG MGMT'!A7:A9,\"Complete\")>=1),COUNTIF('MKTG MGMT'!A7:A9,\"Will Enroll\")>=2,COUNTIF('MKTG MGMT'!A11:A29,\"Complete\")>=3),\"MAJOR IN PROGRESS\",IF(AND(AND(COUNTIF('MKTG MGMT'!A7:A9,\"Complete\")>=1),COUNTIF('MKTG MGMT'!A7:A9,\"Will Enroll\")>=2,COUNTIF('MKTG MGMT'!A11:A29,\"Enrolled\")>=3),\"MAJOR IN PROGRESS\",IF(AND(AND(COUNTIF('MKTG MGMT'!A7:A9,\"Complete\")>=1),COUNTIF('MKTG MGMT'!A7:A9,\"Will Enroll\")>=2,COUNTIF('MKTG MGMT'!A11:A29,\"Will Enroll\")>=3),\"MAJOR IN PROGRESS\",IF(AND(AND(AND(COUNTIF('MKTG MGMT'!A7:A9,\"Complete\")>=1),COUNTIF('MKTG MGMT'!A7:A9,\"Will Enroll\")>=2,COUNTIF('MKTG MGMT'!A11:A29,\"Complete\")>=1),COUNTIF('MKTG MGMT'!A11:A29,\"Enrolled\")>=2),\"MAJOR IN PROGRESS\",IF(AND(AND(AND(COUNTIF('MKTG MGMT'!A7:A9,\"Complete\")>=1),COUNTIF('MKTG MGMT'!A7:A9,\"Will Enroll\")>=2,COUNTIF('MKTG MGMT'!A11:A29,\"Complete\")>=2),COUNTIF('MKTG MGMT'!A11:A29,\"Will Enroll\")>=1),\"MAJOR IN PROGRESS\",IF(AND(AND(AND(COUNTIF('MKTG MGMT'!A7:A9,\"Complete\")>=1),COUNTIF('MKTG MGMT'!A7:A9,\"Will Enroll\")>=2,COUNTIF('MKTG MGMT'!A11:A29,\"Complete\")>=2),COUNTIF('MKTG MGMT'!A11:A29,\"Enrolled\")>=1),\"MAJOR IN PROGRESS\",IF(AND(AND(AND(COUNTIF('MKTG MGMT'!A7:A9,\"Complete\")>=1),COUNTIF('MKTG MGMT'!A7:A9,\"Will Enroll\")>=2,COUNTIF('MKTG MGMT'!A11:A29,\"Enrolled\")>=2),COUNTIF('MKTG MGMT'!A11:A29,\"Will Enroll\")>=1),\"MAJOR IN PROGRESS\",IF(AND(AND(AND(COUNTIF('MKTG MGMT'!A7:A9,\"Complete\")>=1),COUNTIF('MKTG MGMT'!A7:A9,\"Will Enroll\")>=2,COUNTIF('MKTG MGMT'!A11:A29,\"Enrolled\")>=1),COUNTIF('MKTG MGMT'!A11:A29,\"Will Enroll\")>=2),\"MAJOR IN PROGRESS\",IF(AND(AND(AND(AND(COUNTIF('MKTG MGMT'!A7:A9,\"Complete\")>=1),COUNTIF('MKTG MGMT'!A7:A9,\"Will Enroll\")>=2),COUNTIF('MKTG MGMT'!A11:A29,\"Complete\")>=1,COUNTIF('MKTG MGMT'!A11:A29,\"Enrolled\")>=1),COUNTIF('MKTG MGMT'!A11:A29,\"Will Enroll\")>=1),\"MAJOR IN PROGRESS\",IF(AND(AND(AND(COUNTIF('MKTG MGMT'!A7:A9,\"Complete\")>=1),COUNTIF('MKTG MGMT'!A7:A9,\"Will Enroll\")>=2,COUNTIF('MKTG MGMT'!A11:A29,\"Complete\")>=1),COUNTIF('MKTG MGMT'!A11:A29,\"Will Enroll\")>=2),\"MAJOR IN PROGRESS\",IF('MKTG MGMT'!$A$7=\"Waived\",#REF!,$A$130)))))))))))","v":"NOT MAJORING IN THIS FIELD"}]
[{"$f":"IF(AND(COUNTIF('MKTG MGMT'!A11:A29,\"Complete\")>=3,COUNTIF('MKTG MGMT'!A11:A29,\"Enrolled\")>=1),\"MAJOR COMPLETED THIS QUARTER\",IF(AND(COUNTIF('MKTG MGMT'!A11:A29,\"Complete\")>=3,COUNTIF('MKTG MGMT'!A11:A29,\"Will Enroll\")>=1),\"MAJOR IN PROGRESS\",IF(AND(COUNTIF('MKTG MGMT'!A11:A29,\"Complete\")>=2,COUNTIF('MKTG MGMT'!A11:A29,\"Enrolled\")>=2),\"MAJOR COMPLETED THIS QUARTER\",IF(AND(AND(COUNTIF('MKTG MGMT'!A11:A29,\"Complete\")>=2,COUNTIF('MKTG MGMT'!A11:A29,\"Enrolled\")>=1),COUNTIF('MKTG MGMT'!A11:A29,\"Will Enroll\")>=1),\"MAJOR IN PROGRESS\",IF(AND(COUNTIF('MKTG MGMT'!A11:A29,\"Complete\")>=2,COUNTIF('MKTG MGMT'!A11:A29,\"Will Enroll\")>=2),\"MAJOR IN PROGRESS\",IF(AND(COUNTIF('MKTG MGMT'!A11:A29,\"Complete\")>=1,COUNTIF('MKTG MGMT'!A11:A29,\"Enrolled\")>=3),\"MAJOR COMPLETED THIS QUARTER\",IF(AND(AND(COUNTIF('MKTG MGMT'!A11:A29,\"Complete\")>=1,COUNTIF('MKTG MGMT'!A11:A29,\"Enrolled\")>=2),COUNTIF('MKTG MGMT'!A11:A29,\"Will Enroll\")>=1),\"MAJOR IN PROGRESS\",IF(AND(AND(COUNTIF('MKTG MGMT'!A11:A29,\"Complete\")>=1,COUNTIF('MKTG MGMT'!A11:A29,\"Enrolled\")>=1),COUNTIF('MKTG MGMT'!A11:A29,\"Will Enroll\")>=2),\"MAJOR IN PROGRESS\",IF(AND(COUNTIF('MKTG MGMT'!A11:A29,\"Complete\")>=1,COUNTIF('MKTG MGMT'!A11:A29,\"Will Enroll\")>=3),\"MAJOR IN PROGRESS\",IF(COUNTIF('MKTG MGMT'!A11:A29,\"Enrolled\")>=4,\"MAJOR COMPLETED THIS QUARTER\",IF(AND(COUNTIF('MKTG MGMT'!A11:A29,\"Enrolled\")>=3,COUNTIF('MKTG MGMT'!A11:A29,\"Will Enroll\")>=1),\"MAJOR IN PROGRESS\",IF(AND(COUNTIF('MKTG MGMT'!A11:A29,\"Enrolled\")>=2,COUNTIF('MKTG MGMT'!A11:A29,\"Will Enroll\")>=2),\"MAJOR IN PROGRESS\",IF(AND(COUNTIF('MKTG MGMT'!A11:A29,\"Enrolled\")>=1,COUNTIF('MKTG MGMT'!A11:A29,\"Will Enroll\")>=3),\"MAJOR IN PROGRESS\",IF(COUNTIF('MKTG MGMT'!A11:A29,\"Will Enroll\")>=4,\"MAJOR IN PROGRESS\",IF(COUNTIF('MKTG MGMT'!A11:A29,\"Complete\")>=4,\"MAJOR COMPLETED\",$A$130)))))))))))))))","v":"NOT MAJORING IN THIS FIELD"}]
[{"$f":"IF(AND(COUNTIF('MKTG MGMT'!A11:A29,\"Complete\")>=3,COUNTIF('MKTG MGMT'!A11:A29,\"Enrolled\")>=1),\"MAJOR COMPLETED THIS QUARTER\",IF(AND(COUNTIF('MKTG MGMT'!A11:A29,\"Complete\")>=3,COUNTIF('MKTG MGMT'!A11:A29,\"Will Enroll\")>=1),\"MAJOR IN PROGRESS\",IF(AND(COUNTIF('MKTG MGMT'!A11:A29,\"Complete\")>=2,COUNTIF('MKTG MGMT'!A11:A29,\"Enrolled\")>=2),\"MAJOR COMPLETED THIS QUARTER\",IF(AND(AND(COUNTIF('MKTG MGMT'!A11:A29,\"Complete\")>=2,COUNTIF('MKTG MGMT'!A11:A29,\"Enrolled\")>=1),COUNTIF('MKTG MGMT'!A11:A29,\"Will Enroll\")>=1),\"MAJOR IN PROGRESS\",IF(AND(COUNTIF('MKTG MGMT'!A11:A29,\"Complete\")>=2,COUNTIF('MKTG MGMT'!A11:A29,\"Will Enroll\")>=2),\"MAJOR IN PROGRESS\",IF(AND(COUNTIF('MKTG MGMT'!A11:A29,\"Complete\")>=1,COUNTIF('MKTG MGMT'!A11:A29,\"Enrolled\")>=3),\"MAJOR COMPLETED THIS QUARTER\",IF(AND(AND(COUNTIF('MKTG MGMT'!A11:A29,\"Complete\")>=1,COUNTIF('MKTG MGMT'!A11:A29,\"Enrolled\")>=2),COUNTIF('MKTG MGMT'!A11:A29,\"Will Enroll\")>=1),\"MAJOR IN PROGRESS\",IF(AND(AND(COUNTIF('MKTG MGMT'!A11:A29,\"Complete\")>=1,COUNTIF('MKTG MGMT'!A11:A29,\"Enrolled\")>=1),COUNTIF('MKTG MGMT'!A11:A29,\"Will Enroll\")>=2),\"MAJOR IN PROGRESS\",IF(AND(COUNTIF('MKTG MGMT'!A11:A29,\"Complete\")>=1,COUNTIF('MKTG MGMT'!A11:A29,\"Will Enroll\")>=3),\"MAJOR IN PROGRESS\",IF(COUNTIF('MKTG MGMT'!A11:A29,\"Enrolled\")>=4,\"MAJOR COMPLETED THIS QUARTER\",IF(AND(COUNTIF('MKTG MGMT'!A11:A29,\"Enrolled\")>=3,COUNTIF('MKTG MGMT'!A11:A29,\"Will Enroll\")>=1),\"MAJOR IN PROGRESS\",IF(AND(COUNTIF('MKTG MGMT'!A11:A29,\"Enrolled\")>=2,COUNTIF('MKTG MGMT'!A11:A29,\"Will Enroll\")>=2),\"MAJOR IN PROGRESS\",IF(AND(COUNTIF('MKTG MGMT'!A11:A29,\"Enrolled\")>=1,COUNTIF('MKTG MGMT'!A11:A29,\"Will Enroll\")>=3),\"MAJOR IN PROGRESS\",IF(COUNTIF('MKTG MGMT'!A11:A29,\"Will Enroll\")>=4,\"MAJOR IN PROGRESS\",IF(COUNTIF('MKTG MGMT'!A11:A29,\"Complete\")>=4,\"MAJOR COMPLETED THIS QUARTER\",$A$130)))))))))))))))","v":"NOT MAJORING IN THIS FIELD"}]
[{"$f":"IF(AND(COUNTIF('MKTG MGMT'!A11:A29,\"Complete\")>=3,COUNTIF('MKTG MGMT'!A11:A29,\"Enrolled\")>=1),\"MAJOR IN PROGRESS\",IF(AND(COUNTIF('MKTG MGMT'!A11:A29,\"Complete\")>=3,COUNTIF('MKTG MGMT'!A11:A29,\"Will Enroll\")>=1),\"MAJOR IN PROGRESS\",IF(AND(COUNTIF('MKTG MGMT'!A11:A29,\"Complete\")>=2,COUNTIF('MKTG MGMT'!A11:A29,\"Enrolled\")>=2),\"MAJOR IN PROGRESS\",IF(AND(AND(COUNTIF('MKTG MGMT'!A11:A29,\"Complete\")>=2,COUNTIF('MKTG MGMT'!A11:A29,\"Enrolled\")>=1),COUNTIF('MKTG MGMT'!A11:A29,\"Will Enroll\")>=1),\"MAJOR IN PROGRESS\",IF(AND(COUNTIF('MKTG MGMT'!A11:A29,\"Complete\")>=2,COUNTIF('MKTG MGMT'!A11:A29,\"Will Enroll\")>=2),\"MAJOR IN PROGRESS\",IF(AND(COUNTIF('MKTG MGMT'!A11:A29,\"Complete\")>=1,COUNTIF('MKTG MGMT'!A11:A29,\"Enrolled\")>=3),\"MAJOR IN PROGRESS\",IF(AND(AND(COUNTIF('MKTG MGMT'!A11:A29,\"Complete\")>=1,COUNTIF('MKTG MGMT'!A11:A29,\"Enrolled\")>=2),COUNTIF('MKTG MGMT'!A11:A29,\"Will Enroll\")>=1),\"MAJOR IN PROGRESS\",IF(AND(AND(COUNTIF('MKTG MGMT'!A11:A29,\"Complete\")>=1,COUNTIF('MKTG MGMT'!A11:A29,\"Enrolled\")>=1),COUNTIF('MKTG MGMT'!A11:A29,\"Will Enroll\")>=2),\"MAJOR IN PROGRESS\",IF(AND(COUNTIF('MKTG MGMT'!A11:A29,\"Complete\")>=1,COUNTIF('MKTG MGMT'!A11:A29,\"Will Enroll\")>=3),\"MAJOR IN PROGRESS\",IF(COUNTIF('MKTG MGMT'!A11:A29,\"Enrolled\")>=4,\"MAJOR IN PROGRESS\",IF(AND(COUNTIF('MKTG MGMT'!A11:A29,\"Enrolled\")>=3,COUNTIF('MKTG MGMT'!A11:A29,\"Will Enroll\")>=1),\"MAJOR IN PROGRESS\",IF(AND(COUNTIF('MKTG MGMT'!A11:A29,\"Enrolled\")>=2,COUNTIF('MKTG MGMT'!A11:A29,\"Will Enroll\")>=2),\"MAJOR IN PROGRESS\",IF(AND(COUNTIF('MKTG MGMT'!A11:A29,\"Enrolled\")>=1,COUNTIF('MKTG MGMT'!A11:A29,\"Will Enroll\")>=3),\"MAJOR IN PROGRESS\",IF(COUNTIF('MKTG MGMT'!A11:A29,\"Will Enroll\")>=4,\"MAJOR IN PROGRESS\",IF(COUNTIF('MKTG MGMT'!A11:A29,\"Complete\")>=4,\"MAJOR IN PROGRESS\",$A$130)))))))))))))))","v":"NOT MAJORING IN THIS FIELD"}]
[{"$f":"IF(COUNTIF('MKTG MGMT'!A7:A9,\"Complete\")>=1,\"POTENTIAL MAJOR\",IF(COUNTIF('MKTG MGMT'!A7:A9,\"Enrolled\")>=1,\"POTENTIAL MAJOR\",IF(COUNTIF('MKTG MGMT'!A7:A9,\"Waived\")>=1,\"POTENTIAL MAJOR\",IF(COUNTIF('MKTG MGMT'!A7:A9,\"Will Enroll\")>=1,\"POTENTIAL MAJOR\",\"NOT MAJORING IN THIS FIELD\"))))","v":"NOT MAJORING IN THIS FIELD"}]
["Marketing Management 1Y"]
[{"$f":"IF(AND(COUNTIF('MKTG MGMT 1Y'!A7:A8,\"Complete\")>=2,COUNTIF('MKTG MGMT 1Y'!A10:A28,\"Complete\")>=3),\"MAJOR COMPLETED\",IF(AND(AND(COUNTIF('MKTG MGMT 1Y'!A7:A8,\"Complete\")>=2,COUNTIF('MKTG MGMT 1Y'!A10:A28,\"Complete\")>=2,COUNTIF('MKTG MGMT 1Y'!A10:A28,\"Enrolled\")>=1)),\"MAJOR COMPLETED THIS QUARTER\",IF(AND(AND(COUNTIF('MKTG MGMT 1Y'!A7:A8,\"Complete\")>=2,COUNTIF('MKTG MGMT 1Y'!A10:A28,\"Complete\")>=1,COUNTIF('MKTG MGMT 1Y'!A10:A28,\"Enrolled\")>=2)),\"MAJOR COMPLETED THIS QUARTER\",IF(AND(COUNTIF('MKTG MGMT 1Y'!A7:A8,\"Complete\")>=2,COUNTIF('MKTG MGMT 1Y'!A10:A28,\"Enrolled\")>=3),\"MAJOR COMPLETED THIS QUARTER\",IF(AND(AND(COUNTIF('MKTG MGMT 1Y'!A7:A8,\"Complete\")>=1,COUNTIF('MKTG MGMT 1Y'!A7:A8,\"Enrolled\")>=1,COUNTIF('MKTG MGMT 1Y'!A10:A28,\"Complete\")>=3)),\"MAJOR COMPLETED THIS QUARTER\",IF(AND(AND(COUNTIF('MKTG MGMT 1Y'!A7:A8,\"Complete\")>=1,COUNTIF('MKTG MGMT 1Y'!A7:A8,\"Enrolled\")>=1,COUNTIF('MKTG MGMT 1Y'!A10:A28,\"Enrolled\")>=3)),\"MAJOR COMPLETED THIS QUARTER\",IF(AND(AND(AND(AND(COUNTIF('MKTG MGMT 1Y'!A7:A9,\"Complete\")=1,COUNTIF('MKTG MGMT 1Y'!A7:A9,\"Enrolled\")=1,COUNTIF('MKTG MGMT 1Y'!A7:A9,\"Enrolled\")>=1,COUNTIF('MKTG MGMT 1Y'!A10:A28,\"Complete\")>=2,COUNTIF('MKTG MGMT 1Y'!A10:A28,\"Enrolled\")>=1)))),\"MAJOR COMPLETED THIS QUARTER\",IF(AND(AND(AND(AND(COUNTIF('MKTG MGMT 1Y'!A7:A9,\"Complete\")=1,COUNTIF('MKTG MGMT 1Y'!A7:A9,\"Enrolled\")=1,COUNTIF('MKTG MGMT 1Y'!A7:A9,\"Enrolled\")>=1,COUNTIF('MKTG MGMT 1Y'!A10:A28,\"Complete\")>=1,COUNTIF('MKTG MGMT 1Y'!A10:A28,\"Enrolled\")>=2)))),\"MAJOR COMPLETED THIS QUARTER\",IF(AND(COUNTIF('MKTG MGMT 1Y'!A7:A8,\"Enrolled\")>=2,COUNTIF('MKTG MGMT 1Y'!A10:A28,\"Complete\")>=3),\"MAJOR COMPLETED THIS QUARTER\",IF(AND(AND(COUNTIF('MKTG MGMT 1Y'!A7:A8,\"Enrolled\")>=2,COUNTIF('MKTG MGMT 1Y'!A10:A28,\"Complete\")>=2,COUNTIF('MKTG MGMT 1Y'!A10:A28,\"Enrolled\")>=1)),\"MAJOR COMPLETED THIS QUARTER\",IF(AND(AND(COUNTIF('MKTG MGMT 1Y'!A7:A8,\"Enrolled\")>=2,COUNTIF('MKTG MGMT 1Y'!A10:A28,\"Complete\")>=1,COUNTIF('MKTG MGMT 1Y'!A10:A28,\"Enrolled\")>=2)),\"MAJOR COMPLETED THIS QUARTER\",IF(AND(COUNTIF('MKTG MGMT 1Y'!A7:A8,\"Enrolled\")>=2,COUNTIF('MKTG MGMT 1Y'!A10:A28,\"Enrolled\")>=3),\"MAJOR COMPLETED THIS QUARTER\",IF(AND(AND(COUNTIF('MKTG MGMT 1Y'!A7:A8,\"Waived\")>=1,COUNTIF('MKTG MGMT 1Y'!A7:A8,\"Complete\")>=1,COUNTIF('MKTG MGMT 1Y'!A10:A28,\"Complete\")>=4)),\"MAJOR COMPLETED\",IF(AND(AND(AND(COUNTIF('MKTG MGMT 1Y'!A7:A8,\"Waived\")=1,COUNTIF('MKTG MGMT 1Y'!A7:A8,\"Complete\")=1,COUNTIF('MKTG MGMT 1Y'!A10:A28,\"Complete\")>=3,COUNTIF('MKTG MGMT 1Y'!A10:A28,\"Enrolled\")>=1))),\"MAJOR COMPLETED THIS QUARTER\",IF(AND(AND(AND(COUNTIF('MKTG MGMT 1Y'!A7:A8,\"Waived\")=1,COUNTIF('MKTG MGMT 1Y'!A7:A8,\"Complete\")=1,COUNTIF('MKTG MGMT 1Y'!A10:A28,\"Complete\")>=2,COUNTIF('MKTG MGMT 1Y'!A10:A28,\"Enrolled\")>=2))),\"MAJOR COMPLETED THIS QUARTER\",IF(AND(AND(AND(COUNTIF('MKTG MGMT 1Y'!A7:A8,\"Waived\")=1,COUNTIF('MKTG MGMT 1Y'!A7:A8,\"Complete\")=1,COUNTIF('MKTG MGMT 1Y'!A10:A28,\"Complete\")>=1,COUNTIF('MKTG MGMT 1Y'!A10:A28,\"Enrolled\")>=3))),\"MAJOR COMPLETED THIS QUARTER\",IF(AND(AND(COUNTIF('MKTG MGMT 1Y'!A7:A8,\"Waived\")>=1,COUNTIF('MKTG MGMT 1Y'!A7:A8,\"Complete\")>=1,COUNTIF('MKTG MGMT 1Y'!A10:A28,\"Enrolled\")>=4)),\"MAJOR COMPLETED THIS QUARTER\",IF(AND(AND(AND(COUNTIF('MKTG MGMT 1Y'!A7:A8,\"Waived\")=1,COUNTIF('MKTG MGMT 1Y'!A7:A8,\"Enrolled\")=1,COUNTIF('MKTG MGMT 1Y'!A10:A28,\"Complete\")>=3,COUNTIF('MKTG MGMT 1Y'!A10:A28,\"Enrolled\")>=1))),\"MAJOR COMPLETED THIS QUARTER\",IF(AND(AND(AND(COUNTIF('MKTG MGMT 1Y'!A7:A8,\"Waived\")=1,COUNTIF('MKTG MGMT 1Y'!A7:A8,\"Enrolled\")=1,COUNTIF('MKTG MGMT 1Y'!A10:A28,\"Complete\")>=2,COUNTIF('MKTG MGMT 1Y'!A10:A28,\"Enrolled\")>=2))),\"MAJOR COMPLETED THIS QUARTER\",IF(AND(AND(AND(COUNTIF('MKTG MGMT 1Y'!A7:A8,\"Waived\")=1,COUNTIF('MKTG MGMT 1Y'!A7:A8,\"Enrolled\")=1,COUNTIF('MKTG MGMT 1Y'!A10:A28,\"Complete\")>=1,COUNTIF('MKTG MGMT 1Y'!A10:A28,\"Enrolled\")>=3))),\"MAJOR COMPLETED THIS QUARTER\",IF(AND(AND(COUNTIF('MKTG MGMT 1Y'!A7:A8,\"Waived\")>=1,COUNTIF('MKTG MGMT 1Y'!A7:A8,\"Enrolled\")>=1,COUNTIF('MKTG MGMT 1Y'!A10:A28,\"Enrolled\")>=4)),\"MAJOR COMPLETED THIS QUARTER\",IF(AND(COUNTIF('MKTG MGMT 1Y'!A7:A8,\"Waived\")>=2,COUNTIF('MKTG MGMT 1Y'!A10:A28,\"Complete\")>=5),\"MAJOR COMPLETED\",IF(AND(COUNTIF('MKTG MGMT 1Y'!A7:A8,\"Waived\")>=2,COUNTIF('MKTG MGMT 1Y'!A10:A28,\"Enrolled\")>=5),\"MAJOR COMPLETED THIS QUARTER\",IF(AND(AND(COUNTIF('MKTG MGMT 1Y'!A7:A8,\"Waived\")>=2,COUNTIF('MKTG MGMT 1Y'!A10:A28,\"Complete\")>=4,COUNTIF('MKTG MGMT 1Y'!A10:A28,\"Enrolled\")>=1)),\"MAJOR COMPLETED THIS QUARTER\",IF(AND(AND(COUNTIF('MKTG MGMT 1Y'!A7:A8,\"Waived\")>=2,COUNTIF('MKTG MGMT 1Y'!A10:A28,\"Complete\")>=3,COUNTIF('MKTG MGMT 1Y'!A10:A28,\"Enrolled\")>=2)),\"MAJOR COMPLETED THIS QUARTER\",IF(AND(AND(COUNTIF('MKTG MGMT 1Y'!A7:A8,\"Waived\")>=2,COUNTIF('MKTG MGMT 1Y'!A10:A28,\"Complete\")>=2,COUNTIF('MKTG MGMT 1Y'!A10:A28,\"Enrolled\")>=3)),\"MAJOR COMPLETED THIS QUARTER\",IF(AND(AND(COUNTIF('MKTG MGMT 1Y'!A7:A8,\"Waived\")>=2,COUNTIF('MKTG MGMT 1Y'!A10:A28,\"Complete\")>=1,COUNTIF('MKTG MGMT 1Y'!A10:A28,\"Enrolled\")>=4)),\"MAJOR COMPLETED THIS QUARTER\",IF(AND(AND(COUNTIF('MKTG MGMT 1Y'!A7:A8,\"Waived\")>=1,COUNTIF('MKTG MGMT 1Y'!A7:A8,\"Enrolled\")>=1,COUNTIF('MKTG MGMT 1Y'!A10:A28,\"Complete\")>=4)),\"MAJOR COMPLETED THIS QUARTER\",$A$133))))))))))))))))))))))))))))","v":"NOT MAJORING IN THIS FIELD"}]
[{"$f":"IF(COUNTIF('MKTG MGMT 1Y'!A7:A8,\"Complete\")>=2,A134,IF(AND(COUNTIF('MKTG MGMT 1Y'!A7:A8,\"Complete\")>=1,COUNTIF('MKTG MGMT 1Y'!A7:A8,\"Enrolled\")>=1),A134,IF(AND(COUNTIF('MKTG MGMT 1Y'!A7:A8,\"Complete\")>=1,COUNTIF('MKTG MGMT 1Y'!A7:A8,\"Will Enroll\")>=1),A134,IF(AND(COUNTIF('MKTG MGMT 1Y'!A7:A8,\"Enrolled\")>=1,COUNTIF('MKTG MGMT 1Y'!A7:A8,\"Will Enroll\")>=1),A134,IF(COUNTIF('MKTG MGMT 1Y'!A7:A8,\"Will Enroll\")>=2,A134,IF(COUNTIF('MKTG MGMT 1Y'!A7:A8,\"Enrolled\")>=2,A134,IF(AND(COUNTIF('MKTG MGMT 1Y'!A7:A8,\"Waived\")=1,COUNTIF('MKTG MGMT 1Y'!A7:A8,\"Complete\")=1),$A$135,IF(AND(COUNTIF('MKTG MGMT 1Y'!A7:A8,\"Waived\")=1,COUNTIF('MKTG MGMT 1Y'!A7:A8,\"Enrolled\")=1),$A$136,IF(AND(COUNTIF('MKTG MGMT 1Y'!A7:A8,\"Waived\")=1,COUNTIF('MKTG MGMT 1Y'!A7:A8,\"Will Enroll\")=1),$A$137,$A$138)))))))))","v":"NOT MAJORING IN THIS FIELD"}]
[{"$f":"IF(AND(COUNTIF('MKTG MGMT 1Y'!A10:A29,\"Complete\")>=2,COUNTIF('MKTG MGMT 1Y'!A10:A29,\"Will Enroll\")>=1),\"MAJOR IN PROGRESS\",IF(AND(COUNTIF('MKTG MGMT 1Y'!A10:A29,\"Complete\")>=1,COUNTIF('MKTG MGMT 1Y'!A10:A29,\"Will Enroll\")>=2),\"MAJOR IN PROGRESS\",IF(AND(COUNTIF('MKTG MGMT 1Y'!A10:A29,\"Enrolled\")>=2,COUNTIF('MKTG MGMT 1Y'!A10:A29,\"Will Enroll\")>=1),\"MAJOR IN PROGRESS\",IF(COUNTIF('MKTG MGMT 1Y'!A10:A29,\"Will Enroll\")>=3,\"MAJOR IN PROGRESS\",IF(AND(AND(COUNTIF('MKTG MGMT 1Y'!A10:A29,\"Complete\")>=1),COUNTIF('MKTG MGMT 1Y'!A10:A29,\"Enrolled\")>=1,COUNTIF('MKTG MGMT 1Y'!A10:A29,\"Will Enroll\")>=1),\"MAJOR IN PROGRESS\",IF(AND(COUNTIF('MKTG MGMT 1Y'!A10:A29,\"Enrolled\")>=1,COUNTIF('MKTG MGMT 1Y'!A10:A29,\"Will Enroll\")>=2),\"MAJOR IN PROGRESS\",$A$138))))))","v":"NOT MAJORING IN THIS FIELD"}]
[{"$f":"IF(AND(COUNTIF('MKTG MGMT 1Y'!A10:A29,\"Complete\")>=2,COUNTIF('MKTG MGMT 1Y'!A10:A29,\"Enrolled\")>=1),\"MAJOR COMPLETED THIS QUARTER\",IF(AND(COUNTIF('MKTG MGMT 1Y'!A10:A29,\"Complete\")>=1,COUNTIF('MKTG MGMT 1Y'!A10:A29,\"Enrolled\")>=2),\"MAJOR COMPLETED THIS QUARTER\",IF(AND(COUNTIF('MKTG MGMT 1Y'!A10:A29,\"Complete\")>=2,COUNTIF('MKTG MGMT 1Y'!A10:A29,\"Will Enroll\")>=1),\"MAJOR IN PROGRESS\",IF(AND(COUNTIF('MKTG MGMT 1Y'!A10:A29,\"Complete\")>=1,COUNTIF('MKTG MGMT 1Y'!A10:A29,\"Will Enroll\")>=2),\"MAJOR IN PROGRESS\",IF(AND(COUNTIF('MKTG MGMT 1Y'!A10:A29,\"Enrolled\")>=2,COUNTIF('MKTG MGMT 1Y'!A10:A29,\"Will Enroll\")>=1),\"MAJOR IN PROGRESS\",IF(COUNTIF('MKTG MGMT 1Y'!A10:A29,\"Will Enroll\")>=3,\"MAJOR IN PROGRESS\",IF(COUNTIF('MKTG MGMT 1Y'!A10:A29,\"Complete\")>=3,\"MAJOR COMPLETED\",IF(COUNTIF('MKTG MGMT 1Y'!A10:A29,\"Enrolled\")>=3,\"MAJOR COMPLETED THIS QUARTER\",IF(AND(AND(COUNTIF('MKTG MGMT 1Y'!A10:A29,\"Complete\")>=1),COUNTIF('MKTG MGMT 1Y'!A10:A29,\"Enrolled\")>=1,COUNTIF('MKTG MGMT 1Y'!A10:A29,\"Will Enroll\")>=1),\"MAJOR IN PROGRESS\",IF(AND(COUNTIF('MKTG MGMT 1Y'!A10:A29,\"Enrolled\")>=1,COUNTIF('MKTG MGMT 1Y'!A10:A29,\"Will Enroll\")>=2),\"MAJOR IN PROGRESS\",$A$138))))))))))","v":"NOT MAJORING IN THIS FIELD"}]
[{"$f":"IF(AND(COUNTIF('MKTG MGMT 1Y'!A10:A29,\"Complete\")>=2,COUNTIF('MKTG MGMT 1Y'!A10:A29,\"Enrolled\")>=1),\"MAJOR COMPLETED THIS QUARTER\",IF(AND(COUNTIF('MKTG MGMT 1Y'!A10:A29,\"Complete\")>=1,COUNTIF('MKTG MGMT 1Y'!A10:A29,\"Enrolled\")>=2),\"MAJOR COMPLETED THIS QUARTER\",IF(AND(COUNTIF('MKTG MGMT 1Y'!A10:A29,\"Complete\")>=2,COUNTIF('MKTG MGMT 1Y'!A10:A29,\"Will Enroll\")>=1),\"MAJOR IN PROGRESS\",IF(AND(COUNTIF('MKTG MGMT 1Y'!A10:A29,\"Complete\")>=1,COUNTIF('MKTG MGMT 1Y'!A10:A29,\"Will Enroll\")>=2),\"MAJOR IN PROGRESS\",IF(AND(COUNTIF('MKTG MGMT 1Y'!A10:A29,\"Enrolled\")>=2,COUNTIF('MKTG MGMT 1Y'!A10:A29,\"Will Enroll\")>=1),\"MAJOR IN PROGRESS\",IF(COUNTIF('MKTG MGMT 1Y'!A10:A29,\"Will Enroll\")>=3,\"MAJOR IN PROGRESS\",IF(COUNTIF('MKTG MGMT 1Y'!A10:A29,\"Complete\")>=3,\"MAJOR COMPLETED THIS QUARTER\",IF(COUNTIF('MKTG MGMT 1Y'!A10:A29,\"Enrolled\")>=3,\"MAJOR COMPLETED THIS QUARTER\",IF(AND(AND(COUNTIF('MKTG MGMT 1Y'!A10:A29,\"Complete\")>=1),COUNTIF('MKTG MGMT 1Y'!A10:A29,\"Enrolled\")>=1,COUNTIF('MKTG MGMT 1Y'!A10:A29,\"Will Enroll\")>=1),\"MAJOR IN PROGRESS\",IF(AND(COUNTIF('MKTG MGMT 1Y'!A10:A29,\"Enrolled\")>=1,COUNTIF('MKTG MGMT 1Y'!A10:A29,\"Will Enroll\")>=2),\"MAJOR IN PROGRESS\",$A$138))))))))))","v":"NOT MAJORING IN THIS FIELD"}]
[{"$f":"IF(AND(COUNTIF('MKTG MGMT 1Y'!A10:A29,\"Complete\")>=2,COUNTIF('MKTG MGMT 1Y'!A10:A29,\"Enrolled\")>=1),\"MAJOR IN PROGRESS\",IF(AND(COUNTIF('MKTG MGMT 1Y'!A10:A29,\"Complete\")>=1,COUNTIF('MKTG MGMT 1Y'!A10:A29,\"Enrolled\")>=2),\"MAJOR IN PROGRESS\",IF(AND(COUNTIF('MKTG MGMT 1Y'!A10:A29,\"Complete\")>=2,COUNTIF('MKTG MGMT 1Y'!A10:A29,\"Will Enroll\")>=1),\"MAJOR IN PROGRESS\",IF(AND(COUNTIF('MKTG MGMT 1Y'!A10:A29,\"Complete\")>=1,COUNTIF('MKTG MGMT 1Y'!A10:A29,\"Will Enroll\")>=2),\"MAJOR IN PROGRESS\",IF(AND(COUNTIF('MKTG MGMT 1Y'!A10:A29,\"Enrolled\")>=2,COUNTIF('MKTG MGMT 1Y'!A10:A29,\"Will Enroll\")>=1),\"MAJOR IN PROGRESS\",IF(COUNTIF('MKTG MGMT 1Y'!A10:A29,\"Will Enroll\")>=3,\"MAJOR IN PROGRESS\",IF(COUNTIF('MKTG MGMT 1Y'!A10:A29,\"Complete\")>=3,\"MAJOR IN PROGRESS\",IF(COUNTIF('MKTG MGMT 1Y'!A10:A29,\"Enrolled\")>=3,\"MAJOR IN PROGRESS\",IF(AND(AND(COUNTIF('MKTG MGMT 1Y'!A10:A29,\"Complete\")>=1),COUNTIF('MKTG MGMT 1Y'!A10:A29,\"Enrolled\")>=1,COUNTIF('MKTG MGMT 1Y'!A10:A29,\"Will Enroll\")>=1),\"MAJOR IN PROGRESS\",IF(AND(COUNTIF('MKTG MGMT 1Y'!A10:A29,\"Enrolled\")>=1,COUNTIF('MKTG MGMT 1Y'!A10:A29,\"Will Enroll\")>=2),\"MAJOR IN PROGRESS\",$A$138))))))))))","v":"NOT MAJORING IN THIS FIELD"}]
[{"$f":"IF(COUNTIF('MKTG MGMT 1Y'!A7:A8,\"Complete\")>=1,\"POTENTIAL MAJOR\",IF(COUNTIF('MKTG MGMT 1Y'!A7:A8,\"Enrolled\")>=1,\"POTENTIAL MAJOR\",IF(COUNTIF('MKTG MGMT 1Y'!A7:A8,\"Waived\")>=1,\"POTENTIAL MAJOR\",IF(COUNTIF('MKTG MGMT 1Y'!A7:A8,\"Will Enroll\")>=1,\"POTENTIAL MAJOR\",\"NOT MAJORING IN THIS FIELD\"))))","v":"NOT MAJORING IN THIS FIELD"}]
["Media Management"]
[{"$f":"IF(COUNTIF('Media MGMT'!A7:A10,\"Complete\")=3,\"MAJOR COMPLETED\",IF(AND(COUNTIF('Media MGMT'!A7:A10,\"Complete\")=2,COUNTIF('Media MGMT'!A7:A10,\"Enrolled\")>=1),\"MAJOR COMPLETED THIS QUARTER\",IF(AND(COUNTIF('Media MGMT'!A7:A10,\"Complete\")=1,COUNTIF('Media MGMT'!A7:A10,\"Enrolled\")>=2),\"MAJOR COMPLETED THIS QUARTER\",IF(COUNTIF('Media MGMT'!A7:A10,\"Enrolled\")=3,\"MAJOR COMPLETED THIS QUARTER\",IF(AND(COUNTIF('Media MGMT'!A7:A10,\"Complete\")>=2,COUNTIF('Media MGMT'!A7:A10,\"Will Enroll\")>=1),\"MAJOR IN PROGRESS\",IF(AND(COUNTIF('Media MGMT'!A7:A10,\"Complete\")>=1,COUNTIF('Media MGMT'!A7:A10,\"Will Enroll\")>=2),\"MAJOR IN PROGRESS\",IF(AND(COUNTIF('Media MGMT'!A7:A10,\"Enrolled\")>=2,COUNTIF('Media MGMT'!A7:A10,\"Will Enroll\")>=1),\"MAJOR IN PROGRESS\",IF(COUNTIF('Media MGMT'!A7:A10,\"Will Enroll\")>=3,\"MAJOR IN PROGRESS\",IF(AND(AND(COUNTIF('Media MGMT'!A7:A10,\"Complete\")>=1),COUNTIF('Media MGMT'!A7:A10,\"Enrolled\")>=1,COUNTIF('Media MGMT'!A7:A10,\"Will Enroll\")>=1),\"MAJOR IN PROGRESS\",IF(AND(COUNTIF('Media MGMT'!A7:A10,\"Enrolled\")>=1,COUNTIF('Media MGMT'!A7:A10,\"Will Enroll\")>=2),\"MAJOR IN PROGRESS\",IF(COUNTIF('Media MGMT'!A7:A10,\"Complete\")>=1,\"POTENTIAL MAJOR\",IF(COUNTIF('Media MGMT'!A7:A10,\"Enrolled\")>=1,\"POTENTIAL MAJOR\",IF(COUNTIF('Media MGMT'!A7:A10,\"Will Enroll\")>=1,\"POTENTIAL MAJOR\",\"NOT MAJORING IN THIS FIELD\")))))))))))))","v":"NOT MAJORING IN THIS FIELD"}]
["Operations Management"]
[{"$f":"IF(COUNTIF(OPNS!A7:A19,\"Complete\")=3,\"MAJOR COMPLETED\",IF(AND(COUNTIF(OPNS!A7:A19,\"Complete\")=2,COUNTIF(OPNS!A7:A19,\"Enrolled\")>=1),\"MAJOR COMPLETED THIS QUARTER\",IF(AND(COUNTIF(OPNS!A7:A19,\"Complete\")=1,COUNTIF(OPNS!A7:A19,\"Enrolled\")>=2),\"MAJOR COMPLETED THIS QUARTER\",IF(COUNTIF(OPNS!A7:A19,\"Enrolled\")=3,\"MAJOR COMPLETED THIS QUARTER\",IF(AND(COUNTIF(OPNS!A7:A19,\"Complete\")>=2,COUNTIF(OPNS!A7:A19,\"Will Enroll\")>=1),\"MAJOR IN PROGRESS\",IF(AND(COUNTIF(OPNS!A7:A19,\"Complete\")>=1,COUNTIF(OPNS!A7:A19,\"Will Enroll\")>=2),\"MAJOR IN PROGRESS\",IF(AND(COUNTIF(OPNS!A7:A19,\"Enrolled\")>=2,COUNTIF(OPNS!A7:A19,\"Will Enroll\")>=1),\"MAJOR IN PROGRESS\",IF(COUNTIF(OPNS!A7:A19,\"Will Enroll\")>=3,\"MAJOR IN PROGRESS\",IF(AND(AND(COUNTIF(OPNS!A7:A19,\"Complete\")>=1),COUNTIF(OPNS!A7:A19,\"Enrolled\")>=1,COUNTIF(OPNS!A7:A19,\"Will Enroll\")>=1),\"MAJOR IN PROGRESS\",IF(AND(COUNTIF(OPNS!A7:A19,\"Enrolled\")>=1,COUNTIF(OPNS!A7:A19,\"Will Enroll\")>=2),\"MAJOR IN PROGRESS\",IF(COUNTIF(OPNS!A7:A19,\"Complete\")>=1,\"POTENTIAL MAJOR\",IF(COUNTIF(OPNS!A7:A19,\"Enrolled\")>=1,\"POTENTIAL MAJOR\",IF(COUNTIF(OPNS!A7:A19,\"Will Enroll\")>=1,\"POTENTIAL MAJOR\",\"NOT MAJORING IN THIS FIELD\")))))))))))))","v":"NOT MAJORING IN THIS FIELD"}]
["Real Estate Management"]
[{"$f":"IF(AND('Real Estate MGMT'!A7=\"Complete\",COUNTIF('Real Estate MGMT'!A9:A16,\"Complete\")>=3),\"MAJOR COMPLETED\",IF(AND(AND('Real Estate MGMT'!A7=\"Complete\",COUNTIF('Real Estate MGMT'!A9:A16,\"Complete\")>=2,COUNTIF('Real Estate MGMT'!A9:A16,\"Enrolled\")>=1)),\"MAJOR COMPLETED THIS QUARTER\",IF(AND(AND('Real Estate MGMT'!A7=\"Complete\",COUNTIF('Real Estate MGMT'!A9:A16,\"Complete\")>=1,COUNTIF('Real Estate MGMT'!A9:A16,\"Enrolled\")>=2)),\"MAJOR COMPLETED THIS QUARTER\",IF(AND('Real Estate MGMT'!A7=\"Complete\",COUNTIF('Real Estate MGMT'!A9:A16,\"Enrolled\")>=3),\"MAJOR COMPLETED THIS QUARTER\",IF(AND('Real Estate MGMT'!A7=\"Enrolled\",COUNTIF('Real Estate MGMT'!A9:A16,\"Enrolled\")>=3),\"MAJOR COMPLETED THIS QUARTER\",IF(AND(AND('Real Estate MGMT'!A7=\"Enrolled\",COUNTIF('Real Estate MGMT'!A9:A16,\"Complete\")>=2),COUNTIF('Real Estate MGMT'!A9:A16,\"Enrolled\")>=1),\"MAJOR COMPLETED THIS QUARTER\",IF(AND(AND('Real Estate MGMT'!A7=\"Enrolled\",COUNTIF('Real Estate MGMT'!A9:A16,\"Complete\")>=1),COUNTIF('Real Estate MGMT'!A9:A16,\"Enrolled\")>=2),\"MAJOR COMPLETED THIS QUARTER\",IF(AND('Real Estate MGMT'!A7=\"Enrolled\",COUNTIF('Real Estate MGMT'!A9:A16,\"Complete\")>=3),\"MAJOR COMPLETED THIS QUARTER\",$A$145))))))))","v":"NOT MAJORING IN THIS FIELD"}]
[{"$f":"IF(OR(OR('Real Estate MGMT'!A7=\"Complete\",'Real Estate MGMT'!A7=\"Enrolled\",'Real Estate MGMT'!A7=\"Will Enroll\")),$A$146,$A$147)","v":"NOT MAJORING IN THIS FIELD"}]
[{"$f":"IF(AND(COUNTIF('Real Estate MGMT'!A9:A16,\"Complete\")>=2,COUNTIF('Real Estate MGMT'!A9:A16,\"Enrolled\")>=1),\"MAJOR IN PROGRESS\",IF(AND(COUNTIF('Real Estate MGMT'!A9:A16,\"Complete\")>=1,COUNTIF('Real Estate MGMT'!A9:A16,\"Enrolled\")>=2),\"MAJOR IN PROGRESS\",IF(AND(COUNTIF('Real Estate MGMT'!A9:A16,\"Complete\")>=2,COUNTIF('Real Estate MGMT'!A9:A16,\"Will Enroll\")>=1),\"MAJOR IN PROGRESS\",IF(AND(COUNTIF('Real Estate MGMT'!A9:A16,\"Complete\")>=1,COUNTIF('Real Estate MGMT'!A9:A16,\"Will Enroll\")>=2),\"MAJOR IN PROGRESS\",IF(AND(COUNTIF('Real Estate MGMT'!A9:A16,\"Enrolled\")>=2,COUNTIF('Real Estate MGMT'!A9:A16,\"Will Enroll\")>=1),\"MAJOR IN PROGRESS\",IF(COUNTIF('Real Estate MGMT'!A9:A16,\"Will Enroll\")>=3,\"MAJOR IN PROGRESS\",IF(COUNTIF('Real Estate MGMT'!A9:A16,\"Complete\")>=3,\"MAJOR IN PROGRESS\",IF(COUNTIF('Real Estate MGMT'!A9:A16,\"Enrolled\")>=3,\"MAJOR IN PROGRESS\",IF(AND(AND(COUNTIF('Real Estate MGMT'!A9:A16,\"Complete\")>=1),COUNTIF('Real Estate MGMT'!A9:A16,\"Enrolled\")>=1,COUNTIF('Real Estate MGMT'!A9:A16,\"Will Enroll\")>=1),\"MAJOR IN PROGRESS\",IF(AND(COUNTIF('Real Estate MGMT'!A9:A16,\"Enrolled\")>=1,COUNTIF('Real Estate MGMT'!A9:A16,\"Will Enroll\")>=2),\"MAJOR IN PROGRESS\",$A$147))))))))))","v":"NOT MAJORING IN THIS FIELD"}]
[{"$f":"IF('Real Estate MGMT'!A7=\"Complete\",\"POTENTIAL MAJOR\",IF('Real Estate MGMT'!A7=\"Enrolled\",\"POTENTIAL MAJOR\",IF('Real Estate MGMT'!A7=\"Will Enroll\",\"POTENTIAL MAJOR\",\"NOT MAJORING IN THIS FIELD\")))","v":"NOT MAJORING IN THIS FIELD"}]
["Social Enterprise at Kellogg (SEEK)"]
[{"$f":"IF(AND(AND(COUNTIF(SEEK!A8:A9,\"Complete\")>=2,COUNTIF(SEEK!A11:A13,\"Complete\")>=1),COUNTIF(SEEK!A15:A25,\"Complete\")>=1),\"MAJOR COMPLETED\",IF(AND(AND(COUNTIF(SEEK!A8:A9,\"Complete\")>=2,COUNTIF(SEEK!A11:A13,\"Enrolled\")>=1),COUNTIF(SEEK!A15:A25,\"Complete\")>=1),\"MAJOR COMPLETED THIS QUARTER\",IF(AND(AND(COUNTIF(SEEK!A8:A9,\"Complete\")>=2,COUNTIF(SEEK!A11:A13,\"Complete\")>=1),COUNTIF(SEEK!A15:A25,\"Enrolled\")>=1),\"MAJOR COMPLETED THIS QUARTER\",IF(AND(AND(COUNTIF(SEEK!A8:A9,\"Complete\")>=2,COUNTIF(SEEK!A11:A13,\"Enrolled\")>=1),COUNTIF(SEEK!A15:A25,\"Enrolled\")>=1),\"MAJOR COMPLETED THIS QUARTER\",IF(AND(AND(AND(COUNTIF(SEEK!A8:A9,\"Complete\")=1,COUNTIF(SEEK!A8:A9,\"Enrolled\")=1),COUNTIF(SEEK!A11:A13,\"Complete\")>=1),COUNTIF(SEEK!A15:A25,\"Complete\")>=1),\"MAJOR COMPLETED THIS QUARTER\",IF(AND(AND(AND(COUNTIF(SEEK!A8:A9,\"Complete\")=1,COUNTIF(SEEK!A8:A9,\"Enrolled\")=1),COUNTIF(SEEK!A11:A13,\"Enrolled\")>=1),COUNTIF(SEEK!A15:A25,\"Complete\")>=1),\"MAJOR COMPLETED THIS QUARTER\",IF(AND(AND(AND(COUNTIF(SEEK!A8:A9,\"Complete\")=1,COUNTIF(SEEK!A8:A9,\"Enrolled\")=1),COUNTIF(SEEK!A11:A13,\"Complete\")>=1),COUNTIF(SEEK!A15:A25,\"Enrolled\")>=1),\"MAJOR COMPLETED THIS QUARTER\",IF(AND(AND(AND(COUNTIF(SEEK!A8:A9,\"Complete\")=1,COUNTIF(SEEK!A8:A9,\"Enrolled\")=1),COUNTIF(SEEK!A11:A13,\"Enrolled\")>=1),COUNTIF(SEEK!A15:A25,\"Enrolled\")>=1),\"MAJOR COMPLETED THIS QUARTER\",IF(AND(AND(COUNTIF(SEEK!A8:A9,\"Enrolled\")=2,COUNTIF(SEEK!A11:A13,\"Complete\")>=1),COUNTIF(SEEK!A15:A25,\"Complete\")>=1),\"MAJOR COMPLETED THIS QUARTER\",IF(AND(AND(COUNTIF(SEEK!A8:A9,\"Enrolled\")=2,COUNTIF(SEEK!A11:A13,\"Enrolled\")>=1),COUNTIF(SEEK!A15:A25,\"Complete\")>=1),\"MAJOR COMPLETED THIS QUARTER\",IF(AND(AND(COUNTIF(SEEK!A8:A9,\"Enrolled\")=2,COUNTIF(SEEK!A11:A13,\"Complete\")>=1),COUNTIF(SEEK!A15:A25,\"Enrolled\")>=1),\"MAJOR COMPLETED THIS QUARTER\",IF(AND(AND(COUNTIF(SEEK!A8:A9,\"Enrolled\")=2,COUNTIF(SEEK!A11:A13,\"Enrolled\")>=1),COUNTIF(SEEK!A15:A25,\"Enrolled\")>=1),\"MAJOR COMPLETED THIS QUARTER\",$A$150))))))))))))","v":"POTENTIAL MAJOR"}]
[{"$f":"IF(AND(AND(COUNTIF(SEEK!A8:A9,\"Will Enroll\")=2,COUNTIF(SEEK!A11:A13,\"Will Enroll\")>=1,COUNTIF(SEEK!A15:A24,\"Complete\")>=1)),\"MAJOR IN PROGRESS\",IF(AND(AND(COUNTIF(SEEK!A8:A9,\"Will Enroll\")=2,COUNTIF(SEEK!A11:A13,\"Complete\")>=1,COUNTIF(SEEK!A15:A24,\"Complete\")>=1)),\"MAJOR IN PROGRESS\",IF(AND(AND(COUNTIF(SEEK!A8:A9,\"Will Enroll\")=2,COUNTIF(SEEK!A11:A13,\"Complete\")>=1,COUNTIF(SEEK!A15:A24,\"Enrolled\")>=1)),\"MAJOR IN PROGRESS\",IF(AND(AND(COUNTIF(SEEK!A8:A9,\"Will Enroll\")=2,COUNTIF(SEEK!A11:A13,\"Complete\")>=1,COUNTIF(SEEK!A15:A24,\"Will Enroll\")>=1)),\"MAJOR IN PROGRESS\",IF(AND(AND(COUNTIF(SEEK!A8:A9,\"Will Enroll\")=2,COUNTIF(SEEK!A11:A13,\"Complete\")>=1,COUNTIF(SEEK!A15:A24,\"Will Enroll\")>=1)),\"MAJOR IN PROGRESS\",IF(AND(AND(COUNTIF(SEEK!A8:A9,\"Will Enroll\")=2,COUNTIF(SEEK!A11:A13,\"Enrolled\")>=1,COUNTIF(SEEK!A15:A24,\"Complete\")>=1)),\"MAJOR IN PROGRESS\",IF(AND(AND(COUNTIF(SEEK!A8:A9,\"Will Enroll\")=2,COUNTIF(SEEK!A11:A13,\"Enrolled\")>=1,COUNTIF(SEEK!A15:A24,\"Will Enroll\")>=1)),\"MAJOR IN PROGRESS\",IF(AND(AND(COUNTIF(SEEK!A8:A9,\"Will Enroll\")=2,COUNTIF(SEEK!A11:A13,\"Will Enroll\")>=1,COUNTIF(SEEK!A15:A24,\"Enrolled\")>=1)),\"MAJOR IN PROGRESS\",IF(AND(AND(COUNTIF(SEEK!A8:A9,\"Will Enroll\")=2,COUNTIF(SEEK!A11:A13,\"Enrolled\")>=1,COUNTIF(SEEK!A15:A24,\"Enrolled\")>=1)),\"MAJOR IN PROGRESS\",IF(AND(AND(COUNTIF(SEEK!A8:A9,\"Will Enroll\")=2,COUNTIF(SEEK!A11:A13,\"Will Enroll\")>=1,COUNTIF(SEEK!A15:A24,\"Will Enroll\")>=1)),\"MAJOR IN PROGRESS\",IF(AND(AND(AND(COUNTIF(SEEK!A8:A9,\"Complete\")=1,COUNTIF(SEEK!A8:A9,\"Will Enroll\")=1,COUNTIF(SEEK!A11:A13,\"Will Enroll\")>=1,COUNTIF(SEEK!A15:A24,\"Complete\")>=1))),\"MAJOR IN PROGRESS\",IF(AND(AND(AND(COUNTIF(SEEK!A8:A9,\"Complete\")=1,COUNTIF(SEEK!A8:A9,\"Will Enroll\")=1,COUNTIF(SEEK!A11:A13,\"Complete\")>=1,COUNTIF(SEEK!A15:A24,\"Complete\")>=1))),\"MAJOR IN PROGRESS\",IF(AND(AND(AND(COUNTIF(SEEK!A8:A9,\"Complete\")=1,COUNTIF(SEEK!A8:A9,\"Will Enroll\")=1,COUNTIF(SEEK!A11:A13,\"Complete\")>=1,COUNTIF(SEEK!A15:A24,\"Enrolled\")>=1))),\"MAJOR IN PROGRESS\",IF(AND(AND(AND(COUNTIF(SEEK!A8:A9,\"Complete\")=1,COUNTIF(SEEK!A8:A9,\"Will Enroll\")=1,COUNTIF(SEEK!A11:A13,\"Complete\")>=1,COUNTIF(SEEK!A15:A24,\"Will Enroll\")>=1))),\"MAJOR IN PROGRESS\",IF(AND(AND(AND(COUNTIF(SEEK!A8:A9,\"Complete\")=1,COUNTIF(SEEK!A8:A9,\"Will Enroll\")=1,COUNTIF(SEEK!A11:A13,\"Complete\")>=1,COUNTIF(SEEK!A15:A24,\"Will Enroll\")>=1))),\"MAJOR IN PROGRESS\",IF(AND(AND(AND(COUNTIF(SEEK!A8:A9,\"Complete\")=1,COUNTIF(SEEK!A8:A9,\"Will Enroll\")=1,COUNTIF(SEEK!A11:A13,\"Enrolled\")>=1,COUNTIF(SEEK!A15:A24,\"Complete\")>=1))),\"MAJOR IN PROGRESS\",IF(AND(AND(AND(COUNTIF(SEEK!A8:A9,\"Complete\")=1,COUNTIF(SEEK!A8:A9,\"Will Enroll\")=1,COUNTIF(SEEK!A11:A13,\"Enrolled\")>=1,COUNTIF(SEEK!A15:A24,\"Will Enroll\")>=1))),\"MAJOR IN PROGRESS\",IF(AND(AND(AND(COUNTIF(SEEK!A8:A9,\"Complete\")=1,COUNTIF(SEEK!A8:A9,\"Will Enroll\")=1,COUNTIF(SEEK!A11:A13,\"Will Enroll\")>=1,COUNTIF(SEEK!A15:A24,\"Enrolled\")>=1))),\"MAJOR IN PROGRESS\",IF(AND(AND(AND(COUNTIF(SEEK!A8:A9,\"Complete\")=1,COUNTIF(SEEK!A8:A9,\"Will Enroll\")=1,COUNTIF(SEEK!A11:A13,\"Enrolled\")>=1,COUNTIF(SEEK!A15:A24,\"Enrolled\")>=1))),\"MAJOR IN PROGRESS\",IF(AND(AND(AND(COUNTIF(SEEK!A8:A9,\"Complete\")=1,COUNTIF(SEEK!A8:A9,\"Will Enroll\")=1,COUNTIF(SEEK!A11:A13,\"Will Enroll\")>=1,COUNTIF(SEEK!A15:A24,\"Will Enroll\")>=1))),\"MAJOR IN PROGRESS\",IF(AND(AND(AND(COUNTIF(SEEK!A8:A9,\"Enrolled\")=1,COUNTIF(SEEK!A8:A9,\"Will Enroll\")=1,COUNTIF(SEEK!A11:A13,\"Complete\")>=1,COUNTIF(SEEK!A15:A24,\"Complete\")>=1))),\"MAJOR IN PROGRESS\",IF(AND(AND(AND(COUNTIF(SEEK!A8:A9,\"Enrolled\")=1,COUNTIF(SEEK!A8:A9,\"Will Enroll\")=1,COUNTIF(SEEK!A11:A13,\"Will Enroll\")>=1,COUNTIF(SEEK!A15:A24,\"Complete\")>=1))),\"MAJOR IN PROGRESS\",IF(AND(AND(AND(COUNTIF(SEEK!A8:A9,\"Enrolled\")=1,COUNTIF(SEEK!A8:A9,\"Will Enroll\")=1,COUNTIF(SEEK!A11:A13,\"Complete\")>=1,COUNTIF(SEEK!A15:A24,\"Enrolled\")>=1))),\"MAJOR IN PROGRESS\",IF(AND(AND(AND(COUNTIF(SEEK!A8:A9,\"Enrolled\")=1,COUNTIF(SEEK!A8:A9,\"Will Enroll\")=1,COUNTIF(SEEK!A11:A13,\"Complete\")>=1,COUNTIF(SEEK!A15:A24,\"Will Enroll\")>=1))),\"MAJOR IN PROGRESS\",IF(AND(AND(AND(COUNTIF(SEEK!A8:A9,\"Enrolled\")=1,COUNTIF(SEEK!A8:A9,\"Will Enroll\")=1,COUNTIF(SEEK!A11:A13,\"Complete\")>=1,COUNTIF(SEEK!A15:A24,\"Will Enroll\")>=1))),\"MAJOR IN PROGRESS\",IF(AND(AND(AND(COUNTIF(SEEK!A8:A9,\"Enrolled\")=1,COUNTIF(SEEK!A8:A9,\"Will Enroll\")=1,COUNTIF(SEEK!A11:A13,\"Enrolled\")>=1,COUNTIF(SEEK!A15:A24,\"Complete\")>=1))),\"MAJOR IN PROGRESS\",IF(AND(AND(AND(COUNTIF(SEEK!A8:A9,\"Enrolled\")=1,COUNTIF(SEEK!A8:A9,\"Will Enroll\")=1,COUNTIF(SEEK!A11:A13,\"Enrolled\")>=1,COUNTIF(SEEK!A15:A24,\"Will Enroll\")>=1))),\"MAJOR IN PROGRESS\",IF(AND(AND(AND(COUNTIF(SEEK!A8:A9,\"Enrolled\")=1,COUNTIF(SEEK!A8:A9,\"Will Enroll\")=1,COUNTIF(SEEK!A11:A13,\"Will Enroll\")>=1,COUNTIF(SEEK!A15:A24,\"Enrolled\")>=1))),\"MAJOR IN PROGRESS\",IF(AND(AND(AND(COUNTIF(SEEK!A8:A9,\"Enrolled\")=1,COUNTIF(SEEK!A8:A9,\"Will Enroll\")=1,COUNTIF(SEEK!A11:A13,\"Enrolled\")>=1,COUNTIF(SEEK!A15:A24,\"Enrolled\")>=1))),\"MAJOR IN PROGRESS\",IF(AND(AND(AND(COUNTIF(SEEK!A8:A9,\"Enrolled\")=1,COUNTIF(SEEK!A8:A9,\"Will Enroll\")=1,COUNTIF(SEEK!A11:A13,\"Will Enroll\")>=1,COUNTIF(SEEK!A15:A24,\"Will Enroll\")>=1))),\"MAJOR IN PROGRESS\",IF(AND(AND(COUNTIF(SEEK!A8:A9,\"Complete\")=2,COUNTIF(SEEK!A11:A13,\"Complete\")>=1,COUNTIF(SEEK!A15:A24,\"Will Enroll\")>=1)),\"MAJOR IN PROGRESS\",IF(AND(AND(COUNTIF(SEEK!A8:A9,\"Complete\")=2,COUNTIF(SEEK!A11:A13,\"Will Enroll\")>=1,COUNTIF(SEEK!A15:A24,\"Complete\")>=1)),\"MAJOR IN PROGRESS\",IF(AND(AND(COUNTIF(SEEK!A8:A9,\"Complete\")=2,COUNTIF(SEEK!A11:A13,\"Complete\")>=1,COUNTIF(SEEK!A15:A24,\"Will Enroll\")>=1)),\"MAJOR IN PROGRESS\",IF(AND(AND(COUNTIF(SEEK!A8:A9,\"Complete\")=2,COUNTIF(SEEK!A11:A13,\"Enrolled\")>=1,COUNTIF(SEEK!A15:A24,\"Will Enroll\")>=1)),\"MAJOR IN PROGRESS\",IF(AND(AND(COUNTIF(SEEK!A8:A9,\"Complete\")=2,COUNTIF(SEEK!A11:A13,\"Will Enroll\")>=1,COUNTIF(SEEK!A15:A24,\"Enrolled\")>=1)),\"MAJOR IN PROGRESS\",IF(AND(AND(COUNTIF(SEEK!A8:A9,\"Complete\")=2,COUNTIF(SEEK!A11:A13,\"Will Enroll\")>=1,COUNTIF(SEEK!A15:A24,\"Will Enroll\")>=1)),\"MAJOR IN PROGRESS\",IF(AND(AND(AND(COUNTIF(SEEK!A8:A9,\"Complete\")=1,COUNTIF(SEEK!A8:A9,\"Enrolled\")=1,COUNTIF(SEEK!A11:A13,\"Complete\")>=1,COUNTIF(SEEK!A15:A24,\"Will Enroll\")>=1))),\"MAJOR IN PROGRESS\",IF(AND(AND(AND(COUNTIF(SEEK!A8:A9,\"Complete\")=1,COUNTIF(SEEK!A8:A9,\"Enrolled\")=1,COUNTIF(SEEK!A11:A13,\"Will Enroll\")>=1,COUNTIF(SEEK!A15:A24,\"Complete\")>=1))),\"MAJOR IN PROGRESS\",IF(AND(AND(AND(COUNTIF(SEEK!A8:A9,\"Complete\")=1,COUNTIF(SEEK!A8:A9,\"Enrolled\")=1,COUNTIF(SEEK!A11:A13,\"Complete\")>=1,COUNTIF(SEEK!A15:A24,\"Will Enroll\")>=1))),\"MAJOR IN PROGRESS\",IF(AND(AND(AND(COUNTIF(SEEK!A8:A9,\"Complete\")=1,COUNTIF(SEEK!A8:A9,\"Enrolled\")=1,COUNTIF(SEEK!A11:A13,\"Enrolled\")>=1,COUNTIF(SEEK!A15:A24,\"Will Enroll\")>=1))),\"MAJOR IN PROGRESS\",IF(AND(AND(AND(COUNTIF(SEEK!A8:A9,\"Complete\")=1,COUNTIF(SEEK!A8:A9,\"Enrolled\")=1,COUNTIF(SEEK!A11:A13,\"Will Enroll\")>=1,COUNTIF(SEEK!A15:A24,\"Enrolled\")>=1))),\"MAJOR IN PROGRESS\",IF(AND(AND(AND(COUNTIF(SEEK!A8:A9,\"Complete\")=1,COUNTIF(SEEK!A8:A9,\"Enrolled\")=1,COUNTIF(SEEK!A11:A13,\"Will Enroll\")>=1,COUNTIF(SEEK!A15:A24,\"Will Enroll\")>=1))),\"MAJOR IN PROGRESS\",IF(AND(AND(COUNTIF(SEEK!A8:A9,\"Enrolled\")=2,COUNTIF(SEEK!A11:A13,\"Complete\")>=1,COUNTIF(SEEK!A15:A24,\"Will Enroll\")>=1)),\"MAJOR IN PROGRESS\",IF(AND(AND(COUNTIF(SEEK!A8:A9,\"Enrolled\")=2,COUNTIF(SEEK!A11:A13,\"Will Enroll\")>=1,COUNTIF(SEEK!A15:A24,\"Complete\")>=1)),\"MAJOR IN PROGRESS\",IF(AND(AND(COUNTIF(SEEK!A8:A9,\"Enrolled\")=2,COUNTIF(SEEK!A11:A13,\"Complete\")>=1,COUNTIF(SEEK!A15:A24,\"Will Enroll\")>=1)),\"MAJOR IN PROGRESS\",IF(AND(AND(COUNTIF(SEEK!A8:A9,\"Enrolled\")=2,COUNTIF(SEEK!A11:A13,\"Enrolled\")>=1,COUNTIF(SEEK!A15:A24,\"Will Enroll\")>=1)),\"MAJOR IN PROGRESS\",IF(AND(AND(COUNTIF(SEEK!A8:A9,\"Enrolled\")=2,COUNTIF(SEEK!A11:A13,\"Will Enroll\")>=1,COUNTIF(SEEK!A15:A24,\"Enrolled\")>=1)),\"MAJOR IN PROGRESS\",IF(AND(AND(COUNTIF(SEEK!A8:A9,\"Enrolled\")=2,COUNTIF(SEEK!A11:A13,\"Will Enroll\")>=1,COUNTIF(SEEK!A15:A24,\"Will Enroll\")>=1)),\"MAJOR IN PROGRESS\",$A$151))))))))))))))))))))))))))))))))))))))))))))))))","v":"POTENTIAL MAJOR"}]
[{"$f":"IF(AND(COUNTIF(SEEK!A8:A9,\"Complete\")>=2,COUNTIF(SEEK!A11:A13,\"Complete\")>=2),\"MAJOR COMPLETED\",IF(AND(AND(COUNTIF(SEEK!A8:A9,\"Complete\")>=2,COUNTIF(SEEK!A11:A13,\"Complete\")>=1),COUNTIF(SEEK!A11:A13,\"Enrolled\")>=1),\"MAJOR COMPLETED THIS QUARTER\",IF(AND(AND(COUNTIF(SEEK!A8:A9,\"Complete\")>=2,COUNTIF(SEEK!A11:A13,\"Complete\")>=1),COUNTIF(SEEK!A11:A13,\"Will Enroll\")>=1),\"MAJOR IN PROGRESS\",IF(AND(COUNTIF(SEEK!A8:A9,\"Complete\")>=2,COUNTIF(SEEK!A11:A13,\"Enrolled\")>=2),\"MAJOR COMPLETED THIS QUARTER\",IF(AND(COUNTIF(SEEK!A8:A9,\"Complete\")>=2,COUNTIF(SEEK!A11:A13,\"Will Enroll\")>=2),\"MAJOR IN PROGRESS\",IF(AND(AND(COUNTIF(SEEK!A8:A9,\"Complete\")>=2,COUNTIF(SEEK!A11:A13,\"Enrolled\")>=1),COUNTIF(SEEK!A11:A13,\"Will Enroll\")>=1),\"MAJOR COMPLETED THIS QUARTER\",IF(AND(COUNTIF(SEEK!A8:A9,\"Enrolled\")>=2,COUNTIF(SEEK!A11:A13,\"Complete\")>=2),\"MAJOR COMPLETED THIS QUARTER\",IF(AND(AND(COUNTIF(SEEK!A8:A9,\"Enrolled\")>=2,COUNTIF(SEEK!A11:A13,\"Complete\")>=1),COUNTIF(SEEK!A11:A13,\"Enrolled\")>=1),\"MAJOR COMPLETED THIS QUARTER\",IF(AND(AND(COUNTIF(SEEK!A8:A9,\"Enrolled\")>=2,COUNTIF(SEEK!A11:A13,\"Complete\")>=1),COUNTIF(SEEK!A11:A13,\"Will Enroll\")>=1),\"MAJOR IN PROGRESS\",IF(AND(COUNTIF(SEEK!A8:A9,\"Enrolled\")>=2,COUNTIF(SEEK!A11:A13,\"Enrolled\")>=2),\"MAJOR COMPLETED THIS QUARTER\",IF(AND(COUNTIF(SEEK!A8:A9,\"Enrolled\")>=2,COUNTIF(SEEK!A11:A13,\"Will Enroll\")>=2),\"MAJOR IN PROGRESS\",IF(AND(AND(COUNTIF(SEEK!A8:A9,\"Enrolled\")>=2,COUNTIF(SEEK!A11:A13,\"Enrolled\")>=1),COUNTIF(SEEK!A11:A13,\"Will Enroll\")>=1),\"MAJOR IN PROGRESS\",IF(AND(COUNTIF(SEEK!A8:A9,\"Will Enroll\")>=2,COUNTIF(SEEK!A11:A13,\"Complete\")>=2),\"MAJOR IN PROGRESS\",IF(AND(AND(COUNTIF(SEEK!A8:A9,\"Will Enroll\")>=2,COUNTIF(SEEK!A11:A13,\"Complete\")>=1),COUNTIF(SEEK!A11:A13,\"Enrolled\")>=1),\"MAJOR IN PROGRESS\",IF(AND(AND(COUNTIF(SEEK!A8:A9,\"Will Enroll\")>=2,COUNTIF(SEEK!A11:A13,\"Complete\")>=1),COUNTIF(SEEK!A11:A13,\"Will Enroll\")>=1),\"MAJOR IN PROGRESS\",IF(AND(COUNTIF(SEEK!A8:A9,\"Will Enroll\")>=2,COUNTIF(SEEK!A11:A13,\"Enrolled\")>=2),\"MAJOR IN PROGRESS\",IF(AND(COUNTIF(SEEK!A8:A9,\"Will Enroll\")>=2,COUNTIF(SEEK!A11:A13,\"Will Enroll\")>=2),\"MAJOR IN PROGRESS\",IF(AND(AND(COUNTIF(SEEK!A8:A9,\"Will Enroll\")>=2,COUNTIF(SEEK!A11:A13,\"Enrolled\")>=1),COUNTIF(SEEK!A11:A13,\"Will Enroll\")>=1),\"MAJOR IN PROGRESS\",IF(AND(AND(AND(COUNTIF(SEEK!A8:A9,\"Enrolled\")>=1,COUNTIF(SEEK!A8:A9,\"Will Enroll\")>=1),COUNTIF(SEEK!A11:A13,\"Complete\")>=1),COUNTIF(SEEK!A11:A13,\"Enrolled\")>=1),\"MAJOR IN PROGRESS\",IF(AND(AND(AND(COUNTIF(SEEK!A8:A9,\"Enrolled\")>=1,COUNTIF(SEEK!A8:A9,\"Will Enroll\")>=1),COUNTIF(SEEK!A11:A13,\"Complete\")>=1),COUNTIF(SEEK!A11:A13,\"Will Enroll\")>=1),\"MAJOR IN PROGRESS\",IF(AND(AND(AND(COUNTIF(SEEK!A8:A9,\"Enrolled\")>=1,COUNTIF(SEEK!A8:A9,\"Will Enroll\")>=1),COUNTIF(SEEK!A11:A13,\"Enrolled\")>=1),COUNTIF(SEEK!A11:A13,\"Will Enroll\")>=1),\"MAJOR IN PROGRESS\",IF(AND(AND(COUNTIF(SEEK!A8:A9,\"Enrolled\")>=1,COUNTIF(SEEK!A8:A9,\"Will Enroll\")>=1),COUNTIF(SEEK!A11:A13,\"Complete\")>=2),\"MAJOR IN PROGRESS\",IF(AND(AND(COUNTIF(SEEK!A8:A9,\"Enrolled\")>=1,COUNTIF(SEEK!A8:A9,\"Will Enroll\")>=1),COUNTIF(SEEK!A11:A13,\"Enrolled\")>=2),\"MAJOR IN PROGRESS\",IF(AND(AND(COUNTIF(SEEK!A8:A9,\"Enrolled\")>=1,COUNTIF(SEEK!A8:A9,\"Will Enroll\")>=1),COUNTIF(SEEK!A11:A13,\"Will Enroll\")>=2),\"MAJOR IN PROGRESS\",IF(AND(AND(AND(COUNTIF(SEEK!A8:A9,\"Complete\")>=1,COUNTIF(SEEK!A8:A9,\"Enrolled\")>=1),COUNTIF(SEEK!A11:A13,\"Complete\")>=1),COUNTIF(SEEK!A11:A13,\"Enrolled\")>=1),\"MAJOR IN PROGRESS\",IF(AND(AND(AND(COUNTIF(SEEK!A8:A9,\"Complete\")>=1,COUNTIF(SEEK!A8:A9,\"Enrolled\")>=1),COUNTIF(SEEK!A11:A13,\"Complete\")>=1),COUNTIF(SEEK!A11:A13,\"Will Enroll\")>=1),\"MAJOR IN PROGRESS\",IF(AND(AND(AND(COUNTIF(SEEK!A8:A9,\"Complete\")>=1,COUNTIF(SEEK!A8:A9,\"Enrolled\")>=1),COUNTIF(SEEK!A11:A13,\"Enrolled\")>=1),COUNTIF(SEEK!A11:A13,\"Will Enroll\")>=1),\"MAJOR IN PROGRESS\",IF(AND(AND(COUNTIF(SEEK!A8:A9,\"Complete\")>=1,COUNTIF(SEEK!A8:A9,\"Enrolled\")>=1),COUNTIF(SEEK!A11:A13,\"Complete\")>=2),\"MAJOR IN PROGRESS\",IF(AND(AND(COUNTIF(SEEK!A8:A9,\"Complete\")>=1,COUNTIF(SEEK!A8:A9,\"Enrolled\")>=1),COUNTIF(SEEK!A11:A13,\"Enrolled\")>=2),\"MAJOR IN PROGRESS\",IF(AND(AND(COUNTIF(SEEK!A8:A9,\"Complete\")>=1,COUNTIF(SEEK!A8:A9,\"Enrolled\")>=1),COUNTIF(SEEK!A11:A13,\"Will Enroll\")>=2),\"MAJOR IN PROGRESS\",IF(AND(AND(AND(COUNTIF(SEEK!A8:A9,\"Complete\")>=1,COUNTIF(SEEK!A8:A9,\"Will Enroll\")>=1),COUNTIF(SEEK!A11:A13,\"Complete\")>=1),COUNTIF(SEEK!A11:A13,\"Enrolled\")>=1),\"MAJOR IN PROGRESS\",IF(AND(AND(AND(COUNTIF(SEEK!A8:A9,\"Complete\")>=1,COUNTIF(SEEK!A8:A9,\"Will Enroll\")>=1),COUNTIF(SEEK!A11:A13,\"Complete\")>=1),COUNTIF(SEEK!A11:A13,\"Will Enroll\")>=1),\"MAJOR IN PROGRESS\",IF(AND(AND(AND(COUNTIF(SEEK!A8:A9,\"Complete\")>=1,COUNTIF(SEEK!A8:A9,\"Will Enroll\")>=1),COUNTIF(SEEK!A11:A13,\"Enrolled\")>=1),COUNTIF(SEEK!A11:A13,\"Will Enroll\")>=1),\"MAJOR IN PROGRESS\",IF(AND(AND(COUNTIF(SEEK!A8:A9,\"Complete\")>=1,COUNTIF(SEEK!A8:A9,\"Will Enroll\")>=1),COUNTIF(SEEK!A11:A13,\"Complete\")>=2),\"MAJOR IN PROGRESS\",IF(AND(AND(COUNTIF(SEEK!A8:A9,\"Complete\")>=1,COUNTIF(SEEK!A8:A9,\"Will Enroll\")>=1),COUNTIF(SEEK!A11:A13,\"Enrolled\")>=2),\"MAJOR IN PROGRESS\",IF(AND(AND(COUNTIF(SEEK!A8:A9,\"Complete\")>=1,COUNTIF(SEEK!A8:A9,\"Will Enroll\")>=1),COUNTIF(SEEK!A11:A13,\"Will Enroll\")>=2),\"MAJOR IN PROGRESS\",IF(COUNTIF(SEEK!A8:A13,\"Complete\")>=1,\"POTENTIAL MAJOR\",IF(COUNTIF(SEEK!A8:A13,\"Enrolled\")>=1,\"POTENTIAL MAJOR\",IF(COUNTIF(SEEK!A8:A13,\"Will Enroll\")>=1,\"POTENTIAL MAJOR\")))))))))))))))))))))))))))))))))))))))","v":"POTENTIAL MAJOR"}]
["SEEK - Nonprofit specialization"]
[{"$f":"IF(AND(AND(COUNTIF(SEEK!A35:A37,\"Complete\")>=3,COUNTIF(SEEK!A39:A42,\"Complete\")>=1),COUNTIF(SEEK!A46:A57,\"Complete\")>=1),\"MAJOR COMPLETED\",IF(AND(AND(COUNTIF(SEEK!A35:A37,\"Complete\")>=3,COUNTIF(SEEK!A39:A42,\"Enrolled\")>=1),COUNTIF(SEEK!A46:A57,\"Complete\")>=1),\"MAJOR COMPLETED THIS QUARTER\",IF(AND(AND(COUNTIF(SEEK!A35:A37,\"Complete\")>=3,COUNTIF(SEEK!A39:A42,\"Complete\")>=1),COUNTIF(SEEK!A46:A57,\"Enrolled\")>=1),\"MAJOR COMPLETED THIS QUARTER\",IF(AND(AND(COUNTIF(SEEK!A35:A37,\"Complete\")>=3,COUNTIF(SEEK!A39:A42,\"Enrolled\")>=1),COUNTIF(SEEK!A46:A57,\"Enrolled\")>=1),\"MAJOR COMPLETED THIS QUARTER\",IF(AND(AND(AND(COUNTIF(SEEK!A35:A37,\"Complete\")=2,COUNTIF(SEEK!A35:A37,\"Enrolled\")=1),COUNTIF(SEEK!A39:A42,\"Complete\")>=1),COUNTIF(SEEK!A46:A57,\"Complete\")>=1),\"MAJOR COMPLETED THIS QUARTER\",IF(AND(AND(AND(COUNTIF(SEEK!A35:A37,\"Complete\")=2,COUNTIF(SEEK!A35:A37,\"Enrolled\")=1),COUNTIF(SEEK!A39:A42,\"Enrolled\")>=1),COUNTIF(SEEK!A46:A57,\"Complete\")>=1),\"MAJOR COMPLETED THIS QUARTER\",IF(AND(AND(AND(COUNTIF(SEEK!A35:A37,\"Complete\")=2,COUNTIF(SEEK!A35:A37,\"Enrolled\")=1),COUNTIF(SEEK!A39:A42,\"Complete\")>=1),COUNTIF(SEEK!A46:A57,\"Enrolled\")>=1),\"MAJOR COMPLETED THIS QUARTER\",IF(AND(AND(AND(COUNTIF(SEEK!A35:A37,\"Complete\")=2,COUNTIF(SEEK!A35:A37,\"Enrolled\")=1),COUNTIF(SEEK!A39:A42,\"Enrolled\")>=1),COUNTIF(SEEK!A46:A57,\"Enrolled\")>=1),\"MAJOR COMPLETED THIS QUARTER\",IF(AND(AND(AND(COUNTIF(SEEK!A35:A37,\"Complete\")=1,COUNTIF(SEEK!A35:A37,\"Enrolled\")=2),COUNTIF(SEEK!A39:A42,\"Complete\")>=1),COUNTIF(SEEK!A46:A57,\"Complete\")>=1),\"MAJOR COMPLETED THIS QUARTER\",IF(AND(AND(AND(COUNTIF(SEEK!A35:A37,\"Complete\")=1,COUNTIF(SEEK!A35:A37,\"Enrolled\")=2),COUNTIF(SEEK!A39:A42,\"Enrolled\")>=1),COUNTIF(SEEK!A46:A57,\"Complete\")>=1),\"MAJOR COMPLETED THIS QUARTER\",IF(AND(AND(AND(COUNTIF(SEEK!A35:A37,\"Complete\")=1,COUNTIF(SEEK!A35:A37,\"Enrolled\")=2),COUNTIF(SEEK!A39:A42,\"Complete\")>=1),COUNTIF(SEEK!A46:A57,\"Enrolled\")>=1),\"MAJOR COMPLETED THIS QUARTER\",IF(AND(AND(AND(COUNTIF(SEEK!A35:A37,\"Complete\")=1,COUNTIF(SEEK!A35:A37,\"Enrolled\")=2),COUNTIF(SEEK!A39:A42,\"Enrolled\")>=1),COUNTIF(SEEK!A46:A57,\"Enrolled\")>=1),\"MAJOR COMPLETED THIS QUARTER\",IF(AND(AND(COUNTIF(SEEK!A35:A37,\"Enrolled\")=3,COUNTIF(SEEK!A39:A42,\"Complete\")>=1),COUNTIF(SEEK!A46:A57,\"Complete\")>=1),\"MAJOR COMPLETED THIS QUARTER\",IF(AND(AND(COUNTIF(SEEK!A35:A37,\"Enrolled\")=3,COUNTIF(SEEK!A39:A42,\"Enrolled\")>=1),COUNTIF(SEEK!A46:A57,\"Complete\")>=1),\"MAJOR COMPLETED THIS QUARTER\",IF(AND(AND(COUNTIF(SEEK!A35:A37,\"Enrolled\")=3,COUNTIF(SEEK!A39:A42,\"Complete\")>=1),COUNTIF(SEEK!A46:A57,\"Enrolled\")>=1),\"MAJOR COMPLETED THIS QUARTER\",IF(AND(AND(COUNTIF(SEEK!A35:A37,\"Enrolled\")=3,COUNTIF(SEEK!A39:A42,\"Enrolled\")>=1),COUNTIF(SEEK!A46:A57,\"Enrolled\")>=1),\"MAJOR COMPLETED THIS QUARTER\",$A$154))))))))))))))))","v":"POTENTIAL MAJOR"}]
[{"$f":"IF(AND(AND(COUNTIF(SEEK!A35:A37,\"Complete\")=3,COUNTIF(SEEK!A39:A42,\"Complete\")>=1,COUNTIF(SEEK!A46:A57,\"Will Enroll\")>=1)),\"MAJOR IN PROGRESS\",IF(AND(AND(COUNTIF(SEEK!A35:A37,\"Complete\")=3,COUNTIF(SEEK!A39:A42,\"Complete\")>=1,COUNTIF(SEEK!A46:A57,\"Will Enroll\")>=1)),\"MAJOR IN PROGRESS\",IF(AND(AND(COUNTIF(SEEK!A35:A37,\"Complete\")=3,COUNTIF(SEEK!A39:A42,\"Complete\")>=1,COUNTIF(SEEK!A46:A57,\"Will Enroll\")>=1)),\"MAJOR IN PROGRESS\",IF(AND(AND(COUNTIF(SEEK!A35:A37,\"Complete\")=3,COUNTIF(SEEK!A39:A42,\"Will Enroll\")>=1,COUNTIF(SEEK!A46:A57,\"Complete\")>=1)),\"MAJOR IN PROGRESS\",IF(AND(AND(COUNTIF(SEEK!A35:A37,\"Complete\")=3,COUNTIF(SEEK!A39:A42,\"Enrolled\")>=1,COUNTIF(SEEK!A46:A57,\"Will Enroll\")>=1)),\"MAJOR IN PROGRESS\",IF(AND(AND(COUNTIF(SEEK!A35:A37,\"Complete\")=3,COUNTIF(SEEK!A39:A42,\"Will Enroll\")>=1,COUNTIF(SEEK!A46:A57,\"Enrolled\")>=1)),\"MAJOR IN PROGRESS\",IF(AND(AND(COUNTIF(SEEK!A35:A37,\"Complete\")=3,COUNTIF(SEEK!A39:A42,\"Will Enroll\")>=1,COUNTIF(SEEK!A46:A57,\"Will Enroll\")>=1)),\"MAJOR IN PROGRESS\",IF(AND(AND(AND(COUNTIF(SEEK!A35:A37,\"Complete\")=2,COUNTIF(SEEK!A35:A37,\"Enrolled\")=1,COUNTIF(SEEK!A39:A42,\"Complete\")>=1,COUNTIF(SEEK!A46:A57,\"Complete\")>=1))),\"MAJOR IN PROGRESS\",IF(AND(AND(AND(COUNTIF(SEEK!A35:A37,\"Complete\")=2,COUNTIF(SEEK!A35:A37,\"Enrolled\")=1,COUNTIF(SEEK!A39:A42,\"Will Enroll\")>=1,COUNTIF(SEEK!A46:A57,\"Complete\")>=1))),\"MAJOR IN PROGRESS\",IF(AND(AND(AND(COUNTIF(SEEK!A35:A37,\"Complete\")=2,COUNTIF(SEEK!A35:A37,\"Enrolled\")=1,COUNTIF(SEEK!A39:A42,\"Complete\")>=1,COUNTIF(SEEK!A46:A57,\"Enrolled\")>=1))),\"MAJOR IN PROGRESS\",IF(AND(AND(AND(COUNTIF(SEEK!A35:A37,\"Complete\")=2,COUNTIF(SEEK!A35:A37,\"Enrolled\")=1,COUNTIF(SEEK!A39:A42,\"Complete\")>=1,COUNTIF(SEEK!A46:A57,\"Will Enroll\")>=1))),\"MAJOR IN PROGRESS\",IF(AND(AND(AND(COUNTIF(SEEK!A35:A37,\"Complete\")=2,COUNTIF(SEEK!A35:A37,\"Enrolled\")=1,COUNTIF(SEEK!A39:A42,\"Complete\")>=1,COUNTIF(SEEK!A46:A57,\"Will Enroll\")>=1))),\"MAJOR IN PROGRESS\",IF(AND(AND(AND(COUNTIF(SEEK!A35:A37,\"Complete\")=2,COUNTIF(SEEK!A35:A37,\"Enrolled\")=1,COUNTIF(SEEK!A39:A42,\"Enrolled\")>=1,COUNTIF(SEEK!A46:A57,\"Complete\")>=1))),\"MAJOR IN PROGRESS\",IF(AND(AND(AND(COUNTIF(SEEK!A35:A37,\"Complete\")=2,COUNTIF(SEEK!A35:A37,\"Enrolled\")=1,COUNTIF(SEEK!A39:A42,\"Enrolled\")>=1,COUNTIF(SEEK!A46:A57,\"Will Enroll\")>=1))),\"MAJOR IN PROGRESS\",IF(AND(AND(AND(COUNTIF(SEEK!A35:A37,\"Complete\")=2,COUNTIF(SEEK!A35:A37,\"Enrolled\")=1,COUNTIF(SEEK!A39:A42,\"Will Enroll\")>=1,COUNTIF(SEEK!A46:A57,\"Enrolled\")>=1))),\"MAJOR IN PROGRESS\",IF(AND(AND(AND(COUNTIF(SEEK!A35:A37,\"Complete\")=2,COUNTIF(SEEK!A35:A37,\"Enrolled\")=1,COUNTIF(SEEK!A39:A42,\"Enrolled\")>=1,COUNTIF(SEEK!A46:A57,\"Enrolled\")>=1))),\"MAJOR IN PROGRESS\",IF(AND(AND(AND(COUNTIF(SEEK!A35:A37,\"Complete\")=2,COUNTIF(SEEK!A35:A37,\"Enrolled\")=1,COUNTIF(SEEK!A39:A42,\"Will Enroll\")>=1,COUNTIF(SEEK!A46:A57,\"Will Enroll\")>=1))),\"MAJOR IN PROGRESS\",IF(AND(AND(AND(COUNTIF(SEEK!A35:A37,\"Complete\")=2,COUNTIF(SEEK!A35:A37,\"Will Enroll\")=1,COUNTIF(SEEK!A39:A42,\"Complete\")>=1,COUNTIF(SEEK!A46:A57,\"Complete\")>=1))),\"MAJOR IN PROGRESS\",IF(AND(AND(AND(COUNTIF(SEEK!A35:A37,\"Complete\")=2,COUNTIF(SEEK!A35:A37,\"Will Enroll\")=1,COUNTIF(SEEK!A39:A42,\"Will Enroll\")>=1,COUNTIF(SEEK!A46:A57,\"Complete\")>=1))),\"MAJOR IN PROGRESS\",IF(AND(AND(AND(COUNTIF(SEEK!A35:A37,\"Complete\")=2,COUNTIF(SEEK!A35:A37,\"Will Enroll\")=1,COUNTIF(SEEK!A39:A42,\"Complete\")>=1,COUNTIF(SEEK!A46:A57,\"Enrolled\")>=1))),\"MAJOR IN PROGRESS\",IF(AND(AND(AND(COUNTIF(SEEK!A35:A37,\"Complete\")=2,COUNTIF(SEEK!A35:A37,\"Will Enroll\")=1,COUNTIF(SEEK!A39:A42,\"Complete\")>=1,COUNTIF(SEEK!A46:A57,\"Will Enroll\")>=1))),\"MAJOR IN PROGRESS\",IF(AND(AND(AND(COUNTIF(SEEK!A35:A37,\"Complete\")=2,COUNTIF(SEEK!A35:A37,\"Will Enroll\")=1,COUNTIF(SEEK!A39:A42,\"Complete\")>=1,COUNTIF(SEEK!A46:A57,\"Will Enroll\")>=1))),\"MAJOR IN PROGRESS\",IF(AND(AND(AND(COUNTIF(SEEK!A35:A37,\"Complete\")=2,COUNTIF(SEEK!A35:A37,\"Will Enroll\")=1,COUNTIF(SEEK!A39:A42,\"Enrolled\")>=1,COUNTIF(SEEK!A46:A57,\"Complete\")>=1))),\"MAJOR IN PROGRESS\",IF(AND(AND(AND(COUNTIF(SEEK!A35:A37,\"Complete\")=2,COUNTIF(SEEK!A35:A37,\"Will Enroll\")=1,COUNTIF(SEEK!A39:A42,\"Enrolled\")>=1,COUNTIF(SEEK!A46:A57,\"Will Enroll\")>=1))),\"MAJOR IN PROGRESS\",IF(AND(AND(AND(COUNTIF(SEEK!A35:A37,\"Complete\")=2,COUNTIF(SEEK!A35:A37,\"Will Enroll\")=1,COUNTIF(SEEK!A39:A42,\"Will Enroll\")>=1,COUNTIF(SEEK!A46:A57,\"Enrolled\")>=1))),\"MAJOR IN PROGRESS\",IF(AND(AND(AND(COUNTIF(SEEK!A35:A37,\"Complete\")=2,COUNTIF(SEEK!A35:A37,\"Will Enroll\")=1,COUNTIF(SEEK!A39:A42,\"Enrolled\")>=1,COUNTIF(SEEK!A46:A57,\"Enrolled\")>=1))),\"MAJOR IN PROGRESS\",IF(AND(AND(AND(COUNTIF(SEEK!A35:A37,\"Complete\")=2,COUNTIF(SEEK!A35:A37,\"Will Enroll\")=1,COUNTIF(SEEK!A39:A42,\"Will Enroll\")>=1,COUNTIF(SEEK!A46:A57,\"Will Enroll\")>=1))),\"MAJOR IN PROGRESS\",IF(AND(AND(AND(COUNTIF(SEEK!A35:A37,\"Complete\")=1,COUNTIF(SEEK!A35:A37,\"Enrolled\")=2,COUNTIF(SEEK!A39:A42,\"Complete\")>=1,COUNTIF(SEEK!A46:A57,\"Complete\")>=1))),\"MAJOR IN PROGRESS\",IF(AND(AND(AND(COUNTIF(SEEK!A35:A37,\"Complete\")=1,COUNTIF(SEEK!A35:A37,\"Enrolled\")=2,COUNTIF(SEEK!A39:A42,\"Will Enroll\")>=1,COUNTIF(SEEK!A46:A57,\"Complete\")>=1))),\"MAJOR IN PROGRESS\",IF(AND(AND(AND(COUNTIF(SEEK!A35:A37,\"Complete\")=1,COUNTIF(SEEK!A35:A37,\"Enrolled\")=2,COUNTIF(SEEK!A39:A42,\"Complete\")>=1,COUNTIF(SEEK!A46:A57,\"Enrolled\")>=1))),\"MAJOR IN PROGRESS\",IF(AND(AND(AND(COUNTIF(SEEK!A35:A37,\"Complete\")=1,COUNTIF(SEEK!A35:A37,\"Enrolled\")=2,COUNTIF(SEEK!A39:A42,\"Complete\")>=1,COUNTIF(SEEK!A46:A57,\"Will Enroll\")>=1))),\"MAJOR IN PROGRESS\",IF(AND(AND(AND(COUNTIF(SEEK!A35:A37,\"Complete\")=1,COUNTIF(SEEK!A35:A37,\"Enrolled\")=2,COUNTIF(SEEK!A39:A42,\"Complete\")>=1,COUNTIF(SEEK!A46:A57,\"Will Enroll\")>=1))),\"MAJOR IN PROGRESS\",IF(AND(AND(AND(COUNTIF(SEEK!A35:A37,\"Complete\")=1,COUNTIF(SEEK!A35:A37,\"Enrolled\")=2,COUNTIF(SEEK!A39:A42,\"Enrolled\")>=1,COUNTIF(SEEK!A46:A57,\"Complete\")>=1))),\"MAJOR IN PROGRESS\",IF(AND(AND(AND(COUNTIF(SEEK!A35:A37,\"Complete\")=1,COUNTIF(SEEK!A35:A37,\"Enrolled\")=2,COUNTIF(SEEK!A39:A42,\"Enrolled\")>=1,COUNTIF(SEEK!A46:A57,\"Will Enroll\")>=1))),\"MAJOR IN PROGRESS\",IF(AND(AND(AND(COUNTIF(SEEK!A35:A37,\"Complete\")=1,COUNTIF(SEEK!A35:A37,\"Enrolled\")=2,COUNTIF(SEEK!A39:A42,\"Will Enroll\")>=1,COUNTIF(SEEK!A46:A57,\"Enrolled\")>=1))),\"MAJOR IN PROGRESS\",IF(AND(AND(AND(COUNTIF(SEEK!A35:A37,\"Complete\")=1,COUNTIF(SEEK!A35:A37,\"Enrolled\")=2,COUNTIF(SEEK!A39:A42,\"Enrolled\")>=1,COUNTIF(SEEK!A46:A57,\"Enrolled\")>=1))),\"MAJOR IN PROGRESS\",IF(AND(AND(AND(COUNTIF(SEEK!A35:A37,\"Complete\")=1,COUNTIF(SEEK!A35:A37,\"Enrolled\")=2,COUNTIF(SEEK!A39:A42,\"Will Enroll\")>=1,COUNTIF(SEEK!A46:A57,\"Will Enroll\")>=1))),\"MAJOR IN PROGRESS\",IF(AND(AND(AND(AND(COUNTIF(SEEK!A35:A37,\"Complete\")=1,COUNTIF(SEEK!A35:A37,\"Enrolled\")=1,COUNTIF(SEEK!A35:A37,\"Will Enroll\")=1,COUNTIF(SEEK!A39:A42,\"Complete\")>=1,COUNTIF(SEEK!A46:A57,\"Complete\")>=1)))),\"MAJOR IN PROGRESS\",IF(AND(AND(AND(AND(COUNTIF(SEEK!A35:A37,\"Complete\")=1,COUNTIF(SEEK!A35:A37,\"Enrolled\")=1,COUNTIF(SEEK!A35:A37,\"Will Enroll\")=1,COUNTIF(SEEK!A39:A42,\"Will Enroll\")>=1,COUNTIF(SEEK!A46:A57,\"Complete\")>=1)))),\"MAJOR IN PROGRESS\",IF(AND(AND(AND(AND(COUNTIF(SEEK!A35:A37,\"Complete\")=1,COUNTIF(SEEK!A35:A37,\"Enrolled\")=1,COUNTIF(SEEK!A35:A37,\"Will Enroll\")=1,COUNTIF(SEEK!A39:A42,\"Complete\")>=1,COUNTIF(SEEK!A46:A57,\"Enrolled\")>=1)))),\"MAJOR IN PROGRESS\",IF(AND(AND(AND(AND(COUNTIF(SEEK!A35:A37,\"Complete\")=1,COUNTIF(SEEK!A35:A37,\"Enrolled\")=1,COUNTIF(SEEK!A35:A37,\"Will Enroll\")=1,COUNTIF(SEEK!A39:A42,\"Complete\")>=1,COUNTIF(SEEK!A46:A57,\"Will Enroll\")>=1)))),\"MAJOR IN PROGRESS\",IF(AND(AND(AND(AND(COUNTIF(SEEK!A35:A37,\"Complete\")=1,COUNTIF(SEEK!A35:A37,\"Enrolled\")=1,COUNTIF(SEEK!A35:A37,\"Will Enroll\")=1,COUNTIF(SEEK!A39:A42,\"Complete\")>=1,COUNTIF(SEEK!A46:A57,\"Will Enroll\")>=1)))),\"MAJOR IN PROGRESS\",IF(AND(AND(AND(AND(COUNTIF(SEEK!A35:A37,\"Complete\")=1,COUNTIF(SEEK!A35:A37,\"Enrolled\")=1,COUNTIF(SEEK!A35:A37,\"Will Enroll\")=1,COUNTIF(SEEK!A39:A42,\"Enrolled\")>=1,COUNTIF(SEEK!A46:A57,\"Complete\")>=1)))),\"MAJOR IN PROGRESS\",IF(AND(AND(AND(AND(COUNTIF(SEEK!A35:A37,\"Complete\")=1,COUNTIF(SEEK!A35:A37,\"Enrolled\")=1,COUNTIF(SEEK!A35:A37,\"Will Enroll\")=1,COUNTIF(SEEK!A39:A42,\"Enrolled\")>=1,COUNTIF(SEEK!A46:A57,\"Will Enroll\")>=1)))),\"MAJOR IN PROGRESS\",$A$155))))))))))))))))))))))))))))))))))))))))))))","v":"POTENTIAL MAJOR"}]
[{"$f":"IF(AND(AND(AND(AND(COUNTIF(SEEK!A35:A37,\"Complete\")=1,COUNTIF(SEEK!A35:A37,\"Enrolled\")=1,COUNTIF(SEEK!A35:A37,\"Will Enroll\")=1,COUNTIF(SEEK!A39:A42,\"Will Enroll\")>=1,COUNTIF(SEEK!A46:A57,\"Enrolled\")>=1)))),\"MAJOR IN PROGRESS\",IF(AND(AND(AND(AND(COUNTIF(SEEK!A35:A37,\"Complete\")=1,COUNTIF(SEEK!A35:A37,\"Enrolled\")=1,COUNTIF(SEEK!A35:A37,\"Will Enroll\")=1,COUNTIF(SEEK!A39:A42,\"Enrolled\")>=1,COUNTIF(SEEK!A46:A57,\"Enrolled\")>=1)))),\"MAJOR IN PROGRESS\",IF(AND(AND(AND(AND(COUNTIF(SEEK!A35:A37,\"Complete\")=1,COUNTIF(SEEK!A35:A37,\"Enrolled\")=1,COUNTIF(SEEK!A35:A37,\"Will Enroll\")=1,COUNTIF(SEEK!A39:A42,\"Will Enroll\")>=1,COUNTIF(SEEK!A46:A57,\"Will Enroll\")>=1)))),\"MAJOR IN PROGRESS\",IF(AND(AND(AND(COUNTIF(SEEK!A35:A37,\"Complete\")=1,COUNTIF(SEEK!A35:A37,\"Will Enroll\")=2,COUNTIF(SEEK!A39:A42,\"Complete\")>=1,COUNTIF(SEEK!A46:A57,\"Complete\")>=1))),\"MAJOR IN PROGRESS\",IF(AND(AND(AND(COUNTIF(SEEK!A35:A37,\"Complete\")=1,COUNTIF(SEEK!A35:A37,\"Will Enroll\")=2,COUNTIF(SEEK!A39:A42,\"Will Enroll\")>=1,COUNTIF(SEEK!A46:A57,\"Complete\")>=1))),\"MAJOR IN PROGRESS\",IF(AND(AND(AND(COUNTIF(SEEK!A35:A37,\"Complete\")=1,COUNTIF(SEEK!A35:A37,\"Will Enroll\")=2,COUNTIF(SEEK!A39:A42,\"Complete\")>=1,COUNTIF(SEEK!A46:A57,\"Enrolled\")>=1))),\"MAJOR IN PROGRESS\",IF(AND(AND(AND(COUNTIF(SEEK!A35:A37,\"Complete\")=1,COUNTIF(SEEK!A35:A37,\"Will Enroll\")=2,COUNTIF(SEEK!A39:A42,\"Complete\")>=1,COUNTIF(SEEK!A46:A57,\"Will Enroll\")>=1))),\"MAJOR IN PROGRESS\",IF(AND(AND(AND(COUNTIF(SEEK!A35:A37,\"Complete\")=1,COUNTIF(SEEK!A35:A37,\"Will Enroll\")=2,COUNTIF(SEEK!A39:A42,\"Complete\")>=1,COUNTIF(SEEK!A46:A57,\"Will Enroll\")>=1))),\"MAJOR IN PROGRESS\",IF(AND(AND(AND(COUNTIF(SEEK!A35:A37,\"Complete\")=1,COUNTIF(SEEK!A35:A37,\"Will Enroll\")=2,COUNTIF(SEEK!A39:A42,\"Enrolled\")>=1,COUNTIF(SEEK!A46:A57,\"Complete\")>=1))),\"MAJOR IN PROGRESS\",IF(AND(AND(AND(COUNTIF(SEEK!A35:A37,\"Complete\")=1,COUNTIF(SEEK!A35:A37,\"Will Enroll\")=2,COUNTIF(SEEK!A39:A42,\"Enrolled\")>=1,COUNTIF(SEEK!A46:A57,\"Will Enroll\")>=1))),\"MAJOR IN PROGRESS\",IF(AND(AND(AND(COUNTIF(SEEK!A35:A37,\"Complete\")=1,COUNTIF(SEEK!A35:A37,\"Will Enroll\")=2,COUNTIF(SEEK!A39:A42,\"Will Enroll\")>=1,COUNTIF(SEEK!A46:A57,\"Enrolled\")>=1))),\"MAJOR IN PROGRESS\",IF(AND(AND(AND(COUNTIF(SEEK!A35:A37,\"Complete\")=1,COUNTIF(SEEK!A35:A37,\"Will Enroll\")=2,COUNTIF(SEEK!A39:A42,\"Enrolled\")>=1,COUNTIF(SEEK!A46:A57,\"Enrolled\")>=1))),\"MAJOR IN PROGRESS\",IF(AND(AND(AND(COUNTIF(SEEK!A35:A37,\"Complete\")=1,COUNTIF(SEEK!A35:A37,\"Will Enroll\")=2,COUNTIF(SEEK!A39:A42,\"Will Enroll\")>=1,COUNTIF(SEEK!A46:A57,\"Will Enroll\")>=1))),\"MAJOR IN PROGRESS\",IF(AND(AND(AND(COUNTIF(SEEK!A35:A37,\"Enrolled\")=2,COUNTIF(SEEK!A35:A37,\"Will Enroll\")=1,COUNTIF(SEEK!A39:A42,\"Complete\")>=1,COUNTIF(SEEK!A46:A57,\"Complete\")>=1))),\"MAJOR IN PROGRESS\",IF(AND(AND(AND(COUNTIF(SEEK!A35:A37,\"Enrolled\")=2,COUNTIF(SEEK!A35:A37,\"Will Enroll\")=1,COUNTIF(SEEK!A39:A42,\"Will Enroll\")>=1,COUNTIF(SEEK!A46:A57,\"Complete\")>=1))),\"MAJOR IN PROGRESS\",IF(AND(AND(AND(COUNTIF(SEEK!A35:A37,\"Enrolled\")=2,COUNTIF(SEEK!A35:A37,\"Will Enroll\")=1,COUNTIF(SEEK!A39:A42,\"Complete\")>=1,COUNTIF(SEEK!A46:A57,\"Enrolled\")>=1))),\"MAJOR IN PROGRESS\",IF(AND(AND(AND(COUNTIF(SEEK!A35:A37,\"Enrolled\")=2,COUNTIF(SEEK!A35:A37,\"Will Enroll\")=1,COUNTIF(SEEK!A39:A42,\"Complete\")>=1,COUNTIF(SEEK!A46:A57,\"Will Enroll\")>=1))),\"MAJOR IN PROGRESS\",IF(AND(AND(AND(COUNTIF(SEEK!A35:A37,\"Enrolled\")=2,COUNTIF(SEEK!A35:A37,\"Will Enroll\")=1,COUNTIF(SEEK!A39:A42,\"Complete\")>=1,COUNTIF(SEEK!A46:A57,\"Will Enroll\")>=1))),\"MAJOR IN PROGRESS\",IF(AND(AND(AND(COUNTIF(SEEK!A35:A37,\"Enrolled\")=2,COUNTIF(SEEK!A35:A37,\"Will Enroll\")=1,COUNTIF(SEEK!A39:A42,\"Enrolled\")>=1,COUNTIF(SEEK!A46:A57,\"Complete\")>=1))),\"MAJOR IN PROGRESS\",IF(AND(AND(AND(COUNTIF(SEEK!A35:A37,\"Enrolled\")=2,COUNTIF(SEEK!A35:A37,\"Will Enroll\")=1,COUNTIF(SEEK!A39:A42,\"Enrolled\")>=1,COUNTIF(SEEK!A46:A57,\"Will Enroll\")>=1))),\"MAJOR IN PROGRESS\",IF(AND(AND(AND(COUNTIF(SEEK!A35:A37,\"Enrolled\")=2,COUNTIF(SEEK!A35:A37,\"Will Enroll\")=1,COUNTIF(SEEK!A39:A42,\"Will Enroll\")>=1,COUNTIF(SEEK!A46:A57,\"Enrolled\")>=1))),\"MAJOR IN PROGRESS\",IF(AND(AND(AND(COUNTIF(SEEK!A35:A37,\"Enrolled\")=2,COUNTIF(SEEK!A35:A37,\"Will Enroll\")=1,COUNTIF(SEEK!A39:A42,\"Enrolled\")>=1,COUNTIF(SEEK!A46:A57,\"Enrolled\")>=1))),\"MAJOR IN PROGRESS\",IF(AND(AND(AND(COUNTIF(SEEK!A35:A37,\"Enrolled\")=2,COUNTIF(SEEK!A35:A37,\"Will Enroll\")=1,COUNTIF(SEEK!A39:A42,\"Will Enroll\")>=1,COUNTIF(SEEK!A46:A57,\"Will Enroll\")>=1))),\"MAJOR IN PROGRESS\",IF(AND(AND(COUNTIF(SEEK!A35:A37,\"Enrolled\")=3,COUNTIF(SEEK!A39:A42,\"Complete\")>=1,COUNTIF(SEEK!A46:A57,\"Will Enroll\")>=1)),\"MAJOR IN PROGRESS\",IF(AND(AND(COUNTIF(SEEK!A35:A37,\"Enrolled\")=3,COUNTIF(SEEK!A39:A42,\"Will Enroll\")>=1,COUNTIF(SEEK!A46:A57,\"Complete\")>=1)),\"MAJOR IN PROGRESS\",IF(AND(AND(COUNTIF(SEEK!A35:A37,\"Enrolled\")=3,COUNTIF(SEEK!A39:A42,\"Complete\")>=1,COUNTIF(SEEK!A46:A57,\"Will Enroll\")>=1)),\"MAJOR IN PROGRESS\",IF(AND(AND(COUNTIF(SEEK!A35:A37,\"Enrolled\")=3,COUNTIF(SEEK!A39:A42,\"Enrolled\")>=1,COUNTIF(SEEK!A46:A57,\"Will Enroll\")>=1)),\"MAJOR IN PROGRESS\",IF(AND(AND(COUNTIF(SEEK!A35:A37,\"Enrolled\")=3,COUNTIF(SEEK!A39:A42,\"Will Enroll\")>=1,COUNTIF(SEEK!A46:A57,\"Enrolled\")>=1)),\"MAJOR IN PROGRESS\",IF(AND(AND(COUNTIF(SEEK!A35:A37,\"Enrolled\")=3,COUNTIF(SEEK!A39:A42,\"Will Enroll\")>=1,COUNTIF(SEEK!A46:A57,\"Will Enroll\")>=1)),\"MAJOR IN PROGRESS\",IF(AND(AND(COUNTIF(SEEK!A35:A37,\"Will Enroll\")=3,COUNTIF(SEEK!A39:A42,\"Complete\")>=1,COUNTIF(SEEK!A46:A57,\"Complete\")>=1)),\"MAJOR IN PROGRESS\",IF(AND(AND(COUNTIF(SEEK!A35:A37,\"Will Enroll\")=3,COUNTIF(SEEK!A39:A42,\"Will Enroll\")>=1,COUNTIF(SEEK!A46:A57,\"Complete\")>=1)),\"MAJOR IN PROGRESS\",IF(AND(AND(COUNTIF(SEEK!A35:A37,\"Will Enroll\")=3,COUNTIF(SEEK!A39:A42,\"Complete\")>=1,COUNTIF(SEEK!A46:A57,\"Enrolled\")>=1)),\"MAJOR IN PROGRESS\",IF(AND(AND(COUNTIF(SEEK!A35:A37,\"Will Enroll\")=3,COUNTIF(SEEK!A39:A42,\"Complete\")>=1,COUNTIF(SEEK!A46:A57,\"Will Enroll\")>=1)),\"MAJOR IN PROGRESS\",IF(AND(AND(COUNTIF(SEEK!A35:A37,\"Will Enroll\")=3,COUNTIF(SEEK!A39:A42,\"Complete\")>=1,COUNTIF(SEEK!A46:A57,\"Will Enroll\")>=1)),\"MAJOR IN PROGRESS\",IF(AND(AND(COUNTIF(SEEK!A35:A37,\"Will Enroll\")=3,COUNTIF(SEEK!A39:A42,\"Enrolled\")>=1,COUNTIF(SEEK!A46:A57,\"Complete\")>=1)),\"MAJOR IN PROGRESS\",IF(AND(AND(COUNTIF(SEEK!A35:A37,\"Will Enroll\")=3,COUNTIF(SEEK!A39:A42,\"Enrolled\")>=1,COUNTIF(SEEK!A46:A57,\"Will Enroll\")>=1)),\"MAJOR IN PROGRESS\",IF(AND(AND(COUNTIF(SEEK!A35:A37,\"Will Enroll\")=3,COUNTIF(SEEK!A39:A42,\"Will Enroll\")>=1,COUNTIF(SEEK!A46:A57,\"Enrolled\")>=1)),\"MAJOR IN PROGRESS\",IF(AND(AND(COUNTIF(SEEK!A35:A37,\"Will Enroll\")=3,COUNTIF(SEEK!A39:A42,\"Enrolled\")>=1,COUNTIF(SEEK!A46:A57,\"Enrolled\")>=1)),\"MAJOR IN PROGRESS\",IF(AND(AND(COUNTIF(SEEK!A35:A37,\"Will Enroll\")=3,COUNTIF(SEEK!A39:A42,\"Will Enroll\")>=1,COUNTIF(SEEK!A46:A57,\"Will Enroll\")>=1)),\"MAJOR IN PROGRESS\",IF(AND(AND(AND(COUNTIF(SEEK!A35:A37,\"Enrolled\")=1,COUNTIF(SEEK!A35:A37,\"Will Enroll\")=2,COUNTIF(SEEK!A39:A42,\"Complete\")>=1,COUNTIF(SEEK!A46:A57,\"Complete\")>=1))),\"MAJOR IN PROGRESS\",IF(AND(AND(AND(COUNTIF(SEEK!A35:A37,\"Enrolled\")=1,COUNTIF(SEEK!A35:A37,\"Will Enroll\")=2,COUNTIF(SEEK!A39:A42,\"Will Enroll\")>=1,COUNTIF(SEEK!A46:A57,\"Complete\")>=1))),\"MAJOR IN PROGRESS\",IF(AND(AND(AND(COUNTIF(SEEK!A35:A37,\"Enrolled\")=1,COUNTIF(SEEK!A35:A37,\"Will Enroll\")=2,COUNTIF(SEEK!A39:A42,\"Complete\")>=1,COUNTIF(SEEK!A46:A57,\"Enrolled\")>=1))),\"MAJOR IN PROGRESS\",$A$156))))))))))))))))))))))))))))))))))))))))))","v":"POTENTIAL MAJOR"}]
[{"$f":"IF(AND(AND(AND(COUNTIF(SEEK!A35:A37,\"Enrolled\")=1,COUNTIF(SEEK!A35:A37,\"Will Enroll\")=2,COUNTIF(SEEK!A39:A42,\"Complete\")>=1,COUNTIF(SEEK!A46:A57,\"Will Enroll\")>=1))),\"MAJOR IN PROGRESS\",IF(AND(AND(AND(COUNTIF(SEEK!A35:A37,\"Enrolled\")=1,COUNTIF(SEEK!A35:A37,\"Will Enroll\")=2,COUNTIF(SEEK!A39:A42,\"Complete\")>=1,COUNTIF(SEEK!A46:A57,\"Will Enroll\")>=1))),\"MAJOR IN PROGRESS\",IF(AND(AND(AND(COUNTIF(SEEK!A35:A37,\"Enrolled\")=1,COUNTIF(SEEK!A35:A37,\"Will Enroll\")=2,COUNTIF(SEEK!A39:A42,\"Enrolled\")>=1,COUNTIF(SEEK!A46:A57,\"Complete\")>=1))),\"MAJOR IN PROGRESS\",IF(AND(AND(AND(COUNTIF(SEEK!A35:A37,\"Enrolled\")=1,COUNTIF(SEEK!A35:A37,\"Will Enroll\")=2,COUNTIF(SEEK!A39:A42,\"Enrolled\")>=1,COUNTIF(SEEK!A46:A57,\"Will Enroll\")>=1))),\"MAJOR IN PROGRESS\",IF(AND(AND(AND(COUNTIF(SEEK!A35:A37,\"Enrolled\")=1,COUNTIF(SEEK!A35:A37,\"Will Enroll\")=2,COUNTIF(SEEK!A39:A42,\"Will Enroll\")>=1,COUNTIF(SEEK!A46:A57,\"Enrolled\")>=1))),\"MAJOR IN PROGRESS\",IF(AND(AND(AND(COUNTIF(SEEK!A35:A37,\"Enrolled\")=1,COUNTIF(SEEK!A35:A37,\"Will Enroll\")=2,COUNTIF(SEEK!A39:A42,\"Enrolled\")>=1,COUNTIF(SEEK!A46:A57,\"Enrolled\")>=1))),\"MAJOR IN PROGRESS\",IF(AND(AND(AND(COUNTIF(SEEK!A35:A37,\"Enrolled\")=1,COUNTIF(SEEK!A35:A37,\"Will Enroll\")=2,COUNTIF(SEEK!A39:A42,\"Will Enroll\")>=1,COUNTIF(SEEK!A46:A57,\"Will Enroll\")>=1))),\"MAJOR IN PROGRESS\",$A$157)))))))","v":"POTENTIAL MAJOR"}]
[{"$f":"IF(AND(COUNTIF(SEEK!A35:A37,\"Complete\")>=3,COUNTIF(SEEK!A39:A42,\"Complete\")>=2),\"MAJOR COMPLETED\",IF(AND(COUNTIF(SEEK!A35:A37,\"Complete\")>=3,COUNTIF(SEEK!A39:A42,\"Enrolled\")>=2),\"MAJOR COMPLETED THIS QUARTER\",IF(AND(COUNTIF(SEEK!A35:A37,\"Complete\")>=3,COUNTIF(SEEK!A39:A42,\"Will Enroll\")>=2),\"MAJOR IN PROGRESS\",IF(AND(AND(COUNTIF(SEEK!A35:A37,\"Complete\")>=3,COUNTIF(SEEK!A39:A42,\"Complete\")>=1),COUNTIF(SEEK!A39:A42,\"Will Enroll\")>=1),\"MAJOR IN PROGRESS\",IF(AND(AND(COUNTIF(SEEK!A35:A37,\"Complete\")>=3,COUNTIF(SEEK!A39:A42,\"Complete\")>=1),COUNTIF(SEEK!A39:A42,\"Enrolled\")>=1),\"MAJOR COMPLETED THIS QUARTER\",IF(AND(COUNTIF(SEEK!A35:A37,\"Enrolled\")>=3,COUNTIF(SEEK!A39:A42,\"Complete\")>=2),\"MAJOR COMPLETED\",IF(AND(COUNTIF(SEEK!A35:A37,\"Enrolled\")>=3,COUNTIF(SEEK!A39:A42,\"Enrolled\")>=2),\"MAJOR COMPLETED THIS QUARTER\",IF(AND(COUNTIF(SEEK!A35:A37,\"Enrolled\")>=3,COUNTIF(SEEK!A39:A42,\"Will Enroll\")>=2),\"MAJOR IN PROGRESS\",IF(AND(AND(COUNTIF(SEEK!A35:A37,\"Enrolled\")>=3,COUNTIF(SEEK!A39:A42,\"Complete\")>=1),COUNTIF(SEEK!A39:A42,\"Will Enroll\")>=1),\"MAJOR IN PROGRESS\",IF(AND(AND(COUNTIF(SEEK!A35:A37,\"Enrolled\")>=3,COUNTIF(SEEK!A39:A42,\"Complete\")>=1),COUNTIF(SEEK!A39:A42,\"Enrolled\")>=1),\"MAJOR COMPLETED THIS QUARTER\",IF(AND(COUNTIF(SEEK!A35:A37,\"Will Enroll\")>=3,COUNTIF(SEEK!A39:A42,\"Complete\")>=2),\"MAJOR IN PROGRESS\",IF(AND(COUNTIF(SEEK!A35:A37,\"Will Enroll\")>=3,COUNTIF(SEEK!A39:A42,\"Enrolled\")>=2),\"MAJOR IN PROGRESS\",IF(AND(COUNTIF(SEEK!A35:A37,\"Will Enroll\")>=3,COUNTIF(SEEK!A39:A42,\"Will Enroll\")>=2),\"MAJOR IN PROGRESS\",IF(AND(AND(COUNTIF(SEEK!A35:A37,\"Will Enroll\")>=3,COUNTIF(SEEK!A39:A42,\"Complete\")>=1),COUNTIF(SEEK!A39:A42,\"Will Enroll\")>=1),\"MAJOR IN PROGRESS\",IF(AND(AND(COUNTIF(SEEK!A35:A37,\"Will Enroll\")>=3,COUNTIF(SEEK!A39:A42,\"Complete\")>=1),COUNTIF(SEEK!A39:A42,\"Enrolled\")>=1),\"MAJOR IN PROGRESS\",IF(AND(AND(COUNTIF(SEEK!A35:A37,\"Complete\")>=2,COUNTIF(SEEK!A35:A37,\"Enrolled\")>=1),COUNTIF(SEEK!A39:A42,\"Complete\")>=2),\"MAJOR COMPLETED THIS QUARTER\",IF(AND(AND(COUNTIF(SEEK!A35:A37,\"Complete\")>=2,COUNTIF(SEEK!A35:A37,\"Enrolled\")>=1),COUNTIF(SEEK!A39:A42,\"Enrolled\")>=2),\"MAJOR COMPLETED THIS QUARTER\",IF(AND(AND(COUNTIF(SEEK!A35:A37,\"Complete\")>=2,COUNTIF(SEEK!A35:A37,\"Enrolled\")>=1),COUNTIF(SEEK!A39:A42,\"Will Enroll\")>=2),\"MAJOR IN PROGRESS\",IF(AND(AND(AND(COUNTIF(SEEK!A35:A37,\"Complete\")>=2,COUNTIF(SEEK!A35:A37,\"Enrolled\")>=1),COUNTIF(SEEK!A39:A42,\"Complete\")>=1),COUNTIF(SEEK!A39:A42,\"Enrolled\")>=1),\"MAJOR COMPLETED THIS QUARTER\",IF(AND(AND(AND(COUNTIF(SEEK!A35:A37,\"Complete\")>=2,COUNTIF(SEEK!A35:A37,\"Enrolled\")>=1),COUNTIF(SEEK!A39:A42,\"Complete\")>=1),COUNTIF(SEEK!A39:A42,\"Will Enroll\")>=1),\"MAJOR IN PROGRESS\",IF(AND(AND(AND(COUNTIF(SEEK!A35:A37,\"Complete\")>=2,COUNTIF(SEEK!A35:A37,\"Enrolled\")>=1),COUNTIF(SEEK!A39:A42,\"Enrolled\")>=1),COUNTIF(SEEK!A39:A42,\"Will Enroll\")>=1),\"MAJOR IN PROGRESS\",IF(AND(AND(COUNTIF(SEEK!A35:A37,\"Complete\")>=2,COUNTIF(SEEK!A35:A37,\"Will Enroll\")>=1),COUNTIF(SEEK!A39:A42,\"Complete\")>=2),\"MAJOR COMPLETED THIS QUARTER\",IF(AND(AND(COUNTIF(SEEK!A35:A37,\"Complete\")>=2,COUNTIF(SEEK!A35:A37,\"Will Enroll\")>=1),COUNTIF(SEEK!A39:A42,\"Enrolled\")>=2),\"MAJOR COMPLETED THIS QUARTER\",IF(AND(AND(COUNTIF(SEEK!A35:A37,\"Complete\")>=2,COUNTIF(SEEK!A35:A37,\"Will Enroll\")>=1),COUNTIF(SEEK!A39:A42,\"Will Enroll\")>=2),\"MAJOR IN PROGRESS\",IF(AND(AND(AND(COUNTIF(SEEK!A35:A37,\"Complete\")>=2,COUNTIF(SEEK!A35:A37,\"Will Enroll\")>=1),COUNTIF(SEEK!A39:A42,\"Complete\")>=1),COUNTIF(SEEK!A39:A42,\"Enrolled\")>=1),\"MAJOR COMPLETED THIS QUARTER\",IF(AND(AND(AND(COUNTIF(SEEK!A35:A37,\"Complete\")>=2,COUNTIF(SEEK!A35:A37,\"Will Enroll\")>=1),COUNTIF(SEEK!A39:A42,\"Complete\")>=1),COUNTIF(SEEK!A39:A42,\"Will Enroll\")>=1),\"MAJOR IN PROGRESS\",IF(AND(AND(AND(COUNTIF(SEEK!A35:A37,\"Complete\")>=2,COUNTIF(SEEK!A35:A37,\"Will Enroll\")>=1),COUNTIF(SEEK!A39:A42,\"Enrolled\")>=1),COUNTIF(SEEK!A39:A42,\"Will Enroll\")>=1),\"MAJOR IN PROGRESS\",IF(AND(AND(COUNTIF(SEEK!A35:A37,\"Enrolled\")>=2,COUNTIF(SEEK!A35:A37,\"Complete\")>=1),COUNTIF(SEEK!A39:A42,\"Complete\")>=2),\"MAJOR COMPLETED THIS QUARTER\",IF(AND(AND(COUNTIF(SEEK!A35:A37,\"Enrolled\")>=2,COUNTIF(SEEK!A35:A37,\"Complete\")>=1),COUNTIF(SEEK!A39:A42,\"Enrolled\")>=2),\"MAJOR COMPLETED THIS QUARTER\",IF(AND(AND(COUNTIF(SEEK!A35:A37,\"Enrolled\")>=2,COUNTIF(SEEK!A35:A37,\"Completed\")>=1),COUNTIF(SEEK!A39:A42,\"Will Enroll\")>=2),\"MAJOR IN PROGRESS\",IF(AND(AND(AND(COUNTIF(SEEK!A35:A37,\"Enrolled\")>=2,COUNTIF(SEEK!A35:A37,\"Complete\")>=1),COUNTIF(SEEK!A39:A42,\"Complete\")>=1),COUNTIF(SEEK!A39:A42,\"Enrolled\")>=1),\"MAJOR COMPLETED THIS QUARTER\",IF(AND(AND(AND(COUNTIF(SEEK!A35:A37,\"Enrolled\")>=2,COUNTIF(SEEK!A35:A37,\"Complete\")>=1),COUNTIF(SEEK!A39:A42,\"Complete\")>=1),COUNTIF(SEEK!A39:A42,\"Will Enroll\")>=1),\"MAJOR IN PROGRESS\",IF(AND(AND(AND(COUNTIF(SEEK!A35:A37,\"Enrolled\")>=2,COUNTIF(SEEK!A35:A37,\"Complete\")>=1),COUNTIF(SEEK!A39:A42,\"Enrolled\")>=1),COUNTIF(SEEK!A39:A42,\"Will Enroll\")>=1),\"MAJOR IN PROGRESS\",IF(AND(AND(COUNTIF(SEEK!A35:A37,\"Will Enroll\")>=2,COUNTIF(SEEK!A35:A37,\"Complete\")>=1),COUNTIF(SEEK!A39:A42,\"Complete\")>=2),\"MAJOR IN PROGRESS\",IF(AND(AND(COUNTIF(SEEK!A35:A37,\"Will Enroll\")>=2,COUNTIF(SEEK!A35:A37,\"Complete\")>=1),COUNTIF(SEEK!A39:A42,\"Enrolled\")>=2),\"MAJOR IN PROGRESS\",IF(AND(AND(COUNTIF(SEEK!A35:A37,\"Will Enroll\")>=2,COUNTIF(SEEK!A35:A37,\"Completed\")>=1),COUNTIF(SEEK!A39:A42,\"Will Enroll\")>=2),\"MAJOR IN PROGRESS\",IF(AND(AND(AND(COUNTIF(SEEK!A35:A37,\"Will Enroll\")>=2,COUNTIF(SEEK!A35:A37,\"Complete\")>=1),COUNTIF(SEEK!A39:A42,\"Complete\")>=1),COUNTIF(SEEK!A39:A42,\"Enrolled\")>=1),\"MAJOR IN PROGRESS\",IF(AND(AND(AND(COUNTIF(SEEK!A35:A37,\"Will Enroll\")>=2,COUNTIF(SEEK!A35:A37,\"Complete\")>=1),COUNTIF(SEEK!A39:A42,\"Complete\")>=1),COUNTIF(SEEK!A39:A42,\"Will Enroll\")>=1),\"MAJOR IN PROGRESS\",IF(AND(AND(AND(COUNTIF(SEEK!A35:A37,\"Will Enroll\")>=2,COUNTIF(SEEK!A35:A37,\"Complete\")>=1),COUNTIF(SEEK!A39:A42,\"Enrolled\")>=1),COUNTIF(SEEK!A39:A42,\"Will Enroll\")>=1),\"MAJOR IN PROGRESS\",IF(AND(AND(COUNTIF(SEEK!A35:A37,\"Will Enroll\")>=2,COUNTIF(SEEK!A35:A37,\"Enrolled\")>=1),COUNTIF(SEEK!A39:A42,\"Complete\")>=2),\"MAJOR IN PROGRESS\",IF(AND(AND(COUNTIF(SEEK!A35:A37,\"Will Enroll\")>=2,COUNTIF(SEEK!A35:A37,\"Enrolled\")>=1),COUNTIF(SEEK!A39:A42,\"Enrolled\")>=2),\"MAJOR IN PROGRESS\",IF(AND(AND(COUNTIF(SEEK!A35:A37,\"Will Enroll\")>=2,COUNTIF(SEEK!A35:A37,\"Enrolled\")>=1),COUNTIF(SEEK!A39:A42,\"Will Enroll\")>=2),\"MAJOR IN PROGRESS\",IF(AND(AND(AND(COUNTIF(SEEK!A35:A37,\"Will Enroll\")>=2,COUNTIF(SEEK!A35:A37,\"Enrolled\")>=1),COUNTIF(SEEK!A39:A42,\"Complete\")>=1),COUNTIF(SEEK!A39:A42,\"Enrolled\")>=1),\"MAJOR IN PROGRESS\",IF(AND(AND(AND(COUNTIF(SEEK!A35:A37,\"Will Enroll\")>=2,COUNTIF(SEEK!A35:A37,\"Enrolled\")>=1),COUNTIF(SEEK!A39:A42,\"Complete\")>=1),COUNTIF(SEEK!A39:A42,\"Will Enroll\")>=1),\"MAJOR IN PROGRESS\",IF(AND(AND(AND(COUNTIF(SEEK!A35:A37,\"Will Enroll\")>=2,COUNTIF(SEEK!A35:A37,\"Enrolled\")>=1),COUNTIF(SEEK!A39:A42,\"Enrolled\")>=1),COUNTIF(SEEK!A39:A42,\"Will Enroll\")>=1),\"MAJOR IN PROGRESS\",IF(AND(AND(AND(COUNTIF(SEEK!A35:A37,\"Complete\")>=1,COUNTIF(SEEK!A35:A37,\"Enrolled\")>=1),COUNTIF(SEEK!A35:A37,\"Will Enroll\")>=1),COUNTIF(SEEK!A39:A42,\"Complete\")>=2),\"MAJOR IN PROGRESS\",IF(AND(AND(AND(COUNTIF(SEEK!A35:A37,\"Complete\")>=1,COUNTIF(SEEK!A35:A37,\"Enrolled\")>=1),COUNTIF(SEEK!A35:A37,\"Will Enroll\")>=1),COUNTIF(SEEK!A39:A42,\"Enrolled\")>=2),\"MAJOR IN PROGRESS\",IF(AND(AND(AND(COUNTIF(SEEK!A35:A37,\"Complete\")>=1,COUNTIF(SEEK!A35:A37,\"Enrolled\")>=1),COUNTIF(SEEK!A35:A37,\"Will Enroll\")>=1),COUNTIF(SEEK!A39:A42,\"Will Enroll\")>=2),\"MAJOR IN PROGRESS\",IF(AND(AND(AND(AND(COUNTIF(SEEK!A35:A37,\"Complete\")>=1,COUNTIF(SEEK!A35:A37,\"Enrolled\")>=1),COUNTIF(SEEK!A35:A37,\"Will Enroll\")>=1),COUNTIF(SEEK!A39:A42,\"Complete\")>=1),COUNTIF(SEEK!A39:A42,\"Enrolled\")>=1),\"MAJOR IN PROGRESS\",IF(AND(AND(AND(AND(COUNTIF(SEEK!A35:A37,\"Complete\")>=1,COUNTIF(SEEK!A35:A37,\"Enrolled\")>=1),COUNTIF(SEEK!A35:A37,\"Will Enroll\")>=1),COUNTIF(SEEK!A39:A42,\"Complete\")>=1),COUNTIF(SEEK!A39:A42,\"Will Enroll\")>=1),\"MAJOR IN PROGRESS\",IF(AND(AND(AND(AND(COUNTIF(SEEK!A35:A37,\"Complete\")>=1,COUNTIF(SEEK!A35:A37,\"Enrolled\")>=1),COUNTIF(SEEK!A35:A37,\"Will Enroll\")>=1),COUNTIF(SEEK!A39:A42,\"Enrolled\")>=1),COUNTIF(SEEK!A39:A42,\"Will Enroll\")>=1),\"MAJOR IN PROGRESS\",$A$158)))))))))))))))))))))))))))))))))))))))))))))))))))","v":"POTENTIAL MAJOR"}]
[{"$f":"IF(COUNTIF(SEEK!A8:A13,\"Complete\")>=1,\"POTENTIAL MAJOR\",IF(COUNTIF(SEEK!A8:A13,\"Enrolled\")>=1,\"POTENTIAL MAJOR\",IF(COUNTIF(SEEK!A8:A13,\"Will Enroll\")>=1,\"POTENTIAL MAJOR\")))","v":"POTENTIAL MAJOR"}]
["Special Competency in Health Enterprise Excellence"]
[{"$f":"IF(AND(OR(AND(SCHEMA!A7=\"Complete\",HEMA!A3=\"MAJOR COMPLETED\"),SCHEMA!A7=\"Complete\",HEMA!A4=\"MAJOR COMPLETED\",SCHEMA!A7=\"Complete\")),$A$161,$A$162)","v":"NOT MAJORING IN THIS FIELD"}]
[{"$f":"IF(COUNTIF(SCHEMA!A9:A26,\"Complete\")>=5,\"MAJOR COMPLETED\",IF(AND(COUNTIF(SCHEMA!A9:A26,\"Complete\")>=4,COUNTIF(SCHEMA!A9:A26,\"Enrolled\")>=1),\"MAJOR COMPLETED THIS QUARTER\",IF(AND(COUNTIF(SCHEMA!A9:A26,\"Complete\")>=4,COUNTIF(SCHEMA!A9:A26,\"Will Enroll\")>=1),\"MAJOR IN PROGRESS\",IF(AND(COUNTIF(SCHEMA!A9:A26,\"Complete\")>=3,COUNTIF(SCHEMA!A9:A26,\"Enrolled\")>=2),\"MAJOR COMPLETED THIS QUARTER\",IF(AND(COUNTIF(SCHEMA!A9:A26,\"Complete\")>=3,COUNTIF(SCHEMA!A9:A26,\"Will Enroll\")>=2),\"MAJOR IN PROGRESS\",IF(AND(AND(COUNTIF(SCHEMA!A9:A26,\"Complete\")>=3,COUNTIF(SCHEMA!A9:A26,\"Enrolled\")>=1),COUNTIF(SCHEMA!A9:A26,\"Will Enroll\")>=1),\"MAJOR IN PROGRESS\",$A$164))))))","v":"NOT MAJORING IN THIS FIELD"}]
[{"$f":"IF(AND(OR(AND(SCHEMA!A7=\"Waived\",HEMA!A3=\"MAJOR COMPLETED\"),SCHEMA!A7=\"Waived\",HEMA!A4=\"MAJOR COMPLETED\",SCHEMA!A7=\"Complete\")),$A$163,$A$164)","v":"NOT MAJORING IN THIS FIELD"}]
[{"$f":"IF(COUNTIF(SCHEMA!A9:A26,\"Complete\")>=6,\"MAJOR COMPLETED\",IF(AND(COUNTIF(SCHEMA!A9:A26,\"Complete\")>=5,COUNTIF(SCHEMA!A9:A26,\"Enrolled\")>=1),\"MAJOR COMPLETED THIS QUARTER\",IF(AND(COUNTIF(SCHEMA!A9:A26,\"Complete\")>=5,COUNTIF(SCHEMA!A9:A26,\"Will Enroll\")>=1),\"MAJOR IN PROGRESS\",IF(AND(COUNTIF(SCHEMA!A9:A26,\"Complete\")>=4,COUNTIF(SCHEMA!A9:A26,\"Enrolled\")>=2),\"MAJOR COMPLETED THIS QUARTER\",IF(AND(COUNTIF(SCHEMA!A9:A26,\"Complete\")>=4,COUNTIF(SCHEMA!A9:A26,\"Will Enroll\")>=2),\"MAJOR IN PROGRESS\",IF(AND(AND(COUNTIF(SCHEMA!A9:A26,\"Complete\")>=4,COUNTIF(SCHEMA!A9:A26,\"Enrolled\")>=1),COUNTIF(SCHEMA!A9:A26,\"Will Enroll\")>=1),\"MAJOR IN PROGRESS\",$A$164))))))","v":"NOT MAJORING IN THIS FIELD"}]
[{"$f":"IF(OR(OR(OR(SCHEMA!A7=\"Complete\",SCHEMA!A7=\"Enrolled\",SCHEMA!A7=\"Will Enroll\",SCHEMA!A7=\"Waived\"))),\"POTENTIAL MAJOR\",\"NOT MAJORING IN THIS FIELD\")","v":"NOT MAJORING IN THIS FIELD"}]
["Technology Industry Management"]
[{"$f":"IF(AND('Tech Industry MGMT'!A7=\"Complete\",COUNTIF('Tech Industry MGMT'!A9:A23,\"Complete\")>=3),\"MAJOR COMPLETED\",IF(AND(AND('Tech Industry MGMT'!A7=\"Complete\",COUNTIF('Tech Industry MGMT'!A9:A23,\"Complete\")>=2,COUNTIF('Tech Industry MGMT'!A9:A23,\"Enrolled\")>=1)),\"MAJOR COMPLETED THIS QUARTER\",IF(AND(AND('Tech Industry MGMT'!A7=\"Complete\",COUNTIF('Tech Industry MGMT'!A9:A23,\"Complete\")>=1,COUNTIF('Tech Industry MGMT'!A9:A23,\"Enrolled\")>=2)),\"MAJOR COMPLETED THIS QUARTER\",IF(AND('Tech Industry MGMT'!A7=\"Complete\",COUNTIF('Tech Industry MGMT'!A9:A23,\"Enrolled\")>=3),\"MAJOR COMPLETED THIS QUARTER\",IF(AND('Tech Industry MGMT'!A7=\"Enrolled\",COUNTIF('Tech Industry MGMT'!A9:A23,\"Enrolled\")>=3),\"MAJOR COMPLETED THIS QUARTER\",IF(AND(AND('Tech Industry MGMT'!A7=\"Enrolled\",COUNTIF('Tech Industry MGMT'!A9:A23,\"Complete\")>=2),COUNTIF('Tech Industry MGMT'!A9:A23,\"Enrolled\")>=1),\"MAJOR COMPLETED THIS QUARTER\",IF(AND(AND('Tech Industry MGMT'!A7=\"Enrolled\",COUNTIF('Tech Industry MGMT'!A9:A23,\"Complete\")>=1),COUNTIF('Tech Industry MGMT'!A9:A23,\"Enrolled\")>=2),\"MAJOR COMPLETED THIS QUARTER\",IF(AND('Tech Industry MGMT'!A7=\"Enrolled\",COUNTIF('Tech Industry MGMT'!A9:A23,\"Complete\")>=3),\"MAJOR COMPLETED THIS QUARTER\",$A$167))))))))","v":"NOT MAJORING IN THIS FIELD"}]
[{"$f":"IF(OR(OR('Tech Industry MGMT'!A7=\"Complete\",'Tech Industry MGMT'!A7=\"Enrolled\",'Tech Industry MGMT'!A7=\"Will Enroll\")),$A$168,$A$169)","v":"NOT MAJORING IN THIS FIELD"}]
[{"$f":"IF(AND(COUNTIF('Tech Industry MGMT'!A9:A23,\"Complete\")>=2,COUNTIF('Tech Industry MGMT'!A9:A23,\"Enrolled\")>=1),\"MAJOR IN PROGRESS\",IF(AND(COUNTIF('Tech Industry MGMT'!A9:A23,\"Complete\")>=1,COUNTIF('Tech Industry MGMT'!A9:A23,\"Enrolled\")>=2),\"MAJOR IN PROGRESS\",IF(AND(COUNTIF('Tech Industry MGMT'!A9:A23,\"Complete\")>=2,COUNTIF('Tech Industry MGMT'!A9:A23,\"Will Enroll\")>=1),\"MAJOR IN PROGRESS\",IF(AND(COUNTIF('Tech Industry MGMT'!A9:A23,\"Complete\")>=1,COUNTIF('Tech Industry MGMT'!A9:A23,\"Will Enroll\")>=2),\"MAJOR IN PROGRESS\",IF(AND(COUNTIF('Tech Industry MGMT'!A9:A23,\"Enrolled\")>=2,COUNTIF('Tech Industry MGMT'!A9:A23,\"Will Enroll\")>=1),\"MAJOR IN PROGRESS\",IF(COUNTIF('Tech Industry MGMT'!A9:A23,\"Will Enroll\")>=3,\"MAJOR IN PROGRESS\",IF(COUNTIF('Tech Industry MGMT'!A9:A23,\"Complete\")>=3,\"MAJOR IN PROGRESS\",IF(COUNTIF('Tech Industry MGMT'!A9:A23,\"Enrolled\")>=3,\"MAJOR IN PROGRESS\",IF(AND(AND(COUNTIF('Tech Industry MGMT'!A9:A23,\"Complete\")>=1),COUNTIF('Tech Industry MGMT'!A9:A23,\"Enrolled\")>=1,COUNTIF('Tech Industry MGMT'!A9:A23,\"Will Enroll\")>=1),\"MAJOR IN PROGRESS\",IF(AND(COUNTIF('Tech Industry MGMT'!A9:A23,\"Enrolled\")>=1,COUNTIF('Tech Industry MGMT'!A9:A23,\"Will Enroll\")>=2),\"MAJOR IN PROGRESS\",$A$169))))))))))","v":"NOT MAJORING IN THIS FIELD"}]
[{"$f":"IF('Tech Industry MGMT'!A7=\"Complete\",\"POTENTIAL MAJOR\",IF('Tech Industry MGMT'!A7=\"Enrolled\",\"POTENTIAL MAJOR\",IF('Tech Industry MGMT'!A7=\"Will Enroll\",\"POTENTIAL MAJOR\",\"NOT MAJORING IN THIS FIELD\")))","v":"NOT MAJORING IN THIS FIELD"}]

{"sheet":"Professorial TCEs","index":37,"n_rows":1082,"n_cols":19,"rows_kept":1082,"cut":false,"hidden":true,"merged":[]}
["Term","Professor","Course","Section","Resp Count","Learning","Enthusiasm ","Clarity ","Group Intr ","Coverage","Grading","Readings","Class Ovrl","Instr Ovrl","Difficulty","Work Load","Pace ","Accessible ","Honor code "]
["Winter 2008","Powers","ACCT-430-0","72",37,9.1,9.6,9,8.6999999999999993,9.1,8.9,8.9,9,9.5,7,7.5,6.8,7.8,8.6]
["Winter 2008","Powers","ACCT-430-0","71",38,8.4,9.1,8.1,8.3000000000000007,8.5,7.7,8.3000000000000007,8.1999999999999993,8.6,6.4,6.8,6.8,7.8,9.1999999999999993]
["Winter 2008","Rusticus","ACCT-431-0","81",8,7.2,6.5,8,8.3000000000000007,7.4,7.5,7.2,7.3,7.3,6.1,6.3,5.0999999999999996,7.7,9.6]
["Winter 2008","Rusticus","ACCT-431-0","61",23,7.3,7,8.1,8.1999999999999993,7.6,8,7.1,7.5,7.7,6.2,6.3,5.8,8.1999999999999993,8.6999999999999993]
["Winter 2008","Sunder","ACCT-451-0","81",9,8.1999999999999993,8.3000000000000007,8.9,8.3000000000000007,8,8.1,8.1,7.9,8.1,6.6,7.1,5.6,7.1,8.6]
["Winter 2008","Wongsunwai","ACCT-451-0","71",12,8.1999999999999993,8.3000000000000007,8.4,8.3000000000000007,8.3000000000000007,8,7.7,7.8,8.1,6.1,6.2,5.7,8,9.1]
["Winter 2008","Sunder","ACCT-451-0","62",33,7.8,7.4,7.7,7.6,7.4,6.8,7.2,7.3,7.2,6.2,6.3,5.9,7.1,8.6]
["Winter 2008","Sunder","ACCT-451-0","61",40,8,8.1,7.8,8.6,8,7.8,7.5,7.8,7.9,6.1,5.8,5.0999999999999996,7.4,9]
["Winter 2008","Finn","ACCT-452-0","71",5,8.3000000000000007,8.3000000000000007,8.3000000000000007,8.9,8.3000000000000007,8.5,8,8.4,8.3000000000000007,6.4,6.4,6,8,8.8000000000000007]
["Winter 2008","Finn","ACCT-452-0","61",43,8.1,8,7.6,8.6999999999999993,8.6999999999999993,7.2,7.8,7.9,7.7,6.6,6.8,5.9,6.5,8.1]
["Winter 2008","Butler","BLAW-435-0","71",3,8.4,8.6,8.1999999999999993,8.8000000000000007,9,8.3000000000000007,7,8.3000000000000007,8.3000000000000007,5,5.3,5.3,6,8.6999999999999993]
["Winter 2008","Bradley","BLAW-921-0","81",37,7.8,7.5,8,8.4,8,7.4,7.6,7.7,7.7,4.5,3.9,4.9000000000000004,5.9,8.8000000000000007]
["Winter 2008","Kalai","DECS-433-0","72",19,7.2,6.8,7.8,6.8,6.5,6.8,6.8,6.9,7.4,5.7,5.2,4.9000000000000004,6.1,9.3000000000000007]
["Winter 2008","Kalai","DECS-433-0","71",31,6.8,6.8,7.1,7.2,6.8,6.4,5.7,6.4,7.1,6.7,7.2,5.2,7.1,9.1]
["Winter 2008","Weinstein","DECS-434-0","91",13,7.5,6.2,7.7,7.4,6.8,7.6,7.3,7.2,7.2,6.1,6.5,5.6,6.6,7.5]
["Winter 2008","Weinstein","DECS-434-0","72",21,5.8,5.4,7.4,6.2,6.1,7.2,7,5.5,5.9,6.6,6.7,5.0999999999999996,6.5,8.8000000000000007]
["Winter 2008","Eso","DECS-434-0","76",36,8.4,8.9,8,8.9,8,8.1,8.5,8.3000000000000007,8.5,6.9,7.3,6.2,8.3000000000000007,9.4]
["Winter 2008","Dziuda","DECS-434-0","63",45,6.5,6.6,6.3,7,5.7,7,6.9,5.9,5.8,6.2,6,5.3,7.1,8.8000000000000007]
["Winter 2008","Eso","DECS-434-0","71",49,7.9,8.6,7.9,8,7.6,7.5,7.7,7.6,8.1,7.1,7.2,6.4,8,9.3000000000000007]
["Winter 2008","Schmedders","DECS-434-0","66",51,9,9.9,9.5,9.6,8.8000000000000007,9,8.9,9.4,9.9,6.1,6.1,5.5,9.3000000000000007,9.5]
["Winter 2008","Ekmekci","DECS-434-0","65",52,7.6,8.6999999999999993,7.9,8.1,7.7,8,7.7,7.6,8.4,6.1,6.1,5.5,8,9.3000000000000007]
["Winter 2008","Ekmekci","DECS-434-0","64",54,8.1,8.9,8.4,8.6,8.1999999999999993,8.6,8.1,8.1999999999999993,8.8000000000000007,5.6,5.4,4.9000000000000004,8.1999999999999993,9.3000000000000007]
["Winter 2008","Dziuda","DECS-434-0","61",60,6.4,6.3,6.5,6.8,5.8,6.8,6.8,5.9,6,5.6,5.9,5,6.6,8.4]
["Winter 2008","Schmedders","DECS-434-0","62",69,9.3000000000000007,10,9.6,9.6999999999999993,9,9.1999999999999993,9,9.5,10,6.2,6.3,5.6,8.8000000000000007,8.9]
["Winter 2008","Eso","DECS-437-0","81",35,7.3,7.4,6.8,8.4,7.3,7.4,8,7.1,7,6.4,6.7,5.9,7.6,9.1999999999999993]
["Winter 2008","Judd/McKeon","DECS-450-0","81",17,8.9,9.1999999999999993,9.1,9.3000000000000007,9,8.6,8.3000000000000007,8.6999999999999993,8.9,6.5,6.3,5.5,8.6999999999999993,9.1999999999999993]
["Winter 2008","Judd/McKeon","DECS-450-0","71",18,9.1999999999999993,9.1999999999999993,8.9,8.8000000000000007,9.1,8.4,8.6,8.6999999999999993,9.1,7.3,8.1999999999999993,7.4,9.3000000000000007,9.4]
["Winter 2008","Judd/McKeon","DECS-450-0","62",40,8.9,9,8.9,8.6,8.9,8.9,8.6,8.8000000000000007,9,6.2,6.3,5.5,8.6,9.6]
["Winter 2008","Judd/McKeon","DECS-450-0","61",45,8.3000000000000007,8.6999999999999993,8.6,8.9,8.6999999999999993,8.3000000000000007,8.6,8.1999999999999993,8.4,6.4,6.2,5.5,8.8000000000000007,9.6]
["Winter 2008","Kalai","DECS-452-0","61",30,8.3000000000000007,7.3,7.5,8,7.9,7,6.7,7.7,7.8,6.8,5.4,4.9000000000000004,6.4,8]
["Winter 2008","Merkin","ENTR-462-0","71",28,8.4,7.3,6.5,7.7,7,7,6.5,7.8,6.8,7.7,8,6.4,7,7.8]
["Winter 2008","Shein","ENTR-462-0","81",41,8.1,6.7,6.7,8.4,6.9,7,7,7.9,6.6,6.6,7.9,5.8,8,9.3000000000000007]
["Winter 2008","Kondo","FINC-430-0","71",32,9,9.1,8.6,7.9,8.6,9.1999999999999993,8.1,8.8000000000000007,9,7.8,7.7,7.1,9.5,9.6]
["Winter 2008","Paulson","FINC-430-0","72",40,8.3000000000000007,8,7.7,7,7.9,8,7.3,7.8,7.9,7.3,7.3,6.6,8.4,9.4]
["Winter 2008","Kondo","FINC-430-0","63",55,7.5,7.8,7.1,6,7.5,7.5,6.4,6.8,6.9,7.6,7.2,7,8.3000000000000007,9.1]
["Winter 2008","Furfine","FINC-430-0","62",59,9,9.4,8.9,8.5,8.5,8.6999999999999993,8.1999999999999993,8.8000000000000007,9.3000000000000007,6.8,6.5,6.5,8.6999999999999993,9.3000000000000007]
["Winter 2008","Furfine","FINC-430-0","61",65,8.6999999999999993,9.1,8.5,8.3000000000000007,8.3000000000000007,8.4,7.9,8.5,9.1,7,6.7,6.8,8.6,9.3000000000000007]
["Winter 2008","Banerjee","FINC-440-0","61",14,7.9,7.2,7.8,8.3000000000000007,7.8,8.1,7.7,7.3,7.5,8,7.3,8,8.1999999999999993,8.4]
["Winter 2008","Banerjee","FINC-440-0","71",15,9.1999999999999993,8.5,8.6999999999999993,8.5,8.6999999999999993,8.4,8.5,8.8000000000000007,8.6999999999999993,6.8,6.8,6.2,8.6,9.1999999999999993]
["Winter 2008","Faulkender","FINC-440-0","62",38,8.4,8.3000000000000007,8,8.4,8.3000000000000007,7.9,7.9,7.9,8.5,7.8,7.4,8.1999999999999993,8.6999999999999993,9.6999999999999993]
["Winter 2008","Matsa","FINC-441-0","63",18,8.1999999999999993,8.4,8.6,9.1999999999999993,8.5,7.8,7.3,7.9,8.4,6.9,6.8,6,8.6999999999999993,9.3000000000000007]
["Winter 2008","Matsa","FINC-441-0","72",24,7.8,8.1,7.4,8.9,8,7.1,6.8,7.7,8,7,7,6.5,8.4,9.1]
["Winter 2008","Matsa","FINC-441-0","71",36,7.6,7.6,7.3,8.4,7.9,6.7,6.6,6.8,7.2,7.3,7.3,6.6,7.9,9.6]
["Winter 2008","Petersen","FINC-441-0","61",52,9.1,9.6,8.9,9.6,9.1,8.5,8.1999999999999993,9,9.3000000000000007,7.6,6.4,7.2,8.5,9.5]
["Winter 2008","Petersen","FINC-441-0","62",52,9,9.6,8.4,9.3000000000000007,8.9,8.5,8.1999999999999993,8.6999999999999993,9.1999999999999993,7.4,6.5,7.4,8.5,9.3000000000000007]
["Winter 2008","Thompson","FINC-442-0","71",23,9,8.8000000000000007,8.1999999999999993,8.6,7.9,7.4,8.3000000000000007,8.6999999999999993,8.5,6.9,7.7,6,8,9.3000000000000007]
["Winter 2008","Thompson","FINC-442-0","61",30,9.1999999999999993,8.6999999999999993,8,8.6999999999999993,8,8,8.9,8.8000000000000007,8.6,7.3,7.6,6,8.5,9.1]
["Winter 2008","Thompson","FINC-442-0","64",37,9.1999999999999993,8.9,8.3000000000000007,8.6999999999999993,8.3000000000000007,7.8,8.6999999999999993,8.9,8.8000000000000007,7.5,7.9,6.3,7.3,8.6999999999999993]
["Winter 2008","Thompson","FINC-442-0","62",39,9.1,8.8000000000000007,8.1,8.6999999999999993,7.9,7.7,8.6999999999999993,8.9,8.8000000000000007,7.2,8.1999999999999993,6.3,7.7,9.1]
["Winter 2008","Thompson","FINC-442-0","63",40,8.8000000000000007,8.3000000000000007,8.1,8.5,8,7.7,8.3000000000000007,8.6999999999999993,8.1,7.1,7.7,6,7.7,8.8000000000000007]
["Winter 2008","Hochberg","FINC-445-0","71",24,8.6999999999999993,8.1,8.4,8.8000000000000007,8.3000000000000007,8.1,8.5,8.5,8.1999999999999993,5.8,5.8,5.8,7.8,8.9]
["Winter 2008","Hochberg","FINC-445-0","91",54,8.1999999999999993,7.3,7.7,8.6,7.8,6.9,7.8,7.8,7.4,5.5,5.5,5.5,7.3,8.6]
["Winter 2008","Rogers","FINC-446-0","61",35,9.6,9.9,9,9,8.6,8.5,9.1999999999999993,9.5,9.6999999999999993,5.6,5.5,5.3,7.6,8.9]
["Winter 2008","Rogers","FINC-446-0","71",61,9.8000000000000007,9.9,9.6999999999999993,9.6,9.5,8.9,9.8000000000000007,9.8000000000000007,9.9,5.8,5.8,5.4,7.1,9]
["Winter 2008","Petersen","FINC-447-0","61",65,7.7,8.6,7,8.8000000000000007,8.1,7,6.7,7.5,7.9,7.9,6.9,7,9,9]
["Winter 2008","Papanikolaou","FINC-460-0","61",31,6.8,6.7,6.3,7.3,7.7,6.8,6,6.3,6.6,5.9,6,5.9,6.8,8]
["Winter 2008","Stowell","FINC-461-0","61",46,8.6,9.3000000000000007,9,9.1,9.1999999999999993,8.6,8.6,8.6999999999999993,9.1,5.3,5.0999999999999996,5.0999999999999996,8.1,9.1999999999999993]
["Winter 2008","Todorov","FINC-465-0","71",24,7.9,7.7,7.4,8.1999999999999993,7.1,7.5,7.7,7.4,7.3,6.6,6.6,6.5,8.4,9.3000000000000007]
["Winter 2008","McDonald","FINC-465-0","61",32,9.1,8.8000000000000007,8.9,9.1,9.1999999999999993,8.4,8.6,8.8000000000000007,8.9,8,7.8,6.7,8.3000000000000007,9.3000000000000007]
["Winter 2008","McDonald","FINC-465-0","62",45,9.1999999999999993,8.9,8.6,8.6999999999999993,9,7.9,8.6999999999999993,8.8000000000000007,9,8.1999999999999993,7.6,7,7.5,9.1]
["Winter 2008","McDonald","FINC-467-0","81",24,8.3000000000000007,8.1,7.8,8.3000000000000007,8.6999999999999993,7.5,8.3000000000000007,7.7,8.1999999999999993,8.1,7.2,7.1,8,8.6999999999999993]
["Winter 2008","Knuepfer","FINC-918-A","81",15,8.1,8.4,8.8000000000000007,9.1999999999999993,9.1999999999999993,7.9,7.4,8.3000000000000007,8.9,5.8,6.7,6.1,7.6,9.6]
["Winter 2008","Hochberg","FINC-932-0","81",42,8.6,7.7,8.3000000000000007,9.4,7.8,7.2,8.1,8.4,7.9,5.6,6.7,5.4,6.9,8.3000000000000007]
["Winter 2008","Korajczyk","FINC-935-0","81",12,8.4,6.8,7.1,8.6999999999999993,7.4,7,7.4,7.9,7.2,5,5.4,5,8.5,9]
["Winter 2008","Korajczyk","FINC-935-C","81",9,8.3000000000000007,7.5,7.6,9.3000000000000007,8.4,7.6,7.7,8.4,8.4,5.3,5,5.6,8.6,9.5]
["Winter 2008","Christensen","FINC-937-A","81",34,8.3000000000000007,8.4,8.5,8.9,8.8000000000000007,7.8,7.8,8.1,8.4,4.8,5.2,4.5,7.8,8.9]
["Winter 2008","Swanson","FINC-938-A","81",21,6.4,6.9,5,8.1,6.6,5.0999999999999996,6.8,6.1,5.8,4.7,4.8,4.5,5.8,7.4]
["Winter 2008","Shalowitz","HIMT-440-0","31",47,8.9,8.9,7.8,7.8,8.5,6.9,7.7,8.3000000000000007,8.3000000000000007,6.5,7,5.8,6.4,8.9]
["Winter 2008","Hughes","HIMT-441-0","81",28,8.6,9.6,7.8,9.4,9,7.7,8.5,8.4,9,5,5,4.8,7.7,8.9]
["Winter 2008","Hughes","HIMT-455-0","81",33,8.8000000000000007,9.1999999999999993,8.5,9.3000000000000007,8.6,7.9,8.6999999999999993,8.8000000000000007,8.9,4.9000000000000004,4.9000000000000004,5.3,7.1,9.3000000000000007]
["Winter 2008","Shalowitz","INTL-442-0","81",14,6.3,6.9,5.3,6.2,7.3,5.8,6.1,5.8,5.6,5.8,8.1,5.2,6.5,9.1999999999999993]
["Winter 2008","Jones","INTL-466-0","71",32,9.5,9.4,9.6,9.1,9.3000000000000007,8.9,9.1,9.4,9.6,5.3,5.4,5.3,9.1,9.6]
["Winter 2008","Jones","INTL-466-0","62",60,9.1,9.1,9.3000000000000007,9.4,9.1,8.8000000000000007,9.3000000000000007,9.1,9.1999999999999993,5,5,4.9000000000000004,8.6,9.1]
["Winter 2008","Jones","INTL-466-0","61",116,9.1,9.1999999999999993,9.5,9.3000000000000007,9.1999999999999993,8.8000000000000007,9.4,9.1999999999999993,9.4,5.0999999999999996,5.0999999999999996,5.0999999999999996,8.1,9.1]
["Winter 2008","Leininger","INTL-467-0","71",19,8.6999999999999993,9.3000000000000007,8.6,9.4,8.6999999999999993,8,8.6,8.4,9,5,4.9000000000000004,5.0999999999999996,8.9,8.8000000000000007]
["Winter 2008","Brett","INTL-474-0","71",30,8.8000000000000007,8.9,8.6999999999999993,8.9,8.6999999999999993,8.1999999999999993,8.3000000000000007,8.6,8.8000000000000007,5,5.0999999999999996,5,8.1999999999999993,8.6]
["Winter 2008","Rogers","MECN-430-0","81",15,8.5,7.8,8.8000000000000007,8.6999999999999993,7.9,8.4,8.1,8.1999999999999993,8.1999999999999993,6.1,5.9,5.8,8.1,9.3000000000000007]
["Winter 2008","Loeper","MECN-430-0","64",17,8,7.9,7.8,8,8,7.8,7.4,7.9,7.7,6.1,5.8,5.5,7.6,8.6999999999999993]
["Winter 2008","Rogers","MECN-430-0","63",20,6.6,6.6,8.1,7.4,7.4,7.8,6.6,6.5,7,5.9,5.8,5.5,6.9,9.1999999999999993]
["Winter 2008","Rogers","MECN-430-0","71",24,7.7,6.8,7.9,7.3,6.8,7.1,7.3,6.9,7.1,5.9,6,5.4,7.7,9.3000000000000007]
["Winter 2008","Atakan","MECN-430-0","61",26,8.3000000000000007,8.6,8.8000000000000007,8.9,7.8,8.3000000000000007,7.2,8,8.3000000000000007,5.7,5.7,5.0999999999999996,7.8,8.9]
["Winter 2008","Loeper","MECN-430-0","65",30,7.2,7.4,7.7,8,7.6,7.7,7.4,7.2,7.3,5.7,5.4,5.3,7.7,9.1999999999999993]
["Winter 2008","Loeper","MECN-430-0","72",36,6.7,7,7.1,7.7,7.1,7.4,6.8,6.6,6.7,6,6.1,5.6,7.5,8.6999999999999993]
["Winter 2008","Atakan","MECN-430-0","62",47,8,8.5,8.4,8.6,7.5,7.9,7.4,8.1,8.6,5.6,5.2,5,7.2,8.4]
["Winter 2008","Klibanoff","MECN-441-0","71",15,9,9.3000000000000007,9,9.1999999999999993,8.3000000000000007,8.5,9,8.8000000000000007,9.1,6.2,6.3,5.5,8.5,9.6]
["Winter 2008","Klibanoff","MECN-441-0","61",28,8.4,8.3000000000000007,8.6999999999999993,8.6,8,8.1,7.9,8.1999999999999993,8.3000000000000007,5.8,5.8,5.3,8,9.3000000000000007]
["Winter 2008","Klibanoff","MECN-441-0","62",41,8.4,7.7,8.5,8.6,7.9,8,8.1,8.3000000000000007,7.9,6.1,6,5.5,7.9,8.9]
["Winter 2008","Vohra","MECN-446-0","61",49,8.6999999999999993,9,8.3000000000000007,9.1999999999999993,8.1999999999999993,7.1,8,8.5,8.9,6.5,6.8,5.7,7.7,8.6999999999999993]
["Winter 2008","Smith","MEDM-912-0","81",65,6.5,6.2,6.8,7.3,6.9,6.3,7.3,6,6,4.4000000000000004,4.8,4.4000000000000004,6.5,8.1999999999999993]
["Winter 2008","Lenzo","MGMT-431-0","72",41,8.4,8.3000000000000007,8,8.8000000000000007,7.8,8.1,7.3,8.1,8,6.2,6.3,5.7,7.5,9.3000000000000007]
["Winter 2008","Lenzo","MGMT-431-0","71",42,8.4,8.4,7.9,8.8000000000000007,7.8,7.8,7.4,8.1,8,6.4,6.7,5.7,7.6,9.1999999999999993]
["Winter 2008","Li","MGMT-440-0","71",2,9.1999999999999993,9.8000000000000007,8.1999999999999993,9.5,8.8000000000000007,9.1999999999999993,8,8.5,8.5,6.5,6.5,5.5,9,9]
["Winter 2008","Fong","MGMT-452-0","71",36,6.8,7.6,7.7,8.1,7.3,7.6,7.5,6.8,7.2,6,5.8,5.8,8.1999999999999993,9.1]
["Winter 2008","Fong","MGMT-452-0","61",49,7.5,7.8,7.9,8.4,7.8,8.1999999999999993,7.8,7.5,7.5,5.6,5.4,5.2,8,8.6]
["Winter 2008","Schaefer","MGMT-452-0","91",67,8.8000000000000007,9.5,8.6999999999999993,9.1999999999999993,8.6,8.3000000000000007,8.5,8.8000000000000007,9.3000000000000007,6.4,5.9,5.5,6.5,8.9]
["Winter 2008","Stern","MGMT-463-0","71",18,7.7,8.1999999999999993,7.8,8.8000000000000007,8.1999999999999993,7.8,7.5,7.4,7.7,5.5,6.1,5.2,7,8.6999999999999993]
["Winter 2008","Stern","MGMT-463-0","61",39,8.1999999999999993,8.8000000000000007,8.3000000000000007,9.3000000000000007,8.4,8.6,8,8.3000000000000007,8.6,5.2,5.7,4.9000000000000004,8.1999999999999993,8.6]
["Winter 2008","Gray/Jacobs","MGMT-911-0","81",23,7.2,7.8,6.8,8.3000000000000007,7.4,6.7,6.1,7.2,7.5,5.2,5,5,6.8,7.7]
["Winter 2008","Jacobs","MGMT-913-A","81",17,8.3000000000000007,7.9,7.6,8.1999999999999993,8.1999999999999993,5.7,8.1,8.1,8.1,4.8,4.5999999999999996,4.5999999999999996,7,7]
["Winter 2008","Ward","MGMT-927-0","81",45,8.9,9.1999999999999993,8.8000000000000007,9.1999999999999993,9.1,8.3000000000000007,8.6,8.6999999999999993,9.1999999999999993,5.2,5.8,5,8.1,8.8000000000000007]
["Winter 2008","Zielinski","MKTG-430-0","63",21,6,6.9,5.6,8.1999999999999993,7,6.6,6,5.7,5.8,4.4000000000000004,4.2,4.3,7,8.4]
["Winter 2008","Agrawal","MKTG-430-0","76",23,8.6999999999999993,8.6999999999999993,8.5,8.6,7.4,8.3000000000000007,8.6,8.4,8.3000000000000007,5.9,6.7,5.5,7.7,9.1]
["Winter 2008","Tybout","MKTG-430-0","81",35,7.7,8.3000000000000007,8.6999999999999993,9,8,8.1,7.9,7.9,8.1,5.7,5.8,5.4,7.8,8.6999999999999993]
["Winter 2008","Voorn","MKTG-430-0","71",44,8.1,8.5,7.7,8.6,7.8,8,7.7,7.9,8,6.5,7.1,5.6,8.6,9.6]
["Winter 2008","Grayson","MKTG-430-0","72",46,9.6,9.6999999999999993,9.4,8.9,9.1999999999999993,8.8000000000000007,8.8000000000000007,9.6,9.8000000000000007,6.6,7.5,6,9.3000000000000007,9.6]
["Winter 2008","Hennessy","MKTG-430-0","62",55,9.4,9.8000000000000007,9.3000000000000007,9.1999999999999993,8.8000000000000007,9.3000000000000007,8.5,9.5,9.8000000000000007,6,5.8,5.3,9.5,9.3000000000000007]
["Winter 2008","Hennessy","MKTG-430-0","61",63,9.1999999999999993,9.6999999999999993,9.1999999999999993,9,8.8000000000000007,9.1,8.9,9.3000000000000007,9.6,5.9,6,5.4,9.1999999999999993,9.4]
["Winter 2008","Lee","MKTG-450-0","62",20,6.2,7.4,7.1,7.9,7,7.3,5.7,5.8,6.9,5.7,6.8,5.0999999999999996,8.4,8.9]
["Winter 2008","Lee","MKTG-450-0","61",22,8,7.9,8.1,8.3000000000000007,7.5,8,7.7,7.9,7.8,6.5,7.6,5.8,8.3000000000000007,9.1999999999999993]
["Winter 2008","Schieffer","MKTG-450-0","71",48,8.6,8.8000000000000007,8.8000000000000007,9.1,8.5,8.6999999999999993,8.5,8.5,8.6999999999999993,5.9,6.2,5.4,7.8,9.5]
["Winter 2008","Coughlan","MKTG-451-0","81",46,7.8,8.8000000000000007,8.4,8.3000000000000007,7.7,8.1999999999999993,7.8,7.9,8.5,5,5.2,5,8,9.1]
["Winter 2008","Wilson","MKTG-451-0","61",46,8.6,9.4,8.8000000000000007,9.1,8.8000000000000007,8.6999999999999993,8.4,8.9,9.1999999999999993,5.2,5.4,5,8.3000000000000007,9.1]
["Winter 2008","Schieffer","MKTG-452-0","61",29,8,8.6,8.1,8.6,8.1999999999999993,7.5,7.7,8,8.1,4.9000000000000004,5.2,4.8,7.6,8.8000000000000007]
["Winter 2008","Anderson","MKTG-453-0","71",5,8.9,8.6999999999999993,8.9,9.1,8.9,8.8000000000000007,8.4,8.6,8.8000000000000007,4.5999999999999996,4,5.2,8.8000000000000007,9.6]
["Winter 2008","Anderson","MKTG-453-0","61",27,7.2,7.9,7.9,8,7.5,7.2,7.2,7.2,7.2,5.4,5.0999999999999996,4.8,6.7,8.1999999999999993]
["Winter 2008","Pearlman","MKTG-454-0","71",24,8.9,9.5,9.1,9.3000000000000007,8.9,9.1,8.4,9.3000000000000007,9.6,5.2,5.2,5.0999999999999996,8.6999999999999993,9.1]
["Winter 2008","Sternthal","MKTG-454-0","81",51,7.5,8.1,7.9,8.4,7.8,8.1,7.3,7.8,7.9,5,5,4.9000000000000004,7,8.4]
["Winter 2008","Pearlman","MKTG-454-0","61",60,7.4,8.8000000000000007,8.1,9,8,8.6,7.5,7.8,8.6,4.0999999999999996,4.3,4.0999999999999996,9.1,8.8000000000000007]
["Winter 2008","Calder","MKTG-458-0","61",26,5.9,5,5.0999999999999996,6.2,6.3,6.4,6.9,6,5,5.0999999999999996,5.3,4.5999999999999996,7,8]
["Winter 2008","Anderson","MKTG-462-0","71",10,7,6.9,6,5.9,5.7,4.2,4.5999999999999996,5.5,6,7.5,7.3,6.6,5.6,8.8000000000000007]
["Winter 2008","Anderson","MKTG-462-0","61",51,8.6,8.1999999999999993,7.7,7.1,7.9,6.8,7,7.7,8,7.2,6.6,6.8,6.5,8.9]
["Winter 2008","Gal","MKTG-465-0","71",20,7.7,8.1,8.1,9.4,8.3000000000000007,8.1999999999999993,7.2,7.8,8.1,5.0999999999999996,5.6,5.2,9.3000000000000007,9.6]
["Winter 2008","Razeghi","MKTG-465-0","61",50,7.5,8.6999999999999993,7.4,9.1,7.6,7.3,7.4,7.7,8.1999999999999993,5.0999999999999996,6,4.7,7.6,8.6]
["Winter 2008","Calkins","MKTG-466-0","71",63,9.4,9.8000000000000007,9.4,9.4,9,9.1,8.9,9.5,9.6999999999999993,5.9,7.2,5.8,8.6,9.3000000000000007]
["Winter 2008","Sawhney","MKTG-468-0","71",44,9.1999999999999993,9.5,9.1,9,8.9,8.4,8.6,9.1999999999999993,9.3000000000000007,6.8,7.3,5.9,7.3,9.1999999999999993]
["Winter 2008","Livingston","MORS-430-0","71",27,8.3000000000000007,8.6999999999999993,7.3,8.3000000000000007,7.4,6.3,7.5,7.8,7.5,5.4,5.6,5.3,6.9,8.6999999999999993]
["Winter 2008","Livingston","MORS-430-0","72",35,8.4,9.1999999999999993,8,8.9,8.1,6.9,7.5,8.3000000000000007,8.6999999999999993,5.2,6,5.0999999999999996,7,9.1]
["Winter 2008","Van Camp","MORS-450-0","71",16,8,8.8000000000000007,7.9,8.6999999999999993,6.8,8.6,7.5,8.4,8.5,4.9000000000000004,5,4.9000000000000004,8.9,8.9]
["Winter 2008","Van Camp","MORS-450-0","91",18,9.5,9.8000000000000007,9.6,9.3000000000000007,8.6999999999999993,9.5,8.9,9.6,9.6,5.2,5.6,5.0999999999999996,9.1,9.4]
["Winter 2008","Dewar","MORS-451-0","81",45,7.4,7.8,6.9,8.1,7.4,7.4,7.4,7.3,7.3,5,5,4.8,8.9,8.6]
["Winter 2008","Stern","MORS-452-0","71",13,8.4,8.3000000000000007,8.4,9,7.7,7.2,8.1,8.4,8.3000000000000007,4.8,4.8,4.5999999999999996,6.4,7.1]
["Winter 2008","Stern","MORS-452-0","61",44,8,8.5,8.5,9.1,7.9,7.5,8.1,8,8.1999999999999993,4.7,4.8,4.8,7.9,8.5]
["Winter 2008","Stern","MORS-452-0","62",48,8.1999999999999993,8.6999999999999993,8.5,9.1,8.1999999999999993,7.7,8.3000000000000007,8.3000000000000007,8.4,4.8,4.8,4.7,7.2,8.6999999999999993]
["Winter 2008","Kraemer","MORS-468-0","71",59,9.3000000000000007,9.9,9.1999999999999993,9.6,9,9,8.9,9.6,9.8000000000000007,4.4000000000000004,4.5,4.9000000000000004,9.6999999999999993,9.6]
["Winter 2008","Jordan","MORS-470-0","71",27,8.8000000000000007,8.6999999999999993,8.6999999999999993,9.1999999999999993,8.4,8.1999999999999993,8.1,8.8000000000000007,8.5,5.0999999999999996,5.2,5,7.3,8.8000000000000007]
["Winter 2008","Ko","MORS-470-0","62",30,7.4,5.2,5.0999999999999996,6.4,4.8,4.9000000000000004,6.7,6.3,4,4.9000000000000004,5.0999999999999996,4.8,6.5,7.9]
["Winter 2008","Ko","MORS-470-0","63",32,7.6,5.5,5.2,7.1,5.3,5.7,6.9,6.8,4.3,4.8,4.8,4.8,6.3,8.1]
["Winter 2008","Medvec","MORS-470-0","61",34,9.6,9.9,9.5,9.1,8.8000000000000007,8.6999999999999993,8.4,9.6999999999999993,9.8000000000000007,5.2,5.5,5.2,8.6999999999999993,9.5]
["Winter 2008","Murnighan","MORS-914-0","61",43,8.1,8.6999999999999993,7.8,9.1,7.5,6.7,6.8,7.9,8.4,4.9000000000000004,5.7,5,6.9,8.5]
["Winter 2008","Murnighan","MORS-914-0","62",59,7.3,8.1999999999999993,7.3,8.5,6.8,6.4,6.5,7.2,7.6,4.8,5.7,5,7,7.9]
["Winter 2008","Scott","MORS-933-0","81",18,9.6,9.1,8.8000000000000007,9.8000000000000007,8.5,8.3000000000000007,8.8000000000000007,9.1999999999999993,9.1,5.7,7.9,5.4,8.5,8.6]
["Winter 2008","Deo","OPNS-430-0","72",22,7,7.3,7.1,8.4,7.6,7.5,6.8,6.6,7.3,6.3,6.3,5.7,7.9,9]
["Winter 2008","Deo","OPNS-430-0","71",24,7.1,7.4,7.2,8,7.4,7.1,7,6.7,7.4,6.5,6.6,6.1,8.1999999999999993,8.9]
["Winter 2008","Lariviere","OPNS-430-0","61",27,8.3000000000000007,8.3000000000000007,8.1999999999999993,8.4,7.8,8,7.6,8.1,8.1,6.2,6.3,5.9,7.4,8.8000000000000007]
["Winter 2008","Savaskan-Ebert","OPNS-450-0","71",29,7.8,7.5,7.6,7.1,6.8,7.5,7.3,7.5,7.5,6.3,6.8,5.3,7.4,9]
["Winter 2008","Lariviere","OPNS-912-0","81",20,8,7.8,8.1999999999999993,8.9,8,8.3000000000000007,8.4,7.9,7.9,5.6,5.5,5.2,7.7,9.3000000000000007]
["Winter 2008","Lefkofsky","OPNS-918-0","81",6,8.9,8.6,7.4,8.6999999999999993,7.6,6.3,7.5,9,8.6999999999999993,5,4.7,5.2,6.2,6.2]
["Winter 2008","Lupiani","REAL-442-0","31",17,6.1,5.3,5.0999999999999996,7.6,6.7,6,6.6,5.3,5.0999999999999996,5,5.0999999999999996,4.9000000000000004,6.2,8.1]
["Winter 2008","Rosenberg","REAL-442-0","81",37,5,3.9,4.4000000000000004,6.6,5.4,5,5.8,4.5,4,4.9000000000000004,5.0999999999999996,4.3,6,8]
["Winter 2008","Mattoon","REAL-443-0","31",29,7.9,8.5,8.6,8.8000000000000007,8.9,8.6999999999999993,7.8,8.1999999999999993,8.6999999999999993,4.2,4.5,4.8,8.1,9]
["Winter 2008","Carreira","REAL-444-A","81",46,7.6,8.1999999999999993,8.1,7.5,8.1999999999999993,6.7,6.8,7.5,8.1,4.5,4.0999999999999996,5,7,9.5]
["Winter 2008","Austen-Smith","SEEK-440-A","71",53,8.8000000000000007,9.6,8.9,9.3000000000000007,8.8000000000000007,7.7,7.1,8.5,9.5,5.4,6,6,8.1,9.3000000000000007]
["Winter 2008","Austen-Smith","SEEK-440-A","72",73,8.6,9.6999999999999993,9,9.5,8.9,8.1999999999999993,7.5,8.6,9.6,5.3,5.6,5.6,7.6,9.1]
["Winter 2008","Diermeier","SEEK-441-0","71",47,9.3000000000000007,9.6,8.5,9.3000000000000007,9,7.9,8.1,9,9.4,5.8,6.6,5.7,7.2,9.1]
["Winter 2008","Diermeier","SEEK-441-0","61",61,9.3000000000000007,9.6,9.3000000000000007,9.1999999999999993,8.9,8.1999999999999993,8.1999999999999993,9.4,9.6,6,6,5.6,6.5,8.1999999999999993]
["Winter 2008","Woodward","SEEK-452-A","81",15,8.1,8.4,8.1,8.9,8.1,8,7.8,8,7.8,5,6.8,4.8,7.8,8.1999999999999993]
["Winter 2008","Donnelly","SEEK-453-B","81",29,8.6,8.8000000000000007,8.8000000000000007,9.1,8.6,8.4,8.3000000000000007,8.5,8.6,4.9000000000000004,5.2,5,7.6,9]
["Winter 2008","Donnelly","SEEK-453-B","91",47,8.4,8.8000000000000007,8.8000000000000007,9,8.1999999999999993,8,8.4,8.4,8.4,5.2,5.4,5,7.3,8.8000000000000007]
["Winter 2008","Conley","TECH-441-0","71",8,7.1,7.8,6.8,8.3000000000000007,7.7,6.2,6.7,6.5,7,6.4,7.1,6,6.3,9]
["Winter 2008","Conley","TECH-441-0","81",18,8.9,9.1999999999999993,9,9.1999999999999993,8.8000000000000007,8.9,8.3000000000000007,8.8000000000000007,9.1,5.6,5.9,5.2,7,8.8000000000000007]
["Fall 2007","Lansford","ACCT-430-0","72",36,8.6,9.1999999999999993,8.8000000000000007,9,8.5,8.6,8.4,8.6,9.1,6.8,7.5,7,7.7,9.1]
["Fall 2007","Finn","ACCT-430-0","71",45,8.8000000000000007,9.1999999999999993,8.8000000000000007,8.5,9.1,8.3000000000000007,8.1,8.6999999999999993,9.1999999999999993,6.9,6.9,6.9,7.8,8.6999999999999993]
["Fall 2007","Lansford","ACCT-430-0","45",51,6.5,7.3,6.1,8,7.3,6.7,6.9,6.4,6.1,6.4,6.9,7.1,7.3,9.3000000000000007]
["Fall 2007","Sridharan","ACCT-430-0","42",59,7.5,7.1,8,7.3,8,7.3,7.6,7.3,7.7,6.1,5.6,5.5,7.2,8.8000000000000007]
["Fall 2007","Finn","ACCT-430-0","43",62,7.9,8.6,8.4,8.3000000000000007,9,8,7.9,8,8.8000000000000007,6.8,6.1,6.2,7.8,9]
["Fall 2007","Lansford","ACCT-430-0","46",62,6.8,7.7,6.5,8.1999999999999993,7.5,7.2,7.1,6.9,7.2,6.4,6.3,6.7,8.1,9.1999999999999993]
["Fall 2007","Sridharan","ACCT-430-0","44",62,7.3,7.1,8,7.2,7.7,7.4,7.2,7.1,7.4,6.5,6.1,5.8,7.4,9]
["Fall 2007","Finn","ACCT-430-0","41",64,7.8,8.1999999999999993,8.1,7.9,8.5,7.4,7.4,7.3,7.9,7.1,6.5,6.8,6.8,9]
["Fall 2007","Rusticus","ACCT-431-0","61",13,7.9,7,8.4,8.4,7.6,7.9,7.7,7.5,7.5,5.9,5.6,5.0999999999999996,8.3000000000000007,8.8000000000000007]
["Fall 2007","Magee","ACCT-434-0","61",22,8.5,8.6,9.4,8.5,9.1,8.8000000000000007,7.9,8.6999999999999993,9.1999999999999993,6.1,5.9,5.4,9,9.6]
["Fall 2007","Magee","ACCT-434-0","81",26,7.7,7.7,8.8000000000000007,8.4,8.4,8.1999999999999993,7,7.7,8.3000000000000007,6.2,6.3,5.8,8.3000000000000007,8.8000000000000007]
["Fall 2007","Balachandran","ACCT-439-0","69",39,7,7.7,6.2,7.7,8.1,7.5,8,7,7.2,5.6,5.4,5.4,8.3000000000000007,8.5]
["Fall 2007","Lys","ACCT-444-0","82",19,8.6,9.1,7.8,8.6999999999999993,8.5,7.6,6.8,8.1,8.6999999999999993,6.2,5.7,6.1,8.1,8.9]
["Fall 2007","Lys","ACCT-444-0","81",27,8.4,8.9,7.7,8.5,8.4,6.8,7.3,7.8,8.4,6.8,6.4,5.8,8.6,9.4]
["Fall 2007","Sunder","ACCT-451-0","71",15,8.4,8.1,8.4,8.9,8,8.5,8,8.1999999999999993,8.3000000000000007,5.4,5.9,5,7.5,9.1]
["Fall 2007","Sunder","ACCT-451-0","61",25,8.3000000000000007,7.5,7.6,8.5,7.9,8.1,7.6,7.9,7.6,5.5,5.2,5,7.5,8.1]
["Fall 2007","Vohra","BIOT-910-A","61",12,9.1,8.6999999999999993,8.6999999999999993,8.5,8.9,8.8000000000000007,9.1,8.9,9.1,5.7,4.2,5.2,8.6,8.3000000000000007]
["Fall 2007","Presser","BLAW-435-0","71",16,9.3000000000000007,9.6999999999999993,8.5,9.1,8.9,8.6,8.5,8.9,9.5,6.3,6,5.8,7.5,9.4]
["Fall 2007","McCareins","BLAW-435-0","81",42,8.4,8.9,8.4,8.4,8.4,7.7,8.3000000000000007,8.3000000000000007,8.8000000000000007,5.2,4.3,5.3,7.2,8.4]
["Fall 2007","Bradley","BLAW-911-A","81",30,8.3000000000000007,8.1999999999999993,7.8,8.1999999999999993,8.1,7.5,8.3000000000000007,8,8.1,5,4.7,5.2,6.4,8.4]
["Fall 2007","Tiller","BLAW-917-0","31",9,8.6999999999999993,8.3000000000000007,8.8000000000000007,8.6,8.6999999999999993,7.6,9.1,8.1999999999999993,8.6999999999999993,5,4.9000000000000004,4.5999999999999996,7,8.1]
["Fall 2007","Weber","DECS-433-0","72",21,8.3000000000000007,8.1999999999999993,8.1,5.8,8,8,8,8,8.4,6.6,5.6,5.7,8.8000000000000007,9.6999999999999993]
["Fall 2007","Schummer","DECS-433-0","76",24,9.1999999999999993,9.6999999999999993,9.6,9.5,8.9,9.3000000000000007,8.6999999999999993,9.6,9.8000000000000007,5.8,5.6,5.3,8.9,9.1]
["Fall 2007","Herold","DECS-433-0","44",34,6.4,7.3,6.8,7.1,6.7,6.6,6.1,6,6.5,6.4,5.2,5.4,7.7,8.4]
["Fall 2007","Herold","DECS-433-0","41",39,5.5,6.8,6,6.5,5.8,6.5,5.9,5.0999999999999996,5.4,5.8,5.2,5.3,7.7,9]
["Fall 2007","McKeon","DECS-433-0","46",58,9.3000000000000007,9.9,9.6999999999999993,9.1999999999999993,9.1999999999999993,9.4,9.4,9.6,10,6.5,6,5.8,9.4,9.6999999999999993]
["Fall 2007","Schummer","DECS-433-0","42",58,7.8,8.8000000000000007,8.4,7.9,7.3,8.1,7.6,8.3000000000000007,8.6999999999999993,6.2,5.3,5.9,7.2,8.8000000000000007]
["Fall 2007","Weber","DECS-433-0","71",61,8.1999999999999993,8.5,8.6,6.4,8.5,8.8000000000000007,8.1999999999999993,8.1999999999999993,8.6999999999999993,6.1,5.6,5.3,9,9.8000000000000007]
["Fall 2007","Schummer","DECS-433-0","43",62,7.5,8.1999999999999993,7.9,7.7,7.2,8.1999999999999993,7.1,7.6,8.4,6.2,5.3,5.9,6.6,8.5]
["Fall 2007","McKeon","DECS-433-0","45",64,9.4,9.9,9.8000000000000007,9.1,9.5,9.5,9.6,9.8000000000000007,10,6.3,6,5.6,9.4,9.8000000000000007]
["Fall 2007","Reuben","DECS-434-0","72",24,8.3000000000000007,7.4,7.6,8.1,7.3,8.5,8.6,7.8,7.6,7,6.9,5.8,8.1999999999999993,9.4]
["Fall 2007","Kuzmics","DECS-434-0","71",40,8.3000000000000007,8.9,8.6999999999999993,8.3000000000000007,7.8,8.4,8.5,8.5,9,6.3,6.3,5.8,7.7,9.3000000000000007]
["Fall 2007","Kuzmics","DECS-434-0","61",54,7.6,8.6999999999999993,7.8,7.7,7.4,8.3000000000000007,8,7.8,8.3000000000000007,5.8,5.9,5.4,7.5,9]
["Fall 2007","Gossner","DECS-436-0","81",25,7.8,8.5,8.3000000000000007,8.1,7.3,8.1,7.5,7.9,8.3000000000000007,6,4.9000000000000004,5.5,8.3000000000000007,9]
["Fall 2007","Eso","DECS-437-0","81",22,8.5,9.4,8.6999999999999993,8.6,7.8,8.6,8.6999999999999993,8.6,9.1,6.7,6.4,5.5,8.9,9.1999999999999993]
["Fall 2007","Merkin","ENTR-462-0","91",28,7.2,7.2,5.7,8.3000000000000007,7.5,6.1,5.8,6.9,6.7,6,6.9,5.8,5.8,8.4]
["Fall 2007","Mayberry McKissack","ENTR-902-A","81",20,6.9,8.1999999999999993,7.6,9,6.9,7.7,7.2,7.2,7.6,4.2,4.4000000000000004,4.3,7.3,8.4]
["Fall 2007","Wolcott","ENTR-903-0","81",32,8.6,9.1,8.1,8.4,8.5,7.5,8.1,8.4,8.6,5.6,5.7,5.0999999999999996,7,8.3000000000000007]
["Fall 2007","Kuhnen","FINC-430-0","73",13,9.3000000000000007,8.5,8.8000000000000007,8.5,8.1999999999999993,8.1999999999999993,7.3,8.4,8.6999999999999993,7.5,6.7,6.2,8.6999999999999993,10]
["Fall 2007","Kuhnen","FINC-430-0","71",17,7.7,7.4,7.6,8,7.4,6.9,6.3,7.3,7,7.5,7.4,6.9,8.5,8.9]
["Fall 2007","Vissing-Jorgensen","FINC-430-0","72",39,8.1,7.2,7.8,7.3,7.6,7.4,7.3,7.1,7.2,7.1,6.9,7.2,8.1,9.3000000000000007]
["Fall 2007","Kuhnen","FINC-430-0","43",56,8.3000000000000007,6.9,7.6,7.2,7.5,7.9,7,7.4,7.1,7.1,7,6.7,7.9,9]
["Fall 2007","Vissing-Jorgensen","FINC-430-0","41",56,8.8000000000000007,7.9,8.3000000000000007,7.9,8.3000000000000007,8.6999999999999993,7.9,8.1,8,7.4,7.4,7.7,8.5,9.4]
["Fall 2007","Vissing-Jorgensen","FINC-430-0","42",57,8.5,7.9,8.3000000000000007,8.1999999999999993,8.3000000000000007,8.6,7.7,8,8.1999999999999993,7,6.5,7.1,8.8000000000000007,9.4]
["Fall 2007","Banerjee","FINC-440-0","71",16,8,6.8,6.9,8.6999999999999993,7.3,7.2,7.6,7.2,6.9,6.4,6.5,6.6,7.3,9.1]
["Fall 2007","Faulkender","FINC-440-0","41",42,7.8,7.8,7.5,8.4,7.3,7.7,7.2,7.5,7.8,7.8,7.3,7.9,8.1999999999999993,9.4]
["Fall 2007","Eberly","FINC-440-0","42",58,8.8000000000000007,9.1,8.6999999999999993,8.3000000000000007,8.8000000000000007,8.6,7.8,8.5,9.1,7.5,7.6,7.8,8.5,9]
["Fall 2007","Faulkender","FINC-441-0","71",16,8.6,8.6,8.1999999999999993,8.6999999999999993,8.3000000000000007,7.8,7.3,7.9,8.1999999999999993,7.1,6.6,6.8,8.5,9.5]
["Fall 2007","Sapienza","FINC-441-0","61",28,6.9,6.7,6.6,7.6,7.4,7.8,7,6.7,6.4,6.3,6,5.6,8.4,9.1999999999999993]
["Fall 2007","Faulkender","FINC-441-0","72",30,8.1,8.3000000000000007,8,9,8.1999999999999993,7.9,7.9,7.7,8.3000000000000007,6.7,6.4,5.9,8.9,9.3000000000000007]
["Fall 2007","Sapienza","FINC-441-0","62",46,7.8,7.4,7.7,8.1,7.9,8.1999999999999993,7,7.5,7.4,6.4,5.8,5.7,8,8.8000000000000007]
["Fall 2007","Raviv","FINC-442-0","71",26,9.5,9.3000000000000007,9.4,9.1999999999999993,8.9,8.4,9.1999999999999993,9.3000000000000007,9.5,7.3,7.5,6.3,7.7,9.1999999999999993]
["Fall 2007","Raviv","FINC-442-0","61",39,9.3000000000000007,9.1999999999999993,9.1999999999999993,8.6,8.3000000000000007,8.1,9.1999999999999993,9.1999999999999993,9.1999999999999993,7.5,8,6.4,7.7,8.8000000000000007]
["Fall 2007","Raviv","FINC-442-0","62",44,9.6999999999999993,9.6,9.4,9.3000000000000007,8.8000000000000007,7.9,9.1,9.6,9.6,7.8,8.8000000000000007,6.5,7.8,9.3000000000000007]
["Fall 2007","Collins","FINC-445-0","61",32,8,7.3,7.1,8.1,7.8,6.9,7.8,7.4,7.2,4.5999999999999996,4.8,4.8,6.3,8.1999999999999993]
["Fall 2007","Collins","FINC-446-0","62",18,9.1,8.5,8.4,9.3000000000000007,8.4,8,8.8000000000000007,8.6,8.4,5,4.5999999999999996,4.5999999999999996,8.1,9.1]
["Fall 2007","Rogers","FINC-446-0","61",96,9.6999999999999993,9.8000000000000007,9.1,8.6999999999999993,8.8000000000000007,8.1999999999999993,9.4,9.5,9.6,5.8,5.7,5.5,6.4,8.6]
["Fall 2007","Schaumburg","FINC-460-0","71",28,7.5,7,7.7,6.5,7.3,7,7.1,6.8,7,7.4,7.1,6.7,7.5,8.5]
["Fall 2007","Schaumburg","FINC-460-0","61",30,7.7,6.4,7.9,6.8,7.4,7.7,6.9,7.2,6.8,6.6,6.3,5.8,7,8.1]
["Fall 2007","Stowell","FINC-461-0","71",48,8.8000000000000007,9.1999999999999993,8.4,9.4,8.9,8.1,8.1,8.8000000000000007,9.1,5.4,5,5.3,8.3000000000000007,9.1]
["Fall 2007","Furfine","FINC-465-0","62",34,9.1999999999999993,9.3000000000000007,9.1999999999999993,8.9,8.6,8.8000000000000007,8.3000000000000007,9,9.3000000000000007,7.4,6.7,6.5,8.1999999999999993,8.6999999999999993]
["Fall 2007","Furfine","FINC-465-0","61",41,8.8000000000000007,9.1,9.1999999999999993,8.9,8.6999999999999993,9,8.8000000000000007,8.8000000000000007,9.3000000000000007,7,6.6,6.1,8.1,8.9]
["Fall 2007","Rebelo","FINC-470-0","62",51,8.9,9.6999999999999993,9.1,8.3000000000000007,9.3000000000000007,8.6,8.1,9,9.6,6,5.8,5.5,7.8,9.1]
["Fall 2007","Rebelo","FINC-470-0","71",54,9.6999999999999993,9.9,9.5,8.6999999999999993,9.6999999999999993,8.9,8.9,9.6999999999999993,9.9,5.9,5.8,5.5,8,8.6999999999999993]
["Fall 2007","Rebelo","FINC-470-0","61",66,9.3000000000000007,9.6999999999999993,9.1999999999999993,8.6999999999999993,9.4,8.8000000000000007,8.8000000000000007,9.3000000000000007,9.6,6,5.9,5.7,7.5,9]
["Fall 2007","Hughes","HIMT-453-0","81",34,8.6,9.4,8,9.6,9.1,8.3000000000000007,8.4,8.8000000000000007,9.1999999999999993,5.2,5.5,5.4,8.3000000000000007,9.3000000000000007]
["Fall 2007","Spulber","INTL-460-0","61",38,5.8,5.9,6.5,8.1,6.5,6.4,6.1,5.8,6.1,4.2,3.8,4.2,6.5,8.1]
["Fall 2007","Spulber","INTL-460-0","81",44,6.3,6.8,7.2,8.1999999999999993,7.3,6.5,6.9,6.4,6.5,4.8,4.8,4.8,6.7,7.8]
["Fall 2007","Corse","INTL-467-0","71",47,8.1,8.9,7.5,9.3000000000000007,8.1,8.5,7.3,8.1,8.5,5.4,5.6,5.2,8.3000000000000007,9.1999999999999993]
["Fall 2007","Brett","INTL-474-0","62",32,8.1,8.6999999999999993,8.5,9,8.1,7.7,7.9,8.4,8.5,5.0999999999999996,5.3,5,6.9,8.6999999999999993]
["Fall 2007","Brett","INTL-474-0","61",34,8.1,8.5,8.1999999999999993,8.9,7.6,7.6,7.9,8.3000000000000007,8.1999999999999993,5.2,5.6,5.0999999999999996,7.5,8.8000000000000007]
["Fall 2007","Beigman","MECN-430-0","71",43,6.3,5.6,4.8,6,6.1,5.9,6.2,5.3,4.2,6.2,6.5,5.7,5.8,7.5]
["Fall 2007","Feldmann","MECN-430-0","61",61,8.3000000000000007,8.1999999999999993,8.3000000000000007,8.1999999999999993,7.9,8.1,7.9,8,8.1999999999999993,6.7,6.6,6.1,7.2,8.4]
["Fall 2007","Satterthwaite","MECN-441-0","62",6,4.5999999999999996,5.3,3.8,8,6.3,4.0999999999999996,3.8,4.3,4,7.2,7,5.8,7.8,9.1999999999999993]
["Fall 2007","Satterthwaite","MECN-441-0","61",11,8.1,7.2,7.3,8.4,7.2,7.6,7.3,7.4,7,7.8,7.4,6.6,8.5,8.9]
["Fall 2007","Vohra","MECN-446-0","71",23,8.6999999999999993,8.9,8.6,9.1999999999999993,8.3000000000000007,6.6,7.9,7.9,8.6999999999999993,7.1,7.2,5.9,9,9]
["Fall 2007","Vohra","MECN-446-0","61",49,8.3000000000000007,8.3000000000000007,7.7,8.8000000000000007,7.8,7.5,8,8,8.1,6.4,6.9,5.9,7.6,8.9]
["Fall 2007","Smith","MEDM-911-0","81",25,7.3,6.6,7.3,7.9,7.3,7.2,7.4,6.9,6.7,5.2,5.6,4.9000000000000004,6.9,8.3000000000000007]
["Fall 2007","Watanabe","MGMT-431-0","76",27,7.8,8,7.3,8.6,6.3,7.1,8.3000000000000007,7,6.4,5.4,5.7,5.3,7.9,8.4]
["Fall 2007","Watanabe","MGMT-431-0","72",43,8.1999999999999993,8.3000000000000007,7.2,8.8000000000000007,7.5,7.3,8,7.9,7.3,5.9,6.3,5.8,7.8,8.5]
["Fall 2007","Watanabe","MGMT-431-0","71",47,7.3,7.2,6.6,8,6.3,6.9,7.6,6.7,5.9,5.6,5.7,5,7.6,9]
["Fall 2007","Hubbard","MGMT-431-0","68",52,7.4,6.9,7,6.7,6.8,6.1,7.1,6.7,6.1,6.1,6.4,5.6,6.9,9]
["Fall 2007","Hubbard","MGMT-431-0","69",55,9.1999999999999993,9,8.6999999999999993,9,8.5,8,8.4,8.9,8.9,6.5,6.3,5.7,7.6,9.1]
["Fall 2007","Markovich","MGMT-431-0","61",58,7,7.3,6.8,7.7,6.5,5.8,7,6.5,6.5,5.5,5.4,5.2,7.8,8.6]
["Fall 2007","Mazzeo","MGMT-431-0","64",63,7.7,9.1,8.1999999999999993,8.8000000000000007,7.6,7.8,7.9,7.8,8.5,5.7,5.9,5.5,8.5,8.9]
["Fall 2007","Hubbard","MGMT-431-0","66",64,7.8,7.7,6.7,7.8,7.2,6.5,7.5,7.4,7.2,5.9,5.9,5.3,7,8.9]
["Fall 2007","Markovich","MGMT-431-0","67",64,7,7.2,6.4,6.8,6.2,5.9,6.7,6.5,5.8,5.0999999999999996,5.4,4.9000000000000004,7.8,9.1999999999999993]
["Fall 2007","Mazzeo","MGMT-431-0","62",66,8.1,9.3000000000000007,8.4,9.1,7.8,7.5,7.8,8,8.8000000000000007,5.6,5.8,5.2,8.1,8.8000000000000007]
["Fall 2007","Markovich","MGMT-431-0","65",68,6.2,6.4,6.1,6.3,5.8,5.2,6.5,5.7,5.3,5.3,5.4,4.8,7.5,8.5]
["Fall 2007","Mazzeo","MGMT-431-0","63",68,8.1,9.3000000000000007,8.1999999999999993,8.9,8.1999999999999993,8.1999999999999993,8.1,8.1999999999999993,8.6999999999999993,5.9,6.1,5.5,8.6,9]
["Fall 2007","Dranove","MGMT-444-0","81",28,9,8.4,7.5,8.9,9,7.6,8,8.6,8.4,6.7,7,5.8,7.9,9]
["Fall 2007","Fong","MGMT-452-0","71",18,7.7,8.3000000000000007,8.3000000000000007,8.4,7.8,7.9,7.8,7.5,8,5.8,5.5,5.3,8.4,9.1]
["Fall 2007","Fong","MGMT-452-0","61",49,7.7,7.8,7.9,8.5,7.4,7.9,7.5,7.4,7.5,5.8,5.5,5.5,8,8.4]
["Fall 2007","Greenstein","MGMT-463-0","71",17,9.1,9.6,8.6,9.3000000000000007,9.1999999999999993,8,8.5,9,8.9,5.7,6.3,5.7,7.9,9.6999999999999993]
["Fall 2007","Greenstein","MGMT-463-0","61",30,7.8,8.6,7.9,8.9,8.9,8.1999999999999993,7.5,8,8.3000000000000007,5.3,5.6,5.3,7.8,8.8000000000000007]
["Fall 2007","Cohen","MGMT-931-A","81",49,7.4,8,7.4,8.6,7.5,6.5,7.3,7.5,7.8,4.3,4.2,4.5,6.4,8]
["Fall 2007","Shein","MGMT-934-0","81",49,8.6999999999999993,8.4,7.7,8.6999999999999993,8.4,7.5,8,8.1,8.3000000000000007,5.6,5.9,5.0999999999999996,7.4,8.9]
["Fall 2007","Chernev","MKTG-430-0","72",27,9.5,9.6999999999999993,9.4,8.8000000000000007,8.4,8.8000000000000007,9.1999999999999993,9.4,9.6,5.5,5.4,5.4,6.5,8]
["Fall 2007","Chernev","MKTG-430-0","71",31,9.5,9.3000000000000007,9.3000000000000007,8.9,8.6,9.1999999999999993,9.3000000000000007,9.4,9.4,5.8,5.6,5.6,7.4,9.4]
["Fall 2007","Chernev","MKTG-430-0","41",37,9.1999999999999993,9.4,9.4,8.6999999999999993,8.1,8.9,8.8000000000000007,9.3000000000000007,9.4,5.2,4.9000000000000004,5.0999999999999996,6.8,9.1]
["Fall 2007","Grayson","MKTG-430-0","45",44,9.1,9.6999999999999993,9.1,9.4,8.4,8.3000000000000007,8.3000000000000007,8.9,9.5,6.7,6.8,5.5,9.1999999999999993,9.3000000000000007]
["Fall 2007","Grayson","MKTG-430-0","46",55,8.8000000000000007,9.1999999999999993,8.8000000000000007,9.1999999999999993,8.3000000000000007,7.5,7.8,8.6,8.9,6.3,6.4,5.4,8.8000000000000007,9.1]
["Fall 2007","Hennessy","MKTG-430-0","43",58,9.5,9.9,9.5,9.5,9.1,9.4,9.1999999999999993,9.6999999999999993,9.9,5.8,5.9,5.3,9,9.1]
["Fall 2007","Chernev","MKTG-430-0","42",60,9.1,9.1,9,8.5,8.1,8.8000000000000007,9,9.1,9.1,5.2,5.0999999999999996,5,6.7,8.1]
["Fall 2007","Hennessy","MKTG-430-0","44",61,9.6,10,9.6,9.3000000000000007,9.1,9.4,9.1,9.6999999999999993,9.8000000000000007,5.8,5.7,5.5,9,9.1999999999999993]
["Fall 2007","Schieffer","MKTG-450-0","61",53,7.3,7.8,7.5,8.1,7.4,7,7.1,7.3,7.1,5.6,7.4,6,7.8,8.4]
["Fall 2007","Schieffer","MKTG-450-0","71",53,8.6,8.9,8.6,8.8000000000000007,8.4,8.4,8.5,8.4,8.6,5.2,5.4,5.3,8.1,8.5]
["Fall 2007","Sternthal","MKTG-454-0","71",32,8.8000000000000007,9.1,8.8000000000000007,8.9,8.3000000000000007,8.4,8.1999999999999993,8.6999999999999993,9.1,5.4,5.4,5.3,8.4,9.3000000000000007]
["Fall 2007","Pearlman","MKTG-454-0","61",48,7.9,8.6,8.5,8.6999999999999993,8.1,8.4,7.6,8.1,8.4,4.9000000000000004,5.2,5.0999999999999996,8.4,8.9]
["Fall 2007","Honack","MKTG-459-0","81",48,7.8,9.1999999999999993,8.1,8.9,7.9,8.1999999999999993,7.8,8.1,8.6999999999999993,4.7,5.2,4.9000000000000004,8.6999999999999993,9.1]
["Fall 2007","Zoltners","MKTG-463-0","71",31,8.6999999999999993,8.5,8.4,9.1,8.3000000000000007,8,8.8000000000000007,8.6999999999999993,8.6,5.4,5.6,5.4,7.2,8.6999999999999993]
["Fall 2007","Zoltners","MKTG-463-0","61",47,8.1,7.4,8,8,7.7,7,8,7.9,7.7,5.5,6.2,5.3,7.1,8.1999999999999993]
["Fall 2007","Herbst","MKTG-464-A","81",23,7.3,8.1,7.3,8.4,8.1,7.4,7,7.2,8,4.5999999999999996,5.6,5.7,8.1,9.3000000000000007]
["Fall 2007","Conley","MKTG-465-0","71",16,8.9,9.6,9.1,9.3000000000000007,8.6,8.6,8.6,9,9.3000000000000007,5.9,5.9,5.5,8.8000000000000007,9.1999999999999993]
["Fall 2007","Krishnamurthi","MKTG-466-0","71",28,9.1,9.4,8.9,8.9,8.9,9,8.6999999999999993,9.1,9.3000000000000007,6.3,7.3,5.9,8,9.1999999999999993]
["Fall 2007","Calkins","MKTG-466-0","62",56,9.4,9.9,9.6,9.4,8.6999999999999993,9.1,8.6999999999999993,9.4,9.8000000000000007,5.5,6.2,5.4,8.4,8.8000000000000007]
["Fall 2007","Calkins","MKTG-466-0","61",59,9.5,9.9,9.6999999999999993,9.1999999999999993,8.6999999999999993,9.1999999999999993,9.1,9.6,10,5.5,6.1,5.5,8.8000000000000007,8.9]
["Fall 2007","Dewar","MORS-430-0","72",48,6.8,8.1999999999999993,7,8.4,7.2,7.8,7.8,7,7.5,4.7,4.5999999999999996,5,8.5,8.6]
["Fall 2007","Joseph","MORS-430-0","71",49,8.8000000000000007,9.3000000000000007,8.6,9.3000000000000007,8.3000000000000007,8.1,7.7,8.8000000000000007,9.1999999999999993,5.5,5.6,5.6,8,9.4]
["Fall 2007","Dacin","MORS-430-0","67",65,8.8000000000000007,9.4,8.6999999999999993,9,8.4,8.4,8.6999999999999993,8.6999999999999993,8.9,5.0999999999999996,5.7,6.1,8.6999999999999993,9.8000000000000007]
["Fall 2007","Galinsky","MORS-430-0","66",65,8.9,9.1999999999999993,8.6,9,8.1,8.1,8.4,9,9.1,5.0999999999999996,5.9,5.9,7.6,8.8000000000000007]
["Fall 2007","Galinsky","MORS-430-0","68",67,8.9,9.3000000000000007,8.8000000000000007,9,8.4,8.1,8.1999999999999993,8.9,9.1,5.4,6.2,6.2,7.4,9.1]
["Fall 2007","Medvec","MORS-430-0","62",67,9,9.8000000000000007,9,9.1,8.3000000000000007,8.4,8.3000000000000007,9.1999999999999993,9.6,5.5,6.7,6.1,7.4,9.4]
["Fall 2007","Medvec","MORS-430-0","64",67,9.1999999999999993,9.6999999999999993,9,8.8000000000000007,8.1999999999999993,8,8,9.3000000000000007,9.5,5.8,6.5,6.3,7.4,9.5]
["Fall 2007","Dacin","MORS-430-0","65",68,8.6999999999999993,9.4,8.6,8.9,8,8,8.4,8.6999999999999993,8.9,5.3,5.7,5.8,8.4,9.3000000000000007]
["Fall 2007","Uzzi","MORS-430-0","63",94,9.1,9.6,8.8000000000000007,9.1999999999999993,8.8000000000000007,8.1999999999999993,8.4,9.1999999999999993,9.5,5.5,5.8,5.9,7.6,9.4]
["Fall 2007","Uzzi","MORS-430-0","61",95,9.3000000000000007,9.8000000000000007,8.9,9.3000000000000007,8.9,8.5,8.8000000000000007,9.4,9.6999999999999993,5.6,6.1,5.7,7.6,9]
["Fall 2007","Shwom","MORS-449-B","61",19,8.1999999999999993,8.3000000000000007,8.4,9.1999999999999993,8.4,8.6,8.5,8.3000000000000007,8.3000000000000007,4.7,5.9,5.3,8.6999999999999993,8.9]
["Fall 2007","Van Camp","MORS-450-0","71",20,8.4,9.3000000000000007,8.8000000000000007,8.6,8.1999999999999993,8.8000000000000007,7.8,8.6999999999999993,9.1999999999999993,5.2,5.0999999999999996,5.2,8.9,9.6]
["Fall 2007","Weber","MORS-453-0","71",34,9,9.1,9.3000000000000007,9.4,8.6,9,8.9,8.9,9.1,5.7,5.5,5.0999999999999996,8.5,9.4]
["Fall 2007","Weber","MORS-453-0","62",41,8.1,7,8.1,8.9,7.8,8.1999999999999993,8.3000000000000007,8,7.5,5.2,5.5,4.7,7.4,8.6999999999999993]
["Fall 2007","Weber","MORS-453-0","61",49,7.2,6.7,7.9,8.5,7.7,8.1,7.9,7.3,7.2,5.4,5.7,5.0999999999999996,7.8,8.6]
["Fall 2007","Thompson","MORS-460-0","81",42,7,7.6,7.3,7.5,7.9,5.9,6.4,6.4,5.6,5.2,5.8,5.0999999999999996,4.4000000000000004,8.1999999999999993]
["Fall 2007","Hughes","MORS-468-0","71",35,8.8000000000000007,9.1999999999999993,8.1,9.3000000000000007,8.5,8.5,8.6,8.5,8.6,4.5999999999999996,4.5999999999999996,4.7,7.8,9.1]
["Fall 2007","Kraemer","MORS-468-0","91",59,8.4,9.6,8.6,9.6999999999999993,8.1999999999999993,8.3000000000000007,8.3000000000000007,8.5,9.3000000000000007,3.9,4.2,4.4000000000000004,9.6,9.4]
["Fall 2007","Sondak","MORS-470-0","71",29,9.4,9.6,8.9,9.5,8.9,8.4,8.6,9.4,9.4,5.2,5.2,5.2,8.5,9.4]
["Fall 2007","Berger","MORS-470-0","92",32,8.1999999999999993,7.9,8.5,9.1999999999999993,7.8,8.1999999999999993,7.7,8,8,4.9000000000000004,5,4.8,7.6,8.3000000000000007]
["Fall 2007","Bauman","MORS-470-0","91",36,9.1,8.6,8.9,9.1999999999999993,8.4,8.1999999999999993,8,8.8000000000000007,8.8000000000000007,5.7,5.5,5.4,8,9]
["Fall 2007","Ata","OPNS-430-0","72",42,7.6,8.1,8.1999999999999993,8.6999999999999993,7.7,7.5,7.5,7.5,8.1999999999999993,6.6,6.6,5.3,8.9,9.4]
["Fall 2007","Ata","OPNS-430-0","71",46,7.7,8.1,8.1,8.6,7.5,7.5,7.5,7.7,8.1,6.5,6.8,5.8,7.5,9.1999999999999993]
["Fall 2007","Deshmukh","OPNS-450-0","61",43,7.3,7.2,8,7.8,6.9,7.9,6.9,7.4,7.5,5.3,6,4.9000000000000004,7.4,8.1]
["Fall 2007","Deshmukh","OPNS-450-0","62",46,7.2,7.5,8,7.4,6.8,7.5,7.1,7.3,7.6,5.6,5.9,5.0999999999999996,7.1,8.1999999999999993]
["Fall 2007","Ata","OPNS-454-0","71",12,7.2,8.6999999999999993,7.8,9.4,7.8,6.1,7,7.2,7.8,6,6.3,5.4,8.1999999999999993,8.9]
["Fall 2007","Van Mieghem","OPNS-454-0","62",55,6.7,7.7,7.5,8.4,7.5,7,7,6.7,7.5,6.8,7.3,5.9,7.6,8.9]
["Fall 2007","Van Mieghem","OPNS-454-0","61",64,6.6,7.7,7.4,8.6,7.5,7.3,6.7,6.6,7.4,6.4,6.7,5.6,7.9,9]
["Fall 2007","Chopra","OPNS-455-0","61",52,9.1999999999999993,9.4,9.1,9.1999999999999993,8.6,8.1,8.3000000000000007,9,9.3000000000000007,7.4,7.6,6,7.9,9.4]
["Fall 2007","Lupiani","REAL-442-0","31",21,7.9,7.4,7.3,8,8.1,7.7,8.1,7.7,7.3,5.2,5.7,5.2,8.3000000000000007,8.6]
["Fall 2007","Mattoon","REAL-443-0","81",40,7.3,8.6,8.1999999999999993,8.4,8.6999999999999993,8.4,6.3,7.7,8.4,4.4000000000000004,4.0999999999999996,4.8,7.7,8]
["Fall 2007","Callander","SEEK-440-A","62",28,7.6,8.8000000000000007,8,8.5,7.8,7.7,7.3,7.9,8.8000000000000007,4.8,4.9000000000000004,5.3,6.7,8.6999999999999993]
["Fall 2007","Feddersen","SEEK-440-A","61",33,7.9,8.6999999999999993,8.1,8.6999999999999993,7.5,6.5,7.8,8,8.4,5.0999999999999996,4.9000000000000004,5.3,6.4,7.6]
["Fall 2007","Austen-Smith","SEEK-440-A","71",34,9,9.5,9,9.5,8.9,8.3000000000000007,8.5,8.9,9.5,5.2,5.6,5.5,7.3,8.6999999999999993]
["Fall 2007","Austen-Smith","SEEK-440-A","72",42,8.9,9.6,9,9.4,8.9,8.3000000000000007,8,8.9,9.4,4.8,4.9000000000000004,5.0999999999999996,7.8,9.4]
["Fall 2007","Austen-Smith","SEEK-440-A","66",55,8.6,9.1,8.9,9.1999999999999993,8.1999999999999993,8.3000000000000007,8.1999999999999993,8.6999999999999993,9,4.9000000000000004,4.5999999999999996,5.0999999999999996,7.1,8.8000000000000007]
["Fall 2007","Austen-Smith","SEEK-440-A","68",55,8.6999999999999993,9.5,9.1,9,8.3000000000000007,8.5,8.1999999999999993,8.9,9.4,4.9000000000000004,4.5,5.2,6.7,8.4]
["Fall 2007","Diermeier","SEEK-440-A","67",61,9.5,9.8000000000000007,9.1999999999999993,9.1,9,8.4,8.6999999999999993,9.6,9.8000000000000007,4.9000000000000004,4.5999999999999996,5.0999999999999996,7.4,8.6]
["Fall 2007","Diermeier","SEEK-440-A","65",63,9.5,9.8000000000000007,9.3000000000000007,9.4,9.1999999999999993,8.4,8.9,9.6,9.8000000000000007,5,4.7,5.2,7.5,8.8000000000000007]
["Fall 2007","Feddersen","SEEK-440-A","63",63,8.1,8.6,8.3000000000000007,8.6999999999999993,7.7,7.3,7.6,8.1,8.5,4.8,4.8,5.2,6.9,8.1999999999999993]
["Fall 2007","Callander","SEEK-440-A","64",64,8.1999999999999993,9.6,8.8000000000000007,9.1,8,8.1,7.9,8.3000000000000007,9.1999999999999993,4.7,4.5,5,7.2,8.5]
["Fall 2007","Feldmann","SEEK-441-0","71",10,8.8000000000000007,9,8.8000000000000007,9.4,8.9,8.6,8.3000000000000007,8.5,9,4.9000000000000004,5,5,7.4,8]
["Fall 2007","Haider","SEEK-441-0","81",33,8.1,7.6,7.3,8,7.8,7.9,7.7,7.4,7.3,5.3,5.7,4.9000000000000004,7.3,8.3000000000000007]
["Fall 2007","Austen-Smith","SEEK-460-0","71",14,9.1999999999999993,9.3000000000000007,9,9.4,9.1,8.1,8.6,8.9,9.3000000000000007,4.9000000000000004,4.9000000000000004,5.0999999999999996,7.8,8.6]
["Fall 2007","Feddersen","SEEK-460-0","61",36,8.1999999999999993,9,8.1999999999999993,9.4,8.3000000000000007,7.8,8,8.4,8.9,4.8,4.8,4.8,8.1999999999999993,8.6999999999999993]
["Fall 2007","Kiesling","SEEK-935-0","61",21,7.3,8.5,5.9,8.9,7.5,7.9,6.2,6.6,6.9,4.8,5,4.5,8.6999999999999993,8.6]
["Fall 2007","Choudhary","TECH-917-0","81",21,8.5,8.3000000000000007,8.1999999999999993,8.6999999999999993,8.3000000000000007,8.5,8.4,8.4,8.1999999999999993,6,6.6,5.6,8.8000000000000007,9.1]
["Summer 2007","Drebin","ACCT-430-0",71,51,7.3,7.4,8.3000000000000007,6.8,8.1,8.5,8.3000000000000007,7.4,7.7,5.8,6,5.8,7.5,9.1]
["Summer 2007","Drebin","ACCT-430-0",72,34,8.3000000000000007,8.5,8.9,7.8,8.5,8.6999999999999993,8.6,8.1999999999999993,8.5,6.6,6.3,6.6,8,9.4]
["Summer 2007","Drebin","ACCT-430-0",76,27,8.5,9.1999999999999993,9,8.1,9.3000000000000007,8.9,8.8000000000000007,9,9.1999999999999993,5.2,5.4,5.7,8.4,9.5]
["Summer 2007","McCareins","BLAW-435-0",71,18,8.6,8.9,8.6,8.8000000000000007,8.6999999999999993,8.6,8.9,8.8000000000000007,9,4.9000000000000004,4.7,5.0999999999999996,8.4,9.3000000000000007]
["Summer 2007","Gossner","DECS-433-0",71,32,8.6999999999999993,9.4,9.3000000000000007,8.3000000000000007,7.9,8.8000000000000007,8.6,9,9.5,6.4,5.5,5.7,8.1999999999999993,8.6]
["Summer 2007","Gossner","DECS-433-0",72,29,8.6999999999999993,9.5,9.1999999999999993,8.6999999999999993,8.5,8.8000000000000007,8.5,9,9.4,7.6,6.3,6.6,8.4,9.1]
["Summer 2007","Schmedders","DECS-434-0",71,41,8.8000000000000007,9.9,9.3000000000000007,9.5,8.9,8.6,8.5,9,9.9,6.9,7.2,6.2,9.1,9.8000000000000007]
["Summer 2007","Schmedders","DECS-434-0",72,38,8.9,9.9,9.4,9.8000000000000007,9.1999999999999993,9.1,8.8000000000000007,9.1,9.8000000000000007,6.4,6.6,5.7,9.1,9.6]
["Summer 2007","Schmedders","DECS-434-0",73,28,9.4,10,9.6999999999999993,9.6999999999999993,8.9,9.3000000000000007,9,9.3000000000000007,10,7,6.7,6.2,9.5,9.5]
["Summer 2007","Weber","DECS-438-A",61,49,8.4,9.1,8.6999999999999993,6.9,8.6,8.4,8.1999999999999993,8.1,8.9,7.4,5.7,6.7,9.6999999999999993,9.8000000000000007]
["Summer 2007","Weber","DECS-439-B",61,34,8.9,9.1,9,7.4,8.5,8.6,8.6999999999999993,8.8000000000000007,9.1999999999999993,5.9,5.0999999999999996,5.5,9.3000000000000007,9.6]
["Summer 2007","Shein","ENTR-462-0",71,33,9.1,8.1999999999999993,7.8,9.1999999999999993,7.8,7.3,7.5,8.6999999999999993,8.1,7.4,8.6,6.4,8,8.9]
["Summer 2007","Ofer","FINC-430-0",71,52,8.6,9.3000000000000007,8.3000000000000007,9,8.6,8.1,8.3000000000000007,8.5,9,6.6,5.9,5.9,7.3,9]
["Summer 2007","Ofer","FINC-440-0",61,35,8.9,9.1999999999999993,7.8,8.4,8.8000000000000007,7.8,8.5,8.6,8.8000000000000007,7.3,7.1,7.1,7.2,9]
["Summer 2007","Ofer","FINC-440-0",62,23,8.9,9.6,8.6999999999999993,9.1,9,8.1999999999999993,8.3000000000000007,8.8000000000000007,9.6999999999999993,6.8,6.6,6.8,6.7,8.4]
["Summer 2007","Bustos","FINC-441-0",71,16,8,8.3000000000000007,7.7,8.4,7,6.7,7,7.3,7.8,7.8,7.1,6.8,8.5,9.1]
["Summer 2007","Thompson","FINC-442-0",71,35,9.1,9.1999999999999993,8.8000000000000007,8.8000000000000007,8.5,8.3000000000000007,8.6,8.9,8.9,7.3,7.5,5.8,8.5,9]
["Summer 2007","Collins","FINC-445-0",71,34,7.8,7.5,7,8.3000000000000007,8,6.3,7.5,7.1,7.2,5.0999999999999996,4.8,4.7,6.5,9.1]
["Summer 2007","Collins","FINC-446-0",71,25,9,9,8.9,9.1,8.9,8.4,8.8000000000000007,9,9.1999999999999993,4.9000000000000004,4.5,4.9000000000000004,7.4,9.4]
["Summer 2007","Feldmann","MECN-430-0",71,52,8.6,8.6,8.5,8.3000000000000007,8.1,8,8,8.3000000000000007,8.5,6.4,6.7,5.9,7.3,9]
["Summer 2007","Feldmann","MECN-430-0",72,54,8.1999999999999993,8.3000000000000007,8.1,8.1,7.9,7.7,7.7,7.8,8.1999999999999993,6.4,7.2,6,7.9,9.5]
["Summer 2007","Saraniti","MECN-441-0",71,47,9.1,9.6999999999999993,8.9,9.1,8.5,8.6,8.3000000000000007,9.1,9.6,6.7,6.6,6,8.5,9.4]
["Summer 2007","Saraniti","MECN-441-0",72,30,8.5,9.3000000000000007,8.1,8.6999999999999993,7.8,7.8,8,8.6999999999999993,8.9,6.7,6.6,6.1,7.7,8.9]
["Summer 2007","Markovich","MGMT-431-0",61,37,7.3,7.8,7.5,8.1999999999999993,6.4,7.6,7.4,7.3,7,5.6,6.5,5.3,7.4,8.1]
["Summer 2007","Markovich","MGMT-431-0",62,33,6.7,7.6,7.4,7.9,6.5,7.1,8,7.1,6.7,5,6.1,5.0999999999999996,8.3000000000000007,8.9]
["Summer 2007","Markovich","MGMT-431-0",71,56,8.8000000000000007,9.1999999999999993,8.4,9,7.8,8.3000000000000007,8.5,8.6,8.8000000000000007,5.7,6.1,5.4,8.5,9]
["Summer 2007","Cool","MGMT-452-0",71,39,8.5,8.6,8.3000000000000007,8.9,8.3000000000000007,7.9,8.1,8.3000000000000007,8.3000000000000007,5.7,5.6,5.5,7.2,8.4]
["Summer 2007","Bakalis","MGMT-468-0",71,24,6.9,6.3,6.9,8.9,7.7,7.5,6.7,6.8,6.7,4.0999999999999996,4,4.5,5.0999999999999996,8.6]
["Summer 2007","Dafny","MGMT-469-0",71,21,8.5,9.4,7.9,9.1,8.4,7.9,7.8,8,9.1,8.1999999999999993,7.6,6.7,9.1999999999999993,9.4]
["Summer 2007","Dafny","MGMT-469-0",72,19,8.4,9.1999999999999993,8.5,9.1,8.3000000000000007,8.6999999999999993,7.8,8.3000000000000007,9,6.7,6.3,6.2,9.1999999999999993,9]
["Summer 2007","Shein","MGMT-934-0",71,34,8.9,9,7.9,8.6,8.3000000000000007,7.7,8.3000000000000007,8.5,8.8000000000000007,6,6.3,5.9,8.4,9.1999999999999993]
["Summer 2007","Voorn","MKTG-430-0",71,41,8.3000000000000007,8.4,8.3000000000000007,8.4,8.3000000000000007,8.6,7.7,8.3000000000000007,8.5,5.8,6.5,5.3,8.8000000000000007,9.1999999999999993]
["Summer 2007","Maoz","MKTG-450-0",61,36,7.6,8.6,8.1,7.8,8.1,7.6,6.4,7.9,8.6,5.6,5.9,4.9000000000000004,7.8,7.9]
["Summer 2007","Maoz","MKTG-450-0",71,47,8.1,8.6999999999999993,8.1999999999999993,7.7,8.3000000000000007,7.3,7,8,8.4,5.3,5.6,4.8,7.1,8.3000000000000007]
["Summer 2007","Calder","MKTG-458-0",71,30,6.4,5,6.1,6.8,7.1,6.6,6.4,5.8,5.2,4.5,4.5,4,7,8.5]
["Summer 2007","Maoz","MKTG-465-0",71,46,8.3000000000000007,8.9,7.9,8.1,8.4,8,7.2,8.1999999999999993,8.1999999999999993,4.7,4.8,4.7,8.1,9]
["Summer 2007","Dewar","MORS-430-0",76,28,9.5,9.6999999999999993,9.1999999999999993,9.6,9.1999999999999993,9.1999999999999993,9.5,9.3000000000000007,9.5,5.2,5.2,5.3,9.1,9.5]
["Summer 2007","Oldroyd","MORS-430-0",71,27,8.4,8.5,8.1999999999999993,9.4,8.1999999999999993,8,8.1,8.3000000000000007,8.4,5.4,6,6,8,9]
["Summer 2007","Van Camp","MORS-450-0",71,18,9.1999999999999993,9.8000000000000007,9.1999999999999993,9.3000000000000007,8.5,9.4,8.9,9.5,9.6,5.4,5.8,5.0999999999999996,9.1,9.3000000000000007]
["Summer 2007","Hirsch","MORS-452-0",71,20,9.1,8.8000000000000007,8.8000000000000007,9.5,8.6999999999999993,9.3000000000000007,9,8.9,8.9,4.9000000000000004,5.0999999999999996,5,9.4,9.6999999999999993]
["Summer 2007","Bermiss","MORS-470-0",71,25,9.3000000000000007,9.6,9.4,9.4,8.9,9,8.3000000000000007,9.4,9.4,4.9000000000000004,5.2,5.0999999999999996,9.3000000000000007,9.6]
["Summer 2007","Crotty","MORS-470-0",72,13,8.9,8.4,8.6999999999999993,8.3000000000000007,7.8,8.4,8.3000000000000007,8.6999999999999993,8.4,5,6,5,8.9,9.6]
["Summer 2007","Joseph","MORS-470-0",73,24,9.1,9.4,9.4,9.6,8.6999999999999993,8.6,8.4,9.1,9.4,4.5999999999999996,5.3,5.0999999999999996,8.6,9.6]
["Summer 2007","Joseph","MORS-470-0",91,36,9,9.1999999999999993,8.8000000000000007,9.3000000000000007,8.1,8.6,7.9,9.1999999999999993,9.3000000000000007,5.5,5.5,5.3,8.1,8.8000000000000007]
["Summer 2007","Radnor","MORS-926-0",71,6,8.1,8.9,8.1,9.1,8.4,8.4,7,8.1999999999999993,8.8000000000000007,6,5.4,5.6,8.5,7.3]
["Summer 2007","Bassamboo","OPNS-430-0",71,54,7.6,8,8.4,8.5,7.7,8,7.6,7.4,8.1,6.2,6.6,5.7,7.6,9.4]
["Summer 2007","Bassamboo","OPNS-430-0",72,39,7.7,7.8,8.1,8.4,7.3,7.8,7.3,7.5,7.9,6.2,6.9,5.5,7.3,8.6999999999999993]
["Summer 2007","Bassamboo","OPNS-438-B",61,31,6.2,5.7,6.8,6.6,5.2,6.6,6.6,5.8,5.7,6.2,6.4,6.1,6.4,7.2]
["Summer 2007","Austen-Smith","SEEK-440-A",61,71,9.1,9.6999999999999993,9,9,8.3000000000000007,7.5,7.9,9,9.4,5.3,4.9000000000000004,5.9,7.1,8.6]
["Summer 2007","Austen-Smith","SEEK-440-A",71,27,8.6,9.4,8.6,9.1,8.5,7.5,7.7,8.1,8.9,5.5,6,5.9,7.6,9.1]
["Summer 2007","Austen-Smith","SEEK-440-A",72,26,8.4,9.4,8.8000000000000007,9.3000000000000007,8.6,7.7,7.5,8.3000000000000007,9.3000000000000007,5.2,5.7,5.8,7.9,9.3000000000000007]
["Summer 2007","Haider","SEEK-441-0",71,17,8.4,8.1999999999999993,7.4,7.6,8.3000000000000007,7.8,7.6,8,7.7,5,5.4,5,7.4,9.4]
["Summer 2007","Jeffery","TECH-914-0",71,18,8.3000000000000007,9,8,7.9,8.1,7.4,8,8.4,8.1999999999999993,5.8,7.6,5.4,6.5,8.3000000000000007]
["Spring 2007 ","Dye","ACCT-430-0",71,11,7.6,7.9,6.8,7.2,8.3000000000000007,8,7.4,7.2,7.6,6,5.3,5.7,6.4,9]
["Spring 2007 ","Dye","ACCT-430-0",72,25,7.9,8.5,8.4,7.7,8.4,8,7.7,8.1,8.6999999999999993,7.6,7,7,7.6,9.5]
["Spring 2007 ","Rusticus","ACCT-431-0",71,5,6.9,6,7.1,7.9,7.4,6.5,6.9,6.4,6.4,6.4,5.2,5.2,8.8000000000000007,9.8000000000000007]
["Spring 2007 ","Walther","ACCT-431-0",61,42,8.4,8.6,9.5,8.6,8.5,8,8.6,8.4,8.8000000000000007,6,5.6,5.4,8.6,9.1]
["Spring 2007 ","Walther","ACCT-431-0",62,54,8.1,8.3000000000000007,9.4,8.6,8.5,8,8.1999999999999993,8.3000000000000007,8.8000000000000007,6,5.8,5.5,8.6999999999999993,9.6999999999999993]
["Spring 2007 ","Sunder","ACCT-451-0",62,47,7.5,7.9,7.4,8.1,7.5,7.6,7.5,7.3,7.8,5.5,5.2,5,7.4,8.5]
["Spring 2007 ","Sunder","ACCT-451-0",81,41,7.7,8.1999999999999993,7.6,8.3000000000000007,8.1,8.1999999999999993,7.8,7.7,8.1,5.6,5.6,5.2,7.6,9.3000000000000007]
["Spring 2007 ","Balachandran/Sullivan","ACCT-454-0",81,32,6.4,7.4,6.8,7.6,7.4,7.5,6.9,6.6,7.4,5,5.2,4.9000000000000004,9.1999999999999993,9]
["Spring 2007 ","Calkins","BIOT-914-0",61,47,9,9.6999999999999993,9.1,9.3000000000000007,9,8.6999999999999993,8.8000000000000007,9.1999999999999993,9.6999999999999993,4.7,4.7,4.8,8.1,8.9]
["Spring 2007 ","Presser","BLAW-435-0",81,44,9.1999999999999993,9.8000000000000007,8.9,8.6999999999999993,9.1999999999999993,8.3000000000000007,8.6,9.1999999999999993,9.5,5.0999999999999996,4.8,5,6.9,8.8000000000000007]
["Spring 2007 ","McCareins","BLAW-437-0",81,20,8.6,9.1999999999999993,8.4,8,8.5,8.1,7.9,8.6,9.4,4.7,5.3,5,6.8,7.7]
["Spring 2007 ","Bradley","BLAW-921-0",71,9,8.5,8.4,8.3000000000000007,8.6,8.3000000000000007,8,8.8000000000000007,8.6999999999999993,8.6999999999999993,4.9000000000000004,4.3,4.9000000000000004,7,8]
["Spring 2007 ","McKeon","DECS-433-0",73,40,9.4,9.9,9.6999999999999993,9.4,9.1,9.4,9.4,9.6999999999999993,9.9,6.6,6.2,5.5,8.6,9.5]
["Spring 2007 ","Schummer","DECS-433-0",71,22,8.9,9.6,9.5,9,8.6,9.1,9.3000000000000007,9.3000000000000007,9.6,5.9,5.8,5.5,8.6,9.4]
["Spring 2007 ","Schummer","DECS-433-0",72,29,8.6999999999999993,9.5,9.5,9.4,8.6,9.3000000000000007,8.9,9.3000000000000007,9.6999999999999993,5.8,5.9,5.5,8.6999999999999993,9.4]
["Spring 2007 ","Ekmekci","DECS-434-0",71,40,7.5,8.4,7.7,8.1,7.6,8.3000000000000007,7.9,7.5,7.9,6.1,6.4,5.8,8.6999999999999993,9.5]
["Spring 2007 ","Ekmekci","DECS-434-0",72,21,7.5,7.9,7.7,8.1,7.5,8.3000000000000007,8,7.8,7.8,6.1,6.7,6.1,8.1999999999999993,9.3000000000000007]
["Spring 2007 ","Weber","DECS-452-0",61,48,9.5,9.3000000000000007,8.6,8.1,9.1,8,8.3000000000000007,9,9.4,6.5,4.9000000000000004,5.2,7.9,9.1]
["Spring 2007 ","Weber","DECS-452-0",71,38,9.1999999999999993,9.1,8.3000000000000007,7.7,9.1,7.8,8,8.6999999999999993,8.9,6.8,5.4,5.4,8.6,9.4]
["Spring 2007 ","Merkin","ENTR-462-0",71,32,8.6999999999999993,8.6,7.2,8.4,8,7.2,6.8,8,7.8,6.5,7.1,5.9,7.1,8.8000000000000007]
["Spring 2007 ","Shein","ENTR-462-0",81,29,7.8,7.7,7.4,8.8000000000000007,7.4,7.7,6.7,7.5,7.6,6.1,7.1,5.3,8.4,8.4]
["Spring 2007 ","Shefsky","ENTR-463-0",81,52,6.3,6,6.5,7.3,7,5.8,6,6.3,6,4.2,4.0999999999999996,4.2,6.6,8.4]
["Spring 2007 ","Jacobs","ENTR-901-A",61,22,6.3,6.7,6.4,7.3,6.5,6.2,5.6,6.3,7,3.6,3.8,4.5999999999999996,6.5,7.6]
["Spring 2007 ","Mayberry McKissack","ENTR-902-B",81,27,6.4,7,6,8.1,6.8,6.5,6.5,6,6.1,4.5,4.5999999999999996,4.2,5.7,7.9]
["Spring 2007 ","Wolcott","ENTR-903-B",81,27,8.1,8.9,7.6,8.1999999999999993,8,7.3,7.8,7.8,8.1,5.8,6.2,6.4,7.2,9.1999999999999993]
["Spring 2007 ","Sutter, Jr.","ENTR-926-0",81,38,8.6,9.1999999999999993,8.3000000000000007,9.1,8.6,7.4,7.9,8.6999999999999993,9,5.2,5.8,5.2,7.2,8.9]
["Spring 2007 ","Kuhnen","FINC-430-0",61,43,7.6,6.9,7.5,7.6,7.7,7.3,6.9,7,7,7,6.6,6.6,6.9,9.5]
["Spring 2007 ","Kuhnen","FINC-430-0",71,22,7.8,7.5,7.5,7.2,7.6,6.5,6.5,7,7.1,7.2,7.1,7.2,8.4,8.9]
["Spring 2007 ","Kuhnen","FINC-430-0",72,25,7.5,6.5,7.2,6.5,7.2,6.8,5.8,6.8,6.4,6.9,7.1,6.3,7.6,8.9]
["Spring 2007 ","Lucas","FINC-440-0",71,19,9.1,8.6999999999999993,8.6,8.8000000000000007,8.1999999999999993,8.1,8.5,8.1999999999999993,8.6,8,7.5,7.2,8.1,9.1]
["Spring 2007 ","Eisfeldt","FINC-441-0",62,27,8.1,7.8,7.7,7.7,7.3,7.3,6.8,7.4,7,7,6,6.4,6.4,8.8000000000000007]
["Spring 2007 ","Eisfeldt","FINC-441-0",63,22,7.8,8.1999999999999993,7.7,8.4,7.7,7.5,6.7,7.3,7.6,7.2,6,6.6,7.4,8.9]
["Spring 2007 ","Eisfeldt","FINC-441-0",71,32,8.1,8.6,8.1,8,7.6,7.2,7,7.6,8,7.4,6.6,6.7,7,9.1]
["Spring 2007 ","Matsa","FINC-441-0",61,24,7.8,7.3,7.6,9,8,7.3,7.4,7.5,7.4,7.1,6.2,5.6,7,9]
["Spring 2007 ","Matsa","FINC-441-0",72,19,9.1,8.1999999999999993,8.5,9.3000000000000007,8.6,8.1999999999999993,8,8.5,8.1999999999999993,7.2,7.2,6.2,8.9,9.6999999999999993]
["Spring 2007 ","Dinc","FINC-442-0",62,25,9.3000000000000007,8.9,8.1999999999999993,9.1,8,7.7,8.1999999999999993,9,8.6,7.7,8.1999999999999993,6.6,7.2,8.6]
["Spring 2007 ","Dinc","FINC-442-0",63,14,9.4,9.1,8.6,9.5,7.9,8.1,8.9,9.1999999999999993,9,8.4,8.6999999999999993,7,7.3,8.8000000000000007]
["Spring 2007 ","Dinc","FINC-442-0",64,11,9.3000000000000007,9,8.4,9.5,8.4,8.6,8.8000000000000007,8.9,8.8000000000000007,8,8.1999999999999993,6.9,6.7,9.1]
["Spring 2007 ","Liberti","FINC-442-0",65,46,9.6999999999999993,9.9,9.6,9.6999999999999993,9.5,9.6,9.6,9.6999999999999993,9.9,8.6999999999999993,9.5,8.1,9.8000000000000007,9.6]
["Spring 2007 ","Thompson","FINC-442-0",61,39,8.6999999999999993,8.5,7.5,8.6999999999999993,8.1999999999999993,7.4,8.1999999999999993,8.6999999999999993,8.1,7.1,8.4,6.5,7.3,8.6]
["Spring 2007 ","Thompson","FINC-442-0",71,31,9.1999999999999993,9,8.6999999999999993,9,8.6999999999999993,8.4,8.8000000000000007,9,9.1999999999999993,6.9,7.4,6,8.3000000000000007,8.9]
["Spring 2007 ","Collins","FINC-445-0",61,8,6.1,5.5,5.7,7.5,6.8,5.3,6.6,6,5.0999999999999996,4,3.3,3.9,6,5.3]
["Spring 2007 ","Collins","FINC-446-0",62,31,7.9,7.3,7.5,8.6,7.4,6.9,7.7,7.3,7.2,3.9,3.8,4.3,6.7,8.6]
["Spring 2007 ","Rogers","FINC-446-0",61,87,9.4,9.6999999999999993,8.6999999999999993,8.6999999999999993,8.5,7.8,9.1,9.3000000000000007,9.4,5.2,5,5.2,6.6,8.6999999999999993]
["Spring 2007 ","Rogers","FINC-446-0",71,67,9.9,9.9,9.5,9.4,9.4,9,9.6999999999999993,9.8000000000000007,9.9,5.8,5.7,5.5,7.8,9.5]
["Spring 2007 ","Thompson","FINC-448-0",61,28,7.1,5.4,5.2,7.8,7.1,5,7.2,6,5.2,5,5.2,5,6.2,7.7]
["Spring 2007 ","Thompson","FINC-448-0",62,82,7.5,6.7,6.3,8.5,7.4,6.3,7.4,7,6.8,5.2,5.5,5.2,6.5,8.6]
["Spring 2007 ","Bolnick","FINC-453-0",81,10,6.4,6.9,6.6,8.6,7.3,6.7,6.3,6.1,6.3,5,5.0999999999999996,4,7.4,9.6]
["Spring 2007 ","Jagannathan","FINC-460-0",31,22,6.9,6.6,6.3,7.1,7.2,8,7.5,6.5,6.1,5.3,4.9000000000000004,4.3,8.5,9.3000000000000007]
["Spring 2007 ","Stowell","FINC-461-0",81,21,9.1999999999999993,9.3000000000000007,8.6999999999999993,9.5,9.4,8.3000000000000007,8.8000000000000007,9,9.1999999999999993,5.3,5.2,5,8.5,8.4]
["Spring 2007 ","Vincent","FINC-463-0",31,24,8.4,8.5,8.4,9,8.4,8.1,7.9,8.4,8.6,7.2,7.8,6.2,6.7,9.1999999999999993]
["Spring 2007 ","Vincent","FINC-463-0",61,52,8.1,8.1999999999999993,7.7,7.8,8,6.9,7.5,7.8,7.7,6.7,7.1,6.6,6.2,8.6]
["Spring 2007 ","Vincent","FINC-463-0",62,44,8.3000000000000007,8,7.8,8.3000000000000007,8.1,7.3,7.9,8,7.8,7.1,7.4,7.3,7,8.9]
["Spring 2007 ","Lucas","FINC-464-0",61,41,8.1999999999999993,8,7.8,8.6999999999999993,8.5,8.1,7.5,7.9,8,7.1,6,5.9,7.9,8.1]
["Spring 2007 ","Lucas","FINC-464-0",71,15,8.5,8.1,8.4,8.9,8.4,8.1,7.8,8.4,8.1999999999999993,7.4,6.7,6.2,8.6,9.6]
["Spring 2007 ","Furfine","FINC-465-0",91,49,8.9,9.1,9,8.6,8.6,8.6999999999999993,8.6999999999999993,8.9,9.1999999999999993,7.3,7,6.5,7.9,9.3000000000000007]
["Spring 2007 ","Andersen","FINC-470-0",61,23,7.8,7.5,5.7,7.7,8.1,8.1,7.3,7.3,6.9,5.9,5.4,5.2,7.4,8.8000000000000007]
["Spring 2007 ","Andersen","FINC-470-0",62,29,7.5,7.3,6.6,8.1,8.3000000000000007,8.5,7.2,7.2,7,6.1,5.9,5.8,8.1,9]
["Spring 2007 ","Andersen","FINC-470-0",71,33,7.4,6.9,5.5,7.1,7.3,7.8,6.8,6.9,6.1,5.9,5.8,5.4,7.6,9.1999999999999993]
["Spring 2007 ","Dinc","FINC-924-A",81,25,8.1,7.4,6.5,8.5,7.1,6.8,7.4,7.3,7.1,7.5,6.6,6,7.5,8.8000000000000007]
["Spring 2007 ","Jagannathan","FINC-925-0",81,28,8.3000000000000007,6.9,6.9,8,7.8,7.1,7.7,7.7,6.8,5.2,5,5.3,7.6,9]
["Spring 2007 ","Sandor","FINC-930-A",81,22,9.1,8.9,7,8.6,8.6999999999999993,6.8,8.3000000000000007,8.8000000000000007,8.4,5.6,6,5.6,5.6,7.2]
["Spring 2007 ","Stowell","FINC-931-0",81,58,8.5,8.3000000000000007,8.4,9,8.6999999999999993,7.8,8.4,8.5,8.5,4.7,4.5999999999999996,4.5999999999999996,8.3000000000000007,8.6]
["Spring 2007 ","Korajczyk","FINC-936-C",81,8,8.4,7.8,8.1999999999999993,9.5,8.5,8.6,8.5,8.3000000000000007,8.9,6.1,8.1,6.4,9.1,9.4]
["Spring 2007 ","Zajac","HIMT-452-B",81,14,8.3000000000000007,8.6999999999999993,8,8.9,8.6,7.4,6.9,8.3000000000000007,8.6,4.8,4.5999999999999996,4.8,5.9,8.1999999999999993]
["Spring 2007 ","Mecklenburg","HIMT-512-0",81,11,9,8.8000000000000007,9,8.8000000000000007,8.6,8.6,8.6999999999999993,8.9,9.4,7.3,8.3000000000000007,5.9,9.1999999999999993,8.1]
["Spring 2007 ","Salvo","INTL-460-0",81,51,7.4,7.9,7.9,8.8000000000000007,7.8,8.3000000000000007,7.9,7.5,7.7,5.0999999999999996,5.3,5.3,7.8,8.9]
["Spring 2007 ","Perkins","INTL-466-0",61,18,7.1,6.9,7.3,7.8,7.9,7.8,7.7,7.1,6.8,4.9000000000000004,5,5.0999999999999996,7,9]
["Spring 2007 ","Perkins","INTL-466-0",62,28,7.4,7.1,7.2,8.1,8,7.5,7.9,7.2,6.8,5.2,4.9000000000000004,5.0999999999999996,7.6,8.1]
["Spring 2007 ","Corse","INTL-467-0",81,41,7.1,8.3000000000000007,7.1,9.1,7.4,8.1,7.4,7.2,7.4,5,5.0999999999999996,5.3,7.5,8.1]
["Spring 2007 ","Feldmann","MECN-430-0",64,27,8.1999999999999993,8.3000000000000007,8.3000000000000007,8.4,7.6,7.8,7.6,8,8,6.5,6.6,5.8,7.3,8.6]
["Spring 2007 ","Loeper","MECN-430-0",63,8,8.3000000000000007,8.6999999999999993,8.6999999999999993,9,8.4,7.9,7.5,8.3000000000000007,8.8000000000000007,7,6,5.9,8.3000000000000007,9.6]
["Spring 2007 ","Loeper","MECN-430-0",71,46,7.3,7.1,7.4,7.6,7,7.5,6.8,6.8,7,5.5,5.6,5.2,8,8]
["Spring 2007 ","Rogers","MECN-430-0",61,53,6.1,5.2,6.9,6.7,6.4,6.7,6,5.7,5.6,6.6,6.1,5.8,7.4,8.3000000000000007]
["Spring 2007 ","Baliga","MECN-441-0",61,52,8.6999999999999993,8.3000000000000007,8.6999999999999993,8.8000000000000007,8.1,7.6,8.1,8.6,8.4,6.1,5.9,4.9000000000000004,7.6,8.6]
["Spring 2007 ","Baliga","MECN-441-0",62,45,8.5,8.1,8.6,8.4,8,7,7.8,8.3000000000000007,8.3000000000000007,6,5.9,5.3,7.4,8.5]
["Spring 2007 ","Baliga","MECN-441-0",71,30,8.6999999999999993,8.9,8.6999999999999993,8.8000000000000007,8.3000000000000007,7.7,8,8.5,8.6999999999999993,6.2,6.2,5.4,7.2,9]
["Spring 2007 ","Kamien","MECN-450-0",71,10,7.1,8.4,7.1,9.1,8.8000000000000007,7.3,7.1,7.8,8.5,3.9,4.0999999999999996,4.5,7.9,7.8]
["Spring 2007 ","Calder","MEDM-431-0",81,26,6.5,5.6,7.6,7.2,6.6,6.2,6.5,6.1,6.1,4.2,4.0999999999999996,3.9,7.4,7.3]
["Spring 2007 ","Lenzo","MGMT-431-0",71,34,7.2,7,6.7,7.2,6.7,7.2,7.3,6.6,6.2,6,5.7,5.6,7.7,9]
["Spring 2007 ","Lenzo","MGMT-431-0",72,33,8.8000000000000007,8.4,8.1999999999999993,9,8.1,8,7.6,8.3000000000000007,8.1,6.2,6.5,5.8,8.3000000000000007,9]
["Spring 2007 ","Matouschek","MGMT-452-0",61,47,9,9.5,9.4,9.4,8.6999999999999993,8.6999999999999993,8.9,9.1,9.5,5.5,5.5,5.2,8.5,9.1999999999999993]
["Spring 2007 ","Matouschek","MGMT-452-0",62,57,9.1,9.5,9.4,9.4,8.8000000000000007,8.6999999999999993,8.6999999999999993,9.1,9.5,5.6,5.4,5.3,8.6999999999999993,9.1999999999999993]
["Spring 2007 ","Matouschek","MGMT-452-0",71,54,8.4,9.1,8.8000000000000007,8.8000000000000007,8.1999999999999993,8.1999999999999993,8.1999999999999993,8.6,9,5.8,5.7,5.6,7.8,8.9]
["Spring 2007 ","Buck","MGMT-468-0",91,60,9.1999999999999993,9.4,9,9.6999999999999993,8.9,9,8.8000000000000007,9.1,9.4,4.8,5.3,5.0999999999999996,8.4,8.9]
["Spring 2007 ","Kraemer","MGMT-468-0",71,53,9.4,9.8000000000000007,9.1,9.6,8.9,8.9,9,9.4,9.6999999999999993,4.3,4.3,4.9000000000000004,9.6,9.6]
["Spring 2007 ","Dranove","MGMT-469-0",61,15,8,7.2,7.5,8.3000000000000007,7.8,7.5,7.6,7.4,6.9,7.1,7.8,5.9,9.3000000000000007,8.5]
["Spring 2007 ","Dranove","MGMT-469-0",62,37,8.4,8.4,7.9,8.3000000000000007,7.9,8.1,7.7,8.1,8.1999999999999993,7.5,7.9,6.1,9.4,9.3000000000000007]
["Spring 2007 ","Scott","MGMT-933-0",81,18,9.6,9.1999999999999993,8.8000000000000007,9.9,8.6999999999999993,8.8000000000000007,9.6999999999999993,9.6,9.6,6,8.3000000000000007,5.8,8.9,9.6999999999999993]
["Spring 2007 ","Skinner","MGMT-933-0",82,24,7.9,7.5,7.4,9,7.8,7.4,8.9,8.1,7.5,4.9000000000000004,7.2,4.8,5.2,8.1]
["Spring 2007 ","Shein","MGMT-934-0",81,37,8.1999999999999993,7.7,7,8.1999999999999993,8.1,7.9,7.7,7.8,7.6,5.6,6.3,5.4,7.4,8.4]
["Spring 2007 ","Gellman","MGMT-941-0",81,14,8.4,8,7.1,7.9,8.4,8,7.4,7.9,8,5.3,5.3,5,6.1,8.4]
["Spring 2007 ","Agrawal","MKTG-430-0",71,51,7.1,7.9,7.5,8.3000000000000007,7.2,7.7,7.3,7.2,7.3,5.4,5.8,5,7.9,9]
["Spring 2007 ","Stearns","MKTG-430-0",61,34,6.8,7.6,5.8,6.5,6.2,6.2,6.7,6.5,6.3,5.8,6.3,5.8,7.1,8.3000000000000007]
["Spring 2007 ","Stearns","MKTG-430-0",72,49,8.6999999999999993,9.1999999999999993,7.7,7.7,7.8,7.2,8,8,8,7,8.5,6.5,6.5,9.1]
["Spring 2007 ","Bouman","MKTG-450-0",65,6,7.6,7.6,6.9,8.4,6.8,6.1,5.8,6.7,6.8,5.7,5.2,5,7,8]
["Spring 2007 ","Bouman","MKTG-450-0",73,10,7.9,7.6,7.9,8.9,7.5,7.3,7.2,7.6,7.4,5,5.6,5.4,6.9,9.4]
["Spring 2007 ","Hansen","MKTG-450-0",63,40,8,8.6,8.4,8.5,8.3000000000000007,8.1,7.2,7.9,8.4,5.2,5.5,4.9000000000000004,8.3000000000000007,8.6999999999999993]
["Spring 2007 ","Hansen","MKTG-450-0",64,46,7.5,8.5,8.3000000000000007,8.4,8.3000000000000007,8.5,7.1,7.6,8.4,5,5.5,4.3,8.5,8.6999999999999993]
["Spring 2007 ","Nijs","MKTG-450-0",61,46,5.7,5.8,6.4,6.9,6.5,6.9,5.6,5.6,5.6,5.6,6.2,5.2,8.1,8.4]
["Spring 2007 ","Nijs","MKTG-450-0",62,24,6.9,6.9,7.3,7.8,7,7.9,7,7,7,5.0999999999999996,5.3,5,7.3,8.3000000000000007]
["Spring 2007 ","Nijs","MKTG-450-0",71,19,8.4,8.6999999999999993,8.8000000000000007,8.8000000000000007,8.1999999999999993,8.4,7.7,8.3000000000000007,8.5,5.3,5.6,5.5,8.1999999999999993,9.3000000000000007]
["Spring 2007 ","Qian","MKTG-450-0",72,7,9.3000000000000007,9.5,9.3000000000000007,9.9,9.1999999999999993,9.5,8.6,9.1,9.3000000000000007,6.9,6.1,6,9.6,9.6999999999999993]
["Spring 2007 ","Anderson","MKTG-451-0",61,55,8.6,8.6999999999999993,8.8000000000000007,8.6,8.1,8.6999999999999993,8.3000000000000007,8.6,8.6999999999999993,5.3,5.6,5.2,7.4,9]
["Spring 2007 ","Anderson","MKTG-451-0",62,51,8.1,8.6,8.6999999999999993,8.6999999999999993,8,8.6,8.1,8.1999999999999993,8.4,5.6,5.7,5.0999999999999996,7.7,9.3000000000000007]
["Spring 2007 ","Anderson","MKTG-451-0",71,29,8.9,9,8.9,8.8000000000000007,8.4,8.6999999999999993,8.6,8.9,9,5.7,6.1,5.3,8.1,9.4]
["Spring 2007 ","Pearlman","MKTG-454-0",71,32,8.6999999999999993,9.1999999999999993,8.9,9.1,8.6,9,8.3000000000000007,8.8000000000000007,9,5.2,5.3,4.9000000000000004,8.1,9.1]
["Spring 2007 ","Rucker","MKTG-454-0",61,53,8.6,9.8000000000000007,9.4,9.6999999999999993,8.9,9.5,8.1999999999999993,9.1,9.6999999999999993,4.4000000000000004,4.8,5,9.4,8.9]
["Spring 2007 ","Rucker","MKTG-454-0",62,46,8.3000000000000007,9.6999999999999993,9.1,9.6,8.6,9,7.8,8.8000000000000007,9.6999999999999993,4.8,5.0999999999999996,5.2,9.1,8.6999999999999993]
["Spring 2007 ","Conley","MKTG-465-0",81,38,7.2,7.4,7.4,8,7.3,7.2,7.2,7,7,4.9000000000000004,5.2,4.7,7.2,8.5]
["Spring 2007 ","Razeghi","MKTG-465-0",61,48,8.4,9.3000000000000007,8.1999999999999993,9.4,8.6999999999999993,7.1,8.1,8.4,9,4.9000000000000004,5.0999999999999996,4.8,7.3,8.9]
["Spring 2007 ","Calkins","MKTG-466-0",61,59,9.5,9.9,9.6,9.3000000000000007,8.9,9.1,8.8000000000000007,9.5,9.8000000000000007,5.8,6.4,5.6,8.6,9.3000000000000007]
["Spring 2007 ","Calkins","MKTG-466-0",62,57,8.9,9.6,9.1999999999999993,9.1,8.6,8.8000000000000007,8.3000000000000007,9.1999999999999993,9.4,5.2,6,5.2,8.8000000000000007,9.5]
["Spring 2007 ","Hennessy","MKTG-466-0",63,60,9.3000000000000007,9.8000000000000007,9.3000000000000007,9.3000000000000007,9.1,9.4,8.9,9.4,9.6999999999999993,5.6,6.3,5.3,9.1,9.1999999999999993]
["Spring 2007 ","Hennessy","MKTG-466-0",64,54,9.1,9.8000000000000007,9,9.1999999999999993,8.8000000000000007,9.3000000000000007,9,9.3000000000000007,9.5,5.5,6.3,5.2,9.4,9.5]
["Spring 2007 ","Krishnamurthi","MKTG-466-0",71,44,9,9.3000000000000007,8.9,8,8.6,8.6,8.4,8.8000000000000007,9.1999999999999993,6.3,7.8,5.9,8.4,8.6]
["Spring 2007 ","Sawhney","MKTG-468-0",61,54,9,9.4,9.1,8.6999999999999993,8.6999999999999993,8.4,8.6999999999999993,8.9,9.3000000000000007,6.5,7.1,5.8,7.5,9.3000000000000007]
["Spring 2007 ","Sawhney","MKTG-468-0",81,65,9.1,9.4,9.1999999999999993,8.6999999999999993,9.1,8.6999999999999993,8.6999999999999993,9.1999999999999993,9.5,6.8,7.1,6.2,7.2,8.8000000000000007]
["Spring 2007 ","Duparcq","MKTG-913-0",81,28,7.8,8.8000000000000007,8.1,8.3000000000000007,8.3000000000000007,7.8,7.6,7.7,8.1999999999999993,5.0999999999999996,5.3,5,7.8,8.3000000000000007]
["Spring 2007 ","Calder","MKTG-922-0",81,11,8.1999999999999993,8,7.9,9.6,8.8000000000000007,9.6,9.8000000000000007,8.1,8.3000000000000007,5.0999999999999996,5.3,4.9000000000000004,8.1999999999999993,9.6999999999999993]
["Spring 2007 ","Jain/Kotler/Stern","MKTG-950-C",91,54,8.9,9.3000000000000007,8.5,7.9,8.8000000000000007,8.4,8.6,8.9,9.1999999999999993,3.4,2.9,4.7,5.8,7.8]
["Spring 2007 ","Dewar","MORS-430-0",71,44,8.1999999999999993,9.1,8.1,9,8.4,8.8000000000000007,8.6999999999999993,8.4,8.9,5.0999999999999996,4.9000000000000004,5,9.5,9.3000000000000007]
["Spring 2007 ","Uzzi","MORS-430-0",72,25,9.1,9.4,8.9,8.9,8.5,7.6,8.3000000000000007,8.9,9.1,5.5,5.6,5.5,6.6,9.1]
["Spring 2007 ","Shwom","MORS-449-B",91,14,7.9,8.5,8.5,9.4,8.1,9.3000000000000007,8.3000000000000007,8.3000000000000007,8.4,5.2,5.8,5.0999999999999996,6.3,7.6]
["Spring 2007 ","Van Camp","MORS-450-0",71,16,9.4,9.6999999999999993,9.5,9.1999999999999993,8.6999999999999993,9.4,8.6999999999999993,9.6,9.6999999999999993,4.5,4.8,4.5,9.1999999999999993,9.5]
["Spring 2007 ","Van Camp","MORS-450-0",91,14,8.6,9.1,8.9,8.8000000000000007,8,9.1,8.3000000000000007,8.8000000000000007,9.1,5,5.7,5.3,8.4,9.3000000000000007]
["Spring 2007 ","Weber","MORS-453-0",61,49,8.1999999999999993,7.7,8.3000000000000007,9.1,7.8,8.5,8.1,8.1,8.1,5.4,6.1,5.0999999999999996,8.1,8.6999999999999993]
["Spring 2007 ","Weber","MORS-453-0",62,54,8.1,7.3,8.1999999999999993,8.6999999999999993,8.1,8.1999999999999993,8.1,7.8,7.8,5.5,6,5,7.8,8.9]
["Spring 2007 ","Weber","MORS-453-0",71,43,9.3000000000000007,8.8000000000000007,9.1,9.3000000000000007,8.6,9,9,9.1999999999999993,9.1,5.5,6.1,5.2,8.6,9.4]
["Spring 2007 ","Zajac","MORS-454-A",81,39,7.8,8.5,7.9,8.6999999999999993,7.7,7.2,7.3,7.6,8.1,4.4000000000000004,4.4000000000000004,4.8,6.9,8.4]
["Spring 2007 ","Lee","MORS-460-0",61,37,7.3,8.4,7.4,8.3000000000000007,8,7.6,7.4,7.4,7,4.7,5.2,5,7,8.6999999999999993]
["Spring 2007 ","Lee","MORS-460-0",71,20,6.4,8,7.1,8.6999999999999993,7.7,7.2,6.5,6.4,6.9,4.5999999999999996,5.0999999999999996,4.5,8.1999999999999993,9.6999999999999993]
["Spring 2007 ","Bauman","MORS-470-0",92,35,8.3000000000000007,8.1,8.6,8.6999999999999993,8.1,7.8,7.3,8.4,8.4,5.3,5.7,5.0999999999999996,7.8,8.4]
["Spring 2007 ","Bauman","MORS-470-0",93,33,9.1999999999999993,9.1999999999999993,9.3000000000000007,9.3000000000000007,8.6,8.4,7.8,9,9.1999999999999993,5.5,5.6,5.3,8.6,9]
["Spring 2007 ","Thompson","MORS-470-0",63,37,8.8000000000000007,8.1999999999999993,8.1,8,8.1,8.1,7.5,8.5,7.7,5.3,5.5,5.3,6.5,8.9]
["Spring 2007 ","Thompson","MORS-470-0",64,31,8.8000000000000007,8.4,8.3000000000000007,8,8.5,8.3000000000000007,7.7,8.6,7.9,4.9000000000000004,5.2,5,6,9.1]
["Spring 2007 ","Wang","MORS-470-0",72,23,8.6999999999999993,9.1,8.6999999999999993,9.3000000000000007,8,8.6999999999999993,7.4,8.6999999999999993,8.5,5,5.6,5.2,7.8,9.5]
["Spring 2007 ","Whitson","MORS-470-0",71,30,8.8000000000000007,8.9,9,9.3000000000000007,8.5,8.5,7.6,8.9,8.9,4.9000000000000004,5.2,5.0999999999999996,7.8,8.6]
["Spring 2007 ","Radnor","MORS-926-0",81,6,7.8,8.1999999999999993,6.6,8.8000000000000007,8.4,6.4,7.3,7.3,8,4.8,4.3,5,7.8,7.8]
["Spring 2007 ","Allon","OPNS-430-0",61,52,8.6,9.4,9.1999999999999993,9.1999999999999993,8.5,9,8.1999999999999993,8.6,9.4,6.1,6.5,5.6,9.5,8.9]
["Spring 2007 ","Allon","OPNS-430-0",62,65,8.6999999999999993,9.6,9.3000000000000007,9.6,9,9.1,8.4,8.8000000000000007,9.6,6.2,6.5,5.6,9.8000000000000007,9.5]
["Spring 2007 ","Ata","OPNS-430-0",67,37,7.4,7.3,7.8,8.6,7.2,7.8,7.6,7.3,7.6,6,6.2,5.5,7.5,8.8000000000000007]
["Spring 2007 ","Ata","OPNS-430-0",68,31,7,7.1,7.7,8.6,7.2,7.5,7.2,7.1,7.4,6.2,6.3,5.4,7.2,8.9]
["Spring 2007 ","Lin","OPNS-430-0",71,20,7,7.4,6.8,8.3000000000000007,6.6,7.4,6.9,6.6,6.6,6.9,7.7,6.1,8,9.3000000000000007]
["Spring 2007 ","Lin","OPNS-430-0",72,20,6.6,6.7,6.5,7.9,6.7,6.7,7.1,6.5,6.3,6.1,6.4,5.8,8.3000000000000007,8.9]
["Spring 2007 ","Savaskan-Ebert","OPNS-430-0",65,28,6.9,6.9,7.4,8,7,7.2,7.6,6.9,7,6.3,6.3,5.4,7.5,8.6999999999999993]
["Spring 2007 ","Savaskan-Ebert","OPNS-430-0",66,28,6.6,6.4,6.5,7.2,6.8,7.2,6.9,6.5,6.1,5.3,5.6,5.0999999999999996,6.9,8.9]
["Spring 2007 ","Van Mieghem","OPNS-430-0",63,63,8.8000000000000007,9.1999999999999993,9.1,8.8000000000000007,8.6,8.4,7.9,8.6999999999999993,9.3000000000000007,6.6,6.9,5.9,8,9]
["Spring 2007 ","Van Mieghem","OPNS-430-0",64,60,8.1,8.6,8.6,8.5,8.1999999999999993,8.1,7.8,7.9,8.6,6.5,6.9,5.9,7.3,8.4]
["Spring 2007 ","Deshmukh","OPNS-450-0",61,52,8.1,7.6,8.3000000000000007,7.5,7.5,7.9,7.5,8,7.9,5.5,6.2,4.9000000000000004,6.6,8.4]
["Spring 2007 ","Deshmukh","OPNS-450-0",62,53,7.7,7.5,8.3000000000000007,7.2,7.3,7.9,7.5,7.8,7.8,5.7,6.4,5.2,6.7,8.4]
["Spring 2007 ","Deshmukh","OPNS-450-0",71,38,8.1,8,8.5,7.5,7.2,7.4,7.3,7.8,7.9,5.6,6,4.8,7.2,8.3000000000000007]
["Spring 2007 ","Ata","OPNS-454-0",71,6,8.1999999999999993,9.1999999999999993,9.1999999999999993,9.9,8.5,8.6,8,8,9.3000000000000007,6.8,7.3,6.3,9.8000000000000007,9.8000000000000007]
["Spring 2007 ","Lupiani","REAL-442-0",31,32,6.7,6.8,6.4,7.7,7.5,6.4,7,6.3,6.2,5.3,5.9,4.9000000000000004,8.3000000000000007,8.5]
["Spring 2007 ","Pagliari","REAL-464-0",81,36,9.1999999999999993,9.1999999999999993,9.4,9.4,9.4,9.1,8.8000000000000007,9.3000000000000007,9.5,5.9,5.7,5.8,8,9.1]
["Spring 2007 ","Battaglini","SEEK-440-A",71,39,6.9,8.3000000000000007,8,8.4,7.5,7.1,7.2,7,8.1,4.5,5.6,5,7.1,8.1]
["Spring 2007 ","Battaglini","SEEK-440-A",72,26,7.8,8.9,8.6,8.6999999999999993,8,6.8,7.2,7.8,8.6999999999999993,5.0999999999999996,5.8,5.6,7.5,8.6999999999999993]
["Spring 2007 ","Feddersen","SEEK-440-A",72,26,7.8,8.9,8.6,8.6999999999999993,8,6.8,7.2,7.8,8.6999999999999993,5.0999999999999996,5.8,5.6,7.5,8.6999999999999993]
["Spring 2007 ","Callander","SEEK-441-0",62,34,9.1,9.1999999999999993,9.1,9.1,9.1,8.8000000000000007,8.6999999999999993,8.8000000000000007,9.1999999999999993,5.3,5.5,4.9000000000000004,8.6,9.1]
["Spring 2007 ","Haider","SEEK-441-0",61,18,8.3000000000000007,8.3000000000000007,7.3,8.4,7.8,7.6,7.7,7.9,7.8,5.0999999999999996,5.5,5.0999999999999996,7.2,8.8000000000000007]
["Spring 2007 ","Haider","SEEK-441-0",71,19,8.3000000000000007,8.3000000000000007,7.1,8.4,8.3000000000000007,7.2,7.5,7.8,7.8,5.0999999999999996,5.0999999999999996,4.9000000000000004,6.7,8.1]
["Spring 2007 ","Bakalis","SEEK-454-0",81,31,6.4,5.4,6.1,8.1999999999999993,6.8,6.9,6.6,6.2,5.8,4.5,4.5999999999999996,4.3,5.9,7.2]
["Spring 2007 ","Besanko/McGuire","SEEK-470-0",61,55,8.6999999999999993,8.1,8.3000000000000007,8.9,8.5,8.1,8,8.1,8.1,5.6,5.8,5.3,7.7,8.9]
["Spring 2007 ","Donnelly","SEEK-955-0",91,34,7.9,8.4,8.4,9.1,8.1,7.4,7.5,7.9,8.6999999999999993,4.5999999999999996,4.9000000000000004,4.5,8.6,9.1]
["Spring 2007 ","Choudhary","TECH-917-0",81,26,5.4,5.8,5.2,6.6,6.3,6.2,5.5,5.2,5.2,4.4000000000000004,5.3,4.5,6.6,7.6]
["Spring 2007 ","Jeffery","TECH-922-0",61,12,9,8.9,8.9,9.4,9.1999999999999993,8.3000000000000007,8.1999999999999993,8.6,8.6,5.6,6.6,5.4,9.1,9.5]
["Spring 2007 ","Jeffery","TECH-922-0",71,13,8.4,8.6999999999999993,8.4,8.8000000000000007,8.1999999999999993,7.6,7.6,8.1,8,6.5,7.3,6,8,8.8000000000000007]
["Winter 2007 ","Magee","ACCT-430-0",72,46,7.4,8.1999999999999993,8.8000000000000007,7.9,8.1,8.6999999999999993,6.8,7.5,8.6,6.4,6.6,6.3,7.5,9.1999999999999993]
["Winter 2007 ","Prince","ACCT-430-0",71,14,7,6.2,5.9,7.1,7.3,7.6,7.8,6.3,6,5.7,5.8,5.0999999999999996,7.6,9.3000000000000007]
["Winter 2007 ","Rusticus","ACCT-431-0",61,44,6.7,5.6,7.1,6.2,6.7,7,6.9,6.4,5.9,5.6,5.3,5,7,8.1999999999999993]
["Winter 2007 ","Rusticus","ACCT-431-0",71,6,7.3,7.3,8.8000000000000007,8.5,7.8,6.8,7.1,7.2,7.7,6.7,6,5.2,7.3,8.8000000000000007]
["Winter 2007 ","Sunder","ACCT-451-0",62,38,7.4,6,6.2,7.4,7,7.3,7.4,6.7,5.9,5.8,5.5,5.3,6.8,8.6]
["Winter 2007 ","Sunder","ACCT-451-0",63,27,7.5,6.2,6.4,7.8,7.6,7.3,7.6,7.4,6.4,6.1,5.6,5.5,6.2,7.4]
["Winter 2007 ","Sunder","ACCT-451-0",71,16,8.1,7,7.9,8.6,7.9,8.6,8.4,7.6,7.4,5.0999999999999996,5.2,5.0999999999999996,8,9.1]
["Winter 2007 ","Finn","ACCT-452-0",61,26,9.1,8.9,8.8000000000000007,9.1999999999999993,9.4,8.5,8.6,8.8000000000000007,9.1,6.8,7.1,5.9,8.3000000000000007,9.1999999999999993]
["Winter 2007 ","Loffler","BIOT-911-0",81,38,8.8000000000000007,8.8000000000000007,8.4,9.1999999999999993,8.9,8.6,8.6999999999999993,8.6,8.6,5.0999999999999996,5.3,5.3,8.3000000000000007,9.1]
["Winter 2007 ","Presser","BLAW-435-0",71,8,9.4,9.8000000000000007,9.1999999999999993,9,9.5,9.1999999999999993,8.6,9.4,9.6,4.9000000000000004,5,5,8.5,8.1]
["Winter 2007 ","Bradley","BLAW-921-0",81,10,8.6,8.3000000000000007,8.6,9.4,8.8000000000000007,9.1,8.5,9,8.8000000000000007,4,4,5,6.3,9.4]
["Winter 2007 ","Gossner","DECS-433-0",71,46,7.5,8.9,8.4,8.1999999999999993,7.6,7.8,7.6,7.7,8.4,6,5.5,5.5,8.1999999999999993,8.9]
["Winter 2007 ","Gossner","DECS-433-0",72,36,7.1,8.3000000000000007,8.1,7.6,7.3,7.8,7.1,7.3,8.3000000000000007,6.3,5.8,5.8,8.1999999999999993,9]
["Winter 2007 ","Ekmekci","DECS-434-0",63,54,6.8,8,6.7,7.4,6.4,7.4,7.4,6.6,7.2,5.7,5.7,5.3,7.4,8.1999999999999993]
["Winter 2007 ","Ekmekci","DECS-434-0",71,50,6.3,7.2,5.5,7.3,6.2,5.8,6.6,5.7,5.3,6.5,6.3,5.5,7.5,9.1]
["Winter 2007 ","Kuzmics","DECS-434-0",61,57,7.5,8,8,8,7,7.3,7.5,7.6,8,5.8,5.9,5.3,7.8,9.1]
["Winter 2007 ","Kuzmics","DECS-434-0",62,55,7.1,7.5,7.4,7.2,6.3,6.8,7.2,6.9,7.4,5.8,5.8,5.0999999999999996,7.1,8.8000000000000007]
["Winter 2007 ","Kuzmics","DECS-434-0",91,55,6.9,7.4,7.5,7.4,6.5,7.2,7.7,6.9,7.4,5.8,5.8,5.2,7.3,8.6]
["Winter 2007 ","Weinstein","DECS-434-0",64,49,7,6.9,7.6,7.4,7.3,7.3,7.4,6.8,7.2,5.7,5.7,5.2,7,8.5]
["Winter 2007 ","Weinstein","DECS-434-0",65,52,7,7,7.2,7.2,6.8,7.2,7.7,6.8,7,5.7,5.8,5.4,7,8.8000000000000007]
["Winter 2007 ","Weinstein","DECS-434-0",72,8,8.1999999999999993,7.2,7.6,7.5,6.8,7,7.6,7.6,7.6,5.8,5.9,5.3,8.4,9.5]
["Winter 2007 ","Eso","DECS-437-0",71,19,8.3000000000000007,9.1999999999999993,8.6,8.5,8.6,8.3000000000000007,8.3000000000000007,8.1999999999999993,9.1999999999999993,6.5,6.9,5.9,7.9,9.5]
["Winter 2007 ","Eso","DECS-437-0",81,55,7.3,7.9,7.1,7.5,7.6,7.7,7.5,7.1,7.5,6.5,6.2,5.4,7.9,9.6]
["Winter 2007 ","Judd/McKeon","DECS-450-0",61,48,8.3000000000000007,8.6,8.5,8.6,8.1999999999999993,8.4,7.9,8.3000000000000007,8.4,6.2,6.1,5.3,8,8.6999999999999993]
["Winter 2007 ","Judd/McKeon","DECS-450-0",62,45,7.9,8.8000000000000007,8.5,8.6999999999999993,8.5,8.1,7.5,8.1,8.1999999999999993,6.1,6,5.2,8.4,8.5]
["Winter 2007 ","Judd/McKeon","DECS-450-0",71,16,9.1,9.1999999999999993,9,9.1,8.9,8.6,8.3000000000000007,9.1,9.3000000000000007,6.1,6.5,5.6,7.5,8.6]
["Winter 2007 ","Judd/McKeon","DECS-450-0",81,32,7.5,8.5,8.3000000000000007,8.5,8.3000000000000007,8,8.1999999999999993,7.5,8.1,6.3,6.4,5.5,7.6,9]
["Winter 2007 ","Kalai","DECS-452-0",61,18,9,8.6999999999999993,9,9.1999999999999993,9.4,7.9,7.5,8.9,8.9,6.4,4.8,4.8,7.2,8.8000000000000007]
["Winter 2007 ","Merkin","ENTR-462-0",81,42,8.1999999999999993,7.1,6.5,8,7.1,6.6,6.4,7.9,6.8,6.3,7.4,5.8,6.4,7.6]
["Winter 2007 ","Shein","ENTR-462-0",71,33,9.6,9,8.5,9.5,8.9,8.4,8.1999999999999993,9.1,9,7.1,8.4,6.6,9,9.6]
["Winter 2007 ","Furfine","FINC-430-0",72,47,8.6999999999999993,9,8.6999999999999993,8.1999999999999993,8.3000000000000007,8,7.7,8.1999999999999993,9,7.1,6.6,6.6,8.9,9.4]
["Winter 2007 ","Vissing-Jorgensen","FINC-430-0",61,54,8,7.4,8.3000000000000007,7.8,8.1,8,6.6,7.5,7.8,6.7,5.9,6.1,8.5,8.8000000000000007]
["Winter 2007 ","Vissing-Jorgensen","FINC-430-0",62,57,8.1,8.1,8.6999999999999993,8,8.3000000000000007,8.4,6.9,8.1,8.4,6.8,6.5,5.9,8.9,9.1]
["Winter 2007 ","Vissing-Jorgensen","FINC-430-0",71,34,8.8000000000000007,8.1999999999999993,8.3000000000000007,8.1,8.3000000000000007,8.1999999999999993,6.9,7.8,8.3000000000000007,7.4,7.7,6.8,9.1,9.1999999999999993]
["Winter 2007 ","Liberti","FINC-440-0",61,49,9.1999999999999993,9.6999999999999993,8.5,9,8.5,8.1,7.9,8.6999999999999993,9.1,8.6999999999999993,8.5,8.5,9.4,9]
["Winter 2007 ","Liberti","FINC-440-0",81,31,9.1,9.6,8.6,8.9,8.6,8.1999999999999993,8.1,8.8000000000000007,9.1,8.1999999999999993,8.6,8,8.9,9.1999999999999993]
["Winter 2007 ","Eisfeldt","FINC-441-0",71,37,8.1,8.4,7.8,8.1,7.7,7.2,7.3,7.7,7.9,7.4,7.3,6.8,8.4,9.5]
["Winter 2007 ","Matsa","FINC-441-0",72,18,8,7,7,8.5,7.5,6.5,7.1,6.9,6.5,7.3,7.1,6.6,7.7,9.4]
["Winter 2007 ","Petersen","FINC-441-0",61,44,8.6,9.4,8.4,9.3000000000000007,8.8000000000000007,8.3000000000000007,7.7,8.4,9,7.3,6.1,6.5,8.3000000000000007,9.3000000000000007]
["Winter 2007 ","Petersen","FINC-441-0",62,59,8.6999999999999993,9.6,8.6,9.4,9.1,8.4,7.5,8.6,9.3000000000000007,7,6.1,6.7,8.8000000000000007,9.4]
["Winter 2007 ","Fishman","FINC-442-0",62,45,9.4,8.6999999999999993,8.6,8.8000000000000007,8.3000000000000007,8.5,9,9.1999999999999993,9,7.1,7.5,5.8,7.6,8.9]
["Winter 2007 ","Fishman","FINC-442-0",71,41,9.1999999999999993,8.9,8.4,9.1,8.3000000000000007,8.1,8.8000000000000007,8.9,9,6.9,7.3,5.7,7.9,9.1]
["Winter 2007 ","Thompson","FINC-442-0",61,43,9.1999999999999993,9.1,8.1999999999999993,9.1,8.5,8.9,9.1999999999999993,9.1999999999999993,9.1,7,7.7,6.2,8.3000000000000007,9.1]
["Winter 2007 ","Thompson","FINC-442-0",63,47,9.5,9.3000000000000007,8.4,8.9,8.3000000000000007,8.4,8.5,9.3000000000000007,9.1999999999999993,7.3,7.9,6.4,8.3000000000000007,8.6]
["Winter 2007 ","Thompson","FINC-442-0",64,33,9.6999999999999993,9.4,9.1,9,9,8.9,9.1999999999999993,9.6,9.6,7.2,7.7,6.3,8.6999999999999993,9]
["Winter 2007 ","Hochberg","FINC-445-0",71,14,8.6,7.3,7.3,8.6,7.9,7.3,8.1,7.8,7.4,5.7,5.7,5.5,7.8,9.3000000000000007]
["Winter 2007 ","Hochberg","FINC-445-0",91,20,8.1999999999999993,7.3,7.6,8.1,7.8,6.8,8,7.8,7.8,6.1,6.2,6.3,7.2,8.1999999999999993]
["Winter 2007 ","Rogers","FINC-446-0",61,63,9.6999999999999993,9.8000000000000007,9.3000000000000007,9.3000000000000007,9,8.4,9.4,9.6999999999999993,9.6999999999999993,5.7,5.5,5.3,7.2,8.6]
["Winter 2007 ","Rogers","FINC-446-0",71,72,9.8000000000000007,9.9,9.4,9.3000000000000007,9.1999999999999993,9,9.3000000000000007,9.6999999999999993,9.8000000000000007,5.6,5.3,5.2,6.9,8.8000000000000007]
["Winter 2007 ","Petersen","FINC-447-0",61,55,9.1999999999999993,9.4,8.1,9.4,9.1,7.6,7.7,8.6,9.1999999999999993,8.1999999999999993,6.7,7,8.5,9.1]
["Winter 2007 ","Thompson","FINC-448-0",71,9,7.7,7.2,7,8.6999999999999993,7.6,6.1,7.7,7,6.5,5.8,6,5.4,7.9,8]
["Winter 2007 ","Krishnamurthy","FINC-451-0",61,27,8.6999999999999993,8,8.3000000000000007,8.8000000000000007,8.9,8.1,8.1999999999999993,8.3000000000000007,8.4,6,6.2,5.8,8.1,8.8000000000000007]
["Winter 2007 ","Krishnamurthy","FINC-451-0",71,15,8.4,7.4,8,8.1,8.5,7.8,7.3,7.8,7.8,6.6,5.5,5.4,7.8,8.6]
["Winter 2007 ","Schaumburg","FINC-460-0",61,27,7.8,6.8,8.1,7.2,7.6,7.8,8.1,7.7,7.8,6.8,6.6,6,7.7,8.8000000000000007]
["Winter 2007 ","Stowell","FINC-461-0",61,43,8.5,8.9,8.4,9.1999999999999993,8.8000000000000007,8.4,8.1,8.5,8.9,4.9000000000000004,4.5,4.7,8.5,8.5]
["Winter 2007 ","McDonald","FINC-465-0",61,44,8.5,7.7,7.8,8.1999999999999993,8.6,7.6,7.9,8,7.8,8.3000000000000007,7.8,7.1,6.8,8.8000000000000007]
["Winter 2007 ","McDonald","FINC-465-0",62,47,8.6999999999999993,8.4,8.1999999999999993,8.1999999999999993,8.8000000000000007,7.6,8.4,8.4,8.6,8.1999999999999993,7.8,7.1,7.5,8.9]
["Winter 2007 ","Skiadas","FINC-465-0",71,21,8.4,8.3000000000000007,7.6,7.6,8.4,8.3000000000000007,8,8.1,8,7.4,7.6,5.8,8.8000000000000007,9.6999999999999993]
["Winter 2007 ","McDonald","FINC-467-0",81,13,8,8,7.4,8.3000000000000007,8.8000000000000007,7.6,8.5,7.9,8.4,9.4,7.7,7.2,8.9,9.1999999999999993]
["Winter 2007 ","Knuepfer","FINC-918-A",81,16,7.7,7.4,7.4,7.1,7.9,7.7,7.4,7.2,7.5,6.4,6.8,6.1,6.4,8.1]
["Winter 2007 ","Hochberg","FINC-932-0",81,20,9.3000000000000007,7.9,8.5,9.4,8.1,7.6,8.6,9.3000000000000007,8.4,5.8,5.9,5.5,7.3,8.8000000000000007]
["Winter 2007 ","Christensen","FINC-937-A",81,41,8.1999999999999993,8.6999999999999993,8.5,8.4,9.1,7.9,7.3,8.4,8.8000000000000007,4.8,5.7,5,7.1,8.1]
["Winter 2007 ","Swanson","FINC-938-A",81,21,7.6,7.6,6.1,8.5,8,5.2,7.7,7.1,7.1,4.7,5.0999999999999996,5.0999999999999996,6.3,7.6]
["Winter 2007 ","Shalowitz","HIMT-440-0",31,39,9.1,9.4,8.6999999999999993,8.5,9.1,7.7,8.3000000000000007,8.6999999999999993,8.8000000000000007,6.6,7.1,5.8,7.2,9.6999999999999993]
["Winter 2007 ","Hughes","HIMT-441-0",81,23,8.9,9.4,8.1,9.1,8.6999999999999993,7.9,8.3000000000000007,8.8000000000000007,9.3000000000000007,4.9000000000000004,5,5.3,7.5,9.1999999999999993]
["Winter 2007 ","Hughes","HIMT-455-0",81,38,9,9.1999999999999993,8.3000000000000007,9.1999999999999993,9,8,8.6999999999999993,8.8000000000000007,8.9,4.5999999999999996,4.5999999999999996,5.0999999999999996,7.2,8.4]
["Winter 2007 ","Shalowitz","INTL-442-0",81,7,8.6999999999999993,8.6,7.9,8.3000000000000007,8.8000000000000007,8.3000000000000007,7.8,8.3000000000000007,8.6,7.1,8.3000000000000007,7.1,8.6,8.6999999999999993]
["Winter 2007 ","Salvo","INTL-460-0",61,23,8.1999999999999993,8.8000000000000007,8.5,9.1999999999999993,8.4,8.1,8.1,8.4,8.5,5.4,5.8,5.3,8.1999999999999993,9.4]
["Winter 2007 ","Salvo","INTL-460-0",71,39,8.3000000000000007,8.5,8.5,8.8000000000000007,8.1,8.1999999999999993,8.1,8.3000000000000007,8.5,5.5,5.6,5.5,8.4,9.3000000000000007]
["Winter 2007 ","Jones","INTL-466-0",61,66,9.1,8.6,9.3000000000000007,8.9,9.1,8.4,9.1999999999999993,9.1,9,5.2,5,5,8.5,9.1]
["Winter 2007 ","Jones","INTL-466-0",62,53,8.6999999999999993,8.1999999999999993,9.1999999999999993,8.9,8.9,8.1999999999999993,8.9,8.6999999999999993,8.8000000000000007,5.2,5.0999999999999996,5,8.4,8.9]
["Winter 2007 ","Jones","INTL-466-0",71,39,9.1,8.6999999999999993,9,8.9,8.8000000000000007,8.1999999999999993,8.8000000000000007,8.9,8.9,5.3,5.4,5.5,8.6,8.9]
["Winter 2007 ","Brett","INTL-474-0",61,33,8.1,8.4,8,8.6,7.8,5.9,7.1,8,8.1999999999999993,5.0999999999999996,5.4,5,7.6,8.4]
["Winter 2007 ","Brett","INTL-474-0",71,50,8.5,8.6,7.6,8.9,7.8,7,7.9,8.4,8.1999999999999993,5,5.3,5,7.7,9]
["Winter 2007 ","Atakan","MECN-430-0",61,31,7.6,8.1,7.8,8.4,7.3,7.5,6.9,7.5,8,6.2,5.7,5.6,7.1,8.8000000000000007]
["Winter 2007 ","Atakan","MECN-430-0",62,50,8,8.1,8.1999999999999993,8.1999999999999993,7.7,7.7,7.1,7.8,8,6.5,5.9,5.7,6.9,8.6]
["Winter 2007 ","Atakan","MECN-430-0",63,28,7.2,8.1,8.1999999999999993,8.3000000000000007,7.3,7.5,6.3,7.1,8,5.9,5.5,5.0999999999999996,7.1,8.9]
["Winter 2007 ","Horner","MECN-430-0",64,23,8.5,9.3000000000000007,8.6999999999999993,8.6999999999999993,8.4,8.6,7.8,8.6999999999999993,8.9,6.5,6.1,5.8,7.7,9.3000000000000007]
["Winter 2007 ","Horner","MECN-430-0",65,49,8.6,9.1999999999999993,8.6,8.5,8.1,8.1999999999999993,7.7,8.4,9,6.5,6.1,5.9,8,8.9]
["Winter 2007 ","Loeper","MECN-430-0",71,11,7.5,7.8,7.9,6.9,7.7,7.3,6.6,7.2,7.4,6.4,6.3,5.3,8,8.6]
["Winter 2007 ","Rogers","MECN-430-0",72,25,7.5,6.8,7.9,7.1,7.3,7.8,7.3,7.4,7.5,6,6,5.4,7.9,9.1999999999999993]
["Winter 2007 ","Rogers","MECN-430-0",81,19,8.1,7.4,8.1,8,7.2,8.1,8.3000000000000007,7.5,7.7,5.6,5.3,5.3,8.3000000000000007,9.5]
["Winter 2007 ","Al-Najjar","MECN-441-0",71,45,8.8000000000000007,9.3000000000000007,8.5,8.5,8.1,7.1,7.7,8.1999999999999993,8.9,6,6.4,5.3,7.6,8.8000000000000007]
["Winter 2007 ","Al-Najjar","MECN-441-0",81,49,8.8000000000000007,9.3000000000000007,8.8000000000000007,8.8000000000000007,8.5,8.1999999999999993,8.1999999999999993,8.6,9.1,5.7,6,5.0999999999999996,8,8.4]
["Winter 2007 ","Dana","MECN-441-0",61,7,7.9,7.4,8.3000000000000007,8.3000000000000007,7.6,7.2,7.8,7.7,7.3,5.7,5.8,5.5,9,8.3000000000000007]
["Winter 2007 ","Dana","MECN-441-0",62,6,7.8,7.2,7.7,8.6999999999999993,7.7,7.7,7.3,7.2,7.3,5.8,6.3,5.3,8.3000000000000007,7.8]
["Winter 2007 ","Kamien","MECN-450-0",61,17,6.3,6.3,5.7,7.8,7.4,6.6,7.1,6.2,6.4,3.7,2.9,3.7,7.6,8.4]
["Winter 2007 ","Smith","MEDM-912-0",81,47,6.7,6.3,6.7,6.8,7,5.2,7.4,6.1,5.8,4.7,5.3,5,6.2,8.1]
["Winter 2007 ","Lenzo","MGMT-431-0",71,52,7.9,7.1,7.3,8,7.2,6.1,7.5,7.3,6.5,6,5.7,5,7.5,8.4]
["Winter 2007 ","Mazzeo","MGMT-431-0",72,52,8.9,9.4,8.9,9.1999999999999993,8.5,8.6999999999999993,8.5,8.9,9.1999999999999993,6.1,6.4,5.7,8,9.3000000000000007]
["Winter 2007 ","Fong","MGMT-452-0",62,25,7.5,8.4,8.6,9.1,8.3000000000000007,8.1999999999999993,8.1,7.7,8,5.5,5.3,5.2,8.1,8.6]
["Winter 2007 ","Fong","MGMT-452-0",63,20,7.9,8.6,8.6,9,8,8.4,8.1,7.8,8.4,5.9,5.4,5.3,8.1999999999999993,8.9]
["Winter 2007 ","Fong","MGMT-452-0",71,21,7.5,8.5,8,8.6999999999999993,7.7,7.5,7.3,7.2,7.7,6,5.8,5.5,8.4,8.5]
["Winter 2007 ","Spier","MGMT-452-0",61,44,7.6,8.4,8.6,8.9,7.7,8.1,8.1,7.8,7.9,5.2,5.3,4.8,7.8,8.8000000000000007]
["Winter 2007 ","Spier","MGMT-452-0",72,18,8.1999999999999993,8.8000000000000007,9,9.1,8.1999999999999993,8.3000000000000007,8.3000000000000007,8.3000000000000007,8.8000000000000007,5.4,5.3,4.9000000000000004,8.6999999999999993,9.3000000000000007]
["Winter 2007 ","Stern","MGMT-463-0",61,49,7.3,7.9,7.3,8.8000000000000007,8,8.1,7.3,7.2,7.3,5.2,6.1,4.8,7.5,8.4]
["Winter 2007 ","Stern","MGMT-463-0",71,26,8.4,8.9,8.3000000000000007,9.1,8.6,8.3000000000000007,8.1999999999999993,8.5,8.6999999999999993,6.1,6.9,6.3,8.5,9.1]
["Winter 2007 ","Hughes","MGMT-468-0",71,53,9.4,9.5,8.6999999999999993,9.5,8.9,8.9,9.3000000000000007,9.1999999999999993,9.3000000000000007,4.8,4.9000000000000004,4.7,8.1999999999999993,9]
["Winter 2007 ","Kraemer","MGMT-468-0",91,63,8.6999999999999993,9.6,8.8000000000000007,9.5,8.1,8.4,8.6,8.9,9.4,4.7,4.7,4.7,9.1999999999999993,8.6999999999999993]
["Winter 2007 ","Gray/Jacobs","MGMT-911-0",81,24,7.2,7.5,6.5,8.6,7.5,6.4,6.6,7.4,7.5,4.8,5.5,4.8,7.8,8.8000000000000007]
["Winter 2007 ","Jacobs","MGMT-913-A",81,13,8.1999999999999993,8.4,7.8,9.1999999999999993,8.5,7.4,7.6,8.1,8,4.5,4.7,4.8,6,8.3000000000000007]
["Winter 2007 ","Ward","MGMT-927-0",81,49,8.8000000000000007,9.1999999999999993,8.6,9.1999999999999993,8.6,8.4,8.4,8.6,9.3000000000000007,5.0999999999999996,5.8,4.7,7.9,9]
["Winter 2007 ","Agrawal","MKTG-430-0",62,52,6.2,7.8,6.1,8.6,6.9,6.9,6.3,6.2,6.4,4.9000000000000004,5.0999999999999996,4.7,7.9,9]
["Winter 2007 ","Agrawal","MKTG-430-0",63,34,6.1,7.4,6,8,6.8,6.6,6.3,5.9,5.5,5,5.3,4.9000000000000004,8.6,8.6999999999999993]
["Winter 2007 ","Grayson","MKTG-430-0",71,32,9.1999999999999993,9.6999999999999993,9.4,9.3000000000000007,8.9,8.9,8.5,9.3000000000000007,9.6,6.4,7,5.9,8.6999999999999993,9.3000000000000007]
["Winter 2007 ","Hennessy","MKTG-430-0",61,62,9.3000000000000007,9.8000000000000007,9.3000000000000007,9.1999999999999993,8.9,9.3000000000000007,8.9,9.4,9.6999999999999993,5.6,5.5,5.3,9.3000000000000007,9.4]
["Winter 2007 ","Hennessy","MKTG-430-0",72,55,9.4,9.6999999999999993,9.3000000000000007,9.1999999999999993,9.1,9.1,8.6999999999999993,9.5,9.8000000000000007,5.9,6,5.3,8.6,9.3000000000000007]
["Winter 2007 ","Tybout","MKTG-430-0",81,36,8,8.1,8.6999999999999993,8.8000000000000007,8,8.1999999999999993,8,8.1,8.3000000000000007,5.8,6.1,5.4,7.4,8.9]
["Winter 2007 ","Qian","MKTG-450-0",71,14,7.5,8.6999999999999993,8.4,8.6,8.4,8.5,6.7,7.1,7.8,6.2,8,6.1,9,9.4]
["Winter 2007 ","Schieffer","MKTG-450-0",61,38,7.9,8.4,8,8.6999999999999993,7.9,7.9,7.4,7.8,8.1,6,7.7,6.3,8.1999999999999993,8.3000000000000007]
["Winter 2007 ","Schieffer","MKTG-450-0",81,25,8.3000000000000007,8.8000000000000007,8.4,9,8.3000000000000007,8.1999999999999993,8.1999999999999993,8.1,8.6,6.3,7.7,6.2,8.3000000000000007,8.9]
["Winter 2007 ","Coughlan","MKTG-451-0",61,60,7.1,8.5,7.9,8.1,7.3,8.1,6.8,7.2,7.7,4.8,5.0999999999999996,4.4000000000000004,7.8,8.6999999999999993]
["Winter 2007 ","Coughlan","MKTG-451-0",71,13,9.6,9.8000000000000007,9.4,9.4,9,9.6999999999999993,9.3000000000000007,9.4,9.4,5.2,5.2,5.3,9.3000000000000007,9.6999999999999993]
["Winter 2007 ","Anderson","MKTG-453-0",71,22,7.2,7.5,7.7,8.1,7.4,7.3,6.7,7,7.2,5.4,5.3,4.5999999999999996,7.3,8.8000000000000007]
["Winter 2007 ","Pearlman","MKTG-454-0",61,63,7.5,8.4,7.7,8.6999999999999993,8.1,8.3000000000000007,7,7.7,8.1,4.5999999999999996,4.8,4.7,8.3000000000000007,8.5]
["Winter 2007 ","Rucker","MKTG-454-0",71,32,9.4,10,9.6999999999999993,9.6999999999999993,9.1999999999999993,9.6,9.1,9.6999999999999993,10,4.9000000000000004,5,5,9.6,9.1999999999999993]
["Winter 2007 ","Sternthal","MKTG-454-0",81,47,8.4,8.6999999999999993,8.6,9.1,8.3000000000000007,8.6,8.1999999999999993,8.5,8.8000000000000007,5.3,5.3,5.3,7.4,8.3000000000000007]
["Winter 2007 ","Calder","MKTG-458-0",61,24,7.5,5.9,6.6,7.8,7.4,6.7,7.3,6.9,6.5,4.5999999999999996,4.5999999999999996,4.0999999999999996,7.2,8]
["Winter 2007 ","Kuczmarski","MKTG-465-0",71,40,7.8,8.6999999999999993,7.9,8.6999999999999993,7.7,8,7.2,8.1,8.3000000000000007,5.7,6,5.2,7.3,8.6999999999999993]
["Winter 2007 ","Razeghi","MKTG-465-0",61,68,8.5,9.5,8.6999999999999993,9.1999999999999993,8.8000000000000007,7.3,8.4,8.6,9.1999999999999993,5.0999999999999996,5.4,4.8,8.6999999999999993,8.6999999999999993]
["Winter 2007 ","Calkins","MKTG-466-0",71,58,9.5,9.9,9.6,9.6,9,9.1,9.1,9.5,9.8000000000000007,6.4,7.6,6,8.4,9.5]
["Winter 2007 ","Carpenter","MKTG-466-0",61,42,8.5,8.6999999999999993,8.4,8.5,8.4,7.8,7.7,8.6,8.8000000000000007,5.2,5.5,5.3,6.9,8.3000000000000007]
["Winter 2007 ","Carpenter","MKTG-466-0",62,31,8.8000000000000007,9.1999999999999993,8.8000000000000007,9.1999999999999993,8.6999999999999993,8.1,8,8.9,9.1,5.2,5.6,5.3,6.9,7.7]
["Winter 2007 ","Cuddy","MORS-430-0",73,26,8.9,9.4,8.1,9.1,8.5,7.9,7.8,8.6999999999999993,8.9,4.8,5.4,5.5,8.4,9.6999999999999993]
["Winter 2007 ","Phillips","MORS-430-0",71,41,8.1999999999999993,8.9,8.4,8.6999999999999993,7.5,7.8,7.6,8.1,8.6999999999999993,5.3,6.1,5.4,7.2,9.1]
["Winter 2007 ","Phillips","MORS-430-0",72,47,7.7,8.6,8.1999999999999993,8.6999999999999993,7.6,7.4,7.8,7.9,8.1999999999999993,5.9,6.5,5.7,8.1,8.9]
["Winter 2007 ","Van Camp","MORS-450-0",71,20,8.5,9.5,9.1999999999999993,8.8000000000000007,8.5,8.9,8.5,9,9.5,4.9000000000000004,4.9000000000000004,5.2,7.9,9.5]
["Winter 2007 ","Van Camp","MORS-450-0",91,26,8.1999999999999993,9,8.6,8.8000000000000007,8.1,8.1999999999999993,7.7,8.4,8.8000000000000007,4.8,4.5999999999999996,4.9000000000000004,8.5,9]
["Winter 2007 ","Dewar","MORS-451-0",81,27,8.4,8.9,7.8,8.9,8.3000000000000007,8.4,8.3000000000000007,8.1999999999999993,8.6,5.3,5.2,5.2,9.1999999999999993,8.5]
["Winter 2007 ","Stern","MORS-452-0",61,37,7.2,7,7.4,8.3000000000000007,7.3,7.7,7.7,7.1,6.7,4.9000000000000004,5.2,4.7,7.6,8]
["Winter 2007 ","Stern","MORS-452-0",62,41,7.2,7.7,8,8.6,7.6,7.8,7.9,7.3,7.4,4.9000000000000004,5.2,4.9000000000000004,6.9,7.6]
["Winter 2007 ","Stern","MORS-452-0",71,14,9.1999999999999993,8.9,8.9,9.6999999999999993,8.8000000000000007,8.9,8.9,9.1999999999999993,9,5.4,5.8,5.5,8.3000000000000007,9.6]
["Winter 2007 ","Bauman","MORS-470-0",91,36,9,8.8000000000000007,8.9,9.1999999999999993,8.6999999999999993,8.3000000000000007,7.8,8.9,9,5.4,6.5,5.2,8.6,8.8000000000000007]
["Winter 2007 ","Berger","MORS-470-0",93,32,8.4,8.1,8.4,8.6,7.6,8,7.8,8.1999999999999993,8.1999999999999993,4.9000000000000004,5.0999999999999996,4.9000000000000004,7.5,8.3000000000000007]
["Winter 2007 ","Medvec","MORS-470-0",62,36,9.5,9.6999999999999993,9.3000000000000007,9.1,8.4,8.8000000000000007,8.4,9.6,9.8000000000000007,5.5,6,5.2,8,8.8000000000000007]
["Winter 2007 ","Medvec","MORS-470-0",63,34,9.8000000000000007,9.9,9.5,9.1999999999999993,8.3000000000000007,8.6999999999999993,7.6,9.8000000000000007,9.8000000000000007,5,5.5,5,7.6,8.3000000000000007]
["Winter 2007 ","Sivanathan","MORS-470-0",71,20,9.8000000000000007,9.8000000000000007,9.6999999999999993,9.6999999999999993,9.3000000000000007,9.3000000000000007,8.8000000000000007,9.8000000000000007,9.8000000000000007,5.6,6.8,5.4,9.5,9.6999999999999993]
["Winter 2007 ","Swaab","MORS-470-0",92,33,8.5,8.3000000000000007,8.1999999999999993,8.9,8.3000000000000007,8.1999999999999993,7.8,8.3000000000000007,7.9,4.9000000000000004,5.9,4.9000000000000004,8.5,9.3000000000000007]
["Winter 2007 ","Swaab","MORS-470-0",94,36,8.3000000000000007,8,7.7,9.1,8,8.1,7.5,8.3000000000000007,7.7,4.8,5.8,4.7,8.4,8.9]
["Winter 2007 ","Murnighan","MORS-914-0",61,40,7.4,8.1999999999999993,7.6,8.6999999999999993,7.3,7.4,6.7,7.3,7.8,4.8,5.3,4.9000000000000004,7.4,8.3000000000000007]
["Winter 2007 ","Murnighan","MORS-914-0",62,54,6.7,8,6.5,8.4,6.8,5.6,5.8,6.4,7,4.7,5.5,4.8,6.7,7.8]
["Winter 2007 ","Roberts","MORS-924-0",81,16,8.3000000000000007,8.9,8.5,8.9,8.5,8.6,7.8,8.1999999999999993,8.8000000000000007,5.6,6.2,5.3,7,8.1]
["Winter 2007 ","Allon","OPNS-430-0",71,48,8.6999999999999993,9.4,9.1,9.3000000000000007,8.8000000000000007,8.9,8.3000000000000007,8.6999999999999993,9.3000000000000007,6,6.4,5.4,8.9,9.3000000000000007]
["Winter 2007 ","Lariviere","OPNS-430-0",61,35,7.9,7.8,8,8.3000000000000007,7.7,7.7,7.8,7.7,7.8,6.3,6.3,6,7.5,8.9]
["Winter 2007 ","Lariviere","OPNS-430-0",62,14,7.8,7.5,8.1,8.1,7.6,8,7.5,7.5,7.7,6.3,6.5,5.8,6.9,8.6]
["Winter 2007 ","Lin","OPNS-430-0",72,18,6,6.4,6.2,7.5,5.9,6.3,7.3,5.9,5.6,5.9,6.5,5.4,7.8,8.6]
["Winter 2007 ","Van Mieghem","OPNS-454-0",81,48,7.7,8.1,8.5,8.9,8.1,8.1,7.7,7.9,8.3000000000000007,6.5,6.8,5.7,7.7,8.8000000000000007]
["Winter 2007 ","Van Mieghem","OPNS-454-0",82,59,7.4,7.8,7.9,8.6999999999999993,7.7,7.9,7.4,7.2,7.8,6.5,7,5.9,7.8,8.9]
["Winter 2007 ","Lariviere","OPNS-912-0",81,16,6.7,7,7.5,8.4,7.6,8.1,7.9,6.8,7.1,5.4,5.6,4.9000000000000004,7.2,8.1]
["Winter 2007 ","Mattoon","REAL-443-0",81,36,8.4,8.8000000000000007,8.5,9.1999999999999993,9.1999999999999993,8.1,7.1,8.4,8.9,4.5,4.5,4.8,6.7,7.6]
["Winter 2007 ","Pagliari/Pepper","REAL-444-0",81,40,7,6.6,6.6,7.5,7.4,6,5.8,6.6,6.4,5.9,7.6,5.5,6.4,7.8]
["Winter 2007 ","Pagliari","REAL-446-0",81,36,8.6,7.8,8.5,8.1,9,7.8,7.7,8.1,8.1999999999999993,5.7,5.4,5.6,7.4,8.3000000000000007]
["Winter 2007 ","Battaglini","SEEK-440-A",72,54,7.1,8,7.9,8.4,7.3,7.3,7.1,7.2,8,4.8,5.5,5.0999999999999996,6.8,8.3000000000000007]
["Winter 2007 ","Feddersen","SEEK-440-A",71,51,7.7,8.8000000000000007,8.4,8.8000000000000007,8,7.6,7.4,7.5,8.4,5.3,6.3,5.3,7,8.8000000000000007]
["Winter 2007 ","Harstad","SEEK-441-0",61,20,7,6.8,6.8,7.8,7.1,7.4,7.3,7.1,6.6,5.0999999999999996,5.2,4.7,8,8.5]
["Winter 2007 ","Harstad","SEEK-441-0",71,11,7.7,7.5,7.4,8.3000000000000007,7.7,7.9,7.6,7.4,7.7,5.4,6,5.0999999999999996,7.6,8.9]
["Winter 2007 ","Woodward","SEEK-452-A",81,18,8,8.3000000000000007,8,9.4,8.5,8,7.7,7.9,8.3000000000000007,5.0999999999999996,6.2,5.5,7.8,9.3000000000000007]
["Winter 2007 ","Donnelly","SEEK-453-B",81,38,8.5,8.8000000000000007,8.9,9,8.3000000000000007,7.4,8.6,8.4,8.8000000000000007,5,5.2,5.2,7.8,8.4]
["Winter 2007 ","Donnelly","SEEK-453-B",91,41,9,9.1999999999999993,9,9.1999999999999993,8.9,8.1999999999999993,8.4,9.1,9.1999999999999993,4.8,5.2,5.0999999999999996,8,8.3000000000000007]
["Winter 2007 ","Austen-Smith","SEEK-460-0",81,49,7.4,8.5,7.7,9.1999999999999993,8.1999999999999993,7.3,7.6,7.4,8.4,4.9000000000000004,5.7,5,7.7,8.4]
["Winter 2007 ","Conley","TECH-913-0",71,9,9.1999999999999993,9.3000000000000007,9.1999999999999993,8.9,8.6,8.4,8.8000000000000007,8.9,9.1,6.6,7,6.8,8.3000000000000007,9.1]
["Winter 2007 ","Conley","TECH-913-0",91,21,9.1,9.4,9.1,9.3000000000000007,9.1,8.6,8.8000000000000007,9,9.1999999999999993,5.6,5.9,5.4,7.8,8.8000000000000007]
["Winter 2007 ","Jeffery","TECH-914-0",61,16,8.1,8.8000000000000007,8.5,9.1999999999999993,9,8.6,8.1999999999999993,8.1999999999999993,8.4,5.5,5.6,4.8,8.9,8.5]
["Winter 2007 ","Wolcott","TECH-918-0",91,19,7.5,7.3,5.9,8.8000000000000007,7.7,7.3,5.9,6.6,6.9,5.0999999999999996,5.8,5.4,6.3,7.5]
["Fall 2006 ","Finn","ACCT-430-0",41,56,8,8.9,8.1999999999999993,8.6999999999999993,9.1,8.1,8.1,8.1999999999999993,8.9,6.1,5.9,5.8,7.5,9.3000000000000007]
["Fall 2006 ","Finn","ACCT-430-0",43,61,7.6,8.6,7.6,8.3000000000000007,8.6,7.6,7,7.7,8.3000000000000007,5.9,5.8,5.4,6.5,8.6]
["Fall 2006 ","Lansford","ACCT-430-0",45,40,6.6,6.9,6.8,7.6,7.2,7.7,7.1,6.6,6.6,5.7,5.7,5.8,7.6,9.1999999999999993]
["Fall 2006 ","Lansford","ACCT-430-0",46,56,6.5,6.2,6.9,7.6,7.4,7.8,7.3,6.5,6.5,6,6.6,6.7,7.8,9.1]
["Fall 2006 ","Lansford","ACCT-430-0",73,53,8.6,9,8.6999999999999993,8.9,8.6,9,8.6999999999999993,8.8000000000000007,9.1999999999999993,6.4,6.7,6.1,8.9,9.3000000000000007]
["Fall 2006 ","Prince","ACCT-430-0",71,22,6.1,5,5.4,6.2,6.7,7.8,6.9,5.8,4.8,5.7,5.3,5,5.7,6.8]
["Fall 2006 ","Prince","ACCT-430-0",72,10,6.8,6.1,5.9,7.1,7.1,7.6,6.5,6.1,5.6,6.1,5.3,6.1,7.1,8]
["Fall 2006 ","Sridharan","ACCT-430-0",42,47,7.7,8.1,8.8000000000000007,7.9,8.1,7.6,8,7.9,8.5,6.1,5.9,5.6,7.5,8.4]
["Fall 2006 ","Sridharan","ACCT-430-0",44,53,7.9,8.1,8.8000000000000007,8,8.3000000000000007,8.1,8.1999999999999993,8,8.6,6.4,6.5,6,7.9,9.1]
["Fall 2006 ","Cadman","ACCT-431-0",61,26,8.4,9.3000000000000007,9,8.4,8.6,8.6999999999999993,8.1999999999999993,8.5,9.1999999999999993,5.6,5.8,5.7,8.9,9.3000000000000007]
["Fall 2006 ","Cadman","ACCT-431-0",62,44,8.5,9.3000000000000007,8.9,8.9,8.6999999999999993,8.8000000000000007,8.1999999999999993,8.6,9.3000000000000007,5.5,5.2,5.2,9.3000000000000007,9.3000000000000007]
["Fall 2006 ","Cadman","ACCT-431-0",71,15,8.8000000000000007,9.6999999999999993,9.1999999999999993,9.1,8.9,9.1,8.3000000000000007,9.3000000000000007,9.8000000000000007,5.5,5.6,5.6,9.3000000000000007,9.6]
["Fall 2006 ","Magee","ACCT-434-0",61,14,8.1,8.6,9.1999999999999993,9.6,8.6999999999999993,8.9,8.1,8.5,9.1,5.8,5.0999999999999996,5.2,8.8000000000000007,9.3000000000000007]
["Fall 2006 ","Magee","ACCT-434-0",81,17,8.1,8,8.8000000000000007,8.8000000000000007,8.3000000000000007,8.1,7.5,8,8.6,5.5,5.6,5.2,7.8,9.9]
["Fall 2006 ","Balachandran","ACCT-439-0",69,38,7,7.5,5.7,7.4,7.8,7.9,7.9,7.1,6.8,5.9,5.5,5.3,8.1999999999999993,8.6]
["Fall 2006 ","Barack/Lys","ACCT-444-0",81,25,6.3,6.7,6.2,6.6,6.9,5.4,5.2,5.9,6.4,6.7,6.4,5.7,6.1,8]
["Fall 2006 ","Barack/Lys","ACCT-444-0",82,20,6.9,7.5,6.9,7.5,7.4,6.6,6.6,6.8,7.1,6.2,6.2,6,6.5,9]
["Fall 2006 ","Sunder","ACCT-451-0",62,26,8.4,8.8000000000000007,8.3000000000000007,8.5,8.6999999999999993,8.5,8.1,8.4,8.8000000000000007,6.2,5.5,5.3,8,9.3000000000000007]
["Fall 2006 ","Sunder","ACCT-451-0",81,22,8.1999999999999993,8.9,8.4,8.6,8.4,8.4,8.4,8.3000000000000007,8.8000000000000007,6.3,5.8,5.7,8.9,9.4]
["Fall 2006 ","Finn","ACCT-452-0",71,9,8.3000000000000007,8.8000000000000007,8.4,9.1999999999999993,8.8000000000000007,8.8000000000000007,7.2,8.6999999999999993,9,5.6,5.0999999999999996,5.9,8.8000000000000007,9.1999999999999993]
["Fall 2006 ","McCareins","BLAW-435-0",81,33,8.6,9.4,8.6,8.6,8.9,7.7,8.6,8.8000000000000007,9.1,4.5,4,5.0999999999999996,7.1,8.3000000000000007]
["Fall 2006 ","Presser","BLAW-435-0",71,20,9.1999999999999993,9.6,9,8.8000000000000007,9.1999999999999993,8.6,9.1,9.1999999999999993,9.4,5.3,5.0999999999999996,5.4,6.8,8.1]
["Fall 2006 ","Bradley","BLAW-911-A",81,8,7.9,7.9,7.8,8.1,8.5,7.5,8.1,8.4,8.3000000000000007,4.3,3.7,5,4.9000000000000004,8.1]
["Fall 2006 ","Tiller","BLAW-917-0",81,11,8.1,7.9,8.1999999999999993,8.8000000000000007,8.3000000000000007,7.2,8.3000000000000007,8,8.1,5,4.5,4.9000000000000004,7.1,6.9]
["Fall 2006 ","Herold","DECS-433-0",41,24,6,7.3,7.1,7.5,6.6,7.7,7.3,6.3,6.7,5.4,5.6,4.9000000000000004,7.3,8.1]
["Fall 2006 ","Herold","DECS-433-0",44,38,6.3,6.5,6.2,6.6,5.6,7.2,6.1,5.8,5.7,5.9,5.9,5.2,7.4,8.5]
["Fall 2006 ","Herold","DECS-433-0",72,40,6.6,7.6,7.5,7,6.7,7.7,7.2,7,7.5,5.5,6.3,5.3,7.6,8]
["Fall 2006 ","Kalai","DECS-433-0",71,27,6.9,6.9,7.7,7.2,7,6.9,6.9,7,7.4,5.6,5.8,5.6,7.7,8.6999999999999993]
["Fall 2006 ","McKeon","DECS-433-0",45,59,9.5,9.9,9.6999999999999993,9.1999999999999993,9.4,9.4,9.3000000000000007,9.8000000000000007,10,6.3,5.9,5.6,9,9.5]
["Fall 2006 ","McKeon","DECS-433-0",47,65,9.4,9.9,9.9,9.4,9.3000000000000007,9.6999999999999993,9.6,9.8000000000000007,9.9,6,5.6,5.4,9.1999999999999993,9.5]
["Fall 2006 ","Schummer","DECS-433-0",42,63,8.1,8.9,9.1999999999999993,8.3000000000000007,8.1999999999999993,8.6,8.3000000000000007,8.5,9.1999999999999993,6.2,5.2,5.5,7.6,8.8000000000000007]
["Fall 2006 ","Schummer","DECS-433-0",43,60,7.7,8.6999999999999993,9.1,8.1,8.1,8.5,8.1,8.3000000000000007,9,5.7,5,5.2,7.7,9.1]
["Fall 2006 ","Klibanoff","DECS-434-0",61,27,6.8,6.9,7.3,7.3,7,7.6,7.1,7,7,6.7,6.2,5.7,7,8]
["Fall 2006 ","Klibanoff","DECS-434-0",71,47,8.3000000000000007,8.5,8.9,8.6,8,8.3000000000000007,8.3000000000000007,8.1,8.5,6.6,6.7,5.7,8.1,9.4]
["Fall 2006 ","Klibanoff","DECS-434-0",72,30,8.6999999999999993,8.6999999999999993,8.8000000000000007,8.6,8.4,8.6999999999999993,8.6999999999999993,8.5,9,6.6,6.8,5.7,8.4,9.5]
["Fall 2006 ","Kalai","DECS-436-0",81,41,6,6.4,7.6,7.3,6.4,7.4,7.3,6.2,6.7,4.5999999999999996,4.7,4,7.2,8.6999999999999993]
["Fall 2006 ","Eso","DECS-437-0",91,16,8.4,8.8000000000000007,8.6,8.6999999999999993,8.1,8.6,8.1999999999999993,8.4,8.9,6.2,6.1,6.1,9.1,9.4]
["Fall 2006 ","Mayberry McKissack","ENTR-902-A",81,12,7.8,8.6,8.6,8.8000000000000007,7.9,8.3000000000000007,8.4,7.9,8.6,4.5,4.8,4.7,7.5,8.9]
["Fall 2006 ","Wolcott","ENTR-903-A",81,13,8.9,9,8.6,9.1,8.6999999999999993,8.4,8.1,8.6,8.8000000000000007,6.7,8.1,7.9,7.8,8.1]
["Fall 2006 ","Hertzberg","FINC-430-0",72,44,8.6,8.3000000000000007,7.8,8.1,7.6,7.3,7.3,7.7,7.7,7.2,7.2,7.4,8.3000000000000007,9.4]
["Fall 2006 ","Hertzberg","FINC-430-0",91,14,8,8.1999999999999993,7.5,7.7,7.5,7,6,6.9,6.8,7.9,7.3,8.6,8.4,8.9]
["Fall 2006 ","Liberti","FINC-430-0",41,51,8.6,9.3000000000000007,7.3,8.1999999999999993,7.7,6.8,6.5,7.3,7.4,9,9.1999999999999993,8.8000000000000007,9.6,9.1999999999999993]
["Fall 2006 ","Liberti","FINC-430-0",42,59,8.6999999999999993,9.4,6.8,7.9,7.7,6.6,6.3,7.3,7.6,9.1999999999999993,9.6999999999999993,9,9.9,9]
["Fall 2006 ","Paulson","FINC-430-0",71,40,8.4,8.3000000000000007,8.4,7.4,8,8.1,7.3,8,8.1999999999999993,6.1,6.3,5.9,8.4,9.1999999999999993]
["Fall 2006 ","Eberly","FINC-440-0",41,62,8.9,8.6,8.4,8.3000000000000007,8.8000000000000007,8.1,8,8.4,8.8000000000000007,8.3000000000000007,7.8,8.1999999999999993,8.1,9.3000000000000007]
["Fall 2006 ","Eberly","FINC-440-0",42,59,8.8000000000000007,9.1,8.8000000000000007,8.4,8.6,8.1999999999999993,8,8.6999999999999993,9.1,7.8,7.3,7.8,7.7,9]
["Fall 2006 ","Eberly","FINC-440-0",81,31,9,9.1,8.6999999999999993,8.1999999999999993,8.6,8.1,7.9,8.6999999999999993,9,7.7,7.3,7.4,7.3,8.6999999999999993]
["Fall 2006 ","Sapienza","FINC-441-0",61,28,6.6,6.2,6.3,6.7,7.4,6.8,6,6.3,5.9,6.6,6.1,6,7.5,9]
["Fall 2006 ","Sapienza","FINC-441-0",62,29,6.9,6.6,7,6.6,7,7.5,7.2,6.4,6.3,6.2,5.7,5.4,7,8.8000000000000007]
["Fall 2006 ","Sapienza","FINC-441-0",71,43,7.3,6.6,6.4,7,6.9,6.9,6.5,6.5,6.4,6.5,6.2,6.1,6.7,8.8000000000000007]
["Fall 2006 ","Raviv","FINC-442-0",61,47,9.3000000000000007,9.1,9,8.8000000000000007,8.5,7.9,8.5,9.1,9.3000000000000007,6.9,7.7,6.3,6.9,8.6999999999999993]
["Fall 2006 ","Raviv","FINC-442-0",62,36,9.5,9.4,9.5,8.9,8.9,7.5,9.1999999999999993,9.4,9.4,6.9,7.8,6,7,8.3000000000000007]
["Fall 2006 ","Raviv","FINC-442-0",71,31,9.5,9.1999999999999993,9.1,8.6999999999999993,8.3000000000000007,8.1999999999999993,9,9.1999999999999993,9.1999999999999993,7.4,7.8,6,7.3,9.1999999999999993]
["Fall 2006 ","Collins","FINC-445-0",61,48,6.2,5.5,5.7,8.1,6.3,4.5999999999999996,6.7,5.7,5.2,4.7,3.9,4,5.3,7.6]
["Fall 2006 ","Collins","FINC-446-0",62,23,7.8,7.4,7.9,8.6,7.6,6.8,7.8,7.6,7.6,4.2,4.0999999999999996,4.7,6.4,8.5]
["Fall 2006 ","Rogers","FINC-446-0",61,93,9.1999999999999993,9.6999999999999993,8.9,8.6,8.3000000000000007,7.9,8.9,9.1,9.1999999999999993,5.3,5.4,5.3,6.4,8.1999999999999993]
["Fall 2006 ","Schaumburg","FINC-460-0",61,33,7.6,6.6,7.4,7,7.7,7,7,7,7.1,7.2,6.4,5.9,6.9,8.3000000000000007]
["Fall 2006 ","Schaumburg","FINC-460-0",71,22,5.6,6.2,6.5,6.7,7.2,5.7,5,5,6.5,8.1,7.3,7,7.5,9.1999999999999993]
["Fall 2006 ","Stowell","FINC-461-0",71,33,9.3000000000000007,9.3000000000000007,8.9,9.5,9.3000000000000007,8.3000000000000007,8.4,8.8000000000000007,9.3000000000000007,5.3,5.2,5.0999999999999996,9,9.6]
["Fall 2006 ","Hagerty","FINC-465-0",61,58,8.6,7.7,8.6999999999999993,6.8,8.1,7.4,7.8,8.1999999999999993,8.1,7.6,7.6,6.6,6.8,8.9]
["Fall 2006 ","Xiong","FINC-465-0",71,14,8.4,7.9,7.9,7.8,7.2,7.5,7.2,7.6,7.8,6.8,6.8,6.2,8.8000000000000007,8.6]
["Fall 2006 ","Rebelo","FINC-470-0",61,58,9.1999999999999993,9.6999999999999993,9.3000000000000007,8.6,9.3000000000000007,8.8000000000000007,8.6999999999999993,9.4,9.8000000000000007,6,5.8,5.6,7.8,9.1]
["Fall 2006 ","Rebelo","FINC-470-0",62,53,9.3000000000000007,9.6999999999999993,9.5,8.5,9.5,9.1,9,9.4,9.6999999999999993,6.1,6,5.5,8.1,8.9]
["Fall 2006 ","Rebelo","FINC-470-0",71,55,9.3000000000000007,9.6,9.1999999999999993,8.1,9.4,8.6999999999999993,8.4,9.1999999999999993,9.5,6.4,6.2,5.7,7.4,8.9]
["Fall 2006 ","Hughes","HIMT-453-0",81,27,9.3000000000000007,9.8000000000000007,8.9,9.6,9.1999999999999993,8.6999999999999993,8.6,9.3000000000000007,9.5,5.0999999999999996,5.6,5.4,8.1,9.1]
["Fall 2006 ","Spulber","INTL-460-0",81,47,7,7.5,7.8,8.4,7.3,7,7.5,7.1,7.1,5,4.9000000000000004,4.8,7.5,9.1]
["Fall 2006 ","Corse","INTL-467-0",31,28,9,9.4,8.8000000000000007,9.6,8.8000000000000007,9.1999999999999993,9,9.1999999999999993,9.4,5.2,5.5,5.2,8.6999999999999993,8.9]
["Fall 2006 ","Brett","INTL-474-0",62,30,7.9,7.8,8,8.6999999999999993,8.1,6.7,7.5,7.9,7.8,5,5.3,4.8,7,8.9]
["Fall 2006 ","Atakan","MECN-430-0",71,58,7.9,8.3000000000000007,8.4,8,7.5,8.1,7.2,7.8,8.3000000000000007,6.1,6.3,5.7,7.6,9.1999999999999993]
["Fall 2006 ","Besanko","MECN-430-0",61,63,9.5,9.9,9.6999999999999993,9.6,9.3000000000000007,9.5,9.1999999999999993,9.6,10,7,7.8,6.2,9.8000000000000007,9.6999999999999993]
["Fall 2006 ","Besanko","MECN-430-0",62,67,9.6,9.9,9.8000000000000007,9.6,9.4,9.5,9.1999999999999993,9.8000000000000007,10,7,7.4,6.1,9.6999999999999993,9.5]
["Fall 2006 ","Satterthwaite","MECN-441-0",61,26,7.2,7.2,6.3,7.3,6.5,7.2,6.2,6.5,6.4,6.6,6.3,5.9,7.6,8]
["Fall 2006 ","Satterthwaite","MECN-441-0",62,18,7.3,7.7,7.4,8.4,8.1999999999999993,8,7.4,6.9,7.1,6.6,5.8,5.8,8.6999999999999993,9.1]
["Fall 2006 ","Satterthwaite","MECN-441-0",71,18,7.3,8.1,7.5,8.3000000000000007,8,6.8,6.3,7.1,7.9,7.3,7.6,6.3,8.3000000000000007,9.1]
["Fall 2006 ","Vohra","MECN-446-0",61,56,8,8.4,7.7,8.6,7.8,6.6,7.5,7.6,8.3000000000000007,6.9,7.4,5.6,7.2,8.1999999999999993]
["Fall 2006 ","Vohra","MECN-446-0",71,32,8.3000000000000007,8.5,8.1,9,7.9,6.9,7.8,7.9,8.1999999999999993,6.8,7,5.5,7.8,9.1999999999999993]
["Fall 2006 ","Smith","MEDM-911-0",81,27,7.3,6.9,7.1,8.6,7.7,6.4,7.4,7,7,5.4,6.7,5.0999999999999996,6.9,8]
["Fall 2006 ","Hubbard","MGMT-431-0",66,56,7.8,7.3,7.5,8.6999999999999993,7.9,7.2,7.4,7.3,7.5,5.2,5.6,5.2,7.5,8.6]
["Fall 2006 ","Hubbard","MGMT-431-0",69,60,8.3000000000000007,8.1,8,8.1999999999999993,7.9,7.8,7.6,8,7.9,5.7,5.9,5.6,7.6,8.9]
["Fall 2006 ","Markovich","MGMT-431-0",61,57,6.5,7.4,6.4,8.3000000000000007,6.4,7.3,6.8,6.3,6.4,4.8,4.9000000000000004,4.4000000000000004,7.9,8.6999999999999993]
["Fall 2006 ","Markovich","MGMT-431-0",71,51,8.3000000000000007,8.9,8.5,9.1,8,7.8,8.1,8.5,8.6999999999999993,5.7,5.8,5.4,7.7,8.6]
["Fall 2006 ","Mazzeo","MGMT-431-0",62,58,7.8,9.1,8.4,9.1,7.8,7.1,7.7,8,8.6999999999999993,6,6.1,5.5,8.6,9.1999999999999993]
["Fall 2006 ","Mazzeo","MGMT-431-0",63,54,8,9.1,8.4,9.1999999999999993,8,7.6,8,8,8.5,5.8,6.2,5.6,8.4,9.4]
["Fall 2006 ","Mazzeo","MGMT-431-0",64,60,7.5,9.1999999999999993,8.1999999999999993,9.3000000000000007,7.9,7.4,7.8,7.8,8.6,5.4,5.7,5.4,8.3000000000000007,8.6]
["Fall 2006 ","Snyder","MGMT-431-0",72,51,8.1,8.4,7.8,9.3000000000000007,8,7.9,8,7.8,7.9,4.8,4.4000000000000004,4.9000000000000004,8.3000000000000007,9]
["Fall 2006 ","Watanabe","MGMT-431-0",65,55,5.2,6.1,5.3,6.7,5,5.3,5.2,4.4000000000000004,4.0999999999999996,5.2,5.2,5,6.9,8.3000000000000007]
["Fall 2006 ","Watanabe","MGMT-431-0",67,59,5.7,6.4,5.6,7.6,5.8,6.3,6.4,5.2,5.0999999999999996,5.0999999999999996,5.3,4.8,7.8,8.5]
["Fall 2006 ","Dranove","MGMT-444-0",81,30,8.3000000000000007,8.1999999999999993,7.7,8.5,8.6,7.8,6.9,7.8,8,6.9,7,5.9,7.2,8.9]
["Fall 2006 ","Markovich","MGMT-452-0",61,46,6.2,6.6,6.2,7.8,6.2,6.7,7.1,6.2,5.8,4.8,4.8,4.3,7.8,8.5]
["Fall 2006 ","Markovich","MGMT-452-0",71,43,7.6,8.3000000000000007,8.1,8.6,7.6,6.9,7.7,7.4,8,5.4,5.2,5.0999999999999996,8.1999999999999993,9.1]
["Fall 2006 ","Greenstein","MGMT-463-0",81,30,8,8.5,7.8,8.8000000000000007,8.6,8,7.6,7.5,7.9,6,7,5.3,8.1,9.1]
["Fall 2006 ","Bakalis","MGMT-468-0",71,27,7.1,6.1,7.3,9.3000000000000007,7.2,7.3,6.3,7,6.4,4,4.3,4.5999999999999996,5.9,8.5]
["Fall 2006 ","Kraemer","MGMT-468-0",91,60,8.9,9.6999999999999993,8.5,9.4,8.4,8.4,9.1999999999999993,9,9.5,4.4000000000000004,4.4000000000000004,4.5999999999999996,9.5,9.1999999999999993]
["Fall 2006 ","Cohen","MGMT-931-A",81,21,8.9,9,8.8000000000000007,9,8.6999999999999993,8,8.4,9.1999999999999993,9.1999999999999993,4.9000000000000004,4.8,5.3,7.6,9]
["Fall 2006 ","McGuire","MGMT-932-0",61,9,7.7,6.8,7.8,8.9,8.6,8.3000000000000007,7.1,7.6,7.3,5.0999999999999996,4.9000000000000004,5,7.8,8.1]
["Fall 2006 ","Shein","MGMT-934-0",81,52,6.9,6.6,5.9,7.8,7.3,6.8,7,6.5,6.3,5.4,6.2,5.2,7.5,8.5]
["Fall 2006 ","Chernev","MKTG-430-0",41,24,8.9,9.5,8.8000000000000007,9.1999999999999993,8.5,8.9,9.1,9.1,9.1,5.2,5.5,5.0999999999999996,7.7,8.1999999999999993]
["Fall 2006 ","Chernev","MKTG-430-0",42,45,8.6999999999999993,8.8000000000000007,8.3000000000000007,8.6,8,8.6,8.4,8.6,8.6999999999999993,5.0999999999999996,5,5,7,8.1]
["Fall 2006 ","Chernev","MKTG-430-0",71,55,9.3000000000000007,9.6,9.3000000000000007,9.1999999999999993,8.5,9.1999999999999993,9.1999999999999993,9.3000000000000007,9.6,5.5,5.7,5.3,7.7,8.6999999999999993]
["Fall 2006 ","Grayson","MKTG-430-0",45,55,9.3000000000000007,9.5,9.3000000000000007,9.1999999999999993,8.4,8.5,8.3000000000000007,9.3000000000000007,9.5,6,6.2,5.3,8.8000000000000007,9.1]
["Fall 2006 ","Grayson","MKTG-430-0",46,42,8.8000000000000007,9.1999999999999993,9.1,9.1999999999999993,8.4,8.8000000000000007,7.8,8.8000000000000007,9.3000000000000007,6.4,6.6,5.3,8.6,9.4]
["Fall 2006 ","Hennessy","MKTG-430-0",43,61,9.3000000000000007,9.9,9.3000000000000007,9.1999999999999993,8.6999999999999993,9.1999999999999993,8.6,9.4,9.8000000000000007,5.9,5.8,5.4,9.3000000000000007,8.8000000000000007]
["Fall 2006 ","Hennessy","MKTG-430-0",44,55,9.6,9.9,9.4,9.3000000000000007,9,9.4,9,9.8000000000000007,9.9,5.6,5.8,5.4,9.4,9.1]
["Fall 2006 ","Tybout","MKTG-430-0",72,45,8.3000000000000007,8.3000000000000007,8.6999999999999993,8.6999999999999993,8.1999999999999993,7.7,8,8.1,8.3000000000000007,6.1,6.8,5.4,8,9.3000000000000007]
["Fall 2006 ","Lee","MKTG-450-0",71,53,7.5,7.9,7.6,7.9,7.6,7.5,6.9,7.5,7.6,6.2,7.5,6.5,8.3000000000000007,8.8000000000000007]
["Fall 2006 ","Schieffer","MKTG-450-0",61,52,8.6,9,8.6,9.4,8.6,8.5,8.4,8.5,8.8000000000000007,6,7.6,6.5,8.6999999999999993,8.6999999999999993]
["Fall 2006 ","Pearlman","MKTG-454-0",61,40,7.6,8.4,8.1999999999999993,9,8.1999999999999993,8.8000000000000007,7.5,7.8,8.4,4.5999999999999996,4.9000000000000004,4.7,8.9,8.8000000000000007]
["Fall 2006 ","Sternthal","MKTG-454-0",62,21,9.3000000000000007,9.1999999999999993,9.1,8.9,8.8000000000000007,8.8000000000000007,8.6,9,9.1,5,4.8,5,8.1,8.6999999999999993]
["Fall 2006 ","Sternthal","MKTG-454-0",71,29,9,9.3000000000000007,9.1999999999999993,9.3000000000000007,8.6999999999999993,8.6999999999999993,8.6999999999999993,9.1999999999999993,9.1999999999999993,5.0999999999999996,5.2,5.3,8.1999999999999993,8.9]
["Fall 2006 ","Honack","MKTG-459-0",81,51,8.4,9.4,9,9.5,8.8000000000000007,9,8.5,8.8000000000000007,9.1999999999999993,4.8,5.2,5,9.4,9.6999999999999993]
["Fall 2006 ","Blattberg","MKTG-462-0",61,35,8.3000000000000007,8.1,8,8,7.9,7.5,7.7,8.1,7.8,6.1,5.4,5.0999999999999996,6.2,8]
["Fall 2006 ","Blattberg","MKTG-462-0",62,39,8.1,7.6,7.4,7.6,7.7,6.6,6.8,7.4,7.1,5.8,5.4,5.0999999999999996,6.4,8.3000000000000007]
["Fall 2006 ","Goodman","MKTG-462-0",71,12,8.9,9.5,9,9.4,8.8000000000000007,8.4,8.3000000000000007,8.6,9.1,5.2,4.9000000000000004,4.7,9.1999999999999993,8.8000000000000007]
["Fall 2006 ","Zoltners","MKTG-463-0",61,50,7.6,7.3,7.9,7.9,7.3,7.2,8,7.5,7.3,5.3,6.2,5.4,7.2,8.4]
["Fall 2006 ","Zoltners","MKTG-463-0",71,21,9.1,9.1999999999999993,8.9,9,8.6,8.1,8.9,8.9,9.1999999999999993,5.2,5.4,5,6,7.5]
["Fall 2006 ","Herbst","MKTG-464-A",81,22,6.9,8.1999999999999993,6.6,8.6999999999999993,8,7,7.1,7.2,7.9,5.3,5.9,5.6,7.8,7.2]
["Fall 2006 ","Calkins","MKTG-466-0",61,61,9.4,9.9,9.6,9.4,8.9,9.1,8.8000000000000007,9.5,9.9,5.7,6.5,5.6,8.6,8.6999999999999993]
["Fall 2006 ","Calkins","MKTG-466-0",62,56,9,9.8000000000000007,9.4,9.3000000000000007,8.6,8.8000000000000007,8.5,9.1999999999999993,9.6999999999999993,5.5,6.3,5.3,8.8000000000000007,9.1999999999999993]
["Fall 2006 ","Krishnamurthi","MKTG-466-0",31,23,9.1,9.3000000000000007,9,8,8.4,8.8000000000000007,8.6999999999999993,9,9.4,5.9,7.7,5.3,8.6,8.8000000000000007]
["Fall 2006 ","Galinsky","MORS-430-0",66,64,9.1,9.5,9,9.1999999999999993,8.3000000000000007,8.3000000000000007,8.1999999999999993,9.1,9.4,5.4,6.3,6,7.4,8.9]
["Fall 2006 ","Galinsky","MORS-430-0",68,63,9,9.5,8.6999999999999993,9.3000000000000007,8.5,8.1999999999999993,8.1999999999999993,9.1,9.5,5.4,6.2,6.3,7.6,9]
["Fall 2006 ","Gulati","MORS-430-0",65,68,9,9.5,8.6999999999999993,8.4,8.4,8.5,8,9,9.3000000000000007,5.8,7.9,6.9,8.1,9.6999999999999993]
["Fall 2006 ","Gulati","MORS-430-0",67,73,8.9,9.4,8.8000000000000007,8.4,8.4,8.3000000000000007,8,8.9,9.3000000000000007,5.9,7.6,6.6,7.7,9.6]
["Fall 2006 ","Joseph","MORS-430-0",71,57,8.8000000000000007,9.4,8.9,9.1999999999999993,8.6999999999999993,8.6,8.8000000000000007,9,9.3000000000000007,5.7,6,5.8,8.5,8.8000000000000007]
["Fall 2006 ","Medvec","MORS-430-0",62,70,9.4,9.8000000000000007,9.3000000000000007,9.1999999999999993,8.4,8.5,8.3000000000000007,9.4,9.6999999999999993,5.7,6.8,6,7.7,9.6]
["Fall 2006 ","Medvec","MORS-430-0",64,73,9.1999999999999993,9.8000000000000007,9.1,9.3000000000000007,8.5,8.1999999999999993,8.4,9.1999999999999993,9.6,5.5,6.7,6.2,7.5,9.3000000000000007]
["Fall 2006 ","Oldroyd","MORS-430-0",72,62,9,9.4,8.6,9.3000000000000007,8.6,8.1999999999999993,8.5,8.9,9.1999999999999993,5.7,5.9,5.7,8.4,9.6999999999999993]
["Fall 2006 ","Uzzi","MORS-430-0",61,72,9.4,9.6,8.9,9.3000000000000007,8.6999999999999993,8.4,8.6,9.3000000000000007,9.5,5.5,6.5,6,7.7,8.8000000000000007]
["Fall 2006 ","Uzzi","MORS-430-0",63,69,9.1999999999999993,9.6,9.1,9.5,8.8000000000000007,8.8000000000000007,8.5,9.3000000000000007,9.6,5.8,6.4,6.2,8.6,9.1999999999999993]
["Fall 2006 ","Shwom","MORS-449-B",61,15,7.9,8.4,8.5,9.4,8.4,9,8.6999999999999993,8.1999999999999993,8.4,4.7,5.7,5.0999999999999996,8.6999999999999993,8.1999999999999993]
["Fall 2006 ","Van Camp","MORS-450-0",71,21,8.3000000000000007,9.3000000000000007,9,8.8000000000000007,8.5,8.8000000000000007,8.1999999999999993,8.8000000000000007,9.1,5.2,5.5,5.2,8.9,9.1999999999999993]
["Fall 2006 ","Hirsch","MORS-452-0",71,32,8.3000000000000007,7.7,7.5,9,8.1,8.4,8.8000000000000007,8,7.6,5,5.4,4.9000000000000004,7.7,9]
["Fall 2006 ","Ocasio","MORS-453-0",71,19,8.8000000000000007,8.5,8.4,9.1,8.1,8.6,8.4,8.6999999999999993,8.6,5.6,6.1,5.2,6.6,9.1999999999999993]
["Fall 2006 ","Ocasio","MORS-453-0",81,54,7.7,7.4,7.2,8.1,6.8,7.5,8.1,7.5,7.3,5.7,6.3,5.2,6.7,8.5]
["Fall 2006 ","Thompson","MORS-460-0",81,39,8.5,9.1,8.6999999999999993,8.8000000000000007,9,8.1,8,8.6,8.8000000000000007,5.6,6.1,5.2,7.3,8.5]
["Fall 2006 ","Galinsky","MORS-470-0",61,41,9.1999999999999993,9.5,9.3000000000000007,9.5,8.8000000000000007,8.5,8.4,9.4,9.4,5.4,5.8,5.5,7.7,9.1]
["Fall 2006 ","Lount","MORS-470-0",91,31,8.8000000000000007,8.1999999999999993,8.5,8,8,8.3000000000000007,7.8,8.6,8.1,5,5.2,5.0999999999999996,7.7,8.5]
["Fall 2006 ","Murnighan","MORS-914-0",71,27,8.6,9.3000000000000007,8.5,9.1999999999999993,8.1,8.3000000000000007,8,8.6999999999999993,9.1999999999999993,5,5.3,5.0999999999999996,7.7,8.9]
["Fall 2006 ","Bassamboo","OPNS-430-0",71,45,7.5,7.9,8.4,8.4,7.7,8.3000000000000007,7.7,7.4,7.8,6,6.5,5.6,8.6,9.4]
["Fall 2006 ","Bassamboo","OPNS-430-0",72,34,8,8.5,8.5,8.6999999999999993,8,8.3000000000000007,8,7.9,8.4,6,6.8,5.6,8.6,9.3000000000000007]
["Fall 2006 ","Deshmukh","OPNS-450-0",61,57,8.1999999999999993,8.1999999999999993,8.6,7.8,7.8,8.4,7.9,8.1999999999999993,8.6,5.5,5.9,4.8,7.2,8.6]
["Fall 2006 ","Chopra","OPNS-455-0",81,63,8.8000000000000007,9.3000000000000007,9,9.1999999999999993,8.4,8.3000000000000007,8.6999999999999993,8.8000000000000007,9.3000000000000007,6.7,7.7,6,7.7,9]
["Fall 2006 ","Lys","REAL-442-0",81,40,8.1,8.6,7.7,8.3000000000000007,7.7,7.1,7.1,7.8,8,5.6,5.6,5.5,6.2,8.3000000000000007]
["Fall 2006 ","Austen-Smith","SEEK-440-A",66,60,8,9,8.6,8.8000000000000007,8,7.8,7.5,8.1,8.8000000000000007,4.7,4.4000000000000004,5.2,6.8,8.9]
["Fall 2006 ","Austen-Smith","SEEK-440-A",68,56,8.6,9.1,8.6999999999999993,8.9,8.1999999999999993,8,8.1999999999999993,8.5,8.9,5.0999999999999996,5,5.3,7.6,9.3000000000000007]
["Fall 2006 ","Austen-Smith","SEEK-440-A",71,38,8.9,9.5,8.6999999999999993,9.3000000000000007,8.6999999999999993,8,8,8.8000000000000007,9.5,5.3,5.6,5.8,8,9.3000000000000007]
["Fall 2006 ","Austen-Smith","SEEK-440-A",72,20,8.8000000000000007,9.3000000000000007,8.8000000000000007,9.1,8.1999999999999993,8,8.1999999999999993,8.8000000000000007,9.4,5.6,5.5,5.4,7.5,9.6]
["Fall 2006 ","Callander","SEEK-440-A",62,57,8.4,9.3000000000000007,8.4,9,8,8.3000000000000007,7.6,8.6,9.1,4.5999999999999996,4.5999999999999996,4.9000000000000004,7.5,8.6999999999999993]
["Fall 2006 ","Callander","SEEK-440-A",64,59,8.3000000000000007,9.3000000000000007,8.4,9,8.1,8.1,8.1999999999999993,8.3000000000000007,9,5.2,5,5.2,7.2,8.3000000000000007]
["Fall 2006 ","Diermeier","SEEK-440-A",65,62,9.1,9.6,9.1,9.1,8.6,8.6,8.5,9.1999999999999993,9.6,5.5,5.7,5.5,7.2,8.6999999999999993]
["Fall 2006 ","Diermeier","SEEK-440-A",67,51,9.1999999999999993,9.6,8.9,9,8.6999999999999993,8.5,8.5,9.3000000000000007,9.6,5.0999999999999996,5.3,5.4,6.5,8]
["Fall 2006 ","Feddersen","SEEK-440-A",61,67,7.6,7.9,7.8,8.3000000000000007,7.5,8,7.3,7.6,7.5,4.5999999999999996,4.5999999999999996,5,7.1,8.1]
["Fall 2006 ","Feddersen","SEEK-440-A",63,67,7.6,8.1,8,8.4,7.4,7.8,7.6,7.7,7.9,4.7,4.7,4.8,6.8,8.3000000000000007]
["Fall 2006 ","Diermeier","SEEK-441-0",62,54,9.5,9.6999999999999993,9,9.1999999999999993,8.9,8.4,8.6999999999999993,9.4,9.6,6.4,6.4,5.6,7.1,8.8000000000000007]
["Fall 2006 ","Diermeier","SEEK-441-0",63,53,9.6,9.6,8.8000000000000007,8.8000000000000007,8.6999999999999993,8,8.6999999999999993,9.3000000000000007,9.6,6.2,6.4,5.7,6.7,8.1999999999999993]
["Fall 2006 ","Feddersen","SEEK-441-0",71,40,7.6,8,7.7,8.4,7.8,7.4,6.9,7.4,7.4,5.3,6.8,5.4,7.6,8.4]
["Fall 2006 ","Brinckerhoff/Haider","SEEK-450-0",81,17,7.1,7.4,7.1,8.1999999999999993,7.5,7.2,7.3,7.3,6.6,4.9000000000000004,5.2,4.5,7.3,8.3000000000000007]
["Fall 2006 ","Galinsky","SEEK-460-0",91,52,7.7,8.4,8.1,9,8.1999999999999993,7.3,7.7,7.6,8.3000000000000007,4.5999999999999996,5.4,4.9000000000000004,7.8,8.4]
["Fall 2006 ","Choudhary","TECH-917-0",81,24,7.8,7.6,7.1,8.5,7.7,7.7,7.8,7.7,7.2,4.5,5,4.7,8.1,8.3000000000000007]
["Summer 2006 ","Drebin","ACCT-430-0",71,58,7.1,6.8,8,6.2,7.9,8,8,7.2,7.3,5.4,5.4,5.6,7.4,8.5]
["Summer 2006 ","Drebin","ACCT-430-0",72,29,7.7,7.9,8.6,6.5,8.6,8.1,8.1,7.7,8.3000000000000007,5.7,6,5.7,7.1,9]
["Summer 2006 ","McCareins","BLAW-435-0",71,28,8.6999999999999993,9.1999999999999993,8.6999999999999993,7.9,8.6,7.8,8.4,8.6999999999999993,9.1999999999999993,5,4.4000000000000004,5.0999999999999996,7.1,8.9]
["Summer 2006 ","Herold","DECS-433-0",71,38,7.8,8.4,7.8,8,7.5,8.1,7.4,7.5,7.8,6.8,6.7,6.4,8.4,8.4]
["Summer 2006 ","Saraniti","DECS-433-0",72,49,8.8000000000000007,9.6999999999999993,8.6,8.5,8.4,8.6,8.3000000000000007,8.8000000000000007,9.1999999999999993,6.4,5.5,6,8.8000000000000007,8.9]
["Summer 2006 ","Saraniti","DECS-434-0",71,64,8.4,9.3000000000000007,7.9,8.8000000000000007,7.9,8.3000000000000007,8.4,8.4,8.8000000000000007,5.6,5.5,5.2,8.8000000000000007,9.1999999999999993]
["Summer 2006 ","Saraniti","DECS-434-0",72,56,8.5,9.5,8,8.6999999999999993,8,8.5,8.4,8.6,9,5.7,5.3,5.5,7.9,8.8000000000000007]
["Summer 2006 ","Weber","DECS-438-A",61,45,8.4,9,8.6999999999999993,6.5,8.4,8.1999999999999993,8.6999999999999993,8.4,9.1,7,5.4,7,9.3000000000000007,9.3000000000000007]
["Summer 2006 ","Weber","DECS-439-B",61,44,8.5,9.1,9,6.4,8.6999999999999993,8.6999999999999993,9.1,8.6,9.1,6.1,4.8,5.6,8.9,9.1999999999999993]
["Summer 2006 ","Shein","ENTR-462-0",71,16,9.1999999999999993,8.8000000000000007,8.8000000000000007,9.1999999999999993,8.5,8.6999999999999993,8.1,9.1,8.9,6.4,7.1,5.4,7.8,9.4]
["Summer 2006 ","Furfine","FINC-430-0",71,29,9.1,9.3000000000000007,9,8.6,8.8000000000000007,8.4,8,8.5,9.5,7.8,8,8.4,8.4,9.6999999999999993]
["Summer 2006 ","Ofer","FINC-440-0",61,38,8.6,9.4,8.5,8.8000000000000007,8.6999999999999993,8.3000000000000007,8.4,8.6,9.3000000000000007,7.4,7.2,7.2,7.9,9.3000000000000007]
["Summer 2006 ","Ofer","FINC-440-0",81,33,9,9.5,8.6,8.9,8.9,8.1,8.6,8.8000000000000007,9.4,7.1,7,6.8,6.7,8.1999999999999993]
["Summer 2006 ","Kaiser","FINC-442-0",71,11,9.6999999999999993,9.9,9.1,9.1999999999999993,9.1999999999999993,8.8000000000000007,9.1,9.6999999999999993,9.8000000000000007,6.3,6.2,6.9,6.6,8.8000000000000007]
["Summer 2006 ","Thompson","FINC-442-0",72,36,9.3000000000000007,9.1999999999999993,8.6,8.4,8.4,8.3000000000000007,8.3000000000000007,9.1,9,7.3,7.8,6.2,8.6,9.3000000000000007]
["Summer 2006 ","Collins","FINC-445-0",71,24,9.3000000000000007,8.8000000000000007,8.8000000000000007,9,8.9,7.7,9.1,9.1,9.1,5.2,4.7,5.2,7.5,9.1999999999999993]
["Summer 2006 ","Collins","FINC-446-0",71,44,8.9,8.8000000000000007,8.6,9.1999999999999993,8.5,8.4,8.9,8.8000000000000007,8.9,4.8,4.5999999999999996,4.8,8,9.1999999999999993]
["Summer 2006 ","Soffer","FINC-463-0",71,36,7.6,7.8,7.8,8.5,8,7.5,7.8,7.3,7.4,6.4,6.6,5.5,7,8.9]
["Summer 2006 ","Radnor","INTL-913-0",71,6,6.5,8,6.8,8.5,7.6,8,6.6,6.3,7.2,4.3,5,4,7.8,9.1999999999999993]
["Summer 2006 ","Al-Najjar","MECN-430-0",72,43,8.8000000000000007,9.4,8.6999999999999993,8.5,8.8000000000000007,8.1999999999999993,7.5,8.8000000000000007,9.1999999999999993,5.9,5.3,5.5,7.2,8.8000000000000007]
["Summer 2006 ","Feldmann","MECN-430-0",71,37,8.4,8,8.3000000000000007,8.4,7.8,7.9,7.7,8,8.1,6.5,7.5,5.9,7.9,8.8000000000000007]
["Summer 2006 ","Feldmann","MECN-430-0",73,16,8,8.1,8.1,8.1999999999999993,7.3,7.7,7.6,7.6,7.8,6.4,6.5,6.1,8.1999999999999993,8.9]
["Summer 2006 ","Al-Najjar","MECN-438-B",61,16,9.1,9.1,8.6999999999999993,7.8,8.1999999999999993,8.1,8,8.6999999999999993,9.3000000000000007,6.2,5.9,6.5,7.8,9.3000000000000007]
["Summer 2006 ","Saraniti","MECN-441-0",71,52,8.9,9.6,8.8000000000000007,9.1999999999999993,8.6999999999999993,8.4,8.1999999999999993,8.6999999999999993,9.3000000000000007,5.6,5.9,5.5,8.4,9.1999999999999993]
["Summer 2006 ","Markovich","MGMT-431-0",61,54,6.9,7.1,7.2,7.5,6.5,7.9,7.6,6.8,6.4,5.0999999999999996,5.5,5.0999999999999996,7.6,8.9]
["Summer 2006 ","Markovich","MGMT-431-0",71,60,8.5,9.1,8.4,8.9,7.8,8.1,8.3000000000000007,8.5,8.6,5.4,6,5.0999999999999996,8.5,9.1]
["Summer 2006 ","Markovich","MGMT-431-0",81,32,7,7.2,6.9,7.5,6.5,7.3,7,6.6,6.4,5.7,6.2,5.0999999999999996,7.9,9]
["Summer 2006 ","Cool","MGMT-452-0",71,57,8.8000000000000007,8.8000000000000007,8.5,8.8000000000000007,8.5,8.3000000000000007,8.1,8.6,8.6999999999999993,6.4,6.4,6.1,7.5,8.6999999999999993]
["Summer 2006 ","Bakalis","MGMT-468-0",71,14,7.5,7,7.7,9,7.7,7.8,7.4,7.1,6.8,4.5,4,4.5999999999999996,6.4,8.6]
["Summer 2006 ","Shein","MGMT-934-0",71,33,9.4,9.3000000000000007,8.6999999999999993,9.4,9,8.6999999999999993,8.9,9.1,9.3000000000000007,5.8,5.9,5.5,8.1,9.4]
["Summer 2006 ","Zielinski","MKTG-430-0",71,55,7.6,8.3000000000000007,7.4,8,7.4,6.5,7.1,7.2,7.4,5.4,5.7,5.3,7.6,8.3000000000000007]
["Summer 2006 ","Maoz","MKTG-450-0",61,42,8.4,9.3000000000000007,8.8000000000000007,8.3000000000000007,8.8000000000000007,8,7.8,8.5,9.1,5.3,5,5,7.8,9]
["Summer 2006 ","Maoz","MKTG-450-0",71,49,7.6,8.1999999999999993,7.8,7.6,7.7,6.7,6.7,7.2,7.6,5.4,5.5,4.5999999999999996,7.8,8.4]
["Summer 2006 ","Calder","MKTG-458-0",71,38,6.1,5.6,6.2,7.7,7.3,6.8,6.2,6.1,6.2,4.3,4.2,4,7.5,8.1999999999999993]
["Summer 2006 ","Maoz","MKTG-465-0",71,45,8,8.6999999999999993,7.6,8.1,8.5,7.8,6.7,7.7,8.3000000000000007,4.7,4.7,4.3,8.3000000000000007,9.4]
["Summer 2006 ","Dewar","MORS-430-0",71,40,8.6999999999999993,9.4,8.4,9.1999999999999993,8.6999999999999993,8.4,8.6999999999999993,8.6999999999999993,9,4.9000000000000004,4.8,5,9.1,8.9]
["Summer 2006 ","Van Camp","MORS-450-0",71,21,8.9,9,8.9,8.4,7.9,8.9,8.4,8.9,9,5.4,5.0999999999999996,5.0999999999999996,8.1999999999999993,9.4]
["Summer 2006 ","Phillips","MORS-460-0",71,34,8.5,8.9,8.6,8.9,8.1999999999999993,8.1,7.8,8.5,8.5,5,5.7,5,8.3000000000000007,9.6999999999999993]
["Summer 2006 ","Phillips","MORS-460-0",81,35,7.9,9.1,8.8000000000000007,8.9,8.1,8.3000000000000007,7.2,8.1999999999999993,8.9,5,5.5,5.0999999999999996,8.5,9.1]
["Summer 2006 ","Crotty","MORS-470-0",74,25,6.9,6.2,5.4,6.4,5.7,5.7,5.8,6.3,4.5999999999999996,4.0999999999999996,4.2,4.4000000000000004,8.5,9]
["Summer 2006 ","Joseph","MORS-470-0",73,28,9.1,9.6,9.1,9.5,8.8000000000000007,8.6,7.7,9.1,9.6,5.3,5.5,5.3,8.9,9]
["Summer 2006 ","Lount","MORS-470-0",71,22,9.1,8.9,8.6999999999999993,8.3000000000000007,8.3000000000000007,8.1999999999999993,8.1,8.8000000000000007,8.8000000000000007,5,5.2,5.2,8.5,9.4]
["Summer 2006 ","Oldroyd","MORS-470-0",72,30,8.8000000000000007,9,8.6,9.3000000000000007,8.3000000000000007,8,8,8.8000000000000007,8.9,5.2,5.2,5.3,8.6,8.5]
["Summer 2006 ","Bassamboo","OPNS-430-0",71,39,7.1,7.7,8.3000000000000007,7.8,7.3,8,7.5,7.1,7.8,5.9,7,5.5,8.1,9.1999999999999993]
["Summer 2006 ","Bassamboo","OPNS-430-0",72,43,7.2,7.3,8,7.7,7.1,7.9,6.9,6.7,7.3,6.1,7.5,6,8.1,9.1]
["Summer 2006 ","Ata","OPNS-438-B",61,31,7.2,5.4,6.7,7.7,6.2,6.8,7.8,6.6,6,6.8,6.7,7.5,7.3,8.5]
["Summer 2006 ","Austen-Smith","SEEK-440-A",61,44,8.6999999999999993,9.3000000000000007,8.8000000000000007,8.9,8.1,7.8,8,8.8000000000000007,9.1999999999999993,5.2,5.3,5.3,6.9,8.8000000000000007]
["Summer 2006 ","Austen-Smith","SEEK-440-A",71,26,8.6999999999999993,9.3000000000000007,8.9,9.1,8.6999999999999993,7.7,7.6,8.6999999999999993,9.1999999999999993,5.6,5.9,5.7,7.5,9.1999999999999993]
["Summer 2006 ","Haider","SEEK-441-0",71,7,8.6999999999999993,9.1999999999999993,8.4,8.3000000000000007,8.9,8.6999999999999993,8.6,8.4,9.1,6.1,7,6.3,7.9,7.7]
["Summer 2006 ","Jeffery","TECH-914-0",71,10,9.5,9.5,9.4,9.5,9.1,9,9.4,9.4,9.1,6.4,6.6,5.0999999999999996,8.4,9.5]
["Spring 2006 ","Lansford","ACCT-430-0",71,21,8.6999999999999993,8.8000000000000007,8.4,8.6,8.3000000000000007,7.3,8,8.5,8.6,7.2,7.9,6.8,8.6,9.6]
["Spring 2006 ","Lansford","ACCT-430-0",72,19,8.3000000000000007,8.1999999999999993,8.3000000000000007,8.6,7.9,8.1999999999999993,8.5,8.1,8.1,7.6,8.5,7.5,8.6,9.5]
["Spring 2006 ","Cadman","ACCT-431-0",61,47,9,9.6,9,9.1999999999999993,9.1,8.8000000000000007,8.3000000000000007,9,9.4,5.5,5,5.2,9.3000000000000007,9.5]
["Spring 2006 ","Cadman","ACCT-431-0",71,14,9.1999999999999993,9.6999999999999993,9,9.5,8.9,8.9,8.4,9.1,9.3000000000000007,5.8,5.8,5.3,9.3000000000000007,9.5]
["Spring 2006 ","Revsine","ACCT-451-0",61,63,8.5,8.9,8.6999999999999993,8.6,8.9,8.3000000000000007,8.6,8.6,8.8000000000000007,6.4,5.5,5.7,7.2,8.6]
["Spring 2006 ","Sunder","ACCT-451-0",62,15,8.8000000000000007,9.1,8.8000000000000007,9.1,8.6999999999999993,9,8.8000000000000007,8.5,8.8000000000000007,6.1,5.8,5.2,9.5,9.1999999999999993]
["Spring 2006 ","Sunder","ACCT-451-0",63,18,8.5,8.6999999999999993,8,8.9,8.6,8.6,8.3000000000000007,8.4,8.5,6.5,5.8,6.4,8.6,9.1999999999999993]
["Spring 2006 ","Sunder","ACCT-451-0",71,21,8.9,9.1,8.9,8.8000000000000007,9,8.8000000000000007,8.6999999999999993,8.6999999999999993,9.1,6.8,7,6.4,8.6999999999999993,9.4]
["Spring 2006 ","Balachandran/Sullivan","ACCT-454-0",91,31,7.3,7.4,7.3,7.7,7,7.6,5.3,7.2,7.3,6.2,7.5,5.3,8.9,7.5]
["Spring 2006 ","Calkins","BIOT-914-0",61,55,8.6999999999999993,9.6,8.6999999999999993,9.4,8.6999999999999993,8.5,8.5,8.6999999999999993,9.3000000000000007,4.4000000000000004,4.5,4.5,8.5,9.1999999999999993]
["Spring 2006 ","Presser","BLAW-435-0",81,47,9.1999999999999993,9.9,9.1,9.1999999999999993,9.3000000000000007,8.3000000000000007,9,9.4,9.6999999999999993,5.2,5.2,5.3,6.8,8.6]
["Spring 2006 ","Bradley","BLAW-921-0",71,17,7.4,6.6,7,7.8,7.6,6,6.7,6.7,6.3,4.2,3.7,4.9000000000000004,6.6,8.4]
["Spring 2006 ","McKeon","DECS-433-0",72,46,9.5,9.8000000000000007,9.8000000000000007,9.1999999999999993,9.4,9.5,9.4,9.6,9.9,6,5.6,5.3,8.5,9.6]
["Spring 2006 ","Schummer","DECS-433-0",71,25,8.8000000000000007,9.3000000000000007,9.4,9.1,9,9.1999999999999993,9.1999999999999993,9.1,9.4,5.8,5.4,5.3,8.1,9]
["Spring 2006 ","Schummer","DECS-433-0",73,37,8.6,9.4,9.3000000000000007,9.1999999999999993,8.6,8.9,8.8000000000000007,9.1,9.5,6,5.7,5.4,8.4,9]
["Spring 2006 ","Su","DECS-434-0",72,30,7.6,7.8,7.5,8.4,7.4,7.6,7.9,7.3,7.7,6,6.9,5.5,9,9.1]
["Spring 2006 ","Weinstein","DECS-434-0",71,37,7,6,7.4,7.2,6.6,7.2,8,6.9,6.6,6,6.8,5.4,7.7,9]
["Spring 2006 ","Weber","DECS-452-0",61,50,9.1999999999999993,9.3000000000000007,8.6999999999999993,8.4,9.1,8.1,8.9,8.9,9.3000000000000007,6.2,4.9000000000000004,5,8.5,9]
["Spring 2006 ","Weber","DECS-452-0",71,44,9.1,9.1999999999999993,8.6,7.5,9,7.3,8.1,8.6999999999999993,9.1,6.4,5.4,5.0999999999999996,8.1,9.3000000000000007]
["Spring 2006 ","Merkin","ENTR-462-0",71,38,8.3000000000000007,8.3000000000000007,7,8.1999999999999993,8,7.4,6.8,7.7,7.7,6.7,7.3,5.7,5.9,8]
["Spring 2006 ","Shein","ENTR-462-0",91,35,7.9,7.2,7,8.5,7.6,7.1,6.4,7.4,7.5,5.9,7,5.0999999999999996,7.8,8.3000000000000007]
["Spring 2006 ","Shefsky","ENTR-463-0",81,49,7.3,6.5,7.2,8,7.6,7.4,6.9,6.8,6.8,4.3,4.0999999999999996,4.5,8,8.4]
["Spring 2006 ","Jacobs","ENTR-901-A",61,37,7.8,7.5,7.3,7.8,8,6.7,6.4,7.7,7.6,5,4.5,4.9000000000000004,6.5,7.8]
["Spring 2006 ","Mayberry McKissack","ENTR-902-A",81,23,7.2,7.8,7.8,9.1,7.6,7.9,7.5,7,7.6,4,4.2,4,6.9,7.6]
["Spring 2006 ","Wolcott","ENTR-903-B",81,20,8.9,9.1999999999999993,8.6,9.1999999999999993,8.6999999999999993,8.5,8.3000000000000007,8.6999999999999993,9.1,5.7,6.3,6.5,8.4,8.4]
["Spring 2006 ","Sutter, Jr.","ENTR-926-0",81,23,8.6,8.8000000000000007,8.3000000000000007,9.1999999999999993,8.8000000000000007,7.9,8.1999999999999993,8.4,8.6999999999999993,5.3,5.6,5.0999999999999996,7.1,9]
["Spring 2006 ","Rampini","FINC-430-0",61,37,7.9,8.8000000000000007,8.3000000000000007,7.7,8,7.9,7,7.7,8.4,7,6.4,6.3,7.5,8.9]
["Spring 2006 ","Rampini","FINC-430-0",71,51,8.5,8.6,8.1999999999999993,7.6,8.1,7.7,7.2,7.8,8.4,7.2,6.8,7,8,9.3000000000000007]
["Spring 2006 ","Rampini","FINC-430-0",72,52,8,8.6,8.4,7.7,7.8,7.6,7.1,7.7,8.1999999999999993,7.2,6.6,6.5,7.4,9]
["Spring 2006 ","Polk","FINC-441-0",61,36,8.3000000000000007,8.1,7.8,8.5,8.3000000000000007,8,7.9,7.8,7.8,6.6,5.3,5.7,7.2,8]
["Spring 2006 ","Polk","FINC-441-0",62,33,8,7.8,7.5,8.3000000000000007,8.1999999999999993,7.6,7,7.4,7.5,6.8,5.7,5.7,7.3,8.3000000000000007]
["Spring 2006 ","Polk","FINC-441-0",91,7,8.1,7.4,7.2,8.6999999999999993,8.1999999999999993,7.8,7.2,7.7,7.4,7.6,6.3,7.1,7,8.4]
["Spring 2006 ","Sapienza","FINC-441-0",71,36,8,7.8,7.8,7.4,7.8,8.1,7.4,7.4,7.5,7.2,6.5,6.2,8.3000000000000007,9.5]
["Spring 2006 ","Sapienza","FINC-441-0",72,20,8.1999999999999993,7.6,7.9,7.2,7.8,7.9,7.3,7.4,7.8,7,6.3,6.4,7.8,9.4]
["Spring 2006 ","Dinc","FINC-442-0",61,40,9.3000000000000007,8.1999999999999993,7.8,8.5,7.3,6.9,8.1,8.6,7.8,8,8.5,6.3,6.7,8.3000000000000007]
["Spring 2006 ","Dinc","FINC-442-0",62,32,9.6999999999999993,9.5,8.9,9.6,8.4,8.3000000000000007,8.8000000000000007,9.5,9.4,8.1,8.6,6.7,7.9,8.6999999999999993]
["Spring 2006 ","Dinc","FINC-442-0",63,9,8.6999999999999993,8.5,7.6,8.6999999999999993,7.5,7,8.1,8.3000000000000007,8.3000000000000007,7.9,8.4,7.8,6.1,7.5]
["Spring 2006 ","Liberti","FINC-442-0",64,40,9.6999999999999993,9.9,9.1,9.5,9.1,9.1999999999999993,9.4,9.5,9.8000000000000007,8.6999999999999993,9.1,7.8,9.5,9.4]
["Spring 2006 ","Collins","FINC-445-0",61,36,8.3000000000000007,7.9,8,8.6,8.4,6.4,7.8,7.9,8,4.7,4.3,4.5999999999999996,6.3,7.9]
["Spring 2006 ","Collins","FINC-446-0",62,22,8.5,7.7,7.9,8.6,7.8,7.2,7.9,8.1,7.7,4.7,4.3,4.7,6.7,8.9]
["Spring 2006 ","Rogers","FINC-446-0",61,92,9.5,9.8000000000000007,9,9,8.6999999999999993,8.1,9.1,9.4,9.6,5.6,5.4,5.2,6.5,8.6]
["Spring 2006 ","Rogers","FINC-446-0",71,69,9.8000000000000007,9.9,9.4,9.5,9.1999999999999993,8.8000000000000007,9.6999999999999993,9.8000000000000007,9.9,5.8,5.7,5.3,7.2,8.9]
["Spring 2006 ","Thompson","FINC-448-0",61,44,8.6,8.1999999999999993,7.7,8.8000000000000007,8.3000000000000007,8.1,8.6,8.3000000000000007,8.4,5.8,5.8,5.6,7.6,8.6]
["Spring 2006 ","Krishnamurthy","FINC-451-0",81,33,8.1,7.1,8,8,8.4,7.7,7.9,8,7.8,5.9,5.5,5.4,7.3,8.1]
["Spring 2006 ","Jagannathan","FINC-460-0",61,14,7.8,6.6,6.7,6.9,7.3,7.4,7.4,7.1,7,6.7,6.3,5.9,7.6,8.6]
["Spring 2006 ","Jagannathan","FINC-460-0",71,31,7.6,6.5,6.2,6,6.7,7.5,7.3,6.5,6,6.6,6.6,6,8.3000000000000007,8.8000000000000007]
["Spring 2006 ","Stowell","FINC-461-0",81,34,8.6999999999999993,9.1,8.6,9.5,9.1999999999999993,8.1999999999999993,8.1999999999999993,8.6999999999999993,9,4.5999999999999996,4.7,4.9000000000000004,8.6,9.1]
["Spring 2006 ","Vincent","FINC-463-0",61,43,8.8000000000000007,9.1,8.6999999999999993,9.1999999999999993,9.1,8.5,8.3000000000000007,8.8000000000000007,9.1,6.4,6.5,6.1,7.9,8.9]
["Spring 2006 ","Vincent","FINC-463-0",62,35,8.8000000000000007,9.3000000000000007,8.9,9.5,9.3000000000000007,8.4,8.4,8.8000000000000007,9.1999999999999993,6.7,6.6,6.1,7.8,9.1]
["Spring 2006 ","Lucas","FINC-464-0",61,25,8.9,8.6999999999999993,8.6999999999999993,8.6999999999999993,8.8000000000000007,8.8000000000000007,8,8.8000000000000007,8.9,7.2,6.1,6,7.9,8.6]
["Spring 2006 ","Lucas","FINC-464-0",71,25,8.3000000000000007,8.8000000000000007,8.5,9,8.6,8.3000000000000007,7.8,8.3000000000000007,8.6999999999999993,7.4,6.7,6.5,8.6999999999999993,9.4]
["Spring 2006 ","Furfine","FINC-465-0",91,51,9,8.6999999999999993,9,8.3000000000000007,8.8000000000000007,8.8000000000000007,8.8000000000000007,8.8000000000000007,8.8000000000000007,6.9,6.5,6,7.1,8.6999999999999993]
["Spring 2006 ","McDonald","FINC-467-0",81,17,9.3000000000000007,8.9,8.8000000000000007,8.9,9.3000000000000007,8.1999999999999993,8.6999999999999993,8.6,9.1,9.1,8,7.8,8.6,9.4]
["Spring 2006 ","Jagannathan","FINC-925-0",81,37,6.6,4.7,4.2,6.6,6.5,6.4,6.6,5.7,4.2,5.3,6,4.8,6.6,7.6]
["Spring 2006 ","Sandor","FINC-930-B",81,8,9.1999999999999993,9.6,8.4,8.6,9.1999999999999993,5.0999999999999996,8.5,9.3000000000000007,9.3000000000000007,6.1,6.3,5.8,4.4000000000000004,5.0999999999999996]
["Spring 2006 ","Stowell","FINC-931-0",81,52,8.8000000000000007,8.9,8.6999999999999993,9.4,9.1,8.5,8.6,8.6999999999999993,9,4.7,4.7,4.7,9.1,9]
["Spring 2006 ","Zajac","HIMT-452-B",81,18,8.5,9.1999999999999993,8.6,8.8000000000000007,8.8000000000000007,7.9,7.2,8.5,8.9,5.0999999999999996,5.0999999999999996,5.0999999999999996,7.4,8.4]
["Spring 2006 ","Hughes","HIMT-913-A",81,31,8.6999999999999993,9.6,7.8,9.3000000000000007,9.1,7.8,7.5,8.5,9,5.0999999999999996,5.4,5.4,6.6,9.1]
["Spring 2006 ","Salvo","INTL-460-0",61,35,6.7,7.1,7.6,8.1999999999999993,7.4,8,7.3,6.5,6.5,5.2,5.7,4.9000000000000004,7.4,9.1999999999999993]
["Spring 2006 ","Jones","INTL-466-0",81,56,9,8.6999999999999993,9.1999999999999993,8.9,9,7.9,9,8.8000000000000007,8.9,5.3,5.2,5.0999999999999996,8,9.1999999999999993]
["Spring 2006 ","Corse","INTL-467-0",91,43,6.6,7.2,6.1,8.5,6.8,7.2,7,6.3,6.4,4.7,5.3,4.2,7.4,8.8000000000000007]
["Spring 2006 ","Andersen","INTL-470-0",61,31,7.8,7.7,7.6,8,8.6999999999999993,8.8000000000000007,7.9,7.8,7.8,5.9,5.6,5.2,8.3000000000000007,9.1999999999999993]
["Spring 2006 ","Andersen","INTL-470-0",62,39,7.4,7.5,6.6,7.8,8.6,8.5,7.5,7.2,7.2,5.6,5.3,4.9000000000000004,8.3000000000000007,8.8000000000000007]
["Spring 2006 ","Andersen","INTL-470-0",71,47,7.9,7.8,6.8,7.1,8.1,8.1999999999999993,7.8,7.4,7.2,5.8,5.7,5.5,7.5,8.6999999999999993]
["Spring 2006 ","Zhong","INTL-474-0",81,32,8.6999999999999993,8.5,8.6999999999999993,8.8000000000000007,8.3000000000000007,7.9,8.1999999999999993,8.4,8.3000000000000007,4.8,4.9000000000000004,4.9000000000000004,8.1,9]
["Spring 2006 ","Feldmann","MECN-430-0",62,16,7.3,6.8,7.6,8.1999999999999993,7.6,6,6.6,7.1,6.9,6.2,6,5.4,6.3,8.6]
["Spring 2006 ","Feldmann","MECN-430-0",63,33,7.9,7.9,8.4,8.5,7.6,7.4,7.9,7.7,7.9,6.7,6.7,6,7.1,8.8000000000000007]
["Spring 2006 ","Galambos","MECN-430-0",61,28,7.4,6.8,7.5,8.5,7.7,6.3,7,6.7,6.9,6.5,6.3,5.7,7.5,8.3000000000000007]
["Spring 2006 ","Galambos","MECN-430-0",71,23,7.6,7.2,7.3,8.3000000000000007,7.7,6.8,6.8,7.1,6.9,6.5,6.9,6,7.7,9.4]
["Spring 2006 ","Galambos","MECN-430-0",72,20,8.4,7.7,8.3000000000000007,8.6999999999999993,8,8,7.6,8,8.1,6.2,6.2,5.6,8.6999999999999993,9.6]
["Spring 2006 ","Baliga","MECN-441-0",61,51,8.6,8.5,8.8000000000000007,8.6999999999999993,8,8.1999999999999993,8.4,8.6,8.6,5.7,5.5,5,7.8,8.8000000000000007]
["Spring 2006 ","Baliga","MECN-441-0",62,50,8.6,7.8,8.5,8.5,7.9,7.9,8,8.3000000000000007,8.1,5.8,5.6,4.9000000000000004,7.2,8.4]
["Spring 2006 ","Baliga","MECN-441-0",71,28,8.4,8.6999999999999993,8.6,8.6999999999999993,7.7,7.9,7.9,8.1999999999999993,8.5,6.1,6.1,5.4,7.1,8.6999999999999993]
["Spring 2006 ","Kamien","MECN-450-0",61,17,6.7,6,5.0999999999999996,6.4,6.9,6.4,6.8,5.5,5.3,4.0999999999999996,4,4.3,5.0999999999999996,7]
["Spring 2006 ","Kamien","MECN-450-0",71,18,6.9,7.7,5.8,7.2,7.7,6.2,6.6,6.6,6.9,4.9000000000000004,5.2,4.8,7.5,7.9]
["Spring 2006 ","Calder","MEDM-431-0",81,21,7.2,6,7,8.4,7.4,7.3,7.4,6.8,6.5,4.8,4.7,4.5,7.1,9.1]
["Spring 2006 ","Watanabe","MGMT-431-0",71,30,8.6,8.6999999999999993,7.9,9.1,7.8,7.6,7.9,8.1,8,5.5,5.9,5.0999999999999996,8.9,9.3000000000000007]
["Spring 2006 ","Watanabe","MGMT-431-0",72,48,7.5,7.7,7.4,8.6,6.5,7.6,7.2,7.1,6.8,5.5,6.4,5.4,8.5,9.1999999999999993]
["Spring 2006 ","Alonso","MGMT-452-0",71,29,5.3,5.4,5.3,6.1,5.3,5.0999999999999996,5.0999999999999996,4.8,4.7,5.9,6.1,5.0999999999999996,5.7,8.3000000000000007]
["Spring 2006 ","Frank","MGMT-452-0",81,34,6.5,6.6,7.1,7.3,7,7.2,6.9,6.2,6.4,5.2,5,4.4000000000000004,6.3,8.8000000000000007]
["Spring 2006 ","Matouschek","MGMT-452-0",61,54,9,9.6,9.4,9.3000000000000007,8.9,8.8000000000000007,8.9,9.1999999999999993,9.6999999999999993,5.5,5.4,5.2,8.6999999999999993,9.1999999999999993]
["Spring 2006 ","Matouschek","MGMT-452-0",62,44,9.1999999999999993,9.6,9.5,9.5,8.9,8.9,9,9.3000000000000007,9.6999999999999993,5.4,5.3,5.2,8.8000000000000007,9.1999999999999993]
["Spring 2006 ","Greenstein","MGMT-463-0",81,28,8.1999999999999993,8.6999999999999993,8,9.1999999999999993,8.9,7.9,7.9,7.9,8.1999999999999993,6.3,6.9,5.6,8,9.1999999999999993]
["Spring 2006 ","Buck","MGMT-468-0",91,49,8.8000000000000007,8.9,8.9,9.6,8.6999999999999993,8.6,8.6,8.6999999999999993,8.9,4.9000000000000004,5.4,4.7,8.1,8.3000000000000007]
["Spring 2006 ","Kraemer","MGMT-468-0",71,51,8.8000000000000007,9.3000000000000007,8.6999999999999993,9.4,8.4,8.1999999999999993,8.6,9,9.3000000000000007,4.4000000000000004,4.3,4.9000000000000004,8.8000000000000007,9]
["Spring 2006 ","Dranove","MGMT-469-0",61,40,8.9,8.6,8.1999999999999993,8.1,8.5,8.3000000000000007,8.1999999999999993,8.4,8.1999999999999993,7.5,7.6,5.6,9.3000000000000007,8.9]
["Spring 2006 ","Dranove","MGMT-469-0",62,44,8.4,8.6999999999999993,8.1,8.4,8.4,8.1,7.9,8,8.1,7.8,7.8,6.6,9.6,9.1]
["Spring 2006 ","Ramanarayanan","MGMT-469-0",71,39,7.9,8,8,7.9,7.8,8.6,8.1,7.7,7.9,6.1,6.4,5.5,9.6999999999999993,9.4]
["Spring 2006 ","McGuire","MGMT-932-0",61,11,7.9,7.7,8.1999999999999993,8.8000000000000007,8.6999999999999993,8.4,7.8,7.8,8.3000000000000007,5.4,6.1,5,6.9,8]
["Spring 2006 ","Skinner","MGMT-933-0",81,20,9.3000000000000007,9.1,8.6,9.1999999999999993,8.8000000000000007,9,9.6999999999999993,9.4,9.3000000000000007,5.7,7.4,5.2,6.4,9.1]
["Spring 2006 ","Shein","MGMT-934-0",91,38,8.6999999999999993,8,7.3,8.6,8.4,6.8,8.3000000000000007,8.4,8.1,5.7,6.4,5.5,6.4,7.5]
["Spring 2006 ","Gellman","MGMT-941-0",81,13,8.8000000000000007,8.6,8.1999999999999993,9.4,8.9,8.1999999999999993,8.5,9,9,5.0999999999999996,5.0999999999999996,5.2,7.8,8.8000000000000007]
["Spring 2006 ","Agrawal","MKTG-430-0",72,15,7.8,8.5,7.9,9.1,7.6,8.6,7.9,8.1,8.5,5,5.2,5.0999999999999996,8,8.8000000000000007]
["Spring 2006 ","Stearns","MKTG-430-0",81,46,7.9,8.6999999999999993,7.3,7.6,7.7,7.4,7.3,7.7,7.7,6.2,6.9,6.2,7,8.9]
["Spring 2006 ","Voorn","MKTG-430-0",71,52,8.6999999999999993,8.6999999999999993,8.5,8.6,8.1,8.8000000000000007,8.3000000000000007,8.6999999999999993,8.6,5.5,6.9,5.6,8.1,9.3000000000000007]
["Spring 2006 ","Hansen","MKTG-450-0",63,43,7.8,8.6,8.6999999999999993,8.4,8.3000000000000007,8.6999999999999993,7.5,7.9,8.6,5.0999999999999996,5.7,4.5,8.8000000000000007,8.6]
["Spring 2006 ","Hansen","MKTG-450-0",64,39,8,8.6999999999999993,8.8000000000000007,8.6,8.6999999999999993,9,7.6,7.9,8.6999999999999993,5.0999999999999996,5.9,4.5999999999999996,9.3000000000000007,9.3000000000000007]
["Spring 2006 ","Lee","MKTG-450-0",61,50,7.5,8.5,7.8,8.6999999999999993,8.3000000000000007,8.1,7.3,7.6,7.8,6.6,7.7,6,9.1,8.8000000000000007]
["Spring 2006 ","Lee","MKTG-450-0",62,12,8,9,7.9,8.6,8.1,8.9,8.1,8.6,9,5.8,6.7,6,8.9,9.4]
["Spring 2006 ","Lee","MKTG-450-0",71,20,7.9,8.5,8.1,8.5,7.6,8.1,7.1,7.6,8.1999999999999993,5.8,6.4,5.2,8.6999999999999993,9.5]
["Spring 2006 ","Schieffer","MKTG-450-0",65,46,7.8,8.1999999999999993,8.1999999999999993,8.6999999999999993,8.3000000000000007,8.1,8,7.6,7.7,5.8,7,5.6,8.3000000000000007,8.4]
["Spring 2006 ","Schieffer","MKTG-450-0",72,46,7.7,8.3000000000000007,8.3000000000000007,8.9,8,8.1,8.1,7.9,8.1999999999999993,4.5999999999999996,4.7,4.9000000000000004,8.3000000000000007,9.1]
["Spring 2006 ","Anderson","MKTG-451-0",61,40,8.6,9,9,8.5,8.1,8.9,8.4,8.6,8.8000000000000007,5.3,5.3,4.9000000000000004,7.6,9.1]
["Spring 2006 ","Anderson","MKTG-451-0",62,46,8.5,8.8000000000000007,8.8000000000000007,8.5,8,8.9,8.5,8.5,8.6,5.4,5.4,4.9000000000000004,7.4,9]
["Spring 2006 ","Anderson","MKTG-451-0",71,36,9.1999999999999993,9.4,9.1999999999999993,9,8.5,9,8.5,9.1,9.4,5.7,5.8,5.6,7.9,9.4]
["Spring 2006 ","Pearlman","MKTG-454-0",61,51,8.3000000000000007,9,8.6999999999999993,9.6,8.6999999999999993,9.1,8.1,8.6,9,4.8,5.0999999999999996,5,8.6,9]
["Spring 2006 ","Rucker","MKTG-454-0",71,37,9.1,9.8000000000000007,9.5,9.6,8.8000000000000007,9.5,8.5,9.1999999999999993,9.6999999999999993,5,5,5.0999999999999996,9.1999999999999993,9.5]
["Spring 2006 ","Conley","MKTG-465-0",81,32,7.9,8.1,8,8.8000000000000007,8.1999999999999993,8.1,7.8,7.8,8,5.0999999999999996,5.2,4.9000000000000004,7.1,8.4]
["Spring 2006 ","Razeghi","MKTG-465-0",61,46,9,9.5,8.8000000000000007,9.6,9,8.1999999999999993,8.6,9,9.3000000000000007,5,5.3,5,8.5,9.1]
["Spring 2006 ","Calkins","MKTG-466-0",61,60,9.1999999999999993,9.6999999999999993,9.3000000000000007,9.3000000000000007,8.6999999999999993,9,8.8000000000000007,9.3000000000000007,9.6,5.5,6.5,5.3,8.8000000000000007,8.8000000000000007]
["Spring 2006 ","Calkins","MKTG-466-0",62,56,9.4,9.9,9.6999999999999993,9.6999999999999993,9.1999999999999993,9.3000000000000007,9.1999999999999993,9.6,9.9,5.5,6.4,5.2,9.1,8.9]
["Spring 2006 ","Hennessy","MKTG-466-0",63,53,9.4,9.8000000000000007,9.4,9.1,8.8000000000000007,9.3000000000000007,9,9.4,9.6999999999999993,5.5,6.5,5.2,9,8.8000000000000007]
["Spring 2006 ","Hennessy","MKTG-466-0",64,52,9.3000000000000007,9.8000000000000007,9.4,9.1999999999999993,9.1,9.3000000000000007,8.9,9.5,9.6999999999999993,5.7,6.6,5.2,9.1,8.8000000000000007]
["Spring 2006 ","Krishnamurthi","MKTG-466-0",71,36,8.8000000000000007,9.1999999999999993,9,8.5,8.6999999999999993,8.9,8.3000000000000007,9,9.1999999999999993,6.2,8.1999999999999993,5.8,9,9.4]
["Spring 2006 ","Sawhney","MKTG-468-0",61,36,9.3000000000000007,9.3000000000000007,9,9,8.8000000000000007,8,8.4,9.1,9.3000000000000007,7.2,8.5,6.3,7,8.6999999999999993]
["Spring 2006 ","Sawhney","MKTG-468-0",62,55,8.9,9.1,9,8.6999999999999993,8.6999999999999993,7.7,8,8.9,9,7.2,8.6,6.2,6,8.6]
["Spring 2006 ","Duparcq","MKTG-913-0",81,28,7.1,7.9,7.7,7.6,7.5,6.6,7.2,6.7,7.4,5.2,5.6,4.9000000000000004,8.1999999999999993,8.6999999999999993]
["Spring 2006 ","Calder","MKTG-922-0",81,12,7.6,7.1,7,9.3000000000000007,7.5,8.1,7.3,7.3,7.9,5.0999999999999996,4.8,4.4000000000000004,8,7.5]
["Spring 2006 ","Jain","MKTG-950-C",91,36,9.5,9.6999999999999993,9.3000000000000007,8.5,9.1999999999999993,8.9,8.4,9.3000000000000007,9.6,4.5,4.5999999999999996,4.9000000000000004,6.6,9.1999999999999993]
["Spring 2006 ","Dacin","MORS-430-0",72,43,9,9.6,8.9,9.4,8.8000000000000007,8.9,8.5,9,9.3000000000000007,5.2,6.1,5.6,8.4,9.3000000000000007]
["Spring 2006 ","Oldroyd","MORS-430-0",71,39,8.4,8.8000000000000007,8.3000000000000007,9.3000000000000007,8.6,8.6,7.9,8.6,8.9,5.5,6,5.6,9.1,9.6999999999999993]
["Spring 2006 ","Shwom","MORS-449-A",81,14,8.1999999999999993,8.4,8.5,9.3000000000000007,8.1,8.1999999999999993,8.5,8.4,8.5,4.9000000000000004,5.4,4.8,8.3000000000000007,8.1999999999999993]
["Spring 2006 ","Van Camp","MORS-450-0",71,37,8.8000000000000007,9.3000000000000007,8.9,8.6,8.1999999999999993,8.4,8.3000000000000007,8.8000000000000007,9.1,5.8,5.9,5.0999999999999996,8.5,9.3000000000000007]
["Spring 2006 ","Van Camp","MORS-450-0",91,4,8.5,8.5,8.6,8.6,8.8000000000000007,8.1,8.8000000000000007,8.8000000000000007,8.8000000000000007,6.5,7.8,6.5,8.5,8.8000000000000007]
["Spring 2006 ","Dewar","MORS-451-0",81,27,8.6999999999999993,9,7.7,8.6,8.6999999999999993,8.8000000000000007,8.3000000000000007,8.4,8.6,5.3,5,5.0999999999999996,9.4,9.1]
["Spring 2006 ","Stern","MORS-452-0",61,25,8.5,8.1999999999999993,8.4,9.1999999999999993,7.8,7.8,8.6,8.1999999999999993,8,5.0999999999999996,5.8,4.8,7.5,8.1999999999999993]
["Spring 2006 ","Stern","MORS-452-0",62,9,8.1999999999999993,8.6999999999999993,8.8000000000000007,9,8.3000000000000007,8.6,8.4,8.3000000000000007,8.1999999999999993,4.9000000000000004,5.8,4.8,6.2,7.3]
["Spring 2006 ","Ocasio","MORS-453-0",91,41,8.4,7.5,7.9,8.8000000000000007,7.4,8.6,8.3000000000000007,8,7.5,5.3,6,4.8,7.2,8.8000000000000007]
["Spring 2006 ","Zajac","MORS-454-A",81,37,8.1,9.1,8.5,9,8.5,7.4,7.9,8.1999999999999993,8.6,4.5999999999999996,4.7,5,6.8,8.4]
["Spring 2006 ","Lee","MORS-460-0",81,45,7.7,9.3000000000000007,7.9,8.9,8.5,7.6,7.8,8.1,8,4.9000000000000004,5.3,4.9000000000000004,8.6,9]
["Spring 2006 ","Maddux","MORS-470-0",91,35,9.1,9.5,9.1,9.4,8.8000000000000007,8.4,7.8,9.1999999999999993,9.3000000000000007,5,5.0999999999999996,5,7.7,8.6999999999999993]
["Spring 2006 ","Mullen","MORS-470-0",63,35,8.9,8.6999999999999993,9.1,9.5,8.6,8.6999999999999993,7.9,8.9,8.8000000000000007,4.8,4.7,4.8,8.3000000000000007,8.4]
["Spring 2006 ","Mullen","MORS-470-0",64,29,8.6,8.8000000000000007,9,9.6,8.4,8,7.8,8.6,8.6,5,5.0999999999999996,4.9000000000000004,8.4,8.6]
["Spring 2006 ","Thompson","MORS-470-0",61,32,8.3000000000000007,8.1999999999999993,8.1999999999999993,8,7.8,7.4,6.8,7.9,7.5,5.0999999999999996,5.5,4.8,6.2,7.9]
["Spring 2006 ","Thompson","MORS-470-0",62,27,9,8.9,8.9,8.6999999999999993,8.5,8.5,8,9,8.6999999999999993,6,6,5.4,6.2,8.6999999999999993]
["Spring 2006 ","Wang","MORS-470-0",71,29,8.6,8.5,8.3000000000000007,8.8000000000000007,7.6,8.1,7.9,8.4,8,5.2,5.3,5.0999999999999996,7.6,8.6]
["Spring 2006 ","Ata","OPNS-430-0",65,38,7.3,6.3,7.5,8.1,6.8,8.1999999999999993,7.8,7.1,6.7,5.9,6.3,5.5,7.6,8.6999999999999993]
["Spring 2006 ","Ata","OPNS-430-0",66,53,7.5,6.9,7.7,8.3000000000000007,7,7.6,7.6,7.2,7.1,6,6.4,5.6,7,8.6999999999999993]
["Spring 2006 ","Chopra","OPNS-430-0",61,55,8.6,9.3000000000000007,9.4,8.8000000000000007,8.4,8.1,8.5,8.6,9.3000000000000007,6.3,6.7,5.5,7.6,9.1]
["Spring 2006 ","Chopra","OPNS-430-0",62,61,8.9,9.4,9.1999999999999993,9,8.5,8.3000000000000007,8.4,8.6999999999999993,9.1999999999999993,6.5,6.7,5.7,7.5,9.4]
["Spring 2006 ","Lin","OPNS-430-0",71,44,6.4,6.9,6.4,7.1,6.1,7,6.7,6.1,5.9,5.8,6.7,6,8.8000000000000007,9]
["Spring 2006 ","Lin","OPNS-430-0",72,31,7.1,7.3,6.9,7.9,6.8,7.7,7.6,6.8,6.7,5.6,6.1,5.7,8.3000000000000007,8.6]
["Spring 2006 ","Savaskan-Ebert","OPNS-430-0",67,33,6.2,6.2,6.6,7.3,6.3,7.3,6.7,6.1,6,5.9,6.4,5.4,7.1,8.3000000000000007]
["Spring 2006 ","Savaskan-Ebert","OPNS-430-0",68,21,6.3,7,7.4,8.5,7.1,7.5,7.3,6.6,6.8,5.7,6.3,5.3,8.1,8.6999999999999993]
["Spring 2006 ","Van Mieghem","OPNS-430-0",63,60,8.5,8.9,8.8000000000000007,8.6999999999999993,8.1999999999999993,8,8.1999999999999993,8.3000000000000007,8.9,6.6,7.1,5.7,7.7,8.5]
["Spring 2006 ","Van Mieghem","OPNS-430-0",64,59,8.4,8.8000000000000007,8.9,8.6999999999999993,8.4,8.3000000000000007,8.1,8.3000000000000007,9.1,6.1,6.8,5.4,8,9]
["Spring 2006 ","Deshmukh","OPNS-450-0",61,53,8.3000000000000007,8.1999999999999993,8.6999999999999993,7.7,8,8,7.8,8.1999999999999993,8.4,5.2,5.6,4.7,8,9.1]
["Spring 2006 ","Deshmukh","OPNS-450-0",62,46,8.1,8.1999999999999993,8.6999999999999993,8.1,7.7,7.8,7.7,8,8.4,5.9,6.5,5.5,7.4,8.4]
["Spring 2006 ","Lariviere","OPNS-912-0",81,15,7.7,7.5,8,8.5,7.4,8.3000000000000007,8.4,7.4,7.6,6.3,6.3,5.4,7.8,8.6999999999999993]
["Spring 2006 ","De Reyck","OPNS-917-0",81,39,9.6,9.6999999999999993,9.4,9.3000000000000007,9.4,9,8.9,9.6,9.8000000000000007,5.5,5.5,5.7,8.4,8.1999999999999993]
["Spring 2006 ","Guthman/Licata","REAL-447-0",71,11,8.9,8.5,8.3000000000000007,7.3,8.1,6,8.1999999999999993,8.6,8.3000000000000007,4.3,3.4,5.3,6.6,8.4]
["Spring 2006 ","Pagliari","REAL-464-0",81,33,8.6999999999999993,8.3000000000000007,8.5,8.6,9,8.1999999999999993,7.8,8.1999999999999993,8.6,6,5.5,5.4,8.1,8.8000000000000007]
["Spring 2006 ","Vincent","REAL-913-0",81,35,8,7.9,8.1,8.3000000000000007,8.1999999999999993,7.2,7.4,7.6,7.7,6.7,7,6.3,7.5,8.9]
["Spring 2006 ","Austen-Smith","SEEK-440-A",71,50,8.6,9.4,9.1999999999999993,9.4,9.1,8.1,7.2,8.6,9.4,5.2,5.4,5.8,7.8,9.1]
["Spring 2006 ","Haider","SEEK-441-0",61,14,7.7,7.9,6.9,7.9,8.1,6.9,7.8,7.1,7.2,5.0999999999999996,5.4,5.0999999999999996,7.6,9.1999999999999993]
["Spring 2006 ","Haider","SEEK-441-0",71,18,8.3000000000000007,8.6999999999999993,7.2,8.6,8.3000000000000007,7.5,8.1,8.1,8,5.6,5.8,5.6,7.3,8.6999999999999993]
["Spring 2006 ","Woodward","SEEK-452-B",81,19,7.7,8.1999999999999993,7.8,9,7.8,7.7,7.3,7.8,7.8,5,6.3,5.0999999999999996,6.2,8]
["Spring 2006 ","Bakalis","SEEK-454-0",81,25,8.6999999999999993,8.3000000000000007,8.1,9.4,8.6,8.4,8,8.6,8.5,4.7,4.7,4.5999999999999996,7,8.3000000000000007]
["Spring 2006 ","Feddersen","SEEK-460-0",81,8,8.5,8.5,8.3000000000000007,9.3000000000000007,8.5,7.8,8.1,8.1,8.4,5.4,6.9,5,9.1,9]
["Spring 2006 ","Besanko/McGuire","SEEK-470-0",81,31,8.1,7.9,8.3000000000000007,8.5,8,8.3000000000000007,7.6,7.6,7.9,5.2,7,5.0999999999999996,8.6999999999999993,9]
["Spring 2006 ","Donnelly","SEEK-955-0",91,13,9.6,9.8000000000000007,9.6,9.6999999999999993,9.5,9.5,9.3000000000000007,9.5,9.8000000000000007,5,5,4.9000000000000004,9,9.5]
["Spring 2006 ","Donnelly","SEEK-955-0",92,1,7.7,8,7.3,10,9,7,8,8,8,4,5,4,7,10]
["Spring 2006 ","Jeffery","TECH-922-0",61,16,7.5,8,7.8,8.5,7.6,8.1999999999999993,7.3,7.4,7.4,5.9,7.9,5.0999999999999996,7.6,8.6]
["Spring 2006 ","Jeffery","TECH-922-0",71,17,9.6,9.6999999999999993,9.5,9.6,9.4,9.4,9.3000000000000007,9.6999999999999993,9.6,6.6,7.1,5.9,8.5,9.1]