{"text_format":"1","workbook":"xlsx","n_sheets":2,"sheets":["Meldeliste","Zeiten"],"not_rendered":{"charts":0,"images":0,"macros":1,"external_links":0,"defined_names":1,"comments":0,"pivot_tables":0},"unopened":[],"bounds":{"document_bytes":16777216,"sheet_cells":100000,"rows_first":2000,"rows_last":500,"rows_between":2000,"halvings":0,"cell_chars":16384,"cell_head_chars":4096},"cells_cut":0,"cells_raw":0,"read":"whole","date_system":"1900"}

{"sheet":"Meldeliste","index":0,"n_rows":35,"n_cols":34,"rows_kept":35,"cut":false,"hidden":false,"merged":[[6,9,6,18],[4,0,4,2],[5,0,5,6],[1,10,4,10],[0,3,0,4],[0,5,0,8],[2,3,2,4],[1,3,1,4],[2,5,2,8],[1,5,1,8],[3,3,3,4],[3,5,3,8],[4,5,4,8],[5,9,5,18]]}
[null,null,null,null,null,"Club"]
[null,null,null,null,null,"date",null,null,null,"LOGO"]
[null,null,null,null,null,"Name"]
[null,null,null,null,null,"RO"]
[null,null,null,null,null,"J"]
[]
[]
["R.-ID","YSt","Grp","Prs.","Sg-Nr.","Schiffsname","MH","Vorname","Nachname","Email","Telefon","PLZ","HaftungOK","Ort","Strasse","Verein","DatenOK","Bootstyp","Überw-OK","AKZ","Meldedatum","€","LastUpdate","Bez.","Sondertarif","VS 1","VS 2","VS 3","VS 4","VS 5","VS 6","VS 7","VS 8","YSt_OK"]
[1,123,1,3,"ABC","Name",null,"PN","Name",null,null,null,null,null,null,"Abc",null,"Type",null,null,null,null,null,null,null,"Name4",null,null,null,null,null,null,null,88]
[1,88,1,2,"DEF","Aname",null,"CD","aName",null,null,null,null,null,null,"Def",null,"tYpe",null,null,null,null,null,null,null,"Name44",null,null,null,null,null,null,null,89]
[null,null,null,null,null,null,null,null,null,null,null,null,null,null,null,null,null,null,null,null,null,null,null,null,null,null,null,null,null,null,null,null,null,93]
[null,null,null,null,null,null,null,null,null,null,null,null,null,null,null,null,null,null,null,null,null,null,null,null,null,null,null,null,null,null,null,null,null,94]
[null,null,null,null,null,null,null,null,null,null,null,null,null,null,null,null,null,null,null,null,null,null,null,null,null,null,null,null,null,null,null,null,null,94]
[null,null,null,null,null,null,null,null,null,null,null,null,null,null,null,null,null,null,null,null,null,null,null,null,null,null,null,null,null,null,null,null,null,95]
[null,null,null,null,null,null,null,null,null,null,null,null,null,null,null,null,null,null,null,null,null,null,null,null,null,null,null,null,null,null,null,null,null,96]
[null,null,null,null,null,null,null,null,null,null,null,null,null,null,null,null,null,null,null,null,null,null,null,null,null,null,null,null,null,null,null,null,null,96]
[null,null,null,null,null,null,null,null,null,null,null,null,null,null,null,null,null,null,null,null,null,null,null,null,null,null,null,null,null,null,null,null,null,97]
[null,null,null,null,null,null,null,null,null,null,null,null,null,null,null,null,null,null,null,null,null,null,null,null,null,null,null,null,null,null,null,null,null,100]
[null,null,null,null,null,null,null,null,null,null,null,null,null,null,null,null,null,null,null,null,null,null,null,null,null,null,null,null,null,null,null,null,null,100]
[null,null,null,null,null,null,null,null,null,null,null,null,null,null,null,null,null,null,null,null,null,null,null,null,null,null,null,null,null,null,null,null,null,103]
[null,null,null,null,null,null,null,null,null,null,null,null,null,null,null,null,null,null,null,null,null,null,null,null,null,null,null,null,null,null,null,null,null,105]
[null,null,null,null,null,null,null,null,null,null,null,null,null,null,null,null,null,null,null,null,null,null,null,null,null,null,null,null,null,null,null,null,null,105]
[null,null,null,null,null,null,null,null,null,null,null,null,null,null,null,null,null,null,null,null,null,null,null,null,null,null,null,null,null,null,null,null,null,105]
[null,null,null,null,null,null,null,null,null,null,null,null,null,null,null,null,null,null,null,null,null,null,null,null,null,null,null,null,null,null,null,null,null,105]
[null,null,null,null,null,null,null,null,null,null,null,null,null,null,null,null,null,null,null,null,null,null,null,null,null,null,null,null,null,null,null,null,null,106]
[null,null,null,null,null,null,null,null,null,null,null,null,null,null,null,null,null,null,null,null,null,null,null,null,null,null,null,null,null,null,null,null,null,106]
[null,null,null,null,null,null,null,null,null,null,null,null,null,null,null,null,null,null,null,null,null,null,null,null,null,null,null,null,null,null,null,null,null,107]
[null,null,null,null,null,null,null,null,null,null,null,null,null,null,null,null,null,null,null,null,null,null,null,null,null,null,null,null,null,null,null,null,null,108]
[null,null,null,null,null,null,null,null,null,null,null,null,null,null,null,null,null,null,null,null,null,null,null,null,null,null,null,null,null,null,null,null,null,109]
[null,null,null,null,null,null,null,null,null,null,null,null,null,null,null,null,null,null,null,null,null,null,null,null,null,null,null,null,null,null,null,null,null,109]
[null,null,null,null,null,null,null,null,null,null,null,null,null,null,null,null,null,null,null,null,null,null,null,null,null,null,null,null,null,null,null,null,null,110]
[null,null,null,null,null,null,null,null,null,null,null,null,null,null,null,null,null,null,null,null,null,null,null,null,null,null,null,null,null,null,null,null,null,112]
[null,null,null,null,null,null,null,null,null,null,null,null,null,null,null,null,null,null,null,null,null,null,null,null,null,null,null,null,null,null,null,null,null,117]
[null,null,null,null,null,null,null,null,null,null,null,null,null,null,null,null,null,null,null,null,null,null,null,null,null,null,null,null,null,null,null,null,null,118]
[null,null,null,null,null,null,null,null,null,null,null,null,null,null,null,null,null,null,null,null,null,null,null,null,null,null,null,null,null,null,null,null,null,118]

{"sheet":"Zeiten","index":1,"n_rows":182,"n_cols":13,"rows_kept":182,"cut":false,"hidden":false,"merged":[[0,7,0,9],[0,10,0,12],[1,0,1,3],[2,0,2,1],[0,0,0,3]]}
[{"$f":"Meldeliste!$F$1","v":"Club"},null,null,null,null,"ZFP-Faktor (in %):",20,"Erste Wettfahrt",null,null,"Zweite  Wettfahrt"]
[{"$f":"Meldeliste!F3 & \" (\" & Meldeliste!F2 & \")\"","v":"Name (date)"},null,null,null,null,null,"Bahnlänge:"]
[{"$f":"\"Gemeldete Teilnehmer: \"&COUNTA(Meldeliste!A9:A91)","v":"Gemeldete Teilnehmer: 2"},null,null,null,null,null,"voll/abgekürzt:"]
[null,null,null,null,null,null,"Windrichtung:"]
[null,null,null,null,null,null,"Windstärke:"]
[null,null,null,"Hinweis: Bei der Zielzeit sind auch DNC, DNC, ZFP etc. erlaubt",null,null,"Startzeit:","13:50:30",null,null,"16:30:20"]
[null,null,null,"Wenn Endzeit leer: Endzeit = letzter im Ziel",null,null,"Endzeit:"]
["Gruppe","Steuermann","Verein","Crew","Segelnr","Bootsname","Yst","Zielzeit","Ges.Zeit","Ber.Zeit","Zielzeit","Ges.Zeit","Ber.Zeit"]
[{"$f":"IF(EXACT(Meldeliste!C9,\"\"),\"\",Meldeliste!C9)","v":1},{"$f":"IF(EXACT(Meldeliste!H9&\" \"&Meldeliste!I9,\"\"),\"\",Meldeliste!H9&\" \"&Meldeliste!I9)","v":"PN Name"},{"$f":"IF(EXACT(Meldeliste!P9,\"\"),\"\",Meldeliste!P9)","v":"Abc"},{"$f":"IF(EXACT(Meldeliste!Z9 & IF(EXACT(Meldeliste!AA9,\"\"),\"\",\"/\" & Meldeliste!AA9) & IF(EXACT(Meldeliste!AB9,\"\"),\"\",\"/\" & Meldeliste!AB9) & IF(EXACT(Meldeliste!AC9,\"\"),\"\",\"/\" & Meldeliste!AC9)  & IF(EXACT(Meldeliste!AD9,\"\"),\"\",\"/\" & Meldeliste!AD9) & IF(EXACT(Meldeliste!AE9,\"\"),\"\",\"/\" & Meldeliste!AE9) & IF(EXACT(Meldeliste!AF9,\"\"),\"\",\"/\" & Meldeliste!AF9) & IF(EXACT(Meldeliste!AG9,\"\"),\"\",\"/\" & Meldeliste!AG9),\"\"),\"\",Meldeliste!Z9 & IF(EXACT(Meldeliste!AA9,\"\"),\"\",\"/\" & Meldeliste!AA9) & IF(EXACT(Meldeliste!AB9,\"\"),\"\",\"/\" & Meldeliste!AB9) & IF(EXACT(Meldeliste!AC9,\"\"),\"\",\"/\" & Meldeliste!AC9)  & IF(EXACT(Meldeliste!AD9,\"\"),\"\",\"/\" & Meldeliste!AD9) & IF(EXACT(Meldeliste!AE9,\"\"),\"\",\"/\" & Meldeliste!AE9) & IF(EXACT(Meldeliste!AF9,\"\"),\"\",\"/\" & Meldeliste!AF9) & IF(EXACT(Meldeliste!AG9,\"\"),\"\",\"/\" & Meldeliste!AG9))","v":"Name4"},{"$f":"IF(EXACT(Meldeliste!E9,\"\"),\"\",Meldeliste!E9)","v":"ABC"},{"$f":"IF(EXACT(Meldeliste!F9,\"\"),\"\",Meldeliste!F9)","v":"Name"},{"$f":"IF(EXACT(Meldeliste!B9,\"\"),\"\",Meldeliste!B9)","v":123},"14:12:09",{"$f":"IF(OR(EXACT(H9,\"\"),ISTEXT(H9)),\"\" & H9,H9-H$6)","v":"00:21:39"},{"$f":"IF(OR(EXACT(H9,\"\"),ISTEXT(H9)),\"\" & H9,I9*100/$G9)","v":"00:17:36.098"},"17:01:02",{"$f":"IF(OR(EXACT(K9,\"\"),ISTEXT(K9)),\"\" & K9,K9-K$6)","v":"00:30:42"},{"$f":"IF(OR(EXACT(K9,\"\"),ISTEXT(K9)),\"\" & K9,L9*100/$G9)","v":"00:24:57.561"}]
[{"$f":"IF(EXACT(Meldeliste!C10,\"\"),\"\",Meldeliste!C10)","v":1},{"$f":"IF(EXACT(Meldeliste!H10&\" \"&Meldeliste!I10,\"\"),\"\",Meldeliste!H10&\" \"&Meldeliste!I10)","v":"CD aName"},{"$f":"IF(EXACT(Meldeliste!P10,\"\"),\"\",Meldeliste!P10)","v":"Def"},{"$f":"IF(EXACT(Meldeliste!Z10 & IF(EXACT(Meldeliste!AA10,\"\"),\"\",\"/\" & Meldeliste!AA10) & IF(EXACT(Meldeliste!AB10,\"\"),\"\",\"/\" & Meldeliste!AB10) & IF(EXACT(Meldeliste!AC10,\"\"),\"\",\"/\" & Meldeliste!AC10)  & IF(EXACT(Meldeliste!AD10,\"\"),\"\",\"/\" & Meldeliste!AD10) & IF(EXACT(Meldeliste!AE10,\"\"),\"\",\"/\" & Meldeliste!AE10) & IF(EXACT(Meldeliste!AF10,\"\"),\"\",\"/\" & Meldeliste!AF10) & IF(EXACT(Meldeliste!AG10,\"\"),\"\",\"/\" & Meldeliste!AG10),\"\"),\"\",Meldeliste!Z10 & IF(EXACT(Meldeliste!AA10,\"\"),\"\",\"/\" & Meldeliste!AA10) & IF(EXACT(Meldeliste!AB10,\"\"),\"\",\"/\" & Meldeliste!AB10) & IF(EXACT(Meldeliste!AC10,\"\"),\"\",\"/\" & Meldeliste!AC10)  & IF(EXACT(Meldeliste!AD10,\"\"),\"\",\"/\" & Meldeliste!AD10) & IF(EXACT(Meldeliste!AE10,\"\"),\"\",\"/\" & Meldeliste!AE10) & IF(EXACT(Meldeliste!AF10,\"\"),\"\",\"/\" & Meldeliste!AF10) & IF(EXACT(Meldeliste!AG10,\"\"),\"\",\"/\" & Meldeliste!AG10))","v":"Name44"},{"$f":"IF(EXACT(Meldeliste!E10,\"\"),\"\",Meldeliste!E10)","v":"DEF"},{"$f":"IF(EXACT(Meldeliste!F10,\"\"),\"\",Meldeliste!F10)","v":"Aname"},{"$f":"IF(EXACT(Meldeliste!B10,\"\"),\"\",Meldeliste!B10)","v":88},"13:59:53",{"$f":"IF(OR(EXACT(H10,\"\"),ISTEXT(H10)),\"\" & H10,H10-H$6)","v":"00:09:23"},{"$f":"IF(OR(EXACT(H10,\"\"),ISTEXT(H10)),\"\" & H10,I10*100/$G10)","v":"00:10:39.773"},"17:01:33",{"$f":"IF(OR(EXACT(K10,\"\"),ISTEXT(K10)),\"\" & K10,K10-K$6)","v":"00:31:13"},{"$f":"IF(OR(EXACT(K10,\"\"),ISTEXT(K10)),\"\" & K10,L10*100/$G10)","v":"00:35:28.409"}]
[{"$f":"IF(EXACT(Meldeliste!C11,\"\"),\"\",Meldeliste!C11)","v":""},{"$f":"IF(EXACT(Meldeliste!H11&\" \"&Meldeliste!I11,\"\"),\"\",Meldeliste!H11&\" \"&Meldeliste!I11)","v":" "},{"$f":"IF(EXACT(Meldeliste!P11,\"\"),\"\",Meldeliste!P11)","v":""},{"$f":"IF(EXACT(Meldeliste!Z11 & IF(EXACT(Meldeliste!AA11,\"\"),\"\",\"/\" & Meldeliste!AA11) & IF(EXACT(Meldeliste!AB11,\"\"),\"\",\"/\" & Meldeliste!AB11) & IF(EXACT(Meldeliste!AC11,\"\"),\"\",\"/\" & Meldeliste!AC11)  & IF(EXACT(Meldeliste!AD11,\"\"),\"\",\"/\" & Meldeliste!AD11) & IF(EXACT(Meldeliste!AE11,\"\"),\"\",\"/\" & Meldeliste!AE11) & IF(EXACT(Meldeliste!AF11,\"\"),\"\",\"/\" & Meldeliste!AF11) & IF(EXACT(Meldeliste!AG11,\"\"),\"\",\"/\" & Meldeliste!AG11),\"\"),\"\",Meldeliste!Z11 & IF(EXACT(Meldeliste!AA11,\"\"),\"\",\"/\" & Meldeliste!AA11) & IF(EXACT(Meldeliste!AB11,\"\"),\"\",\"/\" & Meldeliste!AB11) & IF(EXACT(Meldeliste!AC11,\"\"),\"\",\"/\" & Meldeliste!AC11)  & IF(EXACT(Meldeliste!AD11,\"\"),\"\",\"/\" & Meldeliste!AD11) & IF(EXACT(Meldeliste!AE11,\"\"),\"\",\"/\" & Meldeliste!AE11) & IF(EXACT(Meldeliste!AF11,\"\"),\"\",\"/\" & Meldeliste!AF11) & IF(EXACT(Meldeliste!AG11,\"\"),\"\",\"/\" & Meldeliste!AG11))","v":""},{"$f":"IF(EXACT(Meldeliste!E11,\"\"),\"\",Meldeliste!E11)","v":""},{"$f":"IF(EXACT(Meldeliste!F11,\"\"),\"\",Meldeliste!F11)","v":""},{"$f":"IF(EXACT(Meldeliste!B11,\"\"),\"\",Meldeliste!B11)","v":""},null,"","",null,"",""]
[{"$f":"IF(EXACT(Meldeliste!C12,\"\"),\"\",Meldeliste!C12)","v":""},{"$f":"IF(EXACT(Meldeliste!H12&\" \"&Meldeliste!I12,\"\"),\"\",Meldeliste!H12&\" \"&Meldeliste!I12)","v":" "},{"$f":"IF(EXACT(Meldeliste!P12,\"\"),\"\",Meldeliste!P12)","v":""},{"$f":"IF(EXACT(Meldeliste!Z12 & IF(EXACT(Meldeliste!AA12,\"\"),\"\",\"/\" & Meldeliste!AA12) & IF(EXACT(Meldeliste!AB12,\"\"),\"\",\"/\" & Meldeliste!AB12) & IF(EXACT(Meldeliste!AC12,\"\"),\"\",\"/\" & Meldeliste!AC12)  & IF(EXACT(Meldeliste!AD12,\"\"),\"\",\"/\" & Meldeliste!AD12) & IF(EXACT(Meldeliste!AE12,\"\"),\"\",\"/\" & Meldeliste!AE12) & IF(EXACT(Meldeliste!AF12,\"\"),\"\",\"/\" & Meldeliste!AF12) & IF(EXACT(Meldeliste!AG12,\"\"),\"\",\"/\" & Meldeliste!AG12),\"\"),\"\",Meldeliste!Z12 & IF(EXACT(Meldeliste!AA12,\"\"),\"\",\"/\" & Meldeliste!AA12) & IF(EXACT(Meldeliste!AB12,\"\"),\"\",\"/\" & Meldeliste!AB12) & IF(EXACT(Meldeliste!AC12,\"\"),\"\",\"/\" & Meldeliste!AC12)  & IF(EXACT(Meldeliste!AD12,\"\"),\"\",\"/\" & Meldeliste!AD12) & IF(EXACT(Meldeliste!AE12,\"\"),\"\",\"/\" & Meldeliste!AE12) & IF(EXACT(Meldeliste!AF12,\"\"),\"\",\"/\" & Meldeliste!AF12) & IF(EXACT(Meldeliste!AG12,\"\"),\"\",\"/\" & Meldeliste!AG12))","v":""},{"$f":"IF(EXACT(Meldeliste!E12,\"\"),\"\",Meldeliste!E12)","v":""},{"$f":"IF(EXACT(Meldeliste!F12,\"\"),\"\",Meldeliste!F12)","v":""},{"$f":"IF(EXACT(Meldeliste!B12,\"\"),\"\",Meldeliste!B12)","v":""},null,"","",null,"",""]
[{"$f":"IF(EXACT(Meldeliste!C13,\"\"),\"\",Meldeliste!C13)","v":""},{"$f":"IF(EXACT(Meldeliste!H13&\" \"&Meldeliste!I13,\"\"),\"\",Meldeliste!H13&\" \"&Meldeliste!I13)","v":" "},{"$f":"IF(EXACT(Meldeliste!P13,\"\"),\"\",Meldeliste!P13)","v":""},{"$f":"IF(EXACT(Meldeliste!Z13 & IF(EXACT(Meldeliste!AA13,\"\"),\"\",\"/\" & Meldeliste!AA13) & IF(EXACT(Meldeliste!AB13,\"\"),\"\",\"/\" & Meldeliste!AB13) & IF(EXACT(Meldeliste!AC13,\"\"),\"\",\"/\" & Meldeliste!AC13)  & IF(EXACT(Meldeliste!AD13,\"\"),\"\",\"/\" & Meldeliste!AD13) & IF(EXACT(Meldeliste!AE13,\"\"),\"\",\"/\" & Meldeliste!AE13) & IF(EXACT(Meldeliste!AF13,\"\"),\"\",\"/\" & Meldeliste!AF13) & IF(EXACT(Meldeliste!AG13,\"\"),\"\",\"/\" & Meldeliste!AG13),\"\"),\"\",Meldeliste!Z13 & IF(EXACT(Meldeliste!AA13,\"\"),\"\",\"/\" & Meldeliste!AA13) & IF(EXACT(Meldeliste!AB13,\"\"),\"\",\"/\" & Meldeliste!AB13) & IF(EXACT(Meldeliste!AC13,\"\"),\"\",\"/\" & Meldeliste!AC13)  & IF(EXACT(Meldeliste!AD13,\"\"),\"\",\"/\" & Meldeliste!AD13) & IF(EXACT(Meldeliste!AE13,\"\"),\"\",\"/\" & Meldeliste!AE13) & IF(EXACT(Meldeliste!AF13,\"\"),\"\",\"/\" & Meldeliste!AF13) & IF(EXACT(Meldeliste!AG13,\"\"),\"\",\"/\" & Meldeliste!AG13))","v":""},{"$f":"IF(EXACT(Meldeliste!E13,\"\"),\"\",Meldeliste!E13)","v":""},{"$f":"IF(EXACT(Meldeliste!F13,\"\"),\"\",Meldeliste!F13)","v":""},{"$f":"IF(EXACT(Meldeliste!B13,\"\"),\"\",Meldeliste!B13)","v":""},null,"","",null,"",""]
[{"$f":"IF(EXACT(Meldeliste!C14,\"\"),\"\",Meldeliste!C14)","v":""},{"$f":"IF(EXACT(Meldeliste!H14&\" \"&Meldeliste!I14,\"\"),\"\",Meldeliste!H14&\" \"&Meldeliste!I14)","v":" "},{"$f":"IF(EXACT(Meldeliste!P14,\"\"),\"\",Meldeliste!P14)","v":""},{"$f":"IF(EXACT(Meldeliste!Z14 & IF(EXACT(Meldeliste!AA14,\"\"),\"\",\"/\" & Meldeliste!AA14) & IF(EXACT(Meldeliste!AB14,\"\"),\"\",\"/\" & Meldeliste!AB14) & IF(EXACT(Meldeliste!AC14,\"\"),\"\",\"/\" & Meldeliste!AC14)  & IF(EXACT(Meldeliste!AD14,\"\"),\"\",\"/\" & Meldeliste!AD14) & IF(EXACT(Meldeliste!AE14,\"\"),\"\",\"/\" & Meldeliste!AE14) & IF(EXACT(Meldeliste!AF14,\"\"),\"\",\"/\" & Meldeliste!AF14) & IF(EXACT(Meldeliste!AG14,\"\"),\"\",\"/\" & Meldeliste!AG14),\"\"),\"\",Meldeliste!Z14 & IF(EXACT(Meldeliste!AA14,\"\"),\"\",\"/\" & Meldeliste!AA14) & IF(EXACT(Meldeliste!AB14,\"\"),\"\",\"/\" & Meldeliste!AB14) & IF(EXACT(Meldeliste!AC14,\"\"),\"\",\"/\" & Meldeliste!AC14)  & IF(EXACT(Meldeliste!AD14,\"\"),\"\",\"/\" & Meldeliste!AD14) & IF(EXACT(Meldeliste!AE14,\"\"),\"\",\"/\" & Meldeliste!AE14) & IF(EXACT(Meldeliste!AF14,\"\"),\"\",\"/\" & Meldeliste!AF14) & IF(EXACT(Meldeliste!AG14,\"\"),\"\",\"/\" & Meldeliste!AG14))","v":""},{"$f":"IF(EXACT(Meldeliste!E14,\"\"),\"\",Meldeliste!E14)","v":""},{"$f":"IF(EXACT(Meldeliste!F14,\"\"),\"\",Meldeliste!F14)","v":""},{"$f":"IF(EXACT(Meldeliste!B14,\"\"),\"\",Meldeliste!B14)","v":""},null,"","",null,"",""]
[{"$f":"IF(EXACT(Meldeliste!C15,\"\"),\"\",Meldeliste!C15)","v":""},{"$f":"IF(EXACT(Meldeliste!H15&\" \"&Meldeliste!I15,\"\"),\"\",Meldeliste!H15&\" \"&Meldeliste!I15)","v":" "},{"$f":"IF(EXACT(Meldeliste!P15,\"\"),\"\",Meldeliste!P15)","v":""},{"$f":"IF(EXACT(Meldeliste!Z15 & IF(EXACT(Meldeliste!AA15,\"\"),\"\",\"/\" & Meldeliste!AA15) & IF(EXACT(Meldeliste!AB15,\"\"),\"\",\"/\" & Meldeliste!AB15) & IF(EXACT(Meldeliste!AC15,\"\"),\"\",\"/\" & Meldeliste!AC15)  & IF(EXACT(Meldeliste!AD15,\"\"),\"\",\"/\" & Meldeliste!AD15) & IF(EXACT(Meldeliste!AE15,\"\"),\"\",\"/\" & Meldeliste!AE15) & IF(EXACT(Meldeliste!AF15,\"\"),\"\",\"/\" & Meldeliste!AF15) & IF(EXACT(Meldeliste!AG15,\"\"),\"\",\"/\" & Meldeliste!AG15),\"\"),\"\",Meldeliste!Z15 & IF(EXACT(Meldeliste!AA15,\"\"),\"\",\"/\" & Meldeliste!AA15) & IF(EXACT(Meldeliste!AB15,\"\"),\"\",\"/\" & Meldeliste!AB15) & IF(EXACT(Meldeliste!AC15,\"\"),\"\",\"/\" & Meldeliste!AC15)  & IF(EXACT(Meldeliste!AD15,\"\"),\"\",\"/\" & Meldeliste!AD15) & IF(EXACT(Meldeliste!AE15,\"\"),\"\",\"/\" & Meldeliste!AE15) & IF(EXACT(Meldeliste!AF15,\"\"),\"\",\"/\" & Meldeliste!AF15) & IF(EXACT(Meldeliste!AG15,\"\"),\"\",\"/\" & Meldeliste!AG15))","v":""},{"$f":"IF(EXACT(Meldeliste!E15,\"\"),\"\",Meldeliste!E15)","v":""},{"$f":"IF(EXACT(Meldeliste!F15,\"\"),\"\",Meldeliste!F15)","v":""},{"$f":"IF(EXACT(Meldeliste!B15,\"\"),\"\",Meldeliste!B15)","v":""},null,"","",null,"",""]
[{"$f":"IF(EXACT(Meldeliste!C16,\"\"),\"\",Meldeliste!C16)","v":""},{"$f":"IF(EXACT(Meldeliste!H16&\" \"&Meldeliste!I16,\"\"),\"\",Meldeliste!H16&\" \"&Meldeliste!I16)","v":" "},{"$f":"IF(EXACT(Meldeliste!P16,\"\"),\"\",Meldeliste!P16)","v":""},{"$f":"IF(EXACT(Meldeliste!Z16 & IF(EXACT(Meldeliste!AA16,\"\"),\"\",\"/\" & Meldeliste!AA16) & IF(EXACT(Meldeliste!AB16,\"\"),\"\",\"/\" & Meldeliste!AB16) & IF(EXACT(Meldeliste!AC16,\"\"),\"\",\"/\" & Meldeliste!AC16)  & IF(EXACT(Meldeliste!AD16,\"\"),\"\",\"/\" & Meldeliste!AD16) & IF(EXACT(Meldeliste!AE16,\"\"),\"\",\"/\" & Meldeliste!AE16) & IF(EXACT(Meldeliste!AF16,\"\"),\"\",\"/\" & Meldeliste!AF16) & IF(EXACT(Meldeliste!AG16,\"\"),\"\",\"/\" & Meldeliste!AG16),\"\"),\"\",Meldeliste!Z16 & IF(EXACT(Meldeliste!AA16,\"\"),\"\",\"/\" & Meldeliste!AA16) & IF(EXACT(Meldeliste!AB16,\"\"),\"\",\"/\" & Meldeliste!AB16) & IF(EXACT(Meldeliste!AC16,\"\"),\"\",\"/\" & Meldeliste!AC16)  & IF(EXACT(Meldeliste!AD16,\"\"),\"\",\"/\" & Meldeliste!AD16) & IF(EXACT(Meldeliste!AE16,\"\"),\"\",\"/\" & Meldeliste!AE16) & IF(EXACT(Meldeliste!AF16,\"\"),\"\",\"/\" & Meldeliste!AF16) & IF(EXACT(Meldeliste!AG16,\"\"),\"\",\"/\" & Meldeliste!AG16))","v":""},{"$f":"IF(EXACT(Meldeliste!E16,\"\"),\"\",Meldeliste!E16)","v":""},{"$f":"IF(EXACT(Meldeliste!F16,\"\"),\"\",Meldeliste!F16)","v":""},{"$f":"IF(EXACT(Meldeliste!B16,\"\"),\"\",Meldeliste!B16)","v":""},null,"","",null,"",""]
[{"$f":"IF(EXACT(Meldeliste!C17,\"\"),\"\",Meldeliste!C17)","v":""},{"$f":"IF(EXACT(Meldeliste!H17&\" \"&Meldeliste!I17,\"\"),\"\",Meldeliste!H17&\" \"&Meldeliste!I17)","v":" "},{"$f":"IF(EXACT(Meldeliste!P17,\"\"),\"\",Meldeliste!P17)","v":""},{"$f":"IF(EXACT(Meldeliste!Z17 & IF(EXACT(Meldeliste!AA17,\"\"),\"\",\"/\" & Meldeliste!AA17) & IF(EXACT(Meldeliste!AB17,\"\"),\"\",\"/\" & Meldeliste!AB17) & IF(EXACT(Meldeliste!AC17,\"\"),\"\",\"/\" & Meldeliste!AC17)  & IF(EXACT(Meldeliste!AD17,\"\"),\"\",\"/\" & Meldeliste!AD17) & IF(EXACT(Meldeliste!AE17,\"\"),\"\",\"/\" & Meldeliste!AE17) & IF(EXACT(Meldeliste!AF17,\"\"),\"\",\"/\" & Meldeliste!AF17) & IF(EXACT(Meldeliste!AG17,\"\"),\"\",\"/\" & Meldeliste!AG17),\"\"),\"\",Meldeliste!Z17 & IF(EXACT(Meldeliste!AA17,\"\"),\"\",\"/\" & Meldeliste!AA17) & IF(EXACT(Meldeliste!AB17,\"\"),\"\",\"/\" & Meldeliste!AB17) & IF(EXACT(Meldeliste!AC17,\"\"),\"\",\"/\" & Meldeliste!AC17)  & IF(EXACT(Meldeliste!AD17,\"\"),\"\",\"/\" & Meldeliste!AD17) & IF(EXACT(Meldeliste!AE17,\"\"),\"\",\"/\" & Meldeliste!AE17) & IF(EXACT(Meldeliste!AF17,\"\"),\"\",\"/\" & Meldeliste!AF17) & IF(EXACT(Meldeliste!AG17,\"\"),\"\",\"/\" & Meldeliste!AG17))","v":""},{"$f":"IF(EXACT(Meldeliste!E17,\"\"),\"\",Meldeliste!E17)","v":""},{"$f":"IF(EXACT(Meldeliste!F17,\"\"),\"\",Meldeliste!F17)","v":""},{"$f":"IF(EXACT(Meldeliste!B17,\"\"),\"\",Meldeliste!B17)","v":""},null,"","",null,"",""]
[{"$f":"IF(EXACT(Meldeliste!C18,\"\"),\"\",Meldeliste!C18)","v":""},{"$f":"IF(EXACT(Meldeliste!H18&\" \"&Meldeliste!I18,\"\"),\"\",Meldeliste!H18&\" \"&Meldeliste!I18)","v":" "},{"$f":"IF(EXACT(Meldeliste!P18,\"\"),\"\",Meldeliste!P18)","v":""},{"$f":"IF(EXACT(Meldeliste!Z18 & IF(EXACT(Meldeliste!AA18,\"\"),\"\",\"/\" & Meldeliste!AA18) & IF(EXACT(Meldeliste!AB18,\"\"),\"\",\"/\" & Meldeliste!AB18) & IF(EXACT(Meldeliste!AC18,\"\"),\"\",\"/\" & Meldeliste!AC18)  & IF(EXACT(Meldeliste!AD18,\"\"),\"\",\"/\" & Meldeliste!AD18) & IF(EXACT(Meldeliste!AE18,\"\"),\"\",\"/\" & Meldeliste!AE18) & IF(EXACT(Meldeliste!AF18,\"\"),\"\",\"/\" & Meldeliste!AF18) & IF(EXACT(Meldeliste!AG18,\"\"),\"\",\"/\" & Meldeliste!AG18),\"\"),\"\",Meldeliste!Z18 & IF(EXACT(Meldeliste!AA18,\"\"),\"\",\"/\" & Meldeliste!AA18) & IF(EXACT(Meldeliste!AB18,\"\"),\"\",\"/\" & Meldeliste!AB18) & IF(EXACT(Meldeliste!AC18,\"\"),\"\",\"/\" & Meldeliste!AC18)  & IF(EXACT(Meldeliste!AD18,\"\"),\"\",\"/\" & Meldeliste!AD18) & IF(EXACT(Meldeliste!AE18,\"\"),\"\",\"/\" & Meldeliste!AE18) & IF(EXACT(Meldeliste!AF18,\"\"),\"\",\"/\" & Meldeliste!AF18) & IF(EXACT(Meldeliste!AG18,\"\"),\"\",\"/\" & Meldeliste!AG18))","v":""},{"$f":"IF(EXACT(Meldeliste!E18,\"\"),\"\",Meldeliste!E18)","v":""},{"$f":"IF(EXACT(Meldeliste!F18,\"\"),\"\",Meldeliste!F18)","v":""},{"$f":"IF(EXACT(Meldeliste!B18,\"\"),\"\",Meldeliste!B18)","v":""},null,"","",null,"",""]
[{"$f":"IF(EXACT(Meldeliste!C19,\"\"),\"\",Meldeliste!C19)","v":""},{"$f":"IF(EXACT(Meldeliste!H19&\" \"&Meldeliste!I19,\"\"),\"\",Meldeliste!H19&\" \"&Meldeliste!I19)","v":" "},{"$f":"IF(EXACT(Meldeliste!P19,\"\"),\"\",Meldeliste!P19)","v":""},{"$f":"IF(EXACT(Meldeliste!Z19 & IF(EXACT(Meldeliste!AA19,\"\"),\"\",\"/\" & Meldeliste!AA19) & IF(EXACT(Meldeliste!AB19,\"\"),\"\",\"/\" & Meldeliste!AB19) & IF(EXACT(Meldeliste!AC19,\"\"),\"\",\"/\" & Meldeliste!AC19)  & IF(EXACT(Meldeliste!AD19,\"\"),\"\",\"/\" & Meldeliste!AD19) & IF(EXACT(Meldeliste!AE19,\"\"),\"\",\"/\" & Meldeliste!AE19) & IF(EXACT(Meldeliste!AF19,\"\"),\"\",\"/\" & Meldeliste!AF19) & IF(EXACT(Meldeliste!AG19,\"\"),\"\",\"/\" & Meldeliste!AG19),\"\"),\"\",Meldeliste!Z19 & IF(EXACT(Meldeliste!AA19,\"\"),\"\",\"/\" & Meldeliste!AA19) & IF(EXACT(Meldeliste!AB19,\"\"),\"\",\"/\" & Meldeliste!AB19) & IF(EXACT(Meldeliste!AC19,\"\"),\"\",\"/\" & Meldeliste!AC19)  & IF(EXACT(Meldeliste!AD19,\"\"),\"\",\"/\" & Meldeliste!AD19) & IF(EXACT(Meldeliste!AE19,\"\"),\"\",\"/\" & Meldeliste!AE19) & IF(EXACT(Meldeliste!AF19,\"\"),\"\",\"/\" & Meldeliste!AF19) & IF(EXACT(Meldeliste!AG19,\"\"),\"\",\"/\" & Meldeliste!AG19))","v":""},{"$f":"IF(EXACT(Meldeliste!E19,\"\"),\"\",Meldeliste!E19)","v":""},{"$f":"IF(EXACT(Meldeliste!F19,\"\"),\"\",Meldeliste!F19)","v":""},{"$f":"IF(EXACT(Meldeliste!B19,\"\"),\"\",Meldeliste!B19)","v":""},null,"","",null,"",""]
[{"$f":"IF(EXACT(Meldeliste!C20,\"\"),\"\",Meldeliste!C20)","v":""},{"$f":"IF(EXACT(Meldeliste!H20&\" \"&Meldeliste!I20,\"\"),\"\",Meldeliste!H20&\" \"&Meldeliste!I20)","v":" "},{"$f":"IF(EXACT(Meldeliste!P20,\"\"),\"\",Meldeliste!P20)","v":""},{"$f":"IF(EXACT(Meldeliste!Z20 & IF(EXACT(Meldeliste!AA20,\"\"),\"\",\"/\" & Meldeliste!AA20) & IF(EXACT(Meldeliste!AB20,\"\"),\"\",\"/\" & Meldeliste!AB20) & IF(EXACT(Meldeliste!AC20,\"\"),\"\",\"/\" & Meldeliste!AC20)  & IF(EXACT(Meldeliste!AD20,\"\"),\"\",\"/\" & Meldeliste!AD20) & IF(EXACT(Meldeliste!AE20,\"\"),\"\",\"/\" & Meldeliste!AE20) & IF(EXACT(Meldeliste!AF20,\"\"),\"\",\"/\" & Meldeliste!AF20) & IF(EXACT(Meldeliste!AG20,\"\"),\"\",\"/\" & Meldeliste!AG20),\"\"),\"\",Meldeliste!Z20 & IF(EXACT(Meldeliste!AA20,\"\"),\"\",\"/\" & Meldeliste!AA20) & IF(EXACT(Meldeliste!AB20,\"\"),\"\",\"/\" & Meldeliste!AB20) & IF(EXACT(Meldeliste!AC20,\"\"),\"\",\"/\" & Meldeliste!AC20)  & IF(EXACT(Meldeliste!AD20,\"\"),\"\",\"/\" & Meldeliste!AD20) & IF(EXACT(Meldeliste!AE20,\"\"),\"\",\"/\" & Meldeliste!AE20) & IF(EXACT(Meldeliste!AF20,\"\"),\"\",\"/\" & Meldeliste!AF20) & IF(EXACT(Meldeliste!AG20,\"\"),\"\",\"/\" & Meldeliste!AG20))","v":""},{"$f":"IF(EXACT(Meldeliste!E20,\"\"),\"\",Meldeliste!E20)","v":""},{"$f":"IF(EXACT(Meldeliste!F20,\"\"),\"\",Meldeliste!F20)","v":""},{"$f":"IF(EXACT(Meldeliste!B20,\"\"),\"\",Meldeliste!B20)","v":""},null,"","",null,"",""]
[{"$f":"IF(EXACT(Meldeliste!C21,\"\"),\"\",Meldeliste!C21)","v":""},{"$f":"IF(EXACT(Meldeliste!H21&\" \"&Meldeliste!I21,\"\"),\"\",Meldeliste!H21&\" \"&Meldeliste!I21)","v":" "},{"$f":"IF(EXACT(Meldeliste!P21,\"\"),\"\",Meldeliste!P21)","v":""},{"$f":"IF(EXACT(Meldeliste!Z21 & IF(EXACT(Meldeliste!AA21,\"\"),\"\",\"/\" & Meldeliste!AA21) & IF(EXACT(Meldeliste!AB21,\"\"),\"\",\"/\" & Meldeliste!AB21) & IF(EXACT(Meldeliste!AC21,\"\"),\"\",\"/\" & Meldeliste!AC21)  & IF(EXACT(Meldeliste!AD21,\"\"),\"\",\"/\" & Meldeliste!AD21) & IF(EXACT(Meldeliste!AE21,\"\"),\"\",\"/\" & Meldeliste!AE21) & IF(EXACT(Meldeliste!AF21,\"\"),\"\",\"/\" & Meldeliste!AF21) & IF(EXACT(Meldeliste!AG21,\"\"),\"\",\"/\" & Meldeliste!AG21),\"\"),\"\",Meldeliste!Z21 & IF(EXACT(Meldeliste!AA21,\"\"),\"\",\"/\" & Meldeliste!AA21) & IF(EXACT(Meldeliste!AB21,\"\"),\"\",\"/\" & Meldeliste!AB21) & IF(EXACT(Meldeliste!AC21,\"\"),\"\",\"/\" & Meldeliste!AC21)  & IF(EXACT(Meldeliste!AD21,\"\"),\"\",\"/\" & Meldeliste!AD21) & IF(EXACT(Meldeliste!AE21,\"\"),\"\",\"/\" & Meldeliste!AE21) & IF(EXACT(Meldeliste!AF21,\"\"),\"\",\"/\" & Meldeliste!AF21) & IF(EXACT(Meldeliste!AG21,\"\"),\"\",\"/\" & Meldeliste!AG21))","v":""},{"$f":"IF(EXACT(Meldeliste!E21,\"\"),\"\",Meldeliste!E21)","v":""},{"$f":"IF(EXACT(Meldeliste!F21,\"\"),\"\",Meldeliste!F21)","v":""},{"$f":"IF(EXACT(Meldeliste!B21,\"\"),\"\",Meldeliste!B21)","v":""},null,"","",null,"",""]
[{"$f":"IF(EXACT(Meldeliste!C22,\"\"),\"\",Meldeliste!C22)","v":""},{"$f":"IF(EXACT(Meldeliste!H22&\" \"&Meldeliste!I22,\"\"),\"\",Meldeliste!H22&\" \"&Meldeliste!I22)","v":" "},{"$f":"IF(EXACT(Meldeliste!P22,\"\"),\"\",Meldeliste!P22)","v":""},{"$f":"IF(EXACT(Meldeliste!Z22 & IF(EXACT(Meldeliste!AA22,\"\"),\"\",\"/\" & Meldeliste!AA22) & IF(EXACT(Meldeliste!AB22,\"\"),\"\",\"/\" & Meldeliste!AB22) & IF(EXACT(Meldeliste!AC22,\"\"),\"\",\"/\" & Meldeliste!AC22)  & IF(EXACT(Meldeliste!AD22,\"\"),\"\",\"/\" & Meldeliste!AD22) & IF(EXACT(Meldeliste!AE22,\"\"),\"\",\"/\" & Meldeliste!AE22) & IF(EXACT(Meldeliste!AF22,\"\"),\"\",\"/\" & Meldeliste!AF22) & IF(EXACT(Meldeliste!AG22,\"\"),\"\",\"/\" & Meldeliste!AG22),\"\"),\"\",Meldeliste!Z22 & IF(EXACT(Meldeliste!AA22,\"\"),\"\",\"/\" & Meldeliste!AA22) & IF(EXACT(Meldeliste!AB22,\"\"),\"\",\"/\" & Meldeliste!AB22) & IF(EXACT(Meldeliste!AC22,\"\"),\"\",\"/\" & Meldeliste!AC22)  & IF(EXACT(Meldeliste!AD22,\"\"),\"\",\"/\" & Meldeliste!AD22) & IF(EXACT(Meldeliste!AE22,\"\"),\"\",\"/\" & Meldeliste!AE22) & IF(EXACT(Meldeliste!AF22,\"\"),\"\",\"/\" & Meldeliste!AF22) & IF(EXACT(Meldeliste!AG22,\"\"),\"\",\"/\" & Meldeliste!AG22))","v":""},{"$f":"IF(EXACT(Meldeliste!E22,\"\"),\"\",Meldeliste!E22)","v":""},{"$f":"IF(EXACT(Meldeliste!F22,\"\"),\"\",Meldeliste!F22)","v":""},{"$f":"IF(EXACT(Meldeliste!B22,\"\"),\"\",Meldeliste!B22)","v":""},null,"","",null,"",""]
[{"$f":"IF(EXACT(Meldeliste!C23,\"\"),\"\",Meldeliste!C23)","v":""},{"$f":"IF(EXACT(Meldeliste!H23&\" \"&Meldeliste!I23,\"\"),\"\",Meldeliste!H23&\" \"&Meldeliste!I23)","v":" "},{"$f":"IF(EXACT(Meldeliste!P23,\"\"),\"\",Meldeliste!P23)","v":""},{"$f":"IF(EXACT(Meldeliste!Z23 & IF(EXACT(Meldeliste!AA23,\"\"),\"\",\"/\" & Meldeliste!AA23) & IF(EXACT(Meldeliste!AB23,\"\"),\"\",\"/\" & Meldeliste!AB23) & IF(EXACT(Meldeliste!AC23,\"\"),\"\",\"/\" & Meldeliste!AC23)  & IF(EXACT(Meldeliste!AD23,\"\"),\"\",\"/\" & Meldeliste!AD23) & IF(EXACT(Meldeliste!AE23,\"\"),\"\",\"/\" & Meldeliste!AE23) & IF(EXACT(Meldeliste!AF23,\"\"),\"\",\"/\" & Meldeliste!AF23) & IF(EXACT(Meldeliste!AG23,\"\"),\"\",\"/\" & Meldeliste!AG23),\"\"),\"\",Meldeliste!Z23 & IF(EXACT(Meldeliste!AA23,\"\"),\"\",\"/\" & Meldeliste!AA23) & IF(EXACT(Meldeliste!AB23,\"\"),\"\",\"/\" & Meldeliste!AB23) & IF(EXACT(Meldeliste!AC23,\"\"),\"\",\"/\" & Meldeliste!AC23)  & IF(EXACT(Meldeliste!AD23,\"\"),\"\",\"/\" & Meldeliste!AD23) & IF(EXACT(Meldeliste!AE23,\"\"),\"\",\"/\" & Meldeliste!AE23) & IF(EXACT(Meldeliste!AF23,\"\"),\"\",\"/\" & Meldeliste!AF23) & IF(EXACT(Meldeliste!AG23,\"\"),\"\",\"/\" & Meldeliste!AG23))","v":""},{"$f":"IF(EXACT(Meldeliste!E23,\"\"),\"\",Meldeliste!E23)","v":""},{"$f":"IF(EXACT(Meldeliste!F23,\"\"),\"\",Meldeliste!F23)","v":""},{"$f":"IF(EXACT(Meldeliste!B23,\"\"),\"\",Meldeliste!B23)","v":""},null,"","",null,"",""]
[{"$f":"IF(EXACT(Meldeliste!C24,\"\"),\"\",Meldeliste!C24)","v":""},{"$f":"IF(EXACT(Meldeliste!H24&\" \"&Meldeliste!I24,\"\"),\"\",Meldeliste!H24&\" \"&Meldeliste!I24)","v":" "},{"$f":"IF(EXACT(Meldeliste!P24,\"\"),\"\",Meldeliste!P24)","v":""},{"$f":"IF(EXACT(Meldeliste!Z24 & IF(EXACT(Meldeliste!AA24,\"\"),\"\",\"/\" & Meldeliste!AA24) & IF(EXACT(Meldeliste!AB24,\"\"),\"\",\"/\" & Meldeliste!AB24) & IF(EXACT(Meldeliste!AC24,\"\"),\"\",\"/\" & Meldeliste!AC24)  & IF(EXACT(Meldeliste!AD24,\"\"),\"\",\"/\" & Meldeliste!AD24) & IF(EXACT(Meldeliste!AE24,\"\"),\"\",\"/\" & Meldeliste!AE24) & IF(EXACT(Meldeliste!AF24,\"\"),\"\",\"/\" & Meldeliste!AF24) & IF(EXACT(Meldeliste!AG24,\"\"),\"\",\"/\" & Meldeliste!AG24),\"\"),\"\",Meldeliste!Z24 & IF(EXACT(Meldeliste!AA24,\"\"),\"\",\"/\" & Meldeliste!AA24) & IF(EXACT(Meldeliste!AB24,\"\"),\"\",\"/\" & Meldeliste!AB24) & IF(EXACT(Meldeliste!AC24,\"\"),\"\",\"/\" & Meldeliste!AC24)  & IF(EXACT(Meldeliste!AD24,\"\"),\"\",\"/\" & Meldeliste!AD24) & IF(EXACT(Meldeliste!AE24,\"\"),\"\",\"/\" & Meldeliste!AE24) & IF(EXACT(Meldeliste!AF24,\"\"),\"\",\"/\" & Meldeliste!AF24) & IF(EXACT(Meldeliste!AG24,\"\"),\"\",\"/\" & Meldeliste!AG24))","v":""},{"$f":"IF(EXACT(Meldeliste!E24,\"\"),\"\",Meldeliste!E24)","v":""},{"$f":"IF(EXACT(Meldeliste!F24,\"\"),\"\",Meldeliste!F24)","v":""},{"$f":"IF(EXACT(Meldeliste!B24,\"\"),\"\",Meldeliste!B24)","v":""},null,"","",null,"",""]
[{"$f":"IF(EXACT(Meldeliste!C25,\"\"),\"\",Meldeliste!C25)","v":""},{"$f":"IF(EXACT(Meldeliste!H25&\" \"&Meldeliste!I25,\"\"),\"\",Meldeliste!H25&\" \"&Meldeliste!I25)","v":" "},{"$f":"IF(EXACT(Meldeliste!P25,\"\"),\"\",Meldeliste!P25)","v":""},{"$f":"IF(EXACT(Meldeliste!Z25 & IF(EXACT(Meldeliste!AA25,\"\"),\"\",\"/\" & Meldeliste!AA25) & IF(EXACT(Meldeliste!AB25,\"\"),\"\",\"/\" & Meldeliste!AB25) & IF(EXACT(Meldeliste!AC25,\"\"),\"\",\"/\" & Meldeliste!AC25)  & IF(EXACT(Meldeliste!AD25,\"\"),\"\",\"/\" & Meldeliste!AD25) & IF(EXACT(Meldeliste!AE25,\"\"),\"\",\"/\" & Meldeliste!AE25) & IF(EXACT(Meldeliste!AF25,\"\"),\"\",\"/\" & Meldeliste!AF25) & IF(EXACT(Meldeliste!AG25,\"\"),\"\",\"/\" & Meldeliste!AG25),\"\"),\"\",Meldeliste!Z25 & IF(EXACT(Meldeliste!AA25,\"\"),\"\",\"/\" & Meldeliste!AA25) & IF(EXACT(Meldeliste!AB25,\"\"),\"\",\"/\" & Meldeliste!AB25) & IF(EXACT(Meldeliste!AC25,\"\"),\"\",\"/\" & Meldeliste!AC25)  & IF(EXACT(Meldeliste!AD25,\"\"),\"\",\"/\" & Meldeliste!AD25) & IF(EXACT(Meldeliste!AE25,\"\"),\"\",\"/\" & Meldeliste!AE25) & IF(EXACT(Meldeliste!AF25,\"\"),\"\",\"/\" & Meldeliste!AF25) & IF(EXACT(Meldeliste!AG25,\"\"),\"\",\"/\" & Meldeliste!AG25))","v":""},{"$f":"IF(EXACT(Meldeliste!E25,\"\"),\"\",Meldeliste!E25)","v":""},{"$f":"IF(EXACT(Meldeliste!F25,\"\"),\"\",Meldeliste!F25)","v":""},{"$f":"IF(EXACT(Meldeliste!B25,\"\"),\"\",Meldeliste!B25)","v":""},null,"","",null,"",""]
[{"$f":"IF(EXACT(Meldeliste!C26,\"\"),\"\",Meldeliste!C26)","v":""},{"$f":"IF(EXACT(Meldeliste!H26&\" \"&Meldeliste!I26,\"\"),\"\",Meldeliste!H26&\" \"&Meldeliste!I26)","v":" "},{"$f":"IF(EXACT(Meldeliste!P26,\"\"),\"\",Meldeliste!P26)","v":""},{"$f":"IF(EXACT(Meldeliste!Z26 & IF(EXACT(Meldeliste!AA26,\"\"),\"\",\"/\" & Meldeliste!AA26) & IF(EXACT(Meldeliste!AB26,\"\"),\"\",\"/\" & Meldeliste!AB26) & IF(EXACT(Meldeliste!AC26,\"\"),\"\",\"/\" & Meldeliste!AC26)  & IF(EXACT(Meldeliste!AD26,\"\"),\"\",\"/\" & Meldeliste!AD26) & IF(EXACT(Meldeliste!AE26,\"\"),\"\",\"/\" & Meldeliste!AE26) & IF(EXACT(Meldeliste!AF26,\"\"),\"\",\"/\" & Meldeliste!AF26) & IF(EXACT(Meldeliste!AG26,\"\"),\"\",\"/\" & Meldeliste!AG26),\"\"),\"\",Meldeliste!Z26 & IF(EXACT(Meldeliste!AA26,\"\"),\"\",\"/\" & Meldeliste!AA26) & IF(EXACT(Meldeliste!AB26,\"\"),\"\",\"/\" & Meldeliste!AB26) & IF(EXACT(Meldeliste!AC26,\"\"),\"\",\"/\" & Meldeliste!AC26)  & IF(EXACT(Meldeliste!AD26,\"\"),\"\",\"/\" & Meldeliste!AD26) & IF(EXACT(Meldeliste!AE26,\"\"),\"\",\"/\" & Meldeliste!AE26) & IF(EXACT(Meldeliste!AF26,\"\"),\"\",\"/\" & Meldeliste!AF26) & IF(EXACT(Meldeliste!AG26,\"\"),\"\",\"/\" & Meldeliste!AG26))","v":""},{"$f":"IF(EXACT(Meldeliste!E26,\"\"),\"\",Meldeliste!E26)","v":""},{"$f":"IF(EXACT(Meldeliste!F26,\"\"),\"\",Meldeliste!F26)","v":""},{"$f":"IF(EXACT(Meldeliste!B26,\"\"),\"\",Meldeliste!B26)","v":""},null,"","",null,"",""]
[{"$f":"IF(EXACT(Meldeliste!C27,\"\"),\"\",Meldeliste!C27)","v":""},{"$f":"IF(EXACT(Meldeliste!H27&\" \"&Meldeliste!I27,\"\"),\"\",Meldeliste!H27&\" \"&Meldeliste!I27)","v":" "},{"$f":"IF(EXACT(Meldeliste!P27,\"\"),\"\",Meldeliste!P27)","v":""},{"$f":"IF(EXACT(Meldeliste!Z27 & IF(EXACT(Meldeliste!AA27,\"\"),\"\",\"/\" & Meldeliste!AA27) & IF(EXACT(Meldeliste!AB27,\"\"),\"\",\"/\" & Meldeliste!AB27) & IF(EXACT(Meldeliste!AC27,\"\"),\"\",\"/\" & Meldeliste!AC27)  & IF(EXACT(Meldeliste!AD27,\"\"),\"\",\"/\" & Meldeliste!AD27) & IF(EXACT(Meldeliste!AE27,\"\"),\"\",\"/\" & Meldeliste!AE27) & IF(EXACT(Meldeliste!AF27,\"\"),\"\",\"/\" & Meldeliste!AF27) & IF(EXACT(Meldeliste!AG27,\"\"),\"\",\"/\" & Meldeliste!AG27),\"\"),\"\",Meldeliste!Z27 & IF(EXACT(Meldeliste!AA27,\"\"),\"\",\"/\" & Meldeliste!AA27) & IF(EXACT(Meldeliste!AB27,\"\"),\"\",\"/\" & Meldeliste!AB27) & IF(EXACT(Meldeliste!AC27,\"\"),\"\",\"/\" & Meldeliste!AC27)  & IF(EXACT(Meldeliste!AD27,\"\"),\"\",\"/\" & Meldeliste!AD27) & IF(EXACT(Meldeliste!AE27,\"\"),\"\",\"/\" & Meldeliste!AE27) & IF(EXACT(Meldeliste!AF27,\"\"),\"\",\"/\" & Meldeliste!AF27) & IF(EXACT(Meldeliste!AG27,\"\"),\"\",\"/\" & Meldeliste!AG27))","v":""},{"$f":"IF(EXACT(Meldeliste!E27,\"\"),\"\",Meldeliste!E27)","v":""},{"$f":"IF(EXACT(Meldeliste!F27,\"\"),\"\",Meldeliste!F27)","v":""},{"$f":"IF(EXACT(Meldeliste!B27,\"\"),\"\",Meldeliste!B27)","v":""},null,"","",null,"",""]
[{"$f":"IF(EXACT(Meldeliste!C28,\"\"),\"\",Meldeliste!C28)","v":""},{"$f":"IF(EXACT(Meldeliste!H28&\" \"&Meldeliste!I28,\"\"),\"\",Meldeliste!H28&\" \"&Meldeliste!I28)","v":" "},{"$f":"IF(EXACT(Meldeliste!P28,\"\"),\"\",Meldeliste!P28)","v":""},{"$f":"IF(EXACT(Meldeliste!Z28 & IF(EXACT(Meldeliste!AA28,\"\"),\"\",\"/\" & Meldeliste!AA28) & IF(EXACT(Meldeliste!AB28,\"\"),\"\",\"/\" & Meldeliste!AB28) & IF(EXACT(Meldeliste!AC28,\"\"),\"\",\"/\" & Meldeliste!AC28)  & IF(EXACT(Meldeliste!AD28,\"\"),\"\",\"/\" & Meldeliste!AD28) & IF(EXACT(Meldeliste!AE28,\"\"),\"\",\"/\" & Meldeliste!AE28) & IF(EXACT(Meldeliste!AF28,\"\"),\"\",\"/\" & Meldeliste!AF28) & IF(EXACT(Meldeliste!AG28,\"\"),\"\",\"/\" & Meldeliste!AG28),\"\"),\"\",Meldeliste!Z28 & IF(EXACT(Meldeliste!AA28,\"\"),\"\",\"/\" & Meldeliste!AA28) & IF(EXACT(Meldeliste!AB28,\"\"),\"\",\"/\" & Meldeliste!AB28) & IF(EXACT(Meldeliste!AC28,\"\"),\"\",\"/\" & Meldeliste!AC28)  & IF(EXACT(Meldeliste!AD28,\"\"),\"\",\"/\" & Meldeliste!AD28) & IF(EXACT(Meldeliste!AE28,\"\"),\"\",\"/\" & Meldeliste!AE28) & IF(EXACT(Meldeliste!AF28,\"\"),\"\",\"/\" & Meldeliste!AF28) & IF(EXACT(Meldeliste!AG28,\"\"),\"\",\"/\" & Meldeliste!AG28))","v":""},{"$f":"IF(EXACT(Meldeliste!E28,\"\"),\"\",Meldeliste!E28)","v":""},{"$f":"IF(EXACT(Meldeliste!F28,\"\"),\"\",Meldeliste!F28)","v":""},{"$f":"IF(EXACT(Meldeliste!B28,\"\"),\"\",Meldeliste!B28)","v":""},null,"","",null,"",""]
[{"$f":"IF(EXACT(Meldeliste!C29,\"\"),\"\",Meldeliste!C29)","v":""},{"$f":"IF(EXACT(Meldeliste!H29&\" \"&Meldeliste!I29,\"\"),\"\",Meldeliste!H29&\" \"&Meldeliste!I29)","v":" "},{"$f":"IF(EXACT(Meldeliste!P29,\"\"),\"\",Meldeliste!P29)","v":""},{"$f":"IF(EXACT(Meldeliste!Z29 & IF(EXACT(Meldeliste!AA29,\"\"),\"\",\"/\" & Meldeliste!AA29) & IF(EXACT(Meldeliste!AB29,\"\"),\"\",\"/\" & Meldeliste!AB29) & IF(EXACT(Meldeliste!AC29,\"\"),\"\",\"/\" & Meldeliste!AC29)  & IF(EXACT(Meldeliste!AD29,\"\"),\"\",\"/\" & Meldeliste!AD29) & IF(EXACT(Meldeliste!AE29,\"\"),\"\",\"/\" & Meldeliste!AE29) & IF(EXACT(Meldeliste!AF29,\"\"),\"\",\"/\" & Meldeliste!AF29) & IF(EXACT(Meldeliste!AG29,\"\"),\"\",\"/\" & Meldeliste!AG29),\"\"),\"\",Meldeliste!Z29 & IF(EXACT(Meldeliste!AA29,\"\"),\"\",\"/\" & Meldeliste!AA29) & IF(EXACT(Meldeliste!AB29,\"\"),\"\",\"/\" & Meldeliste!AB29) & IF(EXACT(Meldeliste!AC29,\"\"),\"\",\"/\" & Meldeliste!AC29)  & IF(EXACT(Meldeliste!AD29,\"\"),\"\",\"/\" & Meldeliste!AD29) & IF(EXACT(Meldeliste!AE29,\"\"),\"\",\"/\" & Meldeliste!AE29) & IF(EXACT(Meldeliste!AF29,\"\"),\"\",\"/\" & Meldeliste!AF29) & IF(EXACT(Meldeliste!AG29,\"\"),\"\",\"/\" & Meldeliste!AG29))","v":""},{"$f":"IF(EXACT(Meldeliste!E29,\"\"),\"\",Meldeliste!E29)","v":""},{"$f":"IF(EXACT(Meldeliste!F29,\"\"),\"\",Meldeliste!F29)","v":""},{"$f":"IF(EXACT(Meldeliste!B29,\"\"),\"\",Meldeliste!B29)","v":""},null,"","",null,"",""]
[{"$f":"IF(EXACT(Meldeliste!C30,\"\"),\"\",Meldeliste!C30)","v":""},{"$f":"IF(EXACT(Meldeliste!H30&\" \"&Meldeliste!I30,\"\"),\"\",Meldeliste!H30&\" \"&Meldeliste!I30)","v":" "},{"$f":"IF(EXACT(Meldeliste!P30,\"\"),\"\",Meldeliste!P30)","v":""},{"$f":"IF(EXACT(Meldeliste!Z30 & IF(EXACT(Meldeliste!AA30,\"\"),\"\",\"/\" & Meldeliste!AA30) & IF(EXACT(Meldeliste!AB30,\"\"),\"\",\"/\" & Meldeliste!AB30) & IF(EXACT(Meldeliste!AC30,\"\"),\"\",\"/\" & Meldeliste!AC30)  & IF(EXACT(Meldeliste!AD30,\"\"),\"\",\"/\" & Meldeliste!AD30) & IF(EXACT(Meldeliste!AE30,\"\"),\"\",\"/\" & Meldeliste!AE30) & IF(EXACT(Meldeliste!AF30,\"\"),\"\",\"/\" & Meldeliste!AF30) & IF(EXACT(Meldeliste!AG30,\"\"),\"\",\"/\" & Meldeliste!AG30),\"\"),\"\",Meldeliste!Z30 & IF(EXACT(Meldeliste!AA30,\"\"),\"\",\"/\" & Meldeliste!AA30) & IF(EXACT(Meldeliste!AB30,\"\"),\"\",\"/\" & Meldeliste!AB30) & IF(EXACT(Meldeliste!AC30,\"\"),\"\",\"/\" & Meldeliste!AC30)  & IF(EXACT(Meldeliste!AD30,\"\"),\"\",\"/\" & Meldeliste!AD30) & IF(EXACT(Meldeliste!AE30,\"\"),\"\",\"/\" & Meldeliste!AE30) & IF(EXACT(Meldeliste!AF30,\"\"),\"\",\"/\" & Meldeliste!AF30) & IF(EXACT(Meldeliste!AG30,\"\"),\"\",\"/\" & Meldeliste!AG30))","v":""},{"$f":"IF(EXACT(Meldeliste!E30,\"\"),\"\",Meldeliste!E30)","v":""},{"$f":"IF(EXACT(Meldeliste!F30,\"\"),\"\",Meldeliste!F30)","v":""},{"$f":"IF(EXACT(Meldeliste!B30,\"\"),\"\",Meldeliste!B30)","v":""},null,"","",null,"",""]
[{"$f":"IF(EXACT(Meldeliste!C31,\"\"),\"\",Meldeliste!C31)","v":""},{"$f":"IF(EXACT(Meldeliste!H31&\" \"&Meldeliste!I31,\"\"),\"\",Meldeliste!H31&\" \"&Meldeliste!I31)","v":" "},{"$f":"IF(EXACT(Meldeliste!P31,\"\"),\"\",Meldeliste!P31)","v":""},{"$f":"IF(EXACT(Meldeliste!Z31 & IF(EXACT(Meldeliste!AA31,\"\"),\"\",\"/\" & Meldeliste!AA31) & IF(EXACT(Meldeliste!AB31,\"\"),\"\",\"/\" & Meldeliste!AB31) & IF(EXACT(Meldeliste!AC31,\"\"),\"\",\"/\" & Meldeliste!AC31)  & IF(EXACT(Meldeliste!AD31,\"\"),\"\",\"/\" & Meldeliste!AD31) & IF(EXACT(Meldeliste!AE31,\"\"),\"\",\"/\" & Meldeliste!AE31) & IF(EXACT(Meldeliste!AF31,\"\"),\"\",\"/\" & Meldeliste!AF31) & IF(EXACT(Meldeliste!AG31,\"\"),\"\",\"/\" & Meldeliste!AG31),\"\"),\"\",Meldeliste!Z31 & IF(EXACT(Meldeliste!AA31,\"\"),\"\",\"/\" & Meldeliste!AA31) & IF(EXACT(Meldeliste!AB31,\"\"),\"\",\"/\" & Meldeliste!AB31) & IF(EXACT(Meldeliste!AC31,\"\"),\"\",\"/\" & Meldeliste!AC31)  & IF(EXACT(Meldeliste!AD31,\"\"),\"\",\"/\" & Meldeliste!AD31) & IF(EXACT(Meldeliste!AE31,\"\"),\"\",\"/\" & Meldeliste!AE31) & IF(EXACT(Meldeliste!AF31,\"\"),\"\",\"/\" & Meldeliste!AF31) & IF(EXACT(Meldeliste!AG31,\"\"),\"\",\"/\" & Meldeliste!AG31))","v":""},{"$f":"IF(EXACT(Meldeliste!E31,\"\"),\"\",Meldeliste!E31)","v":""},{"$f":"IF(EXACT(Meldeliste!F31,\"\"),\"\",Meldeliste!F31)","v":""},{"$f":"IF(EXACT(Meldeliste!B31,\"\"),\"\",Meldeliste!B31)","v":""},null,"","",null,"",""]
[{"$f":"IF(EXACT(Meldeliste!C32,\"\"),\"\",Meldeliste!C32)","v":""},{"$f":"IF(EXACT(Meldeliste!H32&\" \"&Meldeliste!I32,\"\"),\"\",Meldeliste!H32&\" \"&Meldeliste!I32)","v":" "},{"$f":"IF(EXACT(Meldeliste!P32,\"\"),\"\",Meldeliste!P32)","v":""},{"$f":"IF(EXACT(Meldeliste!Z32 & IF(EXACT(Meldeliste!AA32,\"\"),\"\",\"/\" & Meldeliste!AA32) & IF(EXACT(Meldeliste!AB32,\"\"),\"\",\"/\" & Meldeliste!AB32) & IF(EXACT(Meldeliste!AC32,\"\"),\"\",\"/\" & Meldeliste!AC32)  & IF(EXACT(Meldeliste!AD32,\"\"),\"\",\"/\" & Meldeliste!AD32) & IF(EXACT(Meldeliste!AE32,\"\"),\"\",\"/\" & Meldeliste!AE32) & IF(EXACT(Meldeliste!AF32,\"\"),\"\",\"/\" & Meldeliste!AF32) & IF(EXACT(Meldeliste!AG32,\"\"),\"\",\"/\" & Meldeliste!AG32),\"\"),\"\",Meldeliste!Z32 & IF(EXACT(Meldeliste!AA32,\"\"),\"\",\"/\" & Meldeliste!AA32) & IF(EXACT(Meldeliste!AB32,\"\"),\"\",\"/\" & Meldeliste!AB32) & IF(EXACT(Meldeliste!AC32,\"\"),\"\",\"/\" & Meldeliste!AC32)  & IF(EXACT(Meldeliste!AD32,\"\"),\"\",\"/\" & Meldeliste!AD32) & IF(EXACT(Meldeliste!AE32,\"\"),\"\",\"/\" & Meldeliste!AE32) & IF(EXACT(Meldeliste!AF32,\"\"),\"\",\"/\" & Meldeliste!AF32) & IF(EXACT(Meldeliste!AG32,\"\"),\"\",\"/\" & Meldeliste!AG32))","v":""},{"$f":"IF(EXACT(Meldeliste!E32,\"\"),\"\",Meldeliste!E32)","v":""},{"$f":"IF(EXACT(Meldeliste!F32,\"\"),\"\",Meldeliste!F32)","v":""},{"$f":"IF(EXACT(Meldeliste!B32,\"\"),\"\",Meldeliste!B32)","v":""},null,"","",null,"",""]
[{"$f":"IF(EXACT(Meldeliste!C33,\"\"),\"\",Meldeliste!C33)","v":""},{"$f":"IF(EXACT(Meldeliste!H33&\" \"&Meldeliste!I33,\"\"),\"\",Meldeliste!H33&\" \"&Meldeliste!I33)","v":" "},{"$f":"IF(EXACT(Meldeliste!P33,\"\"),\"\",Meldeliste!P33)","v":""},{"$f":"IF(EXACT(Meldeliste!Z33 & IF(EXACT(Meldeliste!AA33,\"\"),\"\",\"/\" & Meldeliste!AA33) & IF(EXACT(Meldeliste!AB33,\"\"),\"\",\"/\" & Meldeliste!AB33) & IF(EXACT(Meldeliste!AC33,\"\"),\"\",\"/\" & Meldeliste!AC33)  & IF(EXACT(Meldeliste!AD33,\"\"),\"\",\"/\" & Meldeliste!AD33) & IF(EXACT(Meldeliste!AE33,\"\"),\"\",\"/\" & Meldeliste!AE33) & IF(EXACT(Meldeliste!AF33,\"\"),\"\",\"/\" & Meldeliste!AF33) & IF(EXACT(Meldeliste!AG33,\"\"),\"\",\"/\" & Meldeliste!AG33),\"\"),\"\",Meldeliste!Z33 & IF(EXACT(Meldeliste!AA33,\"\"),\"\",\"/\" & Meldeliste!AA33) & IF(EXACT(Meldeliste!AB33,\"\"),\"\",\"/\" & Meldeliste!AB33) & IF(EXACT(Meldeliste!AC33,\"\"),\"\",\"/\" & Meldeliste!AC33)  & IF(EXACT(Meldeliste!AD33,\"\"),\"\",\"/\" & Meldeliste!AD33) & IF(EXACT(Meldeliste!AE33,\"\"),\"\",\"/\" & Meldeliste!AE33) & IF(EXACT(Meldeliste!AF33,\"\"),\"\",\"/\" & Meldeliste!AF33) & IF(EXACT(Meldeliste!AG33,\"\"),\"\",\"/\" & Meldeliste!AG33))","v":""},{"$f":"IF(EXACT(Meldeliste!E33,\"\"),\"\",Meldeliste!E33)","v":""},{"$f":"IF(EXACT(Meldeliste!F33,\"\"),\"\",Meldeliste!F33)","v":""},{"$f":"IF(EXACT(Meldeliste!B33,\"\"),\"\",Meldeliste!B33)","v":""},null,"","",null,"",""]
[{"$f":"IF(EXACT(Meldeliste!C34,\"\"),\"\",Meldeliste!C34)","v":""},{"$f":"IF(EXACT(Meldeliste!H34&\" \"&Meldeliste!I34,\"\"),\"\",Meldeliste!H34&\" \"&Meldeliste!I34)","v":" "},{"$f":"IF(EXACT(Meldeliste!P34,\"\"),\"\",Meldeliste!P34)","v":""},{"$f":"IF(EXACT(Meldeliste!Z34 & IF(EXACT(Meldeliste!AA34,\"\"),\"\",\"/\" & Meldeliste!AA34) & IF(EXACT(Meldeliste!AB34,\"\"),\"\",\"/\" & Meldeliste!AB34) & IF(EXACT(Meldeliste!AC34,\"\"),\"\",\"/\" & Meldeliste!AC34)  & IF(EXACT(Meldeliste!AD34,\"\"),\"\",\"/\" & Meldeliste!AD34) & IF(EXACT(Meldeliste!AE34,\"\"),\"\",\"/\" & Meldeliste!AE34) & IF(EXACT(Meldeliste!AF34,\"\"),\"\",\"/\" & Meldeliste!AF34) & IF(EXACT(Meldeliste!AG34,\"\"),\"\",\"/\" & Meldeliste!AG34),\"\"),\"\",Meldeliste!Z34 & IF(EXACT(Meldeliste!AA34,\"\"),\"\",\"/\" & Meldeliste!AA34) & IF(EXACT(Meldeliste!AB34,\"\"),\"\",\"/\" & Meldeliste!AB34) & IF(EXACT(Meldeliste!AC34,\"\"),\"\",\"/\" & Meldeliste!AC34)  & IF(EXACT(Meldeliste!AD34,\"\"),\"\",\"/\" & Meldeliste!AD34) & IF(EXACT(Meldeliste!AE34,\"\"),\"\",\"/\" & Meldeliste!AE34) & IF(EXACT(Meldeliste!AF34,\"\"),\"\",\"/\" & Meldeliste!AF34) & IF(EXACT(Meldeliste!AG34,\"\"),\"\",\"/\" & Meldeliste!AG34))","v":""},{"$f":"IF(EXACT(Meldeliste!E34,\"\"),\"\",Meldeliste!E34)","v":""},{"$f":"IF(EXACT(Meldeliste!F34,\"\"),\"\",Meldeliste!F34)","v":""},{"$f":"IF(EXACT(Meldeliste!B34,\"\"),\"\",Meldeliste!B34)","v":""},null,"","",null,"",""]
[{"$f":"IF(EXACT(Meldeliste!C35,\"\"),\"\",Meldeliste!C35)","v":""},{"$f":"IF(EXACT(Meldeliste!H35&\" \"&Meldeliste!I35,\"\"),\"\",Meldeliste!H35&\" \"&Meldeliste!I35)","v":" "},{"$f":"IF(EXACT(Meldeliste!P35,\"\"),\"\",Meldeliste!P35)","v":""},{"$f":"IF(EXACT(Meldeliste!Z35 & IF(EXACT(Meldeliste!AA35,\"\"),\"\",\"/\" & Meldeliste!AA35) & IF(EXACT(Meldeliste!AB35,\"\"),\"\",\"/\" & Meldeliste!AB35) & IF(EXACT(Meldeliste!AC35,\"\"),\"\",\"/\" & Meldeliste!AC35)  & IF(EXACT(Meldeliste!AD35,\"\"),\"\",\"/\" & Meldeliste!AD35) & IF(EXACT(Meldeliste!AE35,\"\"),\"\",\"/\" & Meldeliste!AE35) & IF(EXACT(Meldeliste!AF35,\"\"),\"\",\"/\" & Meldeliste!AF35) & IF(EXACT(Meldeliste!AG35,\"\"),\"\",\"/\" & Meldeliste!AG35),\"\"),\"\",Meldeliste!Z35 & IF(EXACT(Meldeliste!AA35,\"\"),\"\",\"/\" & Meldeliste!AA35) & IF(EXACT(Meldeliste!AB35,\"\"),\"\",\"/\" & Meldeliste!AB35) & IF(EXACT(Meldeliste!AC35,\"\"),\"\",\"/\" & Meldeliste!AC35)  & IF(EXACT(Meldeliste!AD35,\"\"),\"\",\"/\" & Meldeliste!AD35) & IF(EXACT(Meldeliste!AE35,\"\"),\"\",\"/\" & Meldeliste!AE35) & IF(EXACT(Meldeliste!AF35,\"\"),\"\",\"/\" & Meldeliste!AF35) & IF(EXACT(Meldeliste!AG35,\"\"),\"\",\"/\" & Meldeliste!AG35))","v":""},{"$f":"IF(EXACT(Meldeliste!E35,\"\"),\"\",Meldeliste!E35)","v":""},{"$f":"IF(EXACT(Meldeliste!F35,\"\"),\"\",Meldeliste!F35)","v":""},{"$f":"IF(EXACT(Meldeliste!B35,\"\"),\"\",Meldeliste!B35)","v":""},null,"","",null,"",""]
[{"$f":"IF(EXACT(Meldeliste!C36,\"\"),\"\",Meldeliste!C36)","v":""},{"$f":"IF(EXACT(Meldeliste!H36&\" \"&Meldeliste!I36,\"\"),\"\",Meldeliste!H36&\" \"&Meldeliste!I36)","v":" "},{"$f":"IF(EXACT(Meldeliste!P36,\"\"),\"\",Meldeliste!P36)","v":""},{"$f":"IF(EXACT(Meldeliste!Z36 & IF(EXACT(Meldeliste!AA36,\"\"),\"\",\"/\" & Meldeliste!AA36) & IF(EXACT(Meldeliste!AB36,\"\"),\"\",\"/\" & Meldeliste!AB36) & IF(EXACT(Meldeliste!AC36,\"\"),\"\",\"/\" & Meldeliste!AC36)  & IF(EXACT(Meldeliste!AD36,\"\"),\"\",\"/\" & Meldeliste!AD36) & IF(EXACT(Meldeliste!AE36,\"\"),\"\",\"/\" & Meldeliste!AE36) & IF(EXACT(Meldeliste!AF36,\"\"),\"\",\"/\" & Meldeliste!AF36) & IF(EXACT(Meldeliste!AG36,\"\"),\"\",\"/\" & Meldeliste!AG36),\"\"),\"\",Meldeliste!Z36 & IF(EXACT(Meldeliste!AA36,\"\"),\"\",\"/\" & Meldeliste!AA36) & IF(EXACT(Meldeliste!AB36,\"\"),\"\",\"/\" & Meldeliste!AB36) & IF(EXACT(Meldeliste!AC36,\"\"),\"\",\"/\" & Meldeliste!AC36)  & IF(EXACT(Meldeliste!AD36,\"\"),\"\",\"/\" & Meldeliste!AD36) & IF(EXACT(Meldeliste!AE36,\"\"),\"\",\"/\" & Meldeliste!AE36) & IF(EXACT(Meldeliste!AF36,\"\"),\"\",\"/\" & Meldeliste!AF36) & IF(EXACT(Meldeliste!AG36,\"\"),\"\",\"/\" & Meldeliste!AG36))","v":""},{"$f":"IF(EXACT(Meldeliste!E36,\"\"),\"\",Meldeliste!E36)","v":""},{"$f":"IF(EXACT(Meldeliste!F36,\"\"),\"\",Meldeliste!F36)","v":""},{"$f":"IF(EXACT(Meldeliste!B36,\"\"),\"\",Meldeliste!B36)","v":""},null,"","",null,"",""]
[{"$f":"IF(EXACT(Meldeliste!C37,\"\"),\"\",Meldeliste!C37)","v":""},{"$f":"IF(EXACT(Meldeliste!H37&\" \"&Meldeliste!I37,\"\"),\"\",Meldeliste!H37&\" \"&Meldeliste!I37)","v":" "},{"$f":"IF(EXACT(Meldeliste!P37,\"\"),\"\",Meldeliste!P37)","v":""},{"$f":"IF(EXACT(Meldeliste!Z37 & IF(EXACT(Meldeliste!AA37,\"\"),\"\",\"/\" & Meldeliste!AA37) & IF(EXACT(Meldeliste!AB37,\"\"),\"\",\"/\" & Meldeliste!AB37) & IF(EXACT(Meldeliste!AC37,\"\"),\"\",\"/\" & Meldeliste!AC37)  & IF(EXACT(Meldeliste!AD37,\"\"),\"\",\"/\" & Meldeliste!AD37) & IF(EXACT(Meldeliste!AE37,\"\"),\"\",\"/\" & Meldeliste!AE37) & IF(EXACT(Meldeliste!AF37,\"\"),\"\",\"/\" & Meldeliste!AF37) & IF(EXACT(Meldeliste!AG37,\"\"),\"\",\"/\" & Meldeliste!AG37),\"\"),\"\",Meldeliste!Z37 & IF(EXACT(Meldeliste!AA37,\"\"),\"\",\"/\" & Meldeliste!AA37) & IF(EXACT(Meldeliste!AB37,\"\"),\"\",\"/\" & Meldeliste!AB37) & IF(EXACT(Meldeliste!AC37,\"\"),\"\",\"/\" & Meldeliste!AC37)  & IF(EXACT(Meldeliste!AD37,\"\"),\"\",\"/\" & Meldeliste!AD37) & IF(EXACT(Meldeliste!AE37,\"\"),\"\",\"/\" & Meldeliste!AE37) & IF(EXACT(Meldeliste!AF37,\"\"),\"\",\"/\" & Meldeliste!AF37) & IF(EXACT(Meldeliste!AG37,\"\"),\"\",\"/\" & Meldeliste!AG37))","v":""},{"$f":"IF(EXACT(Meldeliste!E37,\"\"),\"\",Meldeliste!E37)","v":""},{"$f":"IF(EXACT(Meldeliste!F37,\"\"),\"\",Meldeliste!F37)","v":""},{"$f":"IF(EXACT(Meldeliste!B37,\"\"),\"\",Meldeliste!B37)","v":""},null,"","",null,"",""]
[{"$f":"IF(EXACT(Meldeliste!C38,\"\"),\"\",Meldeliste!C38)","v":""},{"$f":"IF(EXACT(Meldeliste!H38&\" \"&Meldeliste!I38,\"\"),\"\",Meldeliste!H38&\" \"&Meldeliste!I38)","v":" "},{"$f":"IF(EXACT(Meldeliste!P38,\"\"),\"\",Meldeliste!P38)","v":""},{"$f":"IF(EXACT(Meldeliste!Z38 & IF(EXACT(Meldeliste!AA38,\"\"),\"\",\"/\" & Meldeliste!AA38) & IF(EXACT(Meldeliste!AB38,\"\"),\"\",\"/\" & Meldeliste!AB38) & IF(EXACT(Meldeliste!AC38,\"\"),\"\",\"/\" & Meldeliste!AC38)  & IF(EXACT(Meldeliste!AD38,\"\"),\"\",\"/\" & Meldeliste!AD38) & IF(EXACT(Meldeliste!AE38,\"\"),\"\",\"/\" & Meldeliste!AE38) & IF(EXACT(Meldeliste!AF38,\"\"),\"\",\"/\" & Meldeliste!AF38) & IF(EXACT(Meldeliste!AG38,\"\"),\"\",\"/\" & Meldeliste!AG38),\"\"),\"\",Meldeliste!Z38 & IF(EXACT(Meldeliste!AA38,\"\"),\"\",\"/\" & Meldeliste!AA38) & IF(EXACT(Meldeliste!AB38,\"\"),\"\",\"/\" & Meldeliste!AB38) & IF(EXACT(Meldeliste!AC38,\"\"),\"\",\"/\" & Meldeliste!AC38)  & IF(EXACT(Meldeliste!AD38,\"\"),\"\",\"/\" & Meldeliste!AD38) & IF(EXACT(Meldeliste!AE38,\"\"),\"\",\"/\" & Meldeliste!AE38) & IF(EXACT(Meldeliste!AF38,\"\"),\"\",\"/\" & Meldeliste!AF38) & IF(EXACT(Meldeliste!AG38,\"\"),\"\",\"/\" & Meldeliste!AG38))","v":""},{"$f":"IF(EXACT(Meldeliste!E38,\"\"),\"\",Meldeliste!E38)","v":""},{"$f":"IF(EXACT(Meldeliste!F38,\"\"),\"\",Meldeliste!F38)","v":""},{"$f":"IF(EXACT(Meldeliste!B38,\"\"),\"\",Meldeliste!B38)","v":""},null,"","",null,"",""]
[{"$f":"IF(EXACT(Meldeliste!C39,\"\"),\"\",Meldeliste!C39)","v":""},{"$f":"IF(EXACT(Meldeliste!H39&\" \"&Meldeliste!I39,\"\"),\"\",Meldeliste!H39&\" \"&Meldeliste!I39)","v":" "},{"$f":"IF(EXACT(Meldeliste!P39,\"\"),\"\",Meldeliste!P39)","v":""},{"$f":"IF(EXACT(Meldeliste!Z39 & IF(EXACT(Meldeliste!AA39,\"\"),\"\",\"/\" & Meldeliste!AA39) & IF(EXACT(Meldeliste!AB39,\"\"),\"\",\"/\" & Meldeliste!AB39) & IF(EXACT(Meldeliste!AC39,\"\"),\"\",\"/\" & Meldeliste!AC39)  & IF(EXACT(Meldeliste!AD39,\"\"),\"\",\"/\" & Meldeliste!AD39) & IF(EXACT(Meldeliste!AE39,\"\"),\"\",\"/\" & Meldeliste!AE39) & IF(EXACT(Meldeliste!AF39,\"\"),\"\",\"/\" & Meldeliste!AF39) & IF(EXACT(Meldeliste!AG39,\"\"),\"\",\"/\" & Meldeliste!AG39),\"\"),\"\",Meldeliste!Z39 & IF(EXACT(Meldeliste!AA39,\"\"),\"\",\"/\" & Meldeliste!AA39) & IF(EXACT(Meldeliste!AB39,\"\"),\"\",\"/\" & Meldeliste!AB39) & IF(EXACT(Meldeliste!AC39,\"\"),\"\",\"/\" & Meldeliste!AC39)  & IF(EXACT(Meldeliste!AD39,\"\"),\"\",\"/\" & Meldeliste!AD39) & IF(EXACT(Meldeliste!AE39,\"\"),\"\",\"/\" & Meldeliste!AE39) & IF(EXACT(Meldeliste!AF39,\"\"),\"\",\"/\" & Meldeliste!AF39) & IF(EXACT(Meldeliste!AG39,\"\"),\"\",\"/\" & Meldeliste!AG39))","v":""},{"$f":"IF(EXACT(Meldeliste!E39,\"\"),\"\",Meldeliste!E39)","v":""},{"$f":"IF(EXACT(Meldeliste!F39,\"\"),\"\",Meldeliste!F39)","v":""},{"$f":"IF(EXACT(Meldeliste!B39,\"\"),\"\",Meldeliste!B39)","v":""},null,"","",null,"",""]
[{"$f":"IF(EXACT(Meldeliste!C40,\"\"),\"\",Meldeliste!C40)","v":""},{"$f":"IF(EXACT(Meldeliste!H40&\" \"&Meldeliste!I40,\"\"),\"\",Meldeliste!H40&\" \"&Meldeliste!I40)","v":" "},{"$f":"IF(EXACT(Meldeliste!P40,\"\"),\"\",Meldeliste!P40)","v":""},{"$f":"IF(EXACT(Meldeliste!Z40 & IF(EXACT(Meldeliste!AA40,\"\"),\"\",\"/\" & Meldeliste!AA40) & IF(EXACT(Meldeliste!AB40,\"\"),\"\",\"/\" & Meldeliste!AB40) & IF(EXACT(Meldeliste!AC40,\"\"),\"\",\"/\" & Meldeliste!AC40)  & IF(EXACT(Meldeliste!AD40,\"\"),\"\",\"/\" & Meldeliste!AD40) & IF(EXACT(Meldeliste!AE40,\"\"),\"\",\"/\" & Meldeliste!AE40) & IF(EXACT(Meldeliste!AF40,\"\"),\"\",\"/\" & Meldeliste!AF40) & IF(EXACT(Meldeliste!AG40,\"\"),\"\",\"/\" & Meldeliste!AG40),\"\"),\"\",Meldeliste!Z40 & IF(EXACT(Meldeliste!AA40,\"\"),\"\",\"/\" & Meldeliste!AA40) & IF(EXACT(Meldeliste!AB40,\"\"),\"\",\"/\" & Meldeliste!AB40) & IF(EXACT(Meldeliste!AC40,\"\"),\"\",\"/\" & Meldeliste!AC40)  & IF(EXACT(Meldeliste!AD40,\"\"),\"\",\"/\" & Meldeliste!AD40) & IF(EXACT(Meldeliste!AE40,\"\"),\"\",\"/\" & Meldeliste!AE40) & IF(EXACT(Meldeliste!AF40,\"\"),\"\",\"/\" & Meldeliste!AF40) & IF(EXACT(Meldeliste!AG40,\"\"),\"\",\"/\" & Meldeliste!AG40))","v":""},{"$f":"IF(EXACT(Meldeliste!E40,\"\"),\"\",Meldeliste!E40)","v":""},{"$f":"IF(EXACT(Meldeliste!F40,\"\"),\"\",Meldeliste!F40)","v":""},{"$f":"IF(EXACT(Meldeliste!B40,\"\"),\"\",Meldeliste!B40)","v":""},null,"","",null,"",""]
[{"$f":"IF(EXACT(Meldeliste!C41,\"\"),\"\",Meldeliste!C41)","v":""},{"$f":"IF(EXACT(Meldeliste!H41&\" \"&Meldeliste!I41,\"\"),\"\",Meldeliste!H41&\" \"&Meldeliste!I41)","v":" "},{"$f":"IF(EXACT(Meldeliste!P41,\"\"),\"\",Meldeliste!P41)","v":""},{"$f":"IF(EXACT(Meldeliste!Z41 & IF(EXACT(Meldeliste!AA41,\"\"),\"\",\"/\" & Meldeliste!AA41) & IF(EXACT(Meldeliste!AB41,\"\"),\"\",\"/\" & Meldeliste!AB41) & IF(EXACT(Meldeliste!AC41,\"\"),\"\",\"/\" & Meldeliste!AC41)  & IF(EXACT(Meldeliste!AD41,\"\"),\"\",\"/\" & Meldeliste!AD41) & IF(EXACT(Meldeliste!AE41,\"\"),\"\",\"/\" & Meldeliste!AE41) & IF(EXACT(Meldeliste!AF41,\"\"),\"\",\"/\" & Meldeliste!AF41) & IF(EXACT(Meldeliste!AG41,\"\"),\"\",\"/\" & Meldeliste!AG41),\"\"),\"\",Meldeliste!Z41 & IF(EXACT(Meldeliste!AA41,\"\"),\"\",\"/\" & Meldeliste!AA41) & IF(EXACT(Meldeliste!AB41,\"\"),\"\",\"/\" & Meldeliste!AB41) & IF(EXACT(Meldeliste!AC41,\"\"),\"\",\"/\" & Meldeliste!AC41)  & IF(EXACT(Meldeliste!AD41,\"\"),\"\",\"/\" & Meldeliste!AD41) & IF(EXACT(Meldeliste!AE41,\"\"),\"\",\"/\" & Meldeliste!AE41) & IF(EXACT(Meldeliste!AF41,\"\"),\"\",\"/\" & Meldeliste!AF41) & IF(EXACT(Meldeliste!AG41,\"\"),\"\",\"/\" & Meldeliste!AG41))","v":""},{"$f":"IF(EXACT(Meldeliste!E41,\"\"),\"\",Meldeliste!E41)","v":""},{"$f":"IF(EXACT(Meldeliste!F41,\"\"),\"\",Meldeliste!F41)","v":""},{"$f":"IF(EXACT(Meldeliste!B41,\"\"),\"\",Meldeliste!B41)","v":""},null,"","",null,"",""]
[{"$f":"IF(EXACT(Meldeliste!C42,\"\"),\"\",Meldeliste!C42)","v":""},{"$f":"IF(EXACT(Meldeliste!H42&\" \"&Meldeliste!I42,\"\"),\"\",Meldeliste!H42&\" \"&Meldeliste!I42)","v":" "},{"$f":"IF(EXACT(Meldeliste!P42,\"\"),\"\",Meldeliste!P42)","v":""},{"$f":"IF(EXACT(Meldeliste!Z42 & IF(EXACT(Meldeliste!AA42,\"\"),\"\",\"/\" & Meldeliste!AA42) & IF(EXACT(Meldeliste!AB42,\"\"),\"\",\"/\" & Meldeliste!AB42) & IF(EXACT(Meldeliste!AC42,\"\"),\"\",\"/\" & Meldeliste!AC42)  & IF(EXACT(Meldeliste!AD42,\"\"),\"\",\"/\" & Meldeliste!AD42) & IF(EXACT(Meldeliste!AE42,\"\"),\"\",\"/\" & Meldeliste!AE42) & IF(EXACT(Meldeliste!AF42,\"\"),\"\",\"/\" & Meldeliste!AF42) & IF(EXACT(Meldeliste!AG42,\"\"),\"\",\"/\" & Meldeliste!AG42),\"\"),\"\",Meldeliste!Z42 & IF(EXACT(Meldeliste!AA42,\"\"),\"\",\"/\" & Meldeliste!AA42) & IF(EXACT(Meldeliste!AB42,\"\"),\"\",\"/\" & Meldeliste!AB42) & IF(EXACT(Meldeliste!AC42,\"\"),\"\",\"/\" & Meldeliste!AC42)  & IF(EXACT(Meldeliste!AD42,\"\"),\"\",\"/\" & Meldeliste!AD42) & IF(EXACT(Meldeliste!AE42,\"\"),\"\",\"/\" & Meldeliste!AE42) & IF(EXACT(Meldeliste!AF42,\"\"),\"\",\"/\" & Meldeliste!AF42) & IF(EXACT(Meldeliste!AG42,\"\"),\"\",\"/\" & Meldeliste!AG42))","v":""},{"$f":"IF(EXACT(Meldeliste!E42,\"\"),\"\",Meldeliste!E42)","v":""},{"$f":"IF(EXACT(Meldeliste!F42,\"\"),\"\",Meldeliste!F42)","v":""},{"$f":"IF(EXACT(Meldeliste!B42,\"\"),\"\",Meldeliste!B42)","v":""},null,"","",null,"",""]
[{"$f":"IF(EXACT(Meldeliste!C43,\"\"),\"\",Meldeliste!C43)","v":""},{"$f":"IF(EXACT(Meldeliste!H43&\" \"&Meldeliste!I43,\"\"),\"\",Meldeliste!H43&\" \"&Meldeliste!I43)","v":" "},{"$f":"IF(EXACT(Meldeliste!P43,\"\"),\"\",Meldeliste!P43)","v":""},{"$f":"IF(EXACT(Meldeliste!Z43 & IF(EXACT(Meldeliste!AA43,\"\"),\"\",\"/\" & Meldeliste!AA43) & IF(EXACT(Meldeliste!AB43,\"\"),\"\",\"/\" & Meldeliste!AB43) & IF(EXACT(Meldeliste!AC43,\"\"),\"\",\"/\" & Meldeliste!AC43)  & IF(EXACT(Meldeliste!AD43,\"\"),\"\",\"/\" & Meldeliste!AD43) & IF(EXACT(Meldeliste!AE43,\"\"),\"\",\"/\" & Meldeliste!AE43) & IF(EXACT(Meldeliste!AF43,\"\"),\"\",\"/\" & Meldeliste!AF43) & IF(EXACT(Meldeliste!AG43,\"\"),\"\",\"/\" & Meldeliste!AG43),\"\"),\"\",Meldeliste!Z43 & IF(EXACT(Meldeliste!AA43,\"\"),\"\",\"/\" & Meldeliste!AA43) & IF(EXACT(Meldeliste!AB43,\"\"),\"\",\"/\" & Meldeliste!AB43) & IF(EXACT(Meldeliste!AC43,\"\"),\"\",\"/\" & Meldeliste!AC43)  & IF(EXACT(Meldeliste!AD43,\"\"),\"\",\"/\" & Meldeliste!AD43) & IF(EXACT(Meldeliste!AE43,\"\"),\"\",\"/\" & Meldeliste!AE43) & IF(EXACT(Meldeliste!AF43,\"\"),\"\",\"/\" & Meldeliste!AF43) & IF(EXACT(Meldeliste!AG43,\"\"),\"\",\"/\" & Meldeliste!AG43))","v":""},{"$f":"IF(EXACT(Meldeliste!E43,\"\"),\"\",Meldeliste!E43)","v":""},{"$f":"IF(EXACT(Meldeliste!F43,\"\"),\"\",Meldeliste!F43)","v":""},{"$f":"IF(EXACT(Meldeliste!B43,\"\"),\"\",Meldeliste!B43)","v":""},null,"","",null,"",""]
[{"$f":"IF(EXACT(Meldeliste!C44,\"\"),\"\",Meldeliste!C44)","v":""},{"$f":"IF(EXACT(Meldeliste!H44&\" \"&Meldeliste!I44,\"\"),\"\",Meldeliste!H44&\" \"&Meldeliste!I44)","v":" "},{"$f":"IF(EXACT(Meldeliste!P44,\"\"),\"\",Meldeliste!P44)","v":""},{"$f":"IF(EXACT(Meldeliste!Z44 & IF(EXACT(Meldeliste!AA44,\"\"),\"\",\"/\" & Meldeliste!AA44) & IF(EXACT(Meldeliste!AB44,\"\"),\"\",\"/\" & Meldeliste!AB44) & IF(EXACT(Meldeliste!AC44,\"\"),\"\",\"/\" & Meldeliste!AC44)  & IF(EXACT(Meldeliste!AD44,\"\"),\"\",\"/\" & Meldeliste!AD44) & IF(EXACT(Meldeliste!AE44,\"\"),\"\",\"/\" & Meldeliste!AE44) & IF(EXACT(Meldeliste!AF44,\"\"),\"\",\"/\" & Meldeliste!AF44) & IF(EXACT(Meldeliste!AG44,\"\"),\"\",\"/\" & Meldeliste!AG44),\"\"),\"\",Meldeliste!Z44 & IF(EXACT(Meldeliste!AA44,\"\"),\"\",\"/\" & Meldeliste!AA44) & IF(EXACT(Meldeliste!AB44,\"\"),\"\",\"/\" & Meldeliste!AB44) & IF(EXACT(Meldeliste!AC44,\"\"),\"\",\"/\" & Meldeliste!AC44)  & IF(EXACT(Meldeliste!AD44,\"\"),\"\",\"/\" & Meldeliste!AD44) & IF(EXACT(Meldeliste!AE44,\"\"),\"\",\"/\" & Meldeliste!AE44) & IF(EXACT(Meldeliste!AF44,\"\"),\"\",\"/\" & Meldeliste!AF44) & IF(EXACT(Meldeliste!AG44,\"\"),\"\",\"/\" & Meldeliste!AG44))","v":""},{"$f":"IF(EXACT(Meldeliste!E44,\"\"),\"\",Meldeliste!E44)","v":""},{"$f":"IF(EXACT(Meldeliste!F44,\"\"),\"\",Meldeliste!F44)","v":""},{"$f":"IF(EXACT(Meldeliste!B44,\"\"),\"\",Meldeliste!B44)","v":""},null,"","",null,"",""]
[{"$f":"IF(EXACT(Meldeliste!C45,\"\"),\"\",Meldeliste!C45)","v":""},{"$f":"IF(EXACT(Meldeliste!H45&\" \"&Meldeliste!I45,\"\"),\"\",Meldeliste!H45&\" \"&Meldeliste!I45)","v":" "},{"$f":"IF(EXACT(Meldeliste!P45,\"\"),\"\",Meldeliste!P45)","v":""},{"$f":"IF(EXACT(Meldeliste!Z45 & IF(EXACT(Meldeliste!AA45,\"\"),\"\",\"/\" & Meldeliste!AA45) & IF(EXACT(Meldeliste!AB45,\"\"),\"\",\"/\" & Meldeliste!AB45) & IF(EXACT(Meldeliste!AC45,\"\"),\"\",\"/\" & Meldeliste!AC45)  & IF(EXACT(Meldeliste!AD45,\"\"),\"\",\"/\" & Meldeliste!AD45) & IF(EXACT(Meldeliste!AE45,\"\"),\"\",\"/\" & Meldeliste!AE45) & IF(EXACT(Meldeliste!AF45,\"\"),\"\",\"/\" & Meldeliste!AF45) & IF(EXACT(Meldeliste!AG45,\"\"),\"\",\"/\" & Meldeliste!AG45),\"\"),\"\",Meldeliste!Z45 & IF(EXACT(Meldeliste!AA45,\"\"),\"\",\"/\" & Meldeliste!AA45) & IF(EXACT(Meldeliste!AB45,\"\"),\"\",\"/\" & Meldeliste!AB45) & IF(EXACT(Meldeliste!AC45,\"\"),\"\",\"/\" & Meldeliste!AC45)  & IF(EXACT(Meldeliste!AD45,\"\"),\"\",\"/\" & Meldeliste!AD45) & IF(EXACT(Meldeliste!AE45,\"\"),\"\",\"/\" & Meldeliste!AE45) & IF(EXACT(Meldeliste!AF45,\"\"),\"\",\"/\" & Meldeliste!AF45) & IF(EXACT(Meldeliste!AG45,\"\"),\"\",\"/\" & Meldeliste!AG45))","v":""},{"$f":"IF(EXACT(Meldeliste!E45,\"\"),\"\",Meldeliste!E45)","v":""},{"$f":"IF(EXACT(Meldeliste!F45,\"\"),\"\",Meldeliste!F45)","v":""},{"$f":"IF(EXACT(Meldeliste!B45,\"\"),\"\",Meldeliste!B45)","v":""},null,"","",null,"",""]
[{"$f":"IF(EXACT(Meldeliste!C46,\"\"),\"\",Meldeliste!C46)","v":""},{"$f":"IF(EXACT(Meldeliste!H46&\" \"&Meldeliste!I46,\"\"),\"\",Meldeliste!H46&\" \"&Meldeliste!I46)","v":" "},{"$f":"IF(EXACT(Meldeliste!P46,\"\"),\"\",Meldeliste!P46)","v":""},{"$f":"IF(EXACT(Meldeliste!Z46 & IF(EXACT(Meldeliste!AA46,\"\"),\"\",\"/\" & Meldeliste!AA46) & IF(EXACT(Meldeliste!AB46,\"\"),\"\",\"/\" & Meldeliste!AB46) & IF(EXACT(Meldeliste!AC46,\"\"),\"\",\"/\" & Meldeliste!AC46)  & IF(EXACT(Meldeliste!AD46,\"\"),\"\",\"/\" & Meldeliste!AD46) & IF(EXACT(Meldeliste!AE46,\"\"),\"\",\"/\" & Meldeliste!AE46) & IF(EXACT(Meldeliste!AF46,\"\"),\"\",\"/\" & Meldeliste!AF46) & IF(EXACT(Meldeliste!AG46,\"\"),\"\",\"/\" & Meldeliste!AG46),\"\"),\"\",Meldeliste!Z46 & IF(EXACT(Meldeliste!AA46,\"\"),\"\",\"/\" & Meldeliste!AA46) & IF(EXACT(Meldeliste!AB46,\"\"),\"\",\"/\" & Meldeliste!AB46) & IF(EXACT(Meldeliste!AC46,\"\"),\"\",\"/\" & Meldeliste!AC46)  & IF(EXACT(Meldeliste!AD46,\"\"),\"\",\"/\" & Meldeliste!AD46) & IF(EXACT(Meldeliste!AE46,\"\"),\"\",\"/\" & Meldeliste!AE46) & IF(EXACT(Meldeliste!AF46,\"\"),\"\",\"/\" & Meldeliste!AF46) & IF(EXACT(Meldeliste!AG46,\"\"),\"\",\"/\" & Meldeliste!AG46))","v":""},{"$f":"IF(EXACT(Meldeliste!E46,\"\"),\"\",Meldeliste!E46)","v":""},{"$f":"IF(EXACT(Meldeliste!F46,\"\"),\"\",Meldeliste!F46)","v":""},{"$f":"IF(EXACT(Meldeliste!B46,\"\"),\"\",Meldeliste!B46)","v":""},null,"","",null,"",""]
[{"$f":"IF(EXACT(Meldeliste!C47,\"\"),\"\",Meldeliste!C47)","v":""},{"$f":"IF(EXACT(Meldeliste!H47&\" \"&Meldeliste!I47,\"\"),\"\",Meldeliste!H47&\" \"&Meldeliste!I47)","v":" "},{"$f":"IF(EXACT(Meldeliste!P47,\"\"),\"\",Meldeliste!P47)","v":""},{"$f":"IF(EXACT(Meldeliste!Z47 & IF(EXACT(Meldeliste!AA47,\"\"),\"\",\"/\" & Meldeliste!AA47) & IF(EXACT(Meldeliste!AB47,\"\"),\"\",\"/\" & Meldeliste!AB47) & IF(EXACT(Meldeliste!AC47,\"\"),\"\",\"/\" & Meldeliste!AC47)  & IF(EXACT(Meldeliste!AD47,\"\"),\"\",\"/\" & Meldeliste!AD47) & IF(EXACT(Meldeliste!AE47,\"\"),\"\",\"/\" & Meldeliste!AE47) & IF(EXACT(Meldeliste!AF47,\"\"),\"\",\"/\" & Meldeliste!AF47) & IF(EXACT(Meldeliste!AG47,\"\"),\"\",\"/\" & Meldeliste!AG47),\"\"),\"\",Meldeliste!Z47 & IF(EXACT(Meldeliste!AA47,\"\"),\"\",\"/\" & Meldeliste!AA47) & IF(EXACT(Meldeliste!AB47,\"\"),\"\",\"/\" & Meldeliste!AB47) & IF(EXACT(Meldeliste!AC47,\"\"),\"\",\"/\" & Meldeliste!AC47)  & IF(EXACT(Meldeliste!AD47,\"\"),\"\",\"/\" & Meldeliste!AD47) & IF(EXACT(Meldeliste!AE47,\"\"),\"\",\"/\" & Meldeliste!AE47) & IF(EXACT(Meldeliste!AF47,\"\"),\"\",\"/\" & Meldeliste!AF47) & IF(EXACT(Meldeliste!AG47,\"\"),\"\",\"/\" & Meldeliste!AG47))","v":""},{"$f":"IF(EXACT(Meldeliste!E47,\"\"),\"\",Meldeliste!E47)","v":""},{"$f":"IF(EXACT(Meldeliste!F47,\"\"),\"\",Meldeliste!F47)","v":""},{"$f":"IF(EXACT(Meldeliste!B47,\"\"),\"\",Meldeliste!B47)","v":""},null,"","",null,"",""]
[{"$f":"IF(EXACT(Meldeliste!C48,\"\"),\"\",Meldeliste!C48)","v":""},{"$f":"IF(EXACT(Meldeliste!H48&\" \"&Meldeliste!I48,\"\"),\"\",Meldeliste!H48&\" \"&Meldeliste!I48)","v":" "},{"$f":"IF(EXACT(Meldeliste!P48,\"\"),\"\",Meldeliste!P48)","v":""},{"$f":"IF(EXACT(Meldeliste!Z48 & IF(EXACT(Meldeliste!AA48,\"\"),\"\",\"/\" & Meldeliste!AA48) & IF(EXACT(Meldeliste!AB48,\"\"),\"\",\"/\" & Meldeliste!AB48) & IF(EXACT(Meldeliste!AC48,\"\"),\"\",\"/\" & Meldeliste!AC48)  & IF(EXACT(Meldeliste!AD48,\"\"),\"\",\"/\" & Meldeliste!AD48) & IF(EXACT(Meldeliste!AE48,\"\"),\"\",\"/\" & Meldeliste!AE48) & IF(EXACT(Meldeliste!AF48,\"\"),\"\",\"/\" & Meldeliste!AF48) & IF(EXACT(Meldeliste!AG48,\"\"),\"\",\"/\" & Meldeliste!AG48),\"\"),\"\",Meldeliste!Z48 & IF(EXACT(Meldeliste!AA48,\"\"),\"\",\"/\" & Meldeliste!AA48) & IF(EXACT(Meldeliste!AB48,\"\"),\"\",\"/\" & Meldeliste!AB48) & IF(EXACT(Meldeliste!AC48,\"\"),\"\",\"/\" & Meldeliste!AC48)  & IF(EXACT(Meldeliste!AD48,\"\"),\"\",\"/\" & Meldeliste!AD48) & IF(EXACT(Meldeliste!AE48,\"\"),\"\",\"/\" & Meldeliste!AE48) & IF(EXACT(Meldeliste!AF48,\"\"),\"\",\"/\" & Meldeliste!AF48) & IF(EXACT(Meldeliste!AG48,\"\"),\"\",\"/\" & Meldeliste!AG48))","v":""},{"$f":"IF(EXACT(Meldeliste!E48,\"\"),\"\",Meldeliste!E48)","v":""},{"$f":"IF(EXACT(Meldeliste!F48,\"\"),\"\",Meldeliste!F48)","v":""},{"$f":"IF(EXACT(Meldeliste!B48,\"\"),\"\",Meldeliste!B48)","v":""},null,"","",null,"",""]
[{"$f":"IF(EXACT(Meldeliste!C49,\"\"),\"\",Meldeliste!C49)","v":""},{"$f":"IF(EXACT(Meldeliste!H49&\" \"&Meldeliste!I49,\"\"),\"\",Meldeliste!H49&\" \"&Meldeliste!I49)","v":" "},{"$f":"IF(EXACT(Meldeliste!P49,\"\"),\"\",Meldeliste!P49)","v":""},{"$f":"IF(EXACT(Meldeliste!Z49 & IF(EXACT(Meldeliste!AA49,\"\"),\"\",\"/\" & Meldeliste!AA49) & IF(EXACT(Meldeliste!AB49,\"\"),\"\",\"/\" & Meldeliste!AB49) & IF(EXACT(Meldeliste!AC49,\"\"),\"\",\"/\" & Meldeliste!AC49)  & IF(EXACT(Meldeliste!AD49,\"\"),\"\",\"/\" & Meldeliste!AD49) & IF(EXACT(Meldeliste!AE49,\"\"),\"\",\"/\" & Meldeliste!AE49) & IF(EXACT(Meldeliste!AF49,\"\"),\"\",\"/\" & Meldeliste!AF49) & IF(EXACT(Meldeliste!AG49,\"\"),\"\",\"/\" & Meldeliste!AG49),\"\"),\"\",Meldeliste!Z49 & IF(EXACT(Meldeliste!AA49,\"\"),\"\",\"/\" & Meldeliste!AA49) & IF(EXACT(Meldeliste!AB49,\"\"),\"\",\"/\" & Meldeliste!AB49) & IF(EXACT(Meldeliste!AC49,\"\"),\"\",\"/\" & Meldeliste!AC49)  & IF(EXACT(Meldeliste!AD49,\"\"),\"\",\"/\" & Meldeliste!AD49) & IF(EXACT(Meldeliste!AE49,\"\"),\"\",\"/\" & Meldeliste!AE49) & IF(EXACT(Meldeliste!AF49,\"\"),\"\",\"/\" & Meldeliste!AF49) & IF(EXACT(Meldeliste!AG49,\"\"),\"\",\"/\" & Meldeliste!AG49))","v":""},{"$f":"IF(EXACT(Meldeliste!E49,\"\"),\"\",Meldeliste!E49)","v":""},{"$f":"IF(EXACT(Meldeliste!F49,\"\"),\"\",Meldeliste!F49)","v":""},{"$f":"IF(EXACT(Meldeliste!B49,\"\"),\"\",Meldeliste!B49)","v":""},null,"","",null,"",""]
[{"$f":"IF(EXACT(Meldeliste!C50,\"\"),\"\",Meldeliste!C50)","v":""},{"$f":"IF(EXACT(Meldeliste!H50&\" \"&Meldeliste!I50,\"\"),\"\",Meldeliste!H50&\" \"&Meldeliste!I50)","v":" "},{"$f":"IF(EXACT(Meldeliste!P50,\"\"),\"\",Meldeliste!P50)","v":""},{"$f":"IF(EXACT(Meldeliste!Z50 & IF(EXACT(Meldeliste!AA50,\"\"),\"\",\"/\" & Meldeliste!AA50) & IF(EXACT(Meldeliste!AB50,\"\"),\"\",\"/\" & Meldeliste!AB50) & IF(EXACT(Meldeliste!AC50,\"\"),\"\",\"/\" & Meldeliste!AC50)  & IF(EXACT(Meldeliste!AD50,\"\"),\"\",\"/\" & Meldeliste!AD50) & IF(EXACT(Meldeliste!AE50,\"\"),\"\",\"/\" & Meldeliste!AE50) & IF(EXACT(Meldeliste!AF50,\"\"),\"\",\"/\" & Meldeliste!AF50) & IF(EXACT(Meldeliste!AG50,\"\"),\"\",\"/\" & Meldeliste!AG50),\"\"),\"\",Meldeliste!Z50 & IF(EXACT(Meldeliste!AA50,\"\"),\"\",\"/\" & Meldeliste!AA50) & IF(EXACT(Meldeliste!AB50,\"\"),\"\",\"/\" & Meldeliste!AB50) & IF(EXACT(Meldeliste!AC50,\"\"),\"\",\"/\" & Meldeliste!AC50)  & IF(EXACT(Meldeliste!AD50,\"\"),\"\",\"/\" & Meldeliste!AD50) & IF(EXACT(Meldeliste!AE50,\"\"),\"\",\"/\" & Meldeliste!AE50) & IF(EXACT(Meldeliste!AF50,\"\"),\"\",\"/\" & Meldeliste!AF50) & IF(EXACT(Meldeliste!AG50,\"\"),\"\",\"/\" & Meldeliste!AG50))","v":""},{"$f":"IF(EXACT(Meldeliste!E50,\"\"),\"\",Meldeliste!E50)","v":""},{"$f":"IF(EXACT(Meldeliste!F50,\"\"),\"\",Meldeliste!F50)","v":""},{"$f":"IF(EXACT(Meldeliste!B50,\"\"),\"\",Meldeliste!B50)","v":""},null,"","",null,"",""]
[{"$f":"IF(EXACT(Meldeliste!C51,\"\"),\"\",Meldeliste!C51)","v":""},{"$f":"IF(EXACT(Meldeliste!H51&\" \"&Meldeliste!I51,\"\"),\"\",Meldeliste!H51&\" \"&Meldeliste!I51)","v":" "},{"$f":"IF(EXACT(Meldeliste!P51,\"\"),\"\",Meldeliste!P51)","v":""},{"$f":"IF(EXACT(Meldeliste!Z51 & IF(EXACT(Meldeliste!AA51,\"\"),\"\",\"/\" & Meldeliste!AA51) & IF(EXACT(Meldeliste!AB51,\"\"),\"\",\"/\" & Meldeliste!AB51) & IF(EXACT(Meldeliste!AC51,\"\"),\"\",\"/\" & Meldeliste!AC51)  & IF(EXACT(Meldeliste!AD51,\"\"),\"\",\"/\" & Meldeliste!AD51) & IF(EXACT(Meldeliste!AE51,\"\"),\"\",\"/\" & Meldeliste!AE51) & IF(EXACT(Meldeliste!AF51,\"\"),\"\",\"/\" & Meldeliste!AF51) & IF(EXACT(Meldeliste!AG51,\"\"),\"\",\"/\" & Meldeliste!AG51),\"\"),\"\",Meldeliste!Z51 & IF(EXACT(Meldeliste!AA51,\"\"),\"\",\"/\" & Meldeliste!AA51) & IF(EXACT(Meldeliste!AB51,\"\"),\"\",\"/\" & Meldeliste!AB51) & IF(EXACT(Meldeliste!AC51,\"\"),\"\",\"/\" & Meldeliste!AC51)  & IF(EXACT(Meldeliste!AD51,\"\"),\"\",\"/\" & Meldeliste!AD51) & IF(EXACT(Meldeliste!AE51,\"\"),\"\",\"/\" & Meldeliste!AE51) & IF(EXACT(Meldeliste!AF51,\"\"),\"\",\"/\" & Meldeliste!AF51) & IF(EXACT(Meldeliste!AG51,\"\"),\"\",\"/\" & Meldeliste!AG51))","v":""},{"$f":"IF(EXACT(Meldeliste!E51,\"\"),\"\",Meldeliste!E51)","v":""},{"$f":"IF(EXACT(Meldeliste!F51,\"\"),\"\",Meldeliste!F51)","v":""},{"$f":"IF(EXACT(Meldeliste!B51,\"\"),\"\",Meldeliste!B51)","v":""},null,"","",null,"",""]
[{"$f":"IF(EXACT(Meldeliste!C52,\"\"),\"\",Meldeliste!C52)","v":""},{"$f":"IF(EXACT(Meldeliste!H52&\" \"&Meldeliste!I52,\"\"),\"\",Meldeliste!H52&\" \"&Meldeliste!I52)","v":" "},{"$f":"IF(EXACT(Meldeliste!P52,\"\"),\"\",Meldeliste!P52)","v":""},{"$f":"IF(EXACT(Meldeliste!Z52 & IF(EXACT(Meldeliste!AA52,\"\"),\"\",\"/\" & Meldeliste!AA52) & IF(EXACT(Meldeliste!AB52,\"\"),\"\",\"/\" & Meldeliste!AB52) & IF(EXACT(Meldeliste!AC52,\"\"),\"\",\"/\" & Meldeliste!AC52)  & IF(EXACT(Meldeliste!AD52,\"\"),\"\",\"/\" & Meldeliste!AD52) & IF(EXACT(Meldeliste!AE52,\"\"),\"\",\"/\" & Meldeliste!AE52) & IF(EXACT(Meldeliste!AF52,\"\"),\"\",\"/\" & Meldeliste!AF52) & IF(EXACT(Meldeliste!AG52,\"\"),\"\",\"/\" & Meldeliste!AG52),\"\"),\"\",Meldeliste!Z52 & IF(EXACT(Meldeliste!AA52,\"\"),\"\",\"/\" & Meldeliste!AA52) & IF(EXACT(Meldeliste!AB52,\"\"),\"\",\"/\" & Meldeliste!AB52) & IF(EXACT(Meldeliste!AC52,\"\"),\"\",\"/\" & Meldeliste!AC52)  & IF(EXACT(Meldeliste!AD52,\"\"),\"\",\"/\" & Meldeliste!AD52) & IF(EXACT(Meldeliste!AE52,\"\"),\"\",\"/\" & Meldeliste!AE52) & IF(EXACT(Meldeliste!AF52,\"\"),\"\",\"/\" & Meldeliste!AF52) & IF(EXACT(Meldeliste!AG52,\"\"),\"\",\"/\" & Meldeliste!AG52))","v":""},{"$f":"IF(EXACT(Meldeliste!E52,\"\"),\"\",Meldeliste!E52)","v":""},{"$f":"IF(EXACT(Meldeliste!F52,\"\"),\"\",Meldeliste!F52)","v":""},{"$f":"IF(EXACT(Meldeliste!B52,\"\"),\"\",Meldeliste!B52)","v":""},null,"","",null,"",""]
[{"$f":"IF(EXACT(Meldeliste!C53,\"\"),\"\",Meldeliste!C53)","v":""},{"$f":"IF(EXACT(Meldeliste!H53&\" \"&Meldeliste!I53,\"\"),\"\",Meldeliste!H53&\" \"&Meldeliste!I53)","v":" "},{"$f":"IF(EXACT(Meldeliste!P53,\"\"),\"\",Meldeliste!P53)","v":""},{"$f":"IF(EXACT(Meldeliste!Z53 & IF(EXACT(Meldeliste!AA53,\"\"),\"\",\"/\" & Meldeliste!AA53) & IF(EXACT(Meldeliste!AB53,\"\"),\"\",\"/\" & Meldeliste!AB53) & IF(EXACT(Meldeliste!AC53,\"\"),\"\",\"/\" & Meldeliste!AC53)  & IF(EXACT(Meldeliste!AD53,\"\"),\"\",\"/\" & Meldeliste!AD53) & IF(EXACT(Meldeliste!AE53,\"\"),\"\",\"/\" & Meldeliste!AE53) & IF(EXACT(Meldeliste!AF53,\"\"),\"\",\"/\" & Meldeliste!AF53) & IF(EXACT(Meldeliste!AG53,\"\"),\"\",\"/\" & Meldeliste!AG53),\"\"),\"\",Meldeliste!Z53 & IF(EXACT(Meldeliste!AA53,\"\"),\"\",\"/\" & Meldeliste!AA53) & IF(EXACT(Meldeliste!AB53,\"\"),\"\",\"/\" & Meldeliste!AB53) & IF(EXACT(Meldeliste!AC53,\"\"),\"\",\"/\" & Meldeliste!AC53)  & IF(EXACT(Meldeliste!AD53,\"\"),\"\",\"/\" & Meldeliste!AD53) & IF(EXACT(Meldeliste!AE53,\"\"),\"\",\"/\" & Meldeliste!AE53) & IF(EXACT(Meldeliste!AF53,\"\"),\"\",\"/\" & Meldeliste!AF53) & IF(EXACT(Meldeliste!AG53,\"\"),\"\",\"/\" & Meldeliste!AG53))","v":""},{"$f":"IF(EXACT(Meldeliste!E53,\"\"),\"\",Meldeliste!E53)","v":""},{"$f":"IF(EXACT(Meldeliste!F53,\"\"),\"\",Meldeliste!F53)","v":""},{"$f":"IF(EXACT(Meldeliste!B53,\"\"),\"\",Meldeliste!B53)","v":""},null,"","",null,"",""]
[{"$f":"IF(EXACT(Meldeliste!C54,\"\"),\"\",Meldeliste!C54)","v":""},{"$f":"IF(EXACT(Meldeliste!H54&\" \"&Meldeliste!I54,\"\"),\"\",Meldeliste!H54&\" \"&Meldeliste!I54)","v":" "},{"$f":"IF(EXACT(Meldeliste!P54,\"\"),\"\",Meldeliste!P54)","v":""},{"$f":"IF(EXACT(Meldeliste!Z54 & IF(EXACT(Meldeliste!AA54,\"\"),\"\",\"/\" & Meldeliste!AA54) & IF(EXACT(Meldeliste!AB54,\"\"),\"\",\"/\" & Meldeliste!AB54) & IF(EXACT(Meldeliste!AC54,\"\"),\"\",\"/\" & Meldeliste!AC54)  & IF(EXACT(Meldeliste!AD54,\"\"),\"\",\"/\" & Meldeliste!AD54) & IF(EXACT(Meldeliste!AE54,\"\"),\"\",\"/\" & Meldeliste!AE54) & IF(EXACT(Meldeliste!AF54,\"\"),\"\",\"/\" & Meldeliste!AF54) & IF(EXACT(Meldeliste!AG54,\"\"),\"\",\"/\" & Meldeliste!AG54),\"\"),\"\",Meldeliste!Z54 & IF(EXACT(Meldeliste!AA54,\"\"),\"\",\"/\" & Meldeliste!AA54) & IF(EXACT(Meldeliste!AB54,\"\"),\"\",\"/\" & Meldeliste!AB54) & IF(EXACT(Meldeliste!AC54,\"\"),\"\",\"/\" & Meldeliste!AC54)  & IF(EXACT(Meldeliste!AD54,\"\"),\"\",\"/\" & Meldeliste!AD54) & IF(EXACT(Meldeliste!AE54,\"\"),\"\",\"/\" & Meldeliste!AE54) & IF(EXACT(Meldeliste!AF54,\"\"),\"\",\"/\" & Meldeliste!AF54) & IF(EXACT(Meldeliste!AG54,\"\"),\"\",\"/\" & Meldeliste!AG54))","v":""},{"$f":"IF(EXACT(Meldeliste!E54,\"\"),\"\",Meldeliste!E54)","v":""},{"$f":"IF(EXACT(Meldeliste!F54,\"\"),\"\",Meldeliste!F54)","v":""},{"$f":"IF(EXACT(Meldeliste!B54,\"\"),\"\",Meldeliste!B54)","v":""},null,"","",null,"",""]
[{"$f":"IF(EXACT(Meldeliste!C55,\"\"),\"\",Meldeliste!C55)","v":""},{"$f":"IF(EXACT(Meldeliste!H55&\" \"&Meldeliste!I55,\"\"),\"\",Meldeliste!H55&\" \"&Meldeliste!I55)","v":" "},{"$f":"IF(EXACT(Meldeliste!P55,\"\"),\"\",Meldeliste!P55)","v":""},{"$f":"IF(EXACT(Meldeliste!Z55 & IF(EXACT(Meldeliste!AA55,\"\"),\"\",\"/\" & Meldeliste!AA55) & IF(EXACT(Meldeliste!AB55,\"\"),\"\",\"/\" & Meldeliste!AB55) & IF(EXACT(Meldeliste!AC55,\"\"),\"\",\"/\" & Meldeliste!AC55)  & IF(EXACT(Meldeliste!AD55,\"\"),\"\",\"/\" & Meldeliste!AD55) & IF(EXACT(Meldeliste!AE55,\"\"),\"\",\"/\" & Meldeliste!AE55) & IF(EXACT(Meldeliste!AF55,\"\"),\"\",\"/\" & Meldeliste!AF55) & IF(EXACT(Meldeliste!AG55,\"\"),\"\",\"/\" & Meldeliste!AG55),\"\"),\"\",Meldeliste!Z55 & IF(EXACT(Meldeliste!AA55,\"\"),\"\",\"/\" & Meldeliste!AA55) & IF(EXACT(Meldeliste!AB55,\"\"),\"\",\"/\" & Meldeliste!AB55) & IF(EXACT(Meldeliste!AC55,\"\"),\"\",\"/\" & Meldeliste!AC55)  & IF(EXACT(Meldeliste!AD55,\"\"),\"\",\"/\" & Meldeliste!AD55) & IF(EXACT(Meldeliste!AE55,\"\"),\"\",\"/\" & Meldeliste!AE55) & IF(EXACT(Meldeliste!AF55,\"\"),\"\",\"/\" & Meldeliste!AF55) & IF(EXACT(Meldeliste!AG55,\"\"),\"\",\"/\" & Meldeliste!AG55))","v":""},{"$f":"IF(EXACT(Meldeliste!E55,\"\"),\"\",Meldeliste!E55)","v":""},{"$f":"IF(EXACT(Meldeliste!F55,\"\"),\"\",Meldeliste!F55)","v":""},{"$f":"IF(EXACT(Meldeliste!B55,\"\"),\"\",Meldeliste!B55)","v":""},null,"","",null,"",""]
[{"$f":"IF(EXACT(Meldeliste!C56,\"\"),\"\",Meldeliste!C56)","v":""},{"$f":"IF(EXACT(Meldeliste!H56&\" \"&Meldeliste!I56,\"\"),\"\",Meldeliste!H56&\" \"&Meldeliste!I56)","v":" "},{"$f":"IF(EXACT(Meldeliste!P56,\"\"),\"\",Meldeliste!P56)","v":""},{"$f":"IF(EXACT(Meldeliste!Z56 & IF(EXACT(Meldeliste!AA56,\"\"),\"\",\"/\" & Meldeliste!AA56) & IF(EXACT(Meldeliste!AB56,\"\"),\"\",\"/\" & Meldeliste!AB56) & IF(EXACT(Meldeliste!AC56,\"\"),\"\",\"/\" & Meldeliste!AC56)  & IF(EXACT(Meldeliste!AD56,\"\"),\"\",\"/\" & Meldeliste!AD56) & IF(EXACT(Meldeliste!AE56,\"\"),\"\",\"/\" & Meldeliste!AE56) & IF(EXACT(Meldeliste!AF56,\"\"),\"\",\"/\" & Meldeliste!AF56) & IF(EXACT(Meldeliste!AG56,\"\"),\"\",\"/\" & Meldeliste!AG56),\"\"),\"\",Meldeliste!Z56 & IF(EXACT(Meldeliste!AA56,\"\"),\"\",\"/\" & Meldeliste!AA56) & IF(EXACT(Meldeliste!AB56,\"\"),\"\",\"/\" & Meldeliste!AB56) & IF(EXACT(Meldeliste!AC56,\"\"),\"\",\"/\" & Meldeliste!AC56)  & IF(EXACT(Meldeliste!AD56,\"\"),\"\",\"/\" & Meldeliste!AD56) & IF(EXACT(Meldeliste!AE56,\"\"),\"\",\"/\" & Meldeliste!AE56) & IF(EXACT(Meldeliste!AF56,\"\"),\"\",\"/\" & Meldeliste!AF56) & IF(EXACT(Meldeliste!AG56,\"\"),\"\",\"/\" & Meldeliste!AG56))","v":""},{"$f":"IF(EXACT(Meldeliste!E56,\"\"),\"\",Meldeliste!E56)","v":""},{"$f":"IF(EXACT(Meldeliste!F56,\"\"),\"\",Meldeliste!F56)","v":""},{"$f":"IF(EXACT(Meldeliste!B56,\"\"),\"\",Meldeliste!B56)","v":""},null,"","",null,"",""]
[{"$f":"IF(EXACT(Meldeliste!C57,\"\"),\"\",Meldeliste!C57)","v":""},{"$f":"IF(EXACT(Meldeliste!H57&\" \"&Meldeliste!I57,\"\"),\"\",Meldeliste!H57&\" \"&Meldeliste!I57)","v":" "},{"$f":"IF(EXACT(Meldeliste!P57,\"\"),\"\",Meldeliste!P57)","v":""},{"$f":"IF(EXACT(Meldeliste!Z57 & IF(EXACT(Meldeliste!AA57,\"\"),\"\",\"/\" & Meldeliste!AA57) & IF(EXACT(Meldeliste!AB57,\"\"),\"\",\"/\" & Meldeliste!AB57) & IF(EXACT(Meldeliste!AC57,\"\"),\"\",\"/\" & Meldeliste!AC57)  & IF(EXACT(Meldeliste!AD57,\"\"),\"\",\"/\" & Meldeliste!AD57) & IF(EXACT(Meldeliste!AE57,\"\"),\"\",\"/\" & Meldeliste!AE57) & IF(EXACT(Meldeliste!AF57,\"\"),\"\",\"/\" & Meldeliste!AF57) & IF(EXACT(Meldeliste!AG57,\"\"),\"\",\"/\" & Meldeliste!AG57),\"\"),\"\",Meldeliste!Z57 & IF(EXACT(Meldeliste!AA57,\"\"),\"\",\"/\" & Meldeliste!AA57) & IF(EXACT(Meldeliste!AB57,\"\"),\"\",\"/\" & Meldeliste!AB57) & IF(EXACT(Meldeliste!AC57,\"\"),\"\",\"/\" & Meldeliste!AC57)  & IF(EXACT(Meldeliste!AD57,\"\"),\"\",\"/\" & Meldeliste!AD57) & IF(EXACT(Meldeliste!AE57,\"\"),\"\",\"/\" & Meldeliste!AE57) & IF(EXACT(Meldeliste!AF57,\"\"),\"\",\"/\" & Meldeliste!AF57) & IF(EXACT(Meldeliste!AG57,\"\"),\"\",\"/\" & Meldeliste!AG57))","v":""},{"$f":"IF(EXACT(Meldeliste!E57,\"\"),\"\",Meldeliste!E57)","v":""},{"$f":"IF(EXACT(Meldeliste!F57,\"\"),\"\",Meldeliste!F57)","v":""},{"$f":"IF(EXACT(Meldeliste!B57,\"\"),\"\",Meldeliste!B57)","v":""},null,"","",null,"",""]
[{"$f":"IF(EXACT(Meldeliste!C58,\"\"),\"\",Meldeliste!C58)","v":""},{"$f":"IF(EXACT(Meldeliste!H58&\" \"&Meldeliste!I58,\"\"),\"\",Meldeliste!H58&\" \"&Meldeliste!I58)","v":" "},{"$f":"IF(EXACT(Meldeliste!P58,\"\"),\"\",Meldeliste!P58)","v":""},{"$f":"IF(EXACT(Meldeliste!Z58 & IF(EXACT(Meldeliste!AA58,\"\"),\"\",\"/\" & Meldeliste!AA58) & IF(EXACT(Meldeliste!AB58,\"\"),\"\",\"/\" & Meldeliste!AB58) & IF(EXACT(Meldeliste!AC58,\"\"),\"\",\"/\" & Meldeliste!AC58)  & IF(EXACT(Meldeliste!AD58,\"\"),\"\",\"/\" & Meldeliste!AD58) & IF(EXACT(Meldeliste!AE58,\"\"),\"\",\"/\" & Meldeliste!AE58) & IF(EXACT(Meldeliste!AF58,\"\"),\"\",\"/\" & Meldeliste!AF58) & IF(EXACT(Meldeliste!AG58,\"\"),\"\",\"/\" & Meldeliste!AG58),\"\"),\"\",Meldeliste!Z58 & IF(EXACT(Meldeliste!AA58,\"\"),\"\",\"/\" & Meldeliste!AA58) & IF(EXACT(Meldeliste!AB58,\"\"),\"\",\"/\" & Meldeliste!AB58) & IF(EXACT(Meldeliste!AC58,\"\"),\"\",\"/\" & Meldeliste!AC58)  & IF(EXACT(Meldeliste!AD58,\"\"),\"\",\"/\" & Meldeliste!AD58) & IF(EXACT(Meldeliste!AE58,\"\"),\"\",\"/\" & Meldeliste!AE58) & IF(EXACT(Meldeliste!AF58,\"\"),\"\",\"/\" & Meldeliste!AF58) & IF(EXACT(Meldeliste!AG58,\"\"),\"\",\"/\" & Meldeliste!AG58))","v":""},{"$f":"IF(EXACT(Meldeliste!E58,\"\"),\"\",Meldeliste!E58)","v":""},{"$f":"IF(EXACT(Meldeliste!F58,\"\"),\"\",Meldeliste!F58)","v":""},{"$f":"IF(EXACT(Meldeliste!B58,\"\"),\"\",Meldeliste!B58)","v":""},null,"","",null,"",""]
[{"$f":"IF(EXACT(Meldeliste!C59,\"\"),\"\",Meldeliste!C59)","v":""},{"$f":"IF(EXACT(Meldeliste!H59&\" \"&Meldeliste!I59,\"\"),\"\",Meldeliste!H59&\" \"&Meldeliste!I59)","v":" "},{"$f":"IF(EXACT(Meldeliste!P59,\"\"),\"\",Meldeliste!P59)","v":""},{"$f":"IF(EXACT(Meldeliste!Z59 & IF(EXACT(Meldeliste!AA59,\"\"),\"\",\"/\" & Meldeliste!AA59) & IF(EXACT(Meldeliste!AB59,\"\"),\"\",\"/\" & Meldeliste!AB59) & IF(EXACT(Meldeliste!AC59,\"\"),\"\",\"/\" & Meldeliste!AC59)  & IF(EXACT(Meldeliste!AD59,\"\"),\"\",\"/\" & Meldeliste!AD59) & IF(EXACT(Meldeliste!AE59,\"\"),\"\",\"/\" & Meldeliste!AE59) & IF(EXACT(Meldeliste!AF59,\"\"),\"\",\"/\" & Meldeliste!AF59) & IF(EXACT(Meldeliste!AG59,\"\"),\"\",\"/\" & Meldeliste!AG59),\"\"),\"\",Meldeliste!Z59 & IF(EXACT(Meldeliste!AA59,\"\"),\"\",\"/\" & Meldeliste!AA59) & IF(EXACT(Meldeliste!AB59,\"\"),\"\",\"/\" & Meldeliste!AB59) & IF(EXACT(Meldeliste!AC59,\"\"),\"\",\"/\" & Meldeliste!AC59)  & IF(EXACT(Meldeliste!AD59,\"\"),\"\",\"/\" & Meldeliste!AD59) & IF(EXACT(Meldeliste!AE59,\"\"),\"\",\"/\" & Meldeliste!AE59) & IF(EXACT(Meldeliste!AF59,\"\"),\"\",\"/\" & Meldeliste!AF59) & IF(EXACT(Meldeliste!AG59,\"\"),\"\",\"/\" & Meldeliste!AG59))","v":""},{"$f":"IF(EXACT(Meldeliste!E59,\"\"),\"\",Meldeliste!E59)","v":""},{"$f":"IF(EXACT(Meldeliste!F59,\"\"),\"\",Meldeliste!F59)","v":""},{"$f":"IF(EXACT(Meldeliste!B59,\"\"),\"\",Meldeliste!B59)","v":""},null,"","",null,"",""]
[{"$f":"IF(EXACT(Meldeliste!C60,\"\"),\"\",Meldeliste!C60)","v":""},{"$f":"IF(EXACT(Meldeliste!H60&\" \"&Meldeliste!I60,\"\"),\"\",Meldeliste!H60&\" \"&Meldeliste!I60)","v":" "},{"$f":"IF(EXACT(Meldeliste!P60,\"\"),\"\",Meldeliste!P60)","v":""},{"$f":"IF(EXACT(Meldeliste!Z60 & IF(EXACT(Meldeliste!AA60,\"\"),\"\",\"/\" & Meldeliste!AA60) & IF(EXACT(Meldeliste!AB60,\"\"),\"\",\"/\" & Meldeliste!AB60) & IF(EXACT(Meldeliste!AC60,\"\"),\"\",\"/\" & Meldeliste!AC60)  & IF(EXACT(Meldeliste!AD60,\"\"),\"\",\"/\" & Meldeliste!AD60) & IF(EXACT(Meldeliste!AE60,\"\"),\"\",\"/\" & Meldeliste!AE60) & IF(EXACT(Meldeliste!AF60,\"\"),\"\",\"/\" & Meldeliste!AF60) & IF(EXACT(Meldeliste!AG60,\"\"),\"\",\"/\" & Meldeliste!AG60),\"\"),\"\",Meldeliste!Z60 & IF(EXACT(Meldeliste!AA60,\"\"),\"\",\"/\" & Meldeliste!AA60) & IF(EXACT(Meldeliste!AB60,\"\"),\"\",\"/\" & Meldeliste!AB60) & IF(EXACT(Meldeliste!AC60,\"\"),\"\",\"/\" & Meldeliste!AC60)  & IF(EXACT(Meldeliste!AD60,\"\"),\"\",\"/\" & Meldeliste!AD60) & IF(EXACT(Meldeliste!AE60,\"\"),\"\",\"/\" & Meldeliste!AE60) & IF(EXACT(Meldeliste!AF60,\"\"),\"\",\"/\" & Meldeliste!AF60) & IF(EXACT(Meldeliste!AG60,\"\"),\"\",\"/\" & Meldeliste!AG60))","v":""},{"$f":"IF(EXACT(Meldeliste!E60,\"\"),\"\",Meldeliste!E60)","v":""},{"$f":"IF(EXACT(Meldeliste!F60,\"\"),\"\",Meldeliste!F60)","v":""},{"$f":"IF(EXACT(Meldeliste!B60,\"\"),\"\",Meldeliste!B60)","v":""},null,"","",null,"",""]
[{"$f":"IF(EXACT(Meldeliste!C61,\"\"),\"\",Meldeliste!C61)","v":""},{"$f":"IF(EXACT(Meldeliste!H61&\" \"&Meldeliste!I61,\"\"),\"\",Meldeliste!H61&\" \"&Meldeliste!I61)","v":" "},{"$f":"IF(EXACT(Meldeliste!P61,\"\"),\"\",Meldeliste!P61)","v":""},{"$f":"IF(EXACT(Meldeliste!Z61 & IF(EXACT(Meldeliste!AA61,\"\"),\"\",\"/\" & Meldeliste!AA61) & IF(EXACT(Meldeliste!AB61,\"\"),\"\",\"/\" & Meldeliste!AB61) & IF(EXACT(Meldeliste!AC61,\"\"),\"\",\"/\" & Meldeliste!AC61)  & IF(EXACT(Meldeliste!AD61,\"\"),\"\",\"/\" & Meldeliste!AD61) & IF(EXACT(Meldeliste!AE61,\"\"),\"\",\"/\" & Meldeliste!AE61) & IF(EXACT(Meldeliste!AF61,\"\"),\"\",\"/\" & Meldeliste!AF61) & IF(EXACT(Meldeliste!AG61,\"\"),\"\",\"/\" & Meldeliste!AG61),\"\"),\"\",Meldeliste!Z61 & IF(EXACT(Meldeliste!AA61,\"\"),\"\",\"/\" & Meldeliste!AA61) & IF(EXACT(Meldeliste!AB61,\"\"),\"\",\"/\" & Meldeliste!AB61) & IF(EXACT(Meldeliste!AC61,\"\"),\"\",\"/\" & Meldeliste!AC61)  & IF(EXACT(Meldeliste!AD61,\"\"),\"\",\"/\" & Meldeliste!AD61) & IF(EXACT(Meldeliste!AE61,\"\"),\"\",\"/\" & Meldeliste!AE61) & IF(EXACT(Meldeliste!AF61,\"\"),\"\",\"/\" & Meldeliste!AF61) & IF(EXACT(Meldeliste!AG61,\"\"),\"\",\"/\" & Meldeliste!AG61))","v":""},{"$f":"IF(EXACT(Meldeliste!E61,\"\"),\"\",Meldeliste!E61)","v":""},{"$f":"IF(EXACT(Meldeliste!F61,\"\"),\"\",Meldeliste!F61)","v":""},{"$f":"IF(EXACT(Meldeliste!B61,\"\"),\"\",Meldeliste!B61)","v":""},null,"","",null,"",""]
[{"$f":"IF(EXACT(Meldeliste!C62,\"\"),\"\",Meldeliste!C62)","v":""},{"$f":"IF(EXACT(Meldeliste!H62&\" \"&Meldeliste!I62,\"\"),\"\",Meldeliste!H62&\" \"&Meldeliste!I62)","v":" "},{"$f":"IF(EXACT(Meldeliste!P62,\"\"),\"\",Meldeliste!P62)","v":""},{"$f":"IF(EXACT(Meldeliste!Z62 & IF(EXACT(Meldeliste!AA62,\"\"),\"\",\"/\" & Meldeliste!AA62) & IF(EXACT(Meldeliste!AB62,\"\"),\"\",\"/\" & Meldeliste!AB62) & IF(EXACT(Meldeliste!AC62,\"\"),\"\",\"/\" & Meldeliste!AC62)  & IF(EXACT(Meldeliste!AD62,\"\"),\"\",\"/\" & Meldeliste!AD62) & IF(EXACT(Meldeliste!AE62,\"\"),\"\",\"/\" & Meldeliste!AE62) & IF(EXACT(Meldeliste!AF62,\"\"),\"\",\"/\" & Meldeliste!AF62) & IF(EXACT(Meldeliste!AG62,\"\"),\"\",\"/\" & Meldeliste!AG62),\"\"),\"\",Meldeliste!Z62 & IF(EXACT(Meldeliste!AA62,\"\"),\"\",\"/\" & Meldeliste!AA62) & IF(EXACT(Meldeliste!AB62,\"\"),\"\",\"/\" & Meldeliste!AB62) & IF(EXACT(Meldeliste!AC62,\"\"),\"\",\"/\" & Meldeliste!AC62)  & IF(EXACT(Meldeliste!AD62,\"\"),\"\",\"/\" & Meldeliste!AD62) & IF(EXACT(Meldeliste!AE62,\"\"),\"\",\"/\" & Meldeliste!AE62) & IF(EXACT(Meldeliste!AF62,\"\"),\"\",\"/\" & Meldeliste!AF62) & IF(EXACT(Meldeliste!AG62,\"\"),\"\",\"/\" & Meldeliste!AG62))","v":""},{"$f":"IF(EXACT(Meldeliste!E62,\"\"),\"\",Meldeliste!E62)","v":""},{"$f":"IF(EXACT(Meldeliste!F62,\"\"),\"\",Meldeliste!F62)","v":""},{"$f":"IF(EXACT(Meldeliste!B62,\"\"),\"\",Meldeliste!B62)","v":""},null,"","",null,"",""]
[{"$f":"IF(EXACT(Meldeliste!C63,\"\"),\"\",Meldeliste!C63)","v":""},{"$f":"IF(EXACT(Meldeliste!H63&\" \"&Meldeliste!I63,\"\"),\"\",Meldeliste!H63&\" \"&Meldeliste!I63)","v":" "},{"$f":"IF(EXACT(Meldeliste!P63,\"\"),\"\",Meldeliste!P63)","v":""},{"$f":"IF(EXACT(Meldeliste!Z63 & IF(EXACT(Meldeliste!AA63,\"\"),\"\",\"/\" & Meldeliste!AA63) & IF(EXACT(Meldeliste!AB63,\"\"),\"\",\"/\" & Meldeliste!AB63) & IF(EXACT(Meldeliste!AC63,\"\"),\"\",\"/\" & Meldeliste!AC63)  & IF(EXACT(Meldeliste!AD63,\"\"),\"\",\"/\" & Meldeliste!AD63) & IF(EXACT(Meldeliste!AE63,\"\"),\"\",\"/\" & Meldeliste!AE63) & IF(EXACT(Meldeliste!AF63,\"\"),\"\",\"/\" & Meldeliste!AF63) & IF(EXACT(Meldeliste!AG63,\"\"),\"\",\"/\" & Meldeliste!AG63),\"\"),\"\",Meldeliste!Z63 & IF(EXACT(Meldeliste!AA63,\"\"),\"\",\"/\" & Meldeliste!AA63) & IF(EXACT(Meldeliste!AB63,\"\"),\"\",\"/\" & Meldeliste!AB63) & IF(EXACT(Meldeliste!AC63,\"\"),\"\",\"/\" & Meldeliste!AC63)  & IF(EXACT(Meldeliste!AD63,\"\"),\"\",\"/\" & Meldeliste!AD63) & IF(EXACT(Meldeliste!AE63,\"\"),\"\",\"/\" & Meldeliste!AE63) & IF(EXACT(Meldeliste!AF63,\"\"),\"\",\"/\" & Meldeliste!AF63) & IF(EXACT(Meldeliste!AG63,\"\"),\"\",\"/\" & Meldeliste!AG63))","v":""},{"$f":"IF(EXACT(Meldeliste!E63,\"\"),\"\",Meldeliste!E63)","v":""},{"$f":"IF(EXACT(Meldeliste!F63,\"\"),\"\",Meldeliste!F63)","v":""},{"$f":"IF(EXACT(Meldeliste!B63,\"\"),\"\",Meldeliste!B63)","v":""},null,"","",null,"",""]
[{"$f":"IF(EXACT(Meldeliste!C64,\"\"),\"\",Meldeliste!C64)","v":""},{"$f":"IF(EXACT(Meldeliste!H64&\" \"&Meldeliste!I64,\"\"),\"\",Meldeliste!H64&\" \"&Meldeliste!I64)","v":" "},{"$f":"IF(EXACT(Meldeliste!P64,\"\"),\"\",Meldeliste!P64)","v":""},{"$f":"IF(EXACT(Meldeliste!Z64 & IF(EXACT(Meldeliste!AA64,\"\"),\"\",\"/\" & Meldeliste!AA64) & IF(EXACT(Meldeliste!AB64,\"\"),\"\",\"/\" & Meldeliste!AB64) & IF(EXACT(Meldeliste!AC64,\"\"),\"\",\"/\" & Meldeliste!AC64)  & IF(EXACT(Meldeliste!AD64,\"\"),\"\",\"/\" & Meldeliste!AD64) & IF(EXACT(Meldeliste!AE64,\"\"),\"\",\"/\" & Meldeliste!AE64) & IF(EXACT(Meldeliste!AF64,\"\"),\"\",\"/\" & Meldeliste!AF64) & IF(EXACT(Meldeliste!AG64,\"\"),\"\",\"/\" & Meldeliste!AG64),\"\"),\"\",Meldeliste!Z64 & IF(EXACT(Meldeliste!AA64,\"\"),\"\",\"/\" & Meldeliste!AA64) & IF(EXACT(Meldeliste!AB64,\"\"),\"\",\"/\" & Meldeliste!AB64) & IF(EXACT(Meldeliste!AC64,\"\"),\"\",\"/\" & Meldeliste!AC64)  & IF(EXACT(Meldeliste!AD64,\"\"),\"\",\"/\" & Meldeliste!AD64) & IF(EXACT(Meldeliste!AE64,\"\"),\"\",\"/\" & Meldeliste!AE64) & IF(EXACT(Meldeliste!AF64,\"\"),\"\",\"/\" & Meldeliste!AF64) & IF(EXACT(Meldeliste!AG64,\"\"),\"\",\"/\" & Meldeliste!AG64))","v":""},{"$f":"IF(EXACT(Meldeliste!E64,\"\"),\"\",Meldeliste!E64)","v":""},{"$f":"IF(EXACT(Meldeliste!F64,\"\"),\"\",Meldeliste!F64)","v":""},{"$f":"IF(EXACT(Meldeliste!B64,\"\"),\"\",Meldeliste!B64)","v":""},null,"","",null,"",""]
[{"$f":"IF(EXACT(Meldeliste!C65,\"\"),\"\",Meldeliste!C65)","v":""},{"$f":"IF(EXACT(Meldeliste!H65&\" \"&Meldeliste!I65,\"\"),\"\",Meldeliste!H65&\" \"&Meldeliste!I65)","v":" "},{"$f":"IF(EXACT(Meldeliste!P65,\"\"),\"\",Meldeliste!P65)","v":""},{"$f":"IF(EXACT(Meldeliste!Z65 & IF(EXACT(Meldeliste!AA65,\"\"),\"\",\"/\" & Meldeliste!AA65) & IF(EXACT(Meldeliste!AB65,\"\"),\"\",\"/\" & Meldeliste!AB65) & IF(EXACT(Meldeliste!AC65,\"\"),\"\",\"/\" & Meldeliste!AC65)  & IF(EXACT(Meldeliste!AD65,\"\"),\"\",\"/\" & Meldeliste!AD65) & IF(EXACT(Meldeliste!AE65,\"\"),\"\",\"/\" & Meldeliste!AE65) & IF(EXACT(Meldeliste!AF65,\"\"),\"\",\"/\" & Meldeliste!AF65) & IF(EXACT(Meldeliste!AG65,\"\"),\"\",\"/\" & Meldeliste!AG65),\"\"),\"\",Meldeliste!Z65 & IF(EXACT(Meldeliste!AA65,\"\"),\"\",\"/\" & Meldeliste!AA65) & IF(EXACT(Meldeliste!AB65,\"\"),\"\",\"/\" & Meldeliste!AB65) & IF(EXACT(Meldeliste!AC65,\"\"),\"\",\"/\" & Meldeliste!AC65)  & IF(EXACT(Meldeliste!AD65,\"\"),\"\",\"/\" & Meldeliste!AD65) & IF(EXACT(Meldeliste!AE65,\"\"),\"\",\"/\" & Meldeliste!AE65) & IF(EXACT(Meldeliste!AF65,\"\"),\"\",\"/\" & Meldeliste!AF65) & IF(EXACT(Meldeliste!AG65,\"\"),\"\",\"/\" & Meldeliste!AG65))","v":""},{"$f":"IF(EXACT(Meldeliste!E65,\"\"),\"\",Meldeliste!E65)","v":""},{"$f":"IF(EXACT(Meldeliste!F65,\"\"),\"\",Meldeliste!F65)","v":""},{"$f":"IF(EXACT(Meldeliste!B65,\"\"),\"\",Meldeliste!B65)","v":""},null,"","",null,"",""]
[{"$f":"IF(EXACT(Meldeliste!C66,\"\"),\"\",Meldeliste!C66)","v":""},{"$f":"IF(EXACT(Meldeliste!H66&\" \"&Meldeliste!I66,\"\"),\"\",Meldeliste!H66&\" \"&Meldeliste!I66)","v":" "},{"$f":"IF(EXACT(Meldeliste!P66,\"\"),\"\",Meldeliste!P66)","v":""},{"$f":"IF(EXACT(Meldeliste!Z66 & IF(EXACT(Meldeliste!AA66,\"\"),\"\",\"/\" & Meldeliste!AA66) & IF(EXACT(Meldeliste!AB66,\"\"),\"\",\"/\" & Meldeliste!AB66) & IF(EXACT(Meldeliste!AC66,\"\"),\"\",\"/\" & Meldeliste!AC66)  & IF(EXACT(Meldeliste!AD66,\"\"),\"\",\"/\" & Meldeliste!AD66) & IF(EXACT(Meldeliste!AE66,\"\"),\"\",\"/\" & Meldeliste!AE66) & IF(EXACT(Meldeliste!AF66,\"\"),\"\",\"/\" & Meldeliste!AF66) & IF(EXACT(Meldeliste!AG66,\"\"),\"\",\"/\" & Meldeliste!AG66),\"\"),\"\",Meldeliste!Z66 & IF(EXACT(Meldeliste!AA66,\"\"),\"\",\"/\" & Meldeliste!AA66) & IF(EXACT(Meldeliste!AB66,\"\"),\"\",\"/\" & Meldeliste!AB66) & IF(EXACT(Meldeliste!AC66,\"\"),\"\",\"/\" & Meldeliste!AC66)  & IF(EXACT(Meldeliste!AD66,\"\"),\"\",\"/\" & Meldeliste!AD66) & IF(EXACT(Meldeliste!AE66,\"\"),\"\",\"/\" & Meldeliste!AE66) & IF(EXACT(Meldeliste!AF66,\"\"),\"\",\"/\" & Meldeliste!AF66) & IF(EXACT(Meldeliste!AG66,\"\"),\"\",\"/\" & Meldeliste!AG66))","v":""},{"$f":"IF(EXACT(Meldeliste!E66,\"\"),\"\",Meldeliste!E66)","v":""},{"$f":"IF(EXACT(Meldeliste!F66,\"\"),\"\",Meldeliste!F66)","v":""},{"$f":"IF(EXACT(Meldeliste!B66,\"\"),\"\",Meldeliste!B66)","v":""},null,"","",null,"",""]
[{"$f":"IF(EXACT(Meldeliste!C67,\"\"),\"\",Meldeliste!C67)","v":""},{"$f":"IF(EXACT(Meldeliste!H67&\" \"&Meldeliste!I67,\"\"),\"\",Meldeliste!H67&\" \"&Meldeliste!I67)","v":" "},{"$f":"IF(EXACT(Meldeliste!P67,\"\"),\"\",Meldeliste!P67)","v":""},{"$f":"IF(EXACT(Meldeliste!Z67 & IF(EXACT(Meldeliste!AA67,\"\"),\"\",\"/\" & Meldeliste!AA67) & IF(EXACT(Meldeliste!AB67,\"\"),\"\",\"/\" & Meldeliste!AB67) & IF(EXACT(Meldeliste!AC67,\"\"),\"\",\"/\" & Meldeliste!AC67)  & IF(EXACT(Meldeliste!AD67,\"\"),\"\",\"/\" & Meldeliste!AD67) & IF(EXACT(Meldeliste!AE67,\"\"),\"\",\"/\" & Meldeliste!AE67) & IF(EXACT(Meldeliste!AF67,\"\"),\"\",\"/\" & Meldeliste!AF67) & IF(EXACT(Meldeliste!AG67,\"\"),\"\",\"/\" & Meldeliste!AG67),\"\"),\"\",Meldeliste!Z67 & IF(EXACT(Meldeliste!AA67,\"\"),\"\",\"/\" & Meldeliste!AA67) & IF(EXACT(Meldeliste!AB67,\"\"),\"\",\"/\" & Meldeliste!AB67) & IF(EXACT(Meldeliste!AC67,\"\"),\"\",\"/\" & Meldeliste!AC67)  & IF(EXACT(Meldeliste!AD67,\"\"),\"\",\"/\" & Meldeliste!AD67) & IF(EXACT(Meldeliste!AE67,\"\"),\"\",\"/\" & Meldeliste!AE67) & IF(EXACT(Meldeliste!AF67,\"\"),\"\",\"/\" & Meldeliste!AF67) & IF(EXACT(Meldeliste!AG67,\"\"),\"\",\"/\" & Meldeliste!AG67))","v":""},{"$f":"IF(EXACT(Meldeliste!E67,\"\"),\"\",Meldeliste!E67)","v":""},{"$f":"IF(EXACT(Meldeliste!F67,\"\"),\"\",Meldeliste!F67)","v":""},{"$f":"IF(EXACT(Meldeliste!B67,\"\"),\"\",Meldeliste!B67)","v":""},null,"","",null,"",""]
[{"$f":"IF(EXACT(Meldeliste!C68,\"\"),\"\",Meldeliste!C68)","v":""},{"$f":"IF(EXACT(Meldeliste!H68&\" \"&Meldeliste!I68,\"\"),\"\",Meldeliste!H68&\" \"&Meldeliste!I68)","v":" "},{"$f":"IF(EXACT(Meldeliste!P68,\"\"),\"\",Meldeliste!P68)","v":""},{"$f":"IF(EXACT(Meldeliste!Z68 & IF(EXACT(Meldeliste!AA68,\"\"),\"\",\"/\" & Meldeliste!AA68) & IF(EXACT(Meldeliste!AB68,\"\"),\"\",\"/\" & Meldeliste!AB68) & IF(EXACT(Meldeliste!AC68,\"\"),\"\",\"/\" & Meldeliste!AC68)  & IF(EXACT(Meldeliste!AD68,\"\"),\"\",\"/\" & Meldeliste!AD68) & IF(EXACT(Meldeliste!AE68,\"\"),\"\",\"/\" & Meldeliste!AE68) & IF(EXACT(Meldeliste!AF68,\"\"),\"\",\"/\" & Meldeliste!AF68) & IF(EXACT(Meldeliste!AG68,\"\"),\"\",\"/\" & Meldeliste!AG68),\"\"),\"\",Meldeliste!Z68 & IF(EXACT(Meldeliste!AA68,\"\"),\"\",\"/\" & Meldeliste!AA68) & IF(EXACT(Meldeliste!AB68,\"\"),\"\",\"/\" & Meldeliste!AB68) & IF(EXACT(Meldeliste!AC68,\"\"),\"\",\"/\" & Meldeliste!AC68)  & IF(EXACT(Meldeliste!AD68,\"\"),\"\",\"/\" & Meldeliste!AD68) & IF(EXACT(Meldeliste!AE68,\"\"),\"\",\"/\" & Meldeliste!AE68) & IF(EXACT(Meldeliste!AF68,\"\"),\"\",\"/\" & Meldeliste!AF68) & IF(EXACT(Meldeliste!AG68,\"\"),\"\",\"/\" & Meldeliste!AG68))","v":""},{"$f":"IF(EXACT(Meldeliste!E68,\"\"),\"\",Meldeliste!E68)","v":""},{"$f":"IF(EXACT(Meldeliste!F68,\"\"),\"\",Meldeliste!F68)","v":""},{"$f":"IF(EXACT(Meldeliste!B68,\"\"),\"\",Meldeliste!B68)","v":""},null,"","",null,"",""]
[{"$f":"IF(EXACT(Meldeliste!C69,\"\"),\"\",Meldeliste!C69)","v":""},{"$f":"IF(EXACT(Meldeliste!H69&\" \"&Meldeliste!I69,\"\"),\"\",Meldeliste!H69&\" \"&Meldeliste!I69)","v":" "},{"$f":"IF(EXACT(Meldeliste!P69,\"\"),\"\",Meldeliste!P69)","v":""},{"$f":"IF(EXACT(Meldeliste!Z69 & IF(EXACT(Meldeliste!AA69,\"\"),\"\",\"/\" & Meldeliste!AA69) & IF(EXACT(Meldeliste!AB69,\"\"),\"\",\"/\" & Meldeliste!AB69) & IF(EXACT(Meldeliste!AC69,\"\"),\"\",\"/\" & Meldeliste!AC69)  & IF(EXACT(Meldeliste!AD69,\"\"),\"\",\"/\" & Meldeliste!AD69) & IF(EXACT(Meldeliste!AE69,\"\"),\"\",\"/\" & Meldeliste!AE69) & IF(EXACT(Meldeliste!AF69,\"\"),\"\",\"/\" & Meldeliste!AF69) & IF(EXACT(Meldeliste!AG69,\"\"),\"\",\"/\" & Meldeliste!AG69),\"\"),\"\",Meldeliste!Z69 & IF(EXACT(Meldeliste!AA69,\"\"),\"\",\"/\" & Meldeliste!AA69) & IF(EXACT(Meldeliste!AB69,\"\"),\"\",\"/\" & Meldeliste!AB69) & IF(EXACT(Meldeliste!AC69,\"\"),\"\",\"/\" & Meldeliste!AC69)  & IF(EXACT(Meldeliste!AD69,\"\"),\"\",\"/\" & Meldeliste!AD69) & IF(EXACT(Meldeliste!AE69,\"\"),\"\",\"/\" & Meldeliste!AE69) & IF(EXACT(Meldeliste!AF69,\"\"),\"\",\"/\" & Meldeliste!AF69) & IF(EXACT(Meldeliste!AG69,\"\"),\"\",\"/\" & Meldeliste!AG69))","v":""},{"$f":"IF(EXACT(Meldeliste!E69,\"\"),\"\",Meldeliste!E69)","v":""},{"$f":"IF(EXACT(Meldeliste!F69,\"\"),\"\",Meldeliste!F69)","v":""},{"$f":"IF(EXACT(Meldeliste!B69,\"\"),\"\",Meldeliste!B69)","v":""},null,"","",null,"",""]
[{"$f":"IF(EXACT(Meldeliste!C70,\"\"),\"\",Meldeliste!C70)","v":""},{"$f":"IF(EXACT(Meldeliste!H70&\" \"&Meldeliste!I70,\"\"),\"\",Meldeliste!H70&\" \"&Meldeliste!I70)","v":" "},{"$f":"IF(EXACT(Meldeliste!P70,\"\"),\"\",Meldeliste!P70)","v":""},{"$f":"IF(EXACT(Meldeliste!Z70 & IF(EXACT(Meldeliste!AA70,\"\"),\"\",\"/\" & Meldeliste!AA70) & IF(EXACT(Meldeliste!AB70,\"\"),\"\",\"/\" & Meldeliste!AB70) & IF(EXACT(Meldeliste!AC70,\"\"),\"\",\"/\" & Meldeliste!AC70)  & IF(EXACT(Meldeliste!AD70,\"\"),\"\",\"/\" & Meldeliste!AD70) & IF(EXACT(Meldeliste!AE70,\"\"),\"\",\"/\" & Meldeliste!AE70) & IF(EXACT(Meldeliste!AF70,\"\"),\"\",\"/\" & Meldeliste!AF70) & IF(EXACT(Meldeliste!AG70,\"\"),\"\",\"/\" & Meldeliste!AG70),\"\"),\"\",Meldeliste!Z70 & IF(EXACT(Meldeliste!AA70,\"\"),\"\",\"/\" & Meldeliste!AA70) & IF(EXACT(Meldeliste!AB70,\"\"),\"\",\"/\" & Meldeliste!AB70) & IF(EXACT(Meldeliste!AC70,\"\"),\"\",\"/\" & Meldeliste!AC70)  & IF(EXACT(Meldeliste!AD70,\"\"),\"\",\"/\" & Meldeliste!AD70) & IF(EXACT(Meldeliste!AE70,\"\"),\"\",\"/\" & Meldeliste!AE70) & IF(EXACT(Meldeliste!AF70,\"\"),\"\",\"/\" & Meldeliste!AF70) & IF(EXACT(Meldeliste!AG70,\"\"),\"\",\"/\" & Meldeliste!AG70))","v":""},{"$f":"IF(EXACT(Meldeliste!E70,\"\"),\"\",Meldeliste!E70)","v":""},{"$f":"IF(EXACT(Meldeliste!F70,\"\"),\"\",Meldeliste!F70)","v":""},{"$f":"IF(EXACT(Meldeliste!B70,\"\"),\"\",Meldeliste!B70)","v":""},null,"","",null,"",""]
[{"$f":"IF(EXACT(Meldeliste!C71,\"\"),\"\",Meldeliste!C71)","v":""},{"$f":"IF(EXACT(Meldeliste!H71&\" \"&Meldeliste!I71,\"\"),\"\",Meldeliste!H71&\" \"&Meldeliste!I71)","v":" "},{"$f":"IF(EXACT(Meldeliste!P71,\"\"),\"\",Meldeliste!P71)","v":""},{"$f":"IF(EXACT(Meldeliste!Z71 & IF(EXACT(Meldeliste!AA71,\"\"),\"\",\"/\" & Meldeliste!AA71) & IF(EXACT(Meldeliste!AB71,\"\"),\"\",\"/\" & Meldeliste!AB71) & IF(EXACT(Meldeliste!AC71,\"\"),\"\",\"/\" & Meldeliste!AC71)  & IF(EXACT(Meldeliste!AD71,\"\"),\"\",\"/\" & Meldeliste!AD71) & IF(EXACT(Meldeliste!AE71,\"\"),\"\",\"/\" & Meldeliste!AE71) & IF(EXACT(Meldeliste!AF71,\"\"),\"\",\"/\" & Meldeliste!AF71) & IF(EXACT(Meldeliste!AG71,\"\"),\"\",\"/\" & Meldeliste!AG71),\"\"),\"\",Meldeliste!Z71 & IF(EXACT(Meldeliste!AA71,\"\"),\"\",\"/\" & Meldeliste!AA71) & IF(EXACT(Meldeliste!AB71,\"\"),\"\",\"/\" & Meldeliste!AB71) & IF(EXACT(Meldeliste!AC71,\"\"),\"\",\"/\" & Meldeliste!AC71)  & IF(EXACT(Meldeliste!AD71,\"\"),\"\",\"/\" & Meldeliste!AD71) & IF(EXACT(Meldeliste!AE71,\"\"),\"\",\"/\" & Meldeliste!AE71) & IF(EXACT(Meldeliste!AF71,\"\"),\"\",\"/\" & Meldeliste!AF71) & IF(EXACT(Meldeliste!AG71,\"\"),\"\",\"/\" & Meldeliste!AG71))","v":""},{"$f":"IF(EXACT(Meldeliste!E71,\"\"),\"\",Meldeliste!E71)","v":""},{"$f":"IF(EXACT(Meldeliste!F71,\"\"),\"\",Meldeliste!F71)","v":""},{"$f":"IF(EXACT(Meldeliste!B71,\"\"),\"\",Meldeliste!B71)","v":""},null,"","",null,"",""]
[{"$f":"IF(EXACT(Meldeliste!C72,\"\"),\"\",Meldeliste!C72)","v":""},{"$f":"IF(EXACT(Meldeliste!H72&\" \"&Meldeliste!I72,\"\"),\"\",Meldeliste!H72&\" \"&Meldeliste!I72)","v":" "},{"$f":"IF(EXACT(Meldeliste!P72,\"\"),\"\",Meldeliste!P72)","v":""},{"$f":"IF(EXACT(Meldeliste!Z72 & IF(EXACT(Meldeliste!AA72,\"\"),\"\",\"/\" & Meldeliste!AA72) & IF(EXACT(Meldeliste!AB72,\"\"),\"\",\"/\" & Meldeliste!AB72) & IF(EXACT(Meldeliste!AC72,\"\"),\"\",\"/\" & Meldeliste!AC72)  & IF(EXACT(Meldeliste!AD72,\"\"),\"\",\"/\" & Meldeliste!AD72) & IF(EXACT(Meldeliste!AE72,\"\"),\"\",\"/\" & Meldeliste!AE72) & IF(EXACT(Meldeliste!AF72,\"\"),\"\",\"/\" & Meldeliste!AF72) & IF(EXACT(Meldeliste!AG72,\"\"),\"\",\"/\" & Meldeliste!AG72),\"\"),\"\",Meldeliste!Z72 & IF(EXACT(Meldeliste!AA72,\"\"),\"\",\"/\" & Meldeliste!AA72) & IF(EXACT(Meldeliste!AB72,\"\"),\"\",\"/\" & Meldeliste!AB72) & IF(EXACT(Meldeliste!AC72,\"\"),\"\",\"/\" & Meldeliste!AC72)  & IF(EXACT(Meldeliste!AD72,\"\"),\"\",\"/\" & Meldeliste!AD72) & IF(EXACT(Meldeliste!AE72,\"\"),\"\",\"/\" & Meldeliste!AE72) & IF(EXACT(Meldeliste!AF72,\"\"),\"\",\"/\" & Meldeliste!AF72) & IF(EXACT(Meldeliste!AG72,\"\"),\"\",\"/\" & Meldeliste!AG72))","v":""},{"$f":"IF(EXACT(Meldeliste!E72,\"\"),\"\",Meldeliste!E72)","v":""},{"$f":"IF(EXACT(Meldeliste!F72,\"\"),\"\",Meldeliste!F72)","v":""},{"$f":"IF(EXACT(Meldeliste!B72,\"\"),\"\",Meldeliste!B72)","v":""},null,"","",null,"",""]
[{"$f":"IF(EXACT(Meldeliste!C73,\"\"),\"\",Meldeliste!C73)","v":""},{"$f":"IF(EXACT(Meldeliste!H73&\" \"&Meldeliste!I73,\"\"),\"\",Meldeliste!H73&\" \"&Meldeliste!I73)","v":" "},{"$f":"IF(EXACT(Meldeliste!P73,\"\"),\"\",Meldeliste!P73)","v":""},{"$f":"IF(EXACT(Meldeliste!Z73 & IF(EXACT(Meldeliste!AA73,\"\"),\"\",\"/\" & Meldeliste!AA73) & IF(EXACT(Meldeliste!AB73,\"\"),\"\",\"/\" & Meldeliste!AB73) & IF(EXACT(Meldeliste!AC73,\"\"),\"\",\"/\" & Meldeliste!AC73)  & IF(EXACT(Meldeliste!AD73,\"\"),\"\",\"/\" & Meldeliste!AD73) & IF(EXACT(Meldeliste!AE73,\"\"),\"\",\"/\" & Meldeliste!AE73) & IF(EXACT(Meldeliste!AF73,\"\"),\"\",\"/\" & Meldeliste!AF73) & IF(EXACT(Meldeliste!AG73,\"\"),\"\",\"/\" & Meldeliste!AG73),\"\"),\"\",Meldeliste!Z73 & IF(EXACT(Meldeliste!AA73,\"\"),\"\",\"/\" & Meldeliste!AA73) & IF(EXACT(Meldeliste!AB73,\"\"),\"\",\"/\" & Meldeliste!AB73) & IF(EXACT(Meldeliste!AC73,\"\"),\"\",\"/\" & Meldeliste!AC73)  & IF(EXACT(Meldeliste!AD73,\"\"),\"\",\"/\" & Meldeliste!AD73) & IF(EXACT(Meldeliste!AE73,\"\"),\"\",\"/\" & Meldeliste!AE73) & IF(EXACT(Meldeliste!AF73,\"\"),\"\",\"/\" & Meldeliste!AF73) & IF(EXACT(Meldeliste!AG73,\"\"),\"\",\"/\" & Meldeliste!AG73))","v":""},{"$f":"IF(EXACT(Meldeliste!E73,\"\"),\"\",Meldeliste!E73)","v":""},{"$f":"IF(EXACT(Meldeliste!F73,\"\"),\"\",Meldeliste!F73)","v":""},{"$f":"IF(EXACT(Meldeliste!B73,\"\"),\"\",Meldeliste!B73)","v":""},null,"","",null,"",""]
[{"$f":"IF(EXACT(Meldeliste!C74,\"\"),\"\",Meldeliste!C74)","v":""},{"$f":"IF(EXACT(Meldeliste!H74&\" \"&Meldeliste!I74,\"\"),\"\",Meldeliste!H74&\" \"&Meldeliste!I74)","v":" "},{"$f":"IF(EXACT(Meldeliste!P74,\"\"),\"\",Meldeliste!P74)","v":""},{"$f":"IF(EXACT(Meldeliste!Z74 & IF(EXACT(Meldeliste!AA74,\"\"),\"\",\"/\" & Meldeliste!AA74) & IF(EXACT(Meldeliste!AB74,\"\"),\"\",\"/\" & Meldeliste!AB74) & IF(EXACT(Meldeliste!AC74,\"\"),\"\",\"/\" & Meldeliste!AC74)  & IF(EXACT(Meldeliste!AD74,\"\"),\"\",\"/\" & Meldeliste!AD74) & IF(EXACT(Meldeliste!AE74,\"\"),\"\",\"/\" & Meldeliste!AE74) & IF(EXACT(Meldeliste!AF74,\"\"),\"\",\"/\" & Meldeliste!AF74) & IF(EXACT(Meldeliste!AG74,\"\"),\"\",\"/\" & Meldeliste!AG74),\"\"),\"\",Meldeliste!Z74 & IF(EXACT(Meldeliste!AA74,\"\"),\"\",\"/\" & Meldeliste!AA74) & IF(EXACT(Meldeliste!AB74,\"\"),\"\",\"/\" & Meldeliste!AB74) & IF(EXACT(Meldeliste!AC74,\"\"),\"\",\"/\" & Meldeliste!AC74)  & IF(EXACT(Meldeliste!AD74,\"\"),\"\",\"/\" & Meldeliste!AD74) & IF(EXACT(Meldeliste!AE74,\"\"),\"\",\"/\" & Meldeliste!AE74) & IF(EXACT(Meldeliste!AF74,\"\"),\"\",\"/\" & Meldeliste!AF74) & IF(EXACT(Meldeliste!AG74,\"\"),\"\",\"/\" & Meldeliste!AG74))","v":""},{"$f":"IF(EXACT(Meldeliste!E74,\"\"),\"\",Meldeliste!E74)","v":""},{"$f":"IF(EXACT(Meldeliste!F74,\"\"),\"\",Meldeliste!F74)","v":""},{"$f":"IF(EXACT(Meldeliste!B74,\"\"),\"\",Meldeliste!B74)","v":""},null,{"$f":"IF(OR(EXACT(H74,\"\"),ISTEXT(H74)),\"\" & H74,H74-H$6)","v":""},{"$f":"IF(OR(EXACT(H74,\"\"),ISTEXT(H74)),\"\" & H74,I74*100/$G74)","v":""},null,{"$f":"IF(OR(EXACT(K74,\"\"),ISTEXT(K74)),\"\" & K74,K74-K$6)","v":""},{"$f":"IF(OR(EXACT(K74,\"\"),ISTEXT(K74)),\"\" & K74,L74*100/$G74)","v":""}]
[{"$f":"IF(EXACT(Meldeliste!C75,\"\"),\"\",Meldeliste!C75)","v":""},{"$f":"IF(EXACT(Meldeliste!H75&\" \"&Meldeliste!I75,\"\"),\"\",Meldeliste!H75&\" \"&Meldeliste!I75)","v":" "},{"$f":"IF(EXACT(Meldeliste!P75,\"\"),\"\",Meldeliste!P75)","v":""},{"$f":"IF(EXACT(Meldeliste!Z75 & IF(EXACT(Meldeliste!AA75,\"\"),\"\",\"/\" & Meldeliste!AA75) & IF(EXACT(Meldeliste!AB75,\"\"),\"\",\"/\" & Meldeliste!AB75) & IF(EXACT(Meldeliste!AC75,\"\"),\"\",\"/\" & Meldeliste!AC75)  & IF(EXACT(Meldeliste!AD75,\"\"),\"\",\"/\" & Meldeliste!AD75) & IF(EXACT(Meldeliste!AE75,\"\"),\"\",\"/\" & Meldeliste!AE75) & IF(EXACT(Meldeliste!AF75,\"\"),\"\",\"/\" & Meldeliste!AF75) & IF(EXACT(Meldeliste!AG75,\"\"),\"\",\"/\" & Meldeliste!AG75),\"\"),\"\",Meldeliste!Z75 & IF(EXACT(Meldeliste!AA75,\"\"),\"\",\"/\" & Meldeliste!AA75) & IF(EXACT(Meldeliste!AB75,\"\"),\"\",\"/\" & Meldeliste!AB75) & IF(EXACT(Meldeliste!AC75,\"\"),\"\",\"/\" & Meldeliste!AC75)  & IF(EXACT(Meldeliste!AD75,\"\"),\"\",\"/\" & Meldeliste!AD75) & IF(EXACT(Meldeliste!AE75,\"\"),\"\",\"/\" & Meldeliste!AE75) & IF(EXACT(Meldeliste!AF75,\"\"),\"\",\"/\" & Meldeliste!AF75) & IF(EXACT(Meldeliste!AG75,\"\"),\"\",\"/\" & Meldeliste!AG75))","v":""},{"$f":"IF(EXACT(Meldeliste!E75,\"\"),\"\",Meldeliste!E75)","v":""},{"$f":"IF(EXACT(Meldeliste!F75,\"\"),\"\",Meldeliste!F75)","v":""},{"$f":"IF(EXACT(Meldeliste!B75,\"\"),\"\",Meldeliste!B75)","v":""},null,"","",null,"",""]
[{"$f":"IF(EXACT(Meldeliste!C76,\"\"),\"\",Meldeliste!C76)","v":""},{"$f":"IF(EXACT(Meldeliste!H76&\" \"&Meldeliste!I76,\"\"),\"\",Meldeliste!H76&\" \"&Meldeliste!I76)","v":" "},{"$f":"IF(EXACT(Meldeliste!P76,\"\"),\"\",Meldeliste!P76)","v":""},{"$f":"IF(EXACT(Meldeliste!Z76 & IF(EXACT(Meldeliste!AA76,\"\"),\"\",\"/\" & Meldeliste!AA76) & IF(EXACT(Meldeliste!AB76,\"\"),\"\",\"/\" & Meldeliste!AB76) & IF(EXACT(Meldeliste!AC76,\"\"),\"\",\"/\" & Meldeliste!AC76)  & IF(EXACT(Meldeliste!AD76,\"\"),\"\",\"/\" & Meldeliste!AD76) & IF(EXACT(Meldeliste!AE76,\"\"),\"\",\"/\" & Meldeliste!AE76) & IF(EXACT(Meldeliste!AF76,\"\"),\"\",\"/\" & Meldeliste!AF76) & IF(EXACT(Meldeliste!AG76,\"\"),\"\",\"/\" & Meldeliste!AG76),\"\"),\"\",Meldeliste!Z76 & IF(EXACT(Meldeliste!AA76,\"\"),\"\",\"/\" & Meldeliste!AA76) & IF(EXACT(Meldeliste!AB76,\"\"),\"\",\"/\" & Meldeliste!AB76) & IF(EXACT(Meldeliste!AC76,\"\"),\"\",\"/\" & Meldeliste!AC76)  & IF(EXACT(Meldeliste!AD76,\"\"),\"\",\"/\" & Meldeliste!AD76) & IF(EXACT(Meldeliste!AE76,\"\"),\"\",\"/\" & Meldeliste!AE76) & IF(EXACT(Meldeliste!AF76,\"\"),\"\",\"/\" & Meldeliste!AF76) & IF(EXACT(Meldeliste!AG76,\"\"),\"\",\"/\" & Meldeliste!AG76))","v":""},{"$f":"IF(EXACT(Meldeliste!E76,\"\"),\"\",Meldeliste!E76)","v":""},{"$f":"IF(EXACT(Meldeliste!F76,\"\"),\"\",Meldeliste!F76)","v":""},{"$f":"IF(EXACT(Meldeliste!B76,\"\"),\"\",Meldeliste!B76)","v":""},null,"","",null,"",""]
[{"$f":"IF(EXACT(Meldeliste!C77,\"\"),\"\",Meldeliste!C77)","v":""},{"$f":"IF(EXACT(Meldeliste!H77&\" \"&Meldeliste!I77,\"\"),\"\",Meldeliste!H77&\" \"&Meldeliste!I77)","v":" "},{"$f":"IF(EXACT(Meldeliste!P77,\"\"),\"\",Meldeliste!P77)","v":""},{"$f":"IF(EXACT(Meldeliste!Z77 & IF(EXACT(Meldeliste!AA77,\"\"),\"\",\"/\" & Meldeliste!AA77) & IF(EXACT(Meldeliste!AB77,\"\"),\"\",\"/\" & Meldeliste!AB77) & IF(EXACT(Meldeliste!AC77,\"\"),\"\",\"/\" & Meldeliste!AC77)  & IF(EXACT(Meldeliste!AD77,\"\"),\"\",\"/\" & Meldeliste!AD77) & IF(EXACT(Meldeliste!AE77,\"\"),\"\",\"/\" & Meldeliste!AE77) & IF(EXACT(Meldeliste!AF77,\"\"),\"\",\"/\" & Meldeliste!AF77) & IF(EXACT(Meldeliste!AG77,\"\"),\"\",\"/\" & Meldeliste!AG77),\"\"),\"\",Meldeliste!Z77 & IF(EXACT(Meldeliste!AA77,\"\"),\"\",\"/\" & Meldeliste!AA77) & IF(EXACT(Meldeliste!AB77,\"\"),\"\",\"/\" & Meldeliste!AB77) & IF(EXACT(Meldeliste!AC77,\"\"),\"\",\"/\" & Meldeliste!AC77)  & IF(EXACT(Meldeliste!AD77,\"\"),\"\",\"/\" & Meldeliste!AD77) & IF(EXACT(Meldeliste!AE77,\"\"),\"\",\"/\" & Meldeliste!AE77) & IF(EXACT(Meldeliste!AF77,\"\"),\"\",\"/\" & Meldeliste!AF77) & IF(EXACT(Meldeliste!AG77,\"\"),\"\",\"/\" & Meldeliste!AG77))","v":""},{"$f":"IF(EXACT(Meldeliste!E77,\"\"),\"\",Meldeliste!E77)","v":""},{"$f":"IF(EXACT(Meldeliste!F77,\"\"),\"\",Meldeliste!F77)","v":""},{"$f":"IF(EXACT(Meldeliste!B77,\"\"),\"\",Meldeliste!B77)","v":""},null,"","",null,"",""]
[{"$f":"IF(EXACT(Meldeliste!C78,\"\"),\"\",Meldeliste!C78)","v":""},{"$f":"IF(EXACT(Meldeliste!H78&\" \"&Meldeliste!I78,\"\"),\"\",Meldeliste!H78&\" \"&Meldeliste!I78)","v":" "},{"$f":"IF(EXACT(Meldeliste!P78,\"\"),\"\",Meldeliste!P78)","v":""},{"$f":"IF(EXACT(Meldeliste!Z78 & IF(EXACT(Meldeliste!AA78,\"\"),\"\",\"/\" & Meldeliste!AA78) & IF(EXACT(Meldeliste!AB78,\"\"),\"\",\"/\" & Meldeliste!AB78) & IF(EXACT(Meldeliste!AC78,\"\"),\"\",\"/\" & Meldeliste!AC78)  & IF(EXACT(Meldeliste!AD78,\"\"),\"\",\"/\" & Meldeliste!AD78) & IF(EXACT(Meldeliste!AE78,\"\"),\"\",\"/\" & Meldeliste!AE78) & IF(EXACT(Meldeliste!AF78,\"\"),\"\",\"/\" & Meldeliste!AF78) & IF(EXACT(Meldeliste!AG78,\"\"),\"\",\"/\" & Meldeliste!AG78),\"\"),\"\",Meldeliste!Z78 & IF(EXACT(Meldeliste!AA78,\"\"),\"\",\"/\" & Meldeliste!AA78) & IF(EXACT(Meldeliste!AB78,\"\"),\"\",\"/\" & Meldeliste!AB78) & IF(EXACT(Meldeliste!AC78,\"\"),\"\",\"/\" & Meldeliste!AC78)  & IF(EXACT(Meldeliste!AD78,\"\"),\"\",\"/\" & Meldeliste!AD78) & IF(EXACT(Meldeliste!AE78,\"\"),\"\",\"/\" & Meldeliste!AE78) & IF(EXACT(Meldeliste!AF78,\"\"),\"\",\"/\" & Meldeliste!AF78) & IF(EXACT(Meldeliste!AG78,\"\"),\"\",\"/\" & Meldeliste!AG78))","v":""},{"$f":"IF(EXACT(Meldeliste!E78,\"\"),\"\",Meldeliste!E78)","v":""},{"$f":"IF(EXACT(Meldeliste!F78,\"\"),\"\",Meldeliste!F78)","v":""},{"$f":"IF(EXACT(Meldeliste!B78,\"\"),\"\",Meldeliste!B78)","v":""},null,"","",null,"",""]
[{"$f":"IF(EXACT(Meldeliste!C79,\"\"),\"\",Meldeliste!C79)","v":""},{"$f":"IF(EXACT(Meldeliste!H79&\" \"&Meldeliste!I79,\"\"),\"\",Meldeliste!H79&\" \"&Meldeliste!I79)","v":" "},{"$f":"IF(EXACT(Meldeliste!P79,\"\"),\"\",Meldeliste!P79)","v":""},{"$f":"IF(EXACT(Meldeliste!Z79 & IF(EXACT(Meldeliste!AA79,\"\"),\"\",\"/\" & Meldeliste!AA79) & IF(EXACT(Meldeliste!AB79,\"\"),\"\",\"/\" & Meldeliste!AB79) & IF(EXACT(Meldeliste!AC79,\"\"),\"\",\"/\" & Meldeliste!AC79)  & IF(EXACT(Meldeliste!AD79,\"\"),\"\",\"/\" & Meldeliste!AD79) & IF(EXACT(Meldeliste!AE79,\"\"),\"\",\"/\" & Meldeliste!AE79) & IF(EXACT(Meldeliste!AF79,\"\"),\"\",\"/\" & Meldeliste!AF79) & IF(EXACT(Meldeliste!AG79,\"\"),\"\",\"/\" & Meldeliste!AG79),\"\"),\"\",Meldeliste!Z79 & IF(EXACT(Meldeliste!AA79,\"\"),\"\",\"/\" & Meldeliste!AA79) & IF(EXACT(Meldeliste!AB79,\"\"),\"\",\"/\" & Meldeliste!AB79) & IF(EXACT(Meldeliste!AC79,\"\"),\"\",\"/\" & Meldeliste!AC79)  & IF(EXACT(Meldeliste!AD79,\"\"),\"\",\"/\" & Meldeliste!AD79) & IF(EXACT(Meldeliste!AE79,\"\"),\"\",\"/\" & Meldeliste!AE79) & IF(EXACT(Meldeliste!AF79,\"\"),\"\",\"/\" & Meldeliste!AF79) & IF(EXACT(Meldeliste!AG79,\"\"),\"\",\"/\" & Meldeliste!AG79))","v":""},{"$f":"IF(EXACT(Meldeliste!E79,\"\"),\"\",Meldeliste!E79)","v":""},{"$f":"IF(EXACT(Meldeliste!F79,\"\"),\"\",Meldeliste!F79)","v":""},{"$f":"IF(EXACT(Meldeliste!B79,\"\"),\"\",Meldeliste!B79)","v":""},null,"","",null,"",""]
[{"$f":"IF(EXACT(Meldeliste!C80,\"\"),\"\",Meldeliste!C80)","v":""},{"$f":"IF(EXACT(Meldeliste!H80&\" \"&Meldeliste!I80,\"\"),\"\",Meldeliste!H80&\" \"&Meldeliste!I80)","v":" "},{"$f":"IF(EXACT(Meldeliste!P80,\"\"),\"\",Meldeliste!P80)","v":""},{"$f":"IF(EXACT(Meldeliste!Z80 & IF(EXACT(Meldeliste!AA80,\"\"),\"\",\"/\" & Meldeliste!AA80) & IF(EXACT(Meldeliste!AB80,\"\"),\"\",\"/\" & Meldeliste!AB80) & IF(EXACT(Meldeliste!AC80,\"\"),\"\",\"/\" & Meldeliste!AC80)  & IF(EXACT(Meldeliste!AD80,\"\"),\"\",\"/\" & Meldeliste!AD80) & IF(EXACT(Meldeliste!AE80,\"\"),\"\",\"/\" & Meldeliste!AE80) & IF(EXACT(Meldeliste!AF80,\"\"),\"\",\"/\" & Meldeliste!AF80) & IF(EXACT(Meldeliste!AG80,\"\"),\"\",\"/\" & Meldeliste!AG80),\"\"),\"\",Meldeliste!Z80 & IF(EXACT(Meldeliste!AA80,\"\"),\"\",\"/\" & Meldeliste!AA80) & IF(EXACT(Meldeliste!AB80,\"\"),\"\",\"/\" & Meldeliste!AB80) & IF(EXACT(Meldeliste!AC80,\"\"),\"\",\"/\" & Meldeliste!AC80)  & IF(EXACT(Meldeliste!AD80,\"\"),\"\",\"/\" & Meldeliste!AD80) & IF(EXACT(Meldeliste!AE80,\"\"),\"\",\"/\" & Meldeliste!AE80) & IF(EXACT(Meldeliste!AF80,\"\"),\"\",\"/\" & Meldeliste!AF80) & IF(EXACT(Meldeliste!AG80,\"\"),\"\",\"/\" & Meldeliste!AG80))","v":""},{"$f":"IF(EXACT(Meldeliste!E80,\"\"),\"\",Meldeliste!E80)","v":""},{"$f":"IF(EXACT(Meldeliste!F80,\"\"),\"\",Meldeliste!F80)","v":""},{"$f":"IF(EXACT(Meldeliste!B80,\"\"),\"\",Meldeliste!B80)","v":""},null,"","",null,"",""]
[{"$f":"IF(EXACT(Meldeliste!C81,\"\"),\"\",Meldeliste!C81)","v":""},{"$f":"IF(EXACT(Meldeliste!H81&\" \"&Meldeliste!I81,\"\"),\"\",Meldeliste!H81&\" \"&Meldeliste!I81)","v":" "},{"$f":"IF(EXACT(Meldeliste!P81,\"\"),\"\",Meldeliste!P81)","v":""},{"$f":"IF(EXACT(Meldeliste!Z81 & IF(EXACT(Meldeliste!AA81,\"\"),\"\",\"/\" & Meldeliste!AA81) & IF(EXACT(Meldeliste!AB81,\"\"),\"\",\"/\" & Meldeliste!AB81) & IF(EXACT(Meldeliste!AC81,\"\"),\"\",\"/\" & Meldeliste!AC81)  & IF(EXACT(Meldeliste!AD81,\"\"),\"\",\"/\" & Meldeliste!AD81) & IF(EXACT(Meldeliste!AE81,\"\"),\"\",\"/\" & Meldeliste!AE81) & IF(EXACT(Meldeliste!AF81,\"\"),\"\",\"/\" & Meldeliste!AF81) & IF(EXACT(Meldeliste!AG81,\"\"),\"\",\"/\" & Meldeliste!AG81),\"\"),\"\",Meldeliste!Z81 & IF(EXACT(Meldeliste!AA81,\"\"),\"\",\"/\" & Meldeliste!AA81) & IF(EXACT(Meldeliste!AB81,\"\"),\"\",\"/\" & Meldeliste!AB81) & IF(EXACT(Meldeliste!AC81,\"\"),\"\",\"/\" & Meldeliste!AC81)  & IF(EXACT(Meldeliste!AD81,\"\"),\"\",\"/\" & Meldeliste!AD81) & IF(EXACT(Meldeliste!AE81,\"\"),\"\",\"/\" & Meldeliste!AE81) & IF(EXACT(Meldeliste!AF81,\"\"),\"\",\"/\" & Meldeliste!AF81) & IF(EXACT(Meldeliste!AG81,\"\"),\"\",\"/\" & Meldeliste!AG81))","v":""},{"$f":"IF(EXACT(Meldeliste!E81,\"\"),\"\",Meldeliste!E81)","v":""},{"$f":"IF(EXACT(Meldeliste!F81,\"\"),\"\",Meldeliste!F81)","v":""},{"$f":"IF(EXACT(Meldeliste!B81,\"\"),\"\",Meldeliste!B81)","v":""},null,"","",null,"",""]
[{"$f":"IF(EXACT(Meldeliste!C82,\"\"),\"\",Meldeliste!C82)","v":""},{"$f":"IF(EXACT(Meldeliste!H82&\" \"&Meldeliste!I82,\"\"),\"\",Meldeliste!H82&\" \"&Meldeliste!I82)","v":" "},{"$f":"IF(EXACT(Meldeliste!P82,\"\"),\"\",Meldeliste!P82)","v":""},{"$f":"IF(EXACT(Meldeliste!Z82 & IF(EXACT(Meldeliste!AA82,\"\"),\"\",\"/\" & Meldeliste!AA82) & IF(EXACT(Meldeliste!AB82,\"\"),\"\",\"/\" & Meldeliste!AB82) & IF(EXACT(Meldeliste!AC82,\"\"),\"\",\"/\" & Meldeliste!AC82)  & IF(EXACT(Meldeliste!AD82,\"\"),\"\",\"/\" & Meldeliste!AD82) & IF(EXACT(Meldeliste!AE82,\"\"),\"\",\"/\" & Meldeliste!AE82) & IF(EXACT(Meldeliste!AF82,\"\"),\"\",\"/\" & Meldeliste!AF82) & IF(EXACT(Meldeliste!AG82,\"\"),\"\",\"/\" & Meldeliste!AG82),\"\"),\"\",Meldeliste!Z82 & IF(EXACT(Meldeliste!AA82,\"\"),\"\",\"/\" & Meldeliste!AA82) & IF(EXACT(Meldeliste!AB82,\"\"),\"\",\"/\" & Meldeliste!AB82) & IF(EXACT(Meldeliste!AC82,\"\"),\"\",\"/\" & Meldeliste!AC82)  & IF(EXACT(Meldeliste!AD82,\"\"),\"\",\"/\" & Meldeliste!AD82) & IF(EXACT(Meldeliste!AE82,\"\"),\"\",\"/\" & Meldeliste!AE82) & IF(EXACT(Meldeliste!AF82,\"\"),\"\",\"/\" & Meldeliste!AF82) & IF(EXACT(Meldeliste!AG82,\"\"),\"\",\"/\" & Meldeliste!AG82))","v":""},{"$f":"IF(EXACT(Meldeliste!E82,\"\"),\"\",Meldeliste!E82)","v":""},{"$f":"IF(EXACT(Meldeliste!F82,\"\"),\"\",Meldeliste!F82)","v":""},{"$f":"IF(EXACT(Meldeliste!B82,\"\"),\"\",Meldeliste!B82)","v":""},null,"","",null,"",""]
[{"$f":"IF(EXACT(Meldeliste!C83,\"\"),\"\",Meldeliste!C83)","v":""},{"$f":"IF(EXACT(Meldeliste!H83&\" \"&Meldeliste!I83,\"\"),\"\",Meldeliste!H83&\" \"&Meldeliste!I83)","v":" "},{"$f":"IF(EXACT(Meldeliste!P83,\"\"),\"\",Meldeliste!P83)","v":""},{"$f":"IF(EXACT(Meldeliste!Z83 & IF(EXACT(Meldeliste!AA83,\"\"),\"\",\"/\" & Meldeliste!AA83) & IF(EXACT(Meldeliste!AB83,\"\"),\"\",\"/\" & Meldeliste!AB83) & IF(EXACT(Meldeliste!AC83,\"\"),\"\",\"/\" & Meldeliste!AC83)  & IF(EXACT(Meldeliste!AD83,\"\"),\"\",\"/\" & Meldeliste!AD83) & IF(EXACT(Meldeliste!AE83,\"\"),\"\",\"/\" & Meldeliste!AE83) & IF(EXACT(Meldeliste!AF83,\"\"),\"\",\"/\" & Meldeliste!AF83) & IF(EXACT(Meldeliste!AG83,\"\"),\"\",\"/\" & Meldeliste!AG83),\"\"),\"\",Meldeliste!Z83 & IF(EXACT(Meldeliste!AA83,\"\"),\"\",\"/\" & Meldeliste!AA83) & IF(EXACT(Meldeliste!AB83,\"\"),\"\",\"/\" & Meldeliste!AB83) & IF(EXACT(Meldeliste!AC83,\"\"),\"\",\"/\" & Meldeliste!AC83)  & IF(EXACT(Meldeliste!AD83,\"\"),\"\",\"/\" & Meldeliste!AD83) & IF(EXACT(Meldeliste!AE83,\"\"),\"\",\"/\" & Meldeliste!AE83) & IF(EXACT(Meldeliste!AF83,\"\"),\"\",\"/\" & Meldeliste!AF83) & IF(EXACT(Meldeliste!AG83,\"\"),\"\",\"/\" & Meldeliste!AG83))","v":""},{"$f":"IF(EXACT(Meldeliste!E83,\"\"),\"\",Meldeliste!E83)","v":""},{"$f":"IF(EXACT(Meldeliste!F83,\"\"),\"\",Meldeliste!F83)","v":""},{"$f":"IF(EXACT(Meldeliste!B83,\"\"),\"\",Meldeliste!B83)","v":""},null,"","",null,"",""]
[{"$f":"IF(EXACT(Meldeliste!C84,\"\"),\"\",Meldeliste!C84)","v":""},{"$f":"IF(EXACT(Meldeliste!H84&\" \"&Meldeliste!I84,\"\"),\"\",Meldeliste!H84&\" \"&Meldeliste!I84)","v":" "},{"$f":"IF(EXACT(Meldeliste!P84,\"\"),\"\",Meldeliste!P84)","v":""},{"$f":"IF(EXACT(Meldeliste!Z84 & IF(EXACT(Meldeliste!AA84,\"\"),\"\",\"/\" & Meldeliste!AA84) & IF(EXACT(Meldeliste!AB84,\"\"),\"\",\"/\" & Meldeliste!AB84) & IF(EXACT(Meldeliste!AC84,\"\"),\"\",\"/\" & Meldeliste!AC84)  & IF(EXACT(Meldeliste!AD84,\"\"),\"\",\"/\" & Meldeliste!AD84) & IF(EXACT(Meldeliste!AE84,\"\"),\"\",\"/\" & Meldeliste!AE84) & IF(EXACT(Meldeliste!AF84,\"\"),\"\",\"/\" & Meldeliste!AF84) & IF(EXACT(Meldeliste!AG84,\"\"),\"\",\"/\" & Meldeliste!AG84),\"\"),\"\",Meldeliste!Z84 & IF(EXACT(Meldeliste!AA84,\"\"),\"\",\"/\" & Meldeliste!AA84) & IF(EXACT(Meldeliste!AB84,\"\"),\"\",\"/\" & Meldeliste!AB84) & IF(EXACT(Meldeliste!AC84,\"\"),\"\",\"/\" & Meldeliste!AC84)  & IF(EXACT(Meldeliste!AD84,\"\"),\"\",\"/\" & Meldeliste!AD84) & IF(EXACT(Meldeliste!AE84,\"\"),\"\",\"/\" & Meldeliste!AE84) & IF(EXACT(Meldeliste!AF84,\"\"),\"\",\"/\" & Meldeliste!AF84) & IF(EXACT(Meldeliste!AG84,\"\"),\"\",\"/\" & Meldeliste!AG84))","v":""},{"$f":"IF(EXACT(Meldeliste!E84,\"\"),\"\",Meldeliste!E84)","v":""},{"$f":"IF(EXACT(Meldeliste!F84,\"\"),\"\",Meldeliste!F84)","v":""},{"$f":"IF(EXACT(Meldeliste!B84,\"\"),\"\",Meldeliste!B84)","v":""},null,"","",null,"",""]
[{"$f":"IF(EXACT(Meldeliste!C85,\"\"),\"\",Meldeliste!C85)","v":""},{"$f":"IF(EXACT(Meldeliste!H85&\" \"&Meldeliste!I85,\"\"),\"\",Meldeliste!H85&\" \"&Meldeliste!I85)","v":" "},{"$f":"IF(EXACT(Meldeliste!P85,\"\"),\"\",Meldeliste!P85)","v":""},{"$f":"IF(EXACT(Meldeliste!Z85 & IF(EXACT(Meldeliste!AA85,\"\"),\"\",\"/\" & Meldeliste!AA85) & IF(EXACT(Meldeliste!AB85,\"\"),\"\",\"/\" & Meldeliste!AB85) & IF(EXACT(Meldeliste!AC85,\"\"),\"\",\"/\" & Meldeliste!AC85)  & IF(EXACT(Meldeliste!AD85,\"\"),\"\",\"/\" & Meldeliste!AD85) & IF(EXACT(Meldeliste!AE85,\"\"),\"\",\"/\" & Meldeliste!AE85) & IF(EXACT(Meldeliste!AF85,\"\"),\"\",\"/\" & Meldeliste!AF85) & IF(EXACT(Meldeliste!AG85,\"\"),\"\",\"/\" & Meldeliste!AG85),\"\"),\"\",Meldeliste!Z85 & IF(EXACT(Meldeliste!AA85,\"\"),\"\",\"/\" & Meldeliste!AA85) & IF(EXACT(Meldeliste!AB85,\"\"),\"\",\"/\" & Meldeliste!AB85) & IF(EXACT(Meldeliste!AC85,\"\"),\"\",\"/\" & Meldeliste!AC85)  & IF(EXACT(Meldeliste!AD85,\"\"),\"\",\"/\" & Meldeliste!AD85) & IF(EXACT(Meldeliste!AE85,\"\"),\"\",\"/\" & Meldeliste!AE85) & IF(EXACT(Meldeliste!AF85,\"\"),\"\",\"/\" & Meldeliste!AF85) & IF(EXACT(Meldeliste!AG85,\"\"),\"\",\"/\" & Meldeliste!AG85))","v":""},{"$f":"IF(EXACT(Meldeliste!E85,\"\"),\"\",Meldeliste!E85)","v":""},{"$f":"IF(EXACT(Meldeliste!F85,\"\"),\"\",Meldeliste!F85)","v":""},{"$f":"IF(EXACT(Meldeliste!B85,\"\"),\"\",Meldeliste!B85)","v":""},null,"","",null,"",""]
[{"$f":"IF(EXACT(Meldeliste!C86,\"\"),\"\",Meldeliste!C86)","v":""},{"$f":"IF(EXACT(Meldeliste!H86&\" \"&Meldeliste!I86,\"\"),\"\",Meldeliste!H86&\" \"&Meldeliste!I86)","v":" "},{"$f":"IF(EXACT(Meldeliste!P86,\"\"),\"\",Meldeliste!P86)","v":""},{"$f":"IF(EXACT(Meldeliste!Z86 & IF(EXACT(Meldeliste!AA86,\"\"),\"\",\"/\" & Meldeliste!AA86) & IF(EXACT(Meldeliste!AB86,\"\"),\"\",\"/\" & Meldeliste!AB86) & IF(EXACT(Meldeliste!AC86,\"\"),\"\",\"/\" & Meldeliste!AC86)  & IF(EXACT(Meldeliste!AD86,\"\"),\"\",\"/\" & Meldeliste!AD86) & IF(EXACT(Meldeliste!AE86,\"\"),\"\",\"/\" & Meldeliste!AE86) & IF(EXACT(Meldeliste!AF86,\"\"),\"\",\"/\" & Meldeliste!AF86) & IF(EXACT(Meldeliste!AG86,\"\"),\"\",\"/\" & Meldeliste!AG86),\"\"),\"\",Meldeliste!Z86 & IF(EXACT(Meldeliste!AA86,\"\"),\"\",\"/\" & Meldeliste!AA86) & IF(EXACT(Meldeliste!AB86,\"\"),\"\",\"/\" & Meldeliste!AB86) & IF(EXACT(Meldeliste!AC86,\"\"),\"\",\"/\" & Meldeliste!AC86)  & IF(EXACT(Meldeliste!AD86,\"\"),\"\",\"/\" & Meldeliste!AD86) & IF(EXACT(Meldeliste!AE86,\"\"),\"\",\"/\" & Meldeliste!AE86) & IF(EXACT(Meldeliste!AF86,\"\"),\"\",\"/\" & Meldeliste!AF86) & IF(EXACT(Meldeliste!AG86,\"\"),\"\",\"/\" & Meldeliste!AG86))","v":""},{"$f":"IF(EXACT(Meldeliste!E86,\"\"),\"\",Meldeliste!E86)","v":""},{"$f":"IF(EXACT(Meldeliste!F86,\"\"),\"\",Meldeliste!F86)","v":""},{"$f":"IF(EXACT(Meldeliste!B86,\"\"),\"\",Meldeliste!B86)","v":""},null,"","",null,"",""]
[{"$f":"IF(EXACT(Meldeliste!C87,\"\"),\"\",Meldeliste!C87)","v":""},{"$f":"IF(EXACT(Meldeliste!H87&\" \"&Meldeliste!I87,\"\"),\"\",Meldeliste!H87&\" \"&Meldeliste!I87)","v":" "},{"$f":"IF(EXACT(Meldeliste!P87,\"\"),\"\",Meldeliste!P87)","v":""},{"$f":"IF(EXACT(Meldeliste!Z87 & IF(EXACT(Meldeliste!AA87,\"\"),\"\",\"/\" & Meldeliste!AA87) & IF(EXACT(Meldeliste!AB87,\"\"),\"\",\"/\" & Meldeliste!AB87) & IF(EXACT(Meldeliste!AC87,\"\"),\"\",\"/\" & Meldeliste!AC87)  & IF(EXACT(Meldeliste!AD87,\"\"),\"\",\"/\" & Meldeliste!AD87) & IF(EXACT(Meldeliste!AE87,\"\"),\"\",\"/\" & Meldeliste!AE87) & IF(EXACT(Meldeliste!AF87,\"\"),\"\",\"/\" & Meldeliste!AF87) & IF(EXACT(Meldeliste!AG87,\"\"),\"\",\"/\" & Meldeliste!AG87),\"\"),\"\",Meldeliste!Z87 & IF(EXACT(Meldeliste!AA87,\"\"),\"\",\"/\" & Meldeliste!AA87) & IF(EXACT(Meldeliste!AB87,\"\"),\"\",\"/\" & Meldeliste!AB87) & IF(EXACT(Meldeliste!AC87,\"\"),\"\",\"/\" & Meldeliste!AC87)  & IF(EXACT(Meldeliste!AD87,\"\"),\"\",\"/\" & Meldeliste!AD87) & IF(EXACT(Meldeliste!AE87,\"\"),\"\",\"/\" & Meldeliste!AE87) & IF(EXACT(Meldeliste!AF87,\"\"),\"\",\"/\" & Meldeliste!AF87) & IF(EXACT(Meldeliste!AG87,\"\"),\"\",\"/\" & Meldeliste!AG87))","v":""},{"$f":"IF(EXACT(Meldeliste!E87,\"\"),\"\",Meldeliste!E87)","v":""},{"$f":"IF(EXACT(Meldeliste!F87,\"\"),\"\",Meldeliste!F87)","v":""},{"$f":"IF(EXACT(Meldeliste!B87,\"\"),\"\",Meldeliste!B87)","v":""},null,"","",null,"",""]
[{"$f":"IF(EXACT(Meldeliste!C88,\"\"),\"\",Meldeliste!C88)","v":""},{"$f":"IF(EXACT(Meldeliste!H88&\" \"&Meldeliste!I88,\"\"),\"\",Meldeliste!H88&\" \"&Meldeliste!I88)","v":" "},{"$f":"IF(EXACT(Meldeliste!P88,\"\"),\"\",Meldeliste!P88)","v":""},{"$f":"IF(EXACT(Meldeliste!Z88 & IF(EXACT(Meldeliste!AA88,\"\"),\"\",\"/\" & Meldeliste!AA88) & IF(EXACT(Meldeliste!AB88,\"\"),\"\",\"/\" & Meldeliste!AB88) & IF(EXACT(Meldeliste!AC88,\"\"),\"\",\"/\" & Meldeliste!AC88)  & IF(EXACT(Meldeliste!AD88,\"\"),\"\",\"/\" & Meldeliste!AD88) & IF(EXACT(Meldeliste!AE88,\"\"),\"\",\"/\" & Meldeliste!AE88) & IF(EXACT(Meldeliste!AF88,\"\"),\"\",\"/\" & Meldeliste!AF88) & IF(EXACT(Meldeliste!AG88,\"\"),\"\",\"/\" & Meldeliste!AG88),\"\"),\"\",Meldeliste!Z88 & IF(EXACT(Meldeliste!AA88,\"\"),\"\",\"/\" & Meldeliste!AA88) & IF(EXACT(Meldeliste!AB88,\"\"),\"\",\"/\" & Meldeliste!AB88) & IF(EXACT(Meldeliste!AC88,\"\"),\"\",\"/\" & Meldeliste!AC88)  & IF(EXACT(Meldeliste!AD88,\"\"),\"\",\"/\" & Meldeliste!AD88) & IF(EXACT(Meldeliste!AE88,\"\"),\"\",\"/\" & Meldeliste!AE88) & IF(EXACT(Meldeliste!AF88,\"\"),\"\",\"/\" & Meldeliste!AF88) & IF(EXACT(Meldeliste!AG88,\"\"),\"\",\"/\" & Meldeliste!AG88))","v":""},{"$f":"IF(EXACT(Meldeliste!E88,\"\"),\"\",Meldeliste!E88)","v":""},{"$f":"IF(EXACT(Meldeliste!F88,\"\"),\"\",Meldeliste!F88)","v":""},{"$f":"IF(EXACT(Meldeliste!B88,\"\"),\"\",Meldeliste!B88)","v":""},null,"","",null,"",""]
[{"$f":"IF(EXACT(Meldeliste!C89,\"\"),\"\",Meldeliste!C89)","v":""},{"$f":"IF(EXACT(Meldeliste!H89&\" \"&Meldeliste!I89,\"\"),\"\",Meldeliste!H89&\" \"&Meldeliste!I89)","v":" "},{"$f":"IF(EXACT(Meldeliste!P89,\"\"),\"\",Meldeliste!P89)","v":""},{"$f":"IF(EXACT(Meldeliste!Z89 & IF(EXACT(Meldeliste!AA89,\"\"),\"\",\"/\" & Meldeliste!AA89) & IF(EXACT(Meldeliste!AB89,\"\"),\"\",\"/\" & Meldeliste!AB89) & IF(EXACT(Meldeliste!AC89,\"\"),\"\",\"/\" & Meldeliste!AC89)  & IF(EXACT(Meldeliste!AD89,\"\"),\"\",\"/\" & Meldeliste!AD89) & IF(EXACT(Meldeliste!AE89,\"\"),\"\",\"/\" & Meldeliste!AE89) & IF(EXACT(Meldeliste!AF89,\"\"),\"\",\"/\" & Meldeliste!AF89) & IF(EXACT(Meldeliste!AG89,\"\"),\"\",\"/\" & Meldeliste!AG89),\"\"),\"\",Meldeliste!Z89 & IF(EXACT(Meldeliste!AA89,\"\"),\"\",\"/\" & Meldeliste!AA89) & IF(EXACT(Meldeliste!AB89,\"\"),\"\",\"/\" & Meldeliste!AB89) & IF(EXACT(Meldeliste!AC89,\"\"),\"\",\"/\" & Meldeliste!AC89)  & IF(EXACT(Meldeliste!AD89,\"\"),\"\",\"/\" & Meldeliste!AD89) & IF(EXACT(Meldeliste!AE89,\"\"),\"\",\"/\" & Meldeliste!AE89) & IF(EXACT(Meldeliste!AF89,\"\"),\"\",\"/\" & Meldeliste!AF89) & IF(EXACT(Meldeliste!AG89,\"\"),\"\",\"/\" & Meldeliste!AG89))","v":""},{"$f":"IF(EXACT(Meldeliste!E89,\"\"),\"\",Meldeliste!E89)","v":""},{"$f":"IF(EXACT(Meldeliste!F89,\"\"),\"\",Meldeliste!F89)","v":""},{"$f":"IF(EXACT(Meldeliste!B89,\"\"),\"\",Meldeliste!B89)","v":""},null,"","",null,"",""]
[{"$f":"IF(EXACT(Meldeliste!C90,\"\"),\"\",Meldeliste!C90)","v":""},{"$f":"IF(EXACT(Meldeliste!H90&\" \"&Meldeliste!I90,\"\"),\"\",Meldeliste!H90&\" \"&Meldeliste!I90)","v":" "},{"$f":"IF(EXACT(Meldeliste!P90,\"\"),\"\",Meldeliste!P90)","v":""},{"$f":"IF(EXACT(Meldeliste!Z90 & IF(EXACT(Meldeliste!AA90,\"\"),\"\",\"/\" & Meldeliste!AA90) & IF(EXACT(Meldeliste!AB90,\"\"),\"\",\"/\" & Meldeliste!AB90) & IF(EXACT(Meldeliste!AC90,\"\"),\"\",\"/\" & Meldeliste!AC90)  & IF(EXACT(Meldeliste!AD90,\"\"),\"\",\"/\" & Meldeliste!AD90) & IF(EXACT(Meldeliste!AE90,\"\"),\"\",\"/\" & Meldeliste!AE90) & IF(EXACT(Meldeliste!AF90,\"\"),\"\",\"/\" & Meldeliste!AF90) & IF(EXACT(Meldeliste!AG90,\"\"),\"\",\"/\" & Meldeliste!AG90),\"\"),\"\",Meldeliste!Z90 & IF(EXACT(Meldeliste!AA90,\"\"),\"\",\"/\" & Meldeliste!AA90) & IF(EXACT(Meldeliste!AB90,\"\"),\"\",\"/\" & Meldeliste!AB90) & IF(EXACT(Meldeliste!AC90,\"\"),\"\",\"/\" & Meldeliste!AC90)  & IF(EXACT(Meldeliste!AD90,\"\"),\"\",\"/\" & Meldeliste!AD90) & IF(EXACT(Meldeliste!AE90,\"\"),\"\",\"/\" & Meldeliste!AE90) & IF(EXACT(Meldeliste!AF90,\"\"),\"\",\"/\" & Meldeliste!AF90) & IF(EXACT(Meldeliste!AG90,\"\"),\"\",\"/\" & Meldeliste!AG90))","v":""},{"$f":"IF(EXACT(Meldeliste!E90,\"\"),\"\",Meldeliste!E90)","v":""},{"$f":"IF(EXACT(Meldeliste!F90,\"\"),\"\",Meldeliste!F90)","v":""},{"$f":"IF(EXACT(Meldeliste!B90,\"\"),\"\",Meldeliste!B90)","v":""},null,"","",null,"",""]
[{"$f":"IF(EXACT(Meldeliste!C91,\"\"),\"\",Meldeliste!C91)","v":""},{"$f":"IF(EXACT(Meldeliste!H91&\" \"&Meldeliste!I91,\"\"),\"\",Meldeliste!H91&\" \"&Meldeliste!I91)","v":" "},{"$f":"IF(EXACT(Meldeliste!P91,\"\"),\"\",Meldeliste!P91)","v":""},{"$f":"IF(EXACT(Meldeliste!Z91 & IF(EXACT(Meldeliste!AA91,\"\"),\"\",\"/\" & Meldeliste!AA91) & IF(EXACT(Meldeliste!AB91,\"\"),\"\",\"/\" & Meldeliste!AB91) & IF(EXACT(Meldeliste!AC91,\"\"),\"\",\"/\" & Meldeliste!AC91)  & IF(EXACT(Meldeliste!AD91,\"\"),\"\",\"/\" & Meldeliste!AD91) & IF(EXACT(Meldeliste!AE91,\"\"),\"\",\"/\" & Meldeliste!AE91) & IF(EXACT(Meldeliste!AF91,\"\"),\"\",\"/\" & Meldeliste!AF91) & IF(EXACT(Meldeliste!AG91,\"\"),\"\",\"/\" & Meldeliste!AG91),\"\"),\"\",Meldeliste!Z91 & IF(EXACT(Meldeliste!AA91,\"\"),\"\",\"/\" & Meldeliste!AA91) & IF(EXACT(Meldeliste!AB91,\"\"),\"\",\"/\" & Meldeliste!AB91) & IF(EXACT(Meldeliste!AC91,\"\"),\"\",\"/\" & Meldeliste!AC91)  & IF(EXACT(Meldeliste!AD91,\"\"),\"\",\"/\" & Meldeliste!AD91) & IF(EXACT(Meldeliste!AE91,\"\"),\"\",\"/\" & Meldeliste!AE91) & IF(EXACT(Meldeliste!AF91,\"\"),\"\",\"/\" & Meldeliste!AF91) & IF(EXACT(Meldeliste!AG91,\"\"),\"\",\"/\" & Meldeliste!AG91))","v":""},{"$f":"IF(EXACT(Meldeliste!E91,\"\"),\"\",Meldeliste!E91)","v":""},{"$f":"IF(EXACT(Meldeliste!F91,\"\"),\"\",Meldeliste!F91)","v":""},{"$f":"IF(EXACT(Meldeliste!B91,\"\"),\"\",Meldeliste!B91)","v":""},null,"","",null,"",""]
[{"$f":"IF(EXACT(Meldeliste!C92,\"\"),\"\",Meldeliste!C92)","v":""},{"$f":"IF(EXACT(Meldeliste!H92&\" \"&Meldeliste!I92,\"\"),\"\",Meldeliste!H92&\" \"&Meldeliste!I92)","v":" "},{"$f":"IF(EXACT(Meldeliste!P92,\"\"),\"\",Meldeliste!P92)","v":""},{"$f":"IF(EXACT(Meldeliste!Z92 & IF(EXACT(Meldeliste!AA92,\"\"),\"\",\"/\" & Meldeliste!AA92) & IF(EXACT(Meldeliste!AB92,\"\"),\"\",\"/\" & Meldeliste!AB92) & IF(EXACT(Meldeliste!AC92,\"\"),\"\",\"/\" & Meldeliste!AC92)  & IF(EXACT(Meldeliste!AD92,\"\"),\"\",\"/\" & Meldeliste!AD92) & IF(EXACT(Meldeliste!AE92,\"\"),\"\",\"/\" & Meldeliste!AE92) & IF(EXACT(Meldeliste!AF92,\"\"),\"\",\"/\" & Meldeliste!AF92) & IF(EXACT(Meldeliste!AG92,\"\"),\"\",\"/\" & Meldeliste!AG92),\"\"),\"\",Meldeliste!Z92 & IF(EXACT(Meldeliste!AA92,\"\"),\"\",\"/\" & Meldeliste!AA92) & IF(EXACT(Meldeliste!AB92,\"\"),\"\",\"/\" & Meldeliste!AB92) & IF(EXACT(Meldeliste!AC92,\"\"),\"\",\"/\" & Meldeliste!AC92)  & IF(EXACT(Meldeliste!AD92,\"\"),\"\",\"/\" & Meldeliste!AD92) & IF(EXACT(Meldeliste!AE92,\"\"),\"\",\"/\" & Meldeliste!AE92) & IF(EXACT(Meldeliste!AF92,\"\"),\"\",\"/\" & Meldeliste!AF92) & IF(EXACT(Meldeliste!AG92,\"\"),\"\",\"/\" & Meldeliste!AG92))","v":""},{"$f":"IF(EXACT(Meldeliste!E92,\"\"),\"\",Meldeliste!E92)","v":""},{"$f":"IF(EXACT(Meldeliste!F92,\"\"),\"\",Meldeliste!F92)","v":""},{"$f":"IF(EXACT(Meldeliste!B92,\"\"),\"\",Meldeliste!B92)","v":""},null,"","",null,"",""]
[{"$f":"IF(EXACT(Meldeliste!C93,\"\"),\"\",Meldeliste!C93)","v":""},{"$f":"IF(EXACT(Meldeliste!H93&\" \"&Meldeliste!I93,\"\"),\"\",Meldeliste!H93&\" \"&Meldeliste!I93)","v":" "},{"$f":"IF(EXACT(Meldeliste!P93,\"\"),\"\",Meldeliste!P93)","v":""},{"$f":"IF(EXACT(Meldeliste!Z93 & IF(EXACT(Meldeliste!AA93,\"\"),\"\",\"/\" & Meldeliste!AA93) & IF(EXACT(Meldeliste!AB93,\"\"),\"\",\"/\" & Meldeliste!AB93) & IF(EXACT(Meldeliste!AC93,\"\"),\"\",\"/\" & Meldeliste!AC93)  & IF(EXACT(Meldeliste!AD93,\"\"),\"\",\"/\" & Meldeliste!AD93) & IF(EXACT(Meldeliste!AE93,\"\"),\"\",\"/\" & Meldeliste!AE93) & IF(EXACT(Meldeliste!AF93,\"\"),\"\",\"/\" & Meldeliste!AF93) & IF(EXACT(Meldeliste!AG93,\"\"),\"\",\"/\" & Meldeliste!AG93),\"\"),\"\",Meldeliste!Z93 & IF(EXACT(Meldeliste!AA93,\"\"),\"\",\"/\" & Meldeliste!AA93) & IF(EXACT(Meldeliste!AB93,\"\"),\"\",\"/\" & Meldeliste!AB93) & IF(EXACT(Meldeliste!AC93,\"\"),\"\",\"/\" & Meldeliste!AC93)  & IF(EXACT(Meldeliste!AD93,\"\"),\"\",\"/\" & Meldeliste!AD93) & IF(EXACT(Meldeliste!AE93,\"\"),\"\",\"/\" & Meldeliste!AE93) & IF(EXACT(Meldeliste!AF93,\"\"),\"\",\"/\" & Meldeliste!AF93) & IF(EXACT(Meldeliste!AG93,\"\"),\"\",\"/\" & Meldeliste!AG93))","v":""},{"$f":"IF(EXACT(Meldeliste!E93,\"\"),\"\",Meldeliste!E93)","v":""},{"$f":"IF(EXACT(Meldeliste!F93,\"\"),\"\",Meldeliste!F93)","v":""},{"$f":"IF(EXACT(Meldeliste!B93,\"\"),\"\",Meldeliste!B93)","v":""},null,"","",null,"",""]
[{"$f":"IF(EXACT(Meldeliste!C94,\"\"),\"\",Meldeliste!C94)","v":""},{"$f":"IF(EXACT(Meldeliste!H94&\" \"&Meldeliste!I94,\"\"),\"\",Meldeliste!H94&\" \"&Meldeliste!I94)","v":" "},{"$f":"IF(EXACT(Meldeliste!P94,\"\"),\"\",Meldeliste!P94)","v":""},{"$f":"IF(EXACT(Meldeliste!Z94 & IF(EXACT(Meldeliste!AA94,\"\"),\"\",\"/\" & Meldeliste!AA94) & IF(EXACT(Meldeliste!AB94,\"\"),\"\",\"/\" & Meldeliste!AB94) & IF(EXACT(Meldeliste!AC94,\"\"),\"\",\"/\" & Meldeliste!AC94)  & IF(EXACT(Meldeliste!AD94,\"\"),\"\",\"/\" & Meldeliste!AD94) & IF(EXACT(Meldeliste!AE94,\"\"),\"\",\"/\" & Meldeliste!AE94) & IF(EXACT(Meldeliste!AF94,\"\"),\"\",\"/\" & Meldeliste!AF94) & IF(EXACT(Meldeliste!AG94,\"\"),\"\",\"/\" & Meldeliste!AG94),\"\"),\"\",Meldeliste!Z94 & IF(EXACT(Meldeliste!AA94,\"\"),\"\",\"/\" & Meldeliste!AA94) & IF(EXACT(Meldeliste!AB94,\"\"),\"\",\"/\" & Meldeliste!AB94) & IF(EXACT(Meldeliste!AC94,\"\"),\"\",\"/\" & Meldeliste!AC94)  & IF(EXACT(Meldeliste!AD94,\"\"),\"\",\"/\" & Meldeliste!AD94) & IF(EXACT(Meldeliste!AE94,\"\"),\"\",\"/\" & Meldeliste!AE94) & IF(EXACT(Meldeliste!AF94,\"\"),\"\",\"/\" & Meldeliste!AF94) & IF(EXACT(Meldeliste!AG94,\"\"),\"\",\"/\" & Meldeliste!AG94))","v":""},{"$f":"IF(EXACT(Meldeliste!E94,\"\"),\"\",Meldeliste!E94)","v":""},{"$f":"IF(EXACT(Meldeliste!F94,\"\"),\"\",Meldeliste!F94)","v":""},{"$f":"IF(EXACT(Meldeliste!B94,\"\"),\"\",Meldeliste!B94)","v":""},null,"","",null,"",""]
[{"$f":"IF(EXACT(Meldeliste!C95,\"\"),\"\",Meldeliste!C95)","v":""},{"$f":"IF(EXACT(Meldeliste!H95&\" \"&Meldeliste!I95,\"\"),\"\",Meldeliste!H95&\" \"&Meldeliste!I95)","v":" "},{"$f":"IF(EXACT(Meldeliste!P95,\"\"),\"\",Meldeliste!P95)","v":""},{"$f":"IF(EXACT(Meldeliste!Z95 & IF(EXACT(Meldeliste!AA95,\"\"),\"\",\"/\" & Meldeliste!AA95) & IF(EXACT(Meldeliste!AB95,\"\"),\"\",\"/\" & Meldeliste!AB95) & IF(EXACT(Meldeliste!AC95,\"\"),\"\",\"/\" & Meldeliste!AC95)  & IF(EXACT(Meldeliste!AD95,\"\"),\"\",\"/\" & Meldeliste!AD95) & IF(EXACT(Meldeliste!AE95,\"\"),\"\",\"/\" & Meldeliste!AE95) & IF(EXACT(Meldeliste!AF95,\"\"),\"\",\"/\" & Meldeliste!AF95) & IF(EXACT(Meldeliste!AG95,\"\"),\"\",\"/\" & Meldeliste!AG95),\"\"),\"\",Meldeliste!Z95 & IF(EXACT(Meldeliste!AA95,\"\"),\"\",\"/\" & Meldeliste!AA95) & IF(EXACT(Meldeliste!AB95,\"\"),\"\",\"/\" & Meldeliste!AB95) & IF(EXACT(Meldeliste!AC95,\"\"),\"\",\"/\" & Meldeliste!AC95)  & IF(EXACT(Meldeliste!AD95,\"\"),\"\",\"/\" & Meldeliste!AD95) & IF(EXACT(Meldeliste!AE95,\"\"),\"\",\"/\" & Meldeliste!AE95) & IF(EXACT(Meldeliste!AF95,\"\"),\"\",\"/\" & Meldeliste!AF95) & IF(EXACT(Meldeliste!AG95,\"\"),\"\",\"/\" & Meldeliste!AG95))","v":""},{"$f":"IF(EXACT(Meldeliste!E95,\"\"),\"\",Meldeliste!E95)","v":""},{"$f":"IF(EXACT(Meldeliste!F95,\"\"),\"\",Meldeliste!F95)","v":""},{"$f":"IF(EXACT(Meldeliste!B95,\"\"),\"\",Meldeliste!B95)","v":""},null,"","",null,"",""]
[{"$f":"IF(EXACT(Meldeliste!C96,\"\"),\"\",Meldeliste!C96)","v":""},{"$f":"IF(EXACT(Meldeliste!H96&\" \"&Meldeliste!I96,\"\"),\"\",Meldeliste!H96&\" \"&Meldeliste!I96)","v":" "},{"$f":"IF(EXACT(Meldeliste!P96,\"\"),\"\",Meldeliste!P96)","v":""},{"$f":"IF(EXACT(Meldeliste!Z96 & IF(EXACT(Meldeliste!AA96,\"\"),\"\",\"/\" & Meldeliste!AA96) & IF(EXACT(Meldeliste!AB96,\"\"),\"\",\"/\" & Meldeliste!AB96) & IF(EXACT(Meldeliste!AC96,\"\"),\"\",\"/\" & Meldeliste!AC96)  & IF(EXACT(Meldeliste!AD96,\"\"),\"\",\"/\" & Meldeliste!AD96) & IF(EXACT(Meldeliste!AE96,\"\"),\"\",\"/\" & Meldeliste!AE96) & IF(EXACT(Meldeliste!AF96,\"\"),\"\",\"/\" & Meldeliste!AF96) & IF(EXACT(Meldeliste!AG96,\"\"),\"\",\"/\" & Meldeliste!AG96),\"\"),\"\",Meldeliste!Z96 & IF(EXACT(Meldeliste!AA96,\"\"),\"\",\"/\" & Meldeliste!AA96) & IF(EXACT(Meldeliste!AB96,\"\"),\"\",\"/\" & Meldeliste!AB96) & IF(EXACT(Meldeliste!AC96,\"\"),\"\",\"/\" & Meldeliste!AC96)  & IF(EXACT(Meldeliste!AD96,\"\"),\"\",\"/\" & Meldeliste!AD96) & IF(EXACT(Meldeliste!AE96,\"\"),\"\",\"/\" & Meldeliste!AE96) & IF(EXACT(Meldeliste!AF96,\"\"),\"\",\"/\" & Meldeliste!AF96) & IF(EXACT(Meldeliste!AG96,\"\"),\"\",\"/\" & Meldeliste!AG96))","v":""},{"$f":"IF(EXACT(Meldeliste!E96,\"\"),\"\",Meldeliste!E96)","v":""},{"$f":"IF(EXACT(Meldeliste!F96,\"\"),\"\",Meldeliste!F96)","v":""},{"$f":"IF(EXACT(Meldeliste!B96,\"\"),\"\",Meldeliste!B96)","v":""},null,"","",null,"",""]
[{"$f":"IF(EXACT(Meldeliste!C97,\"\"),\"\",Meldeliste!C97)","v":""},{"$f":"IF(EXACT(Meldeliste!H97&\" \"&Meldeliste!I97,\"\"),\"\",Meldeliste!H97&\" \"&Meldeliste!I97)","v":" "},{"$f":"IF(EXACT(Meldeliste!P97,\"\"),\"\",Meldeliste!P97)","v":""},{"$f":"IF(EXACT(Meldeliste!Z97 & IF(EXACT(Meldeliste!AA97,\"\"),\"\",\"/\" & Meldeliste!AA97) & IF(EXACT(Meldeliste!AB97,\"\"),\"\",\"/\" & Meldeliste!AB97) & IF(EXACT(Meldeliste!AC97,\"\"),\"\",\"/\" & Meldeliste!AC97)  & IF(EXACT(Meldeliste!AD97,\"\"),\"\",\"/\" & Meldeliste!AD97) & IF(EXACT(Meldeliste!AE97,\"\"),\"\",\"/\" & Meldeliste!AE97) & IF(EXACT(Meldeliste!AF97,\"\"),\"\",\"/\" & Meldeliste!AF97) & IF(EXACT(Meldeliste!AG97,\"\"),\"\",\"/\" & Meldeliste!AG97),\"\"),\"\",Meldeliste!Z97 & IF(EXACT(Meldeliste!AA97,\"\"),\"\",\"/\" & Meldeliste!AA97) & IF(EXACT(Meldeliste!AB97,\"\"),\"\",\"/\" & Meldeliste!AB97) & IF(EXACT(Meldeliste!AC97,\"\"),\"\",\"/\" & Meldeliste!AC97)  & IF(EXACT(Meldeliste!AD97,\"\"),\"\",\"/\" & Meldeliste!AD97) & IF(EXACT(Meldeliste!AE97,\"\"),\"\",\"/\" & Meldeliste!AE97) & IF(EXACT(Meldeliste!AF97,\"\"),\"\",\"/\" & Meldeliste!AF97) & IF(EXACT(Meldeliste!AG97,\"\"),\"\",\"/\" & Meldeliste!AG97))","v":""},{"$f":"IF(EXACT(Meldeliste!E97,\"\"),\"\",Meldeliste!E97)","v":""},{"$f":"IF(EXACT(Meldeliste!F97,\"\"),\"\",Meldeliste!F97)","v":""},{"$f":"IF(EXACT(Meldeliste!B97,\"\"),\"\",Meldeliste!B97)","v":""},null,"","",null,"",""]
[{"$f":"IF(EXACT(Meldeliste!C98,\"\"),\"\",Meldeliste!C98)","v":""},{"$f":"IF(EXACT(Meldeliste!H98&\" \"&Meldeliste!I98,\"\"),\"\",Meldeliste!H98&\" \"&Meldeliste!I98)","v":" "},{"$f":"IF(EXACT(Meldeliste!P98,\"\"),\"\",Meldeliste!P98)","v":""},{"$f":"IF(EXACT(Meldeliste!Z98 & IF(EXACT(Meldeliste!AA98,\"\"),\"\",\"/\" & Meldeliste!AA98) & IF(EXACT(Meldeliste!AB98,\"\"),\"\",\"/\" & Meldeliste!AB98) & IF(EXACT(Meldeliste!AC98,\"\"),\"\",\"/\" & Meldeliste!AC98)  & IF(EXACT(Meldeliste!AD98,\"\"),\"\",\"/\" & Meldeliste!AD98) & IF(EXACT(Meldeliste!AE98,\"\"),\"\",\"/\" & Meldeliste!AE98) & IF(EXACT(Meldeliste!AF98,\"\"),\"\",\"/\" & Meldeliste!AF98) & IF(EXACT(Meldeliste!AG98,\"\"),\"\",\"/\" & Meldeliste!AG98),\"\"),\"\",Meldeliste!Z98 & IF(EXACT(Meldeliste!AA98,\"\"),\"\",\"/\" & Meldeliste!AA98) & IF(EXACT(Meldeliste!AB98,\"\"),\"\",\"/\" & Meldeliste!AB98) & IF(EXACT(Meldeliste!AC98,\"\"),\"\",\"/\" & Meldeliste!AC98)  & IF(EXACT(Meldeliste!AD98,\"\"),\"\",\"/\" & Meldeliste!AD98) & IF(EXACT(Meldeliste!AE98,\"\"),\"\",\"/\" & Meldeliste!AE98) & IF(EXACT(Meldeliste!AF98,\"\"),\"\",\"/\" & Meldeliste!AF98) & IF(EXACT(Meldeliste!AG98,\"\"),\"\",\"/\" & Meldeliste!AG98))","v":""},{"$f":"IF(EXACT(Meldeliste!E98,\"\"),\"\",Meldeliste!E98)","v":""},{"$f":"IF(EXACT(Meldeliste!F98,\"\"),\"\",Meldeliste!F98)","v":""},{"$f":"IF(EXACT(Meldeliste!B98,\"\"),\"\",Meldeliste!B98)","v":""},null,"","",null,"",""]
[{"$f":"IF(EXACT(Meldeliste!C99,\"\"),\"\",Meldeliste!C99)","v":""},{"$f":"IF(EXACT(Meldeliste!H99&\" \"&Meldeliste!I99,\"\"),\"\",Meldeliste!H99&\" \"&Meldeliste!I99)","v":" "},{"$f":"IF(EXACT(Meldeliste!P99,\"\"),\"\",Meldeliste!P99)","v":""},{"$f":"IF(EXACT(Meldeliste!Z99 & IF(EXACT(Meldeliste!AA99,\"\"),\"\",\"/\" & Meldeliste!AA99) & IF(EXACT(Meldeliste!AB99,\"\"),\"\",\"/\" & Meldeliste!AB99) & IF(EXACT(Meldeliste!AC99,\"\"),\"\",\"/\" & Meldeliste!AC99)  & IF(EXACT(Meldeliste!AD99,\"\"),\"\",\"/\" & Meldeliste!AD99) & IF(EXACT(Meldeliste!AE99,\"\"),\"\",\"/\" & Meldeliste!AE99) & IF(EXACT(Meldeliste!AF99,\"\"),\"\",\"/\" & Meldeliste!AF99) & IF(EXACT(Meldeliste!AG99,\"\"),\"\",\"/\" & Meldeliste!AG99),\"\"),\"\",Meldeliste!Z99 & IF(EXACT(Meldeliste!AA99,\"\"),\"\",\"/\" & Meldeliste!AA99) & IF(EXACT(Meldeliste!AB99,\"\"),\"\",\"/\" & Meldeliste!AB99) & IF(EXACT(Meldeliste!AC99,\"\"),\"\",\"/\" & Meldeliste!AC99)  & IF(EXACT(Meldeliste!AD99,\"\"),\"\",\"/\" & Meldeliste!AD99) & IF(EXACT(Meldeliste!AE99,\"\"),\"\",\"/\" & Meldeliste!AE99) & IF(EXACT(Meldeliste!AF99,\"\"),\"\",\"/\" & Meldeliste!AF99) & IF(EXACT(Meldeliste!AG99,\"\"),\"\",\"/\" & Meldeliste!AG99))","v":""},{"$f":"IF(EXACT(Meldeliste!E99,\"\"),\"\",Meldeliste!E99)","v":""},{"$f":"IF(EXACT(Meldeliste!F99,\"\"),\"\",Meldeliste!F99)","v":""},{"$f":"IF(EXACT(Meldeliste!B99,\"\"),\"\",Meldeliste!B99)","v":""},null,"","",null,"",""]
[{"$f":"IF(EXACT(Meldeliste!C100,\"\"),\"\",Meldeliste!C100)","v":""},{"$f":"IF(EXACT(Meldeliste!H100&\" \"&Meldeliste!I100,\"\"),\"\",Meldeliste!H100&\" \"&Meldeliste!I100)","v":" "},{"$f":"IF(EXACT(Meldeliste!P100,\"\"),\"\",Meldeliste!P100)","v":""},{"$f":"IF(EXACT(Meldeliste!Z100 & IF(EXACT(Meldeliste!AA100,\"\"),\"\",\"/\" & Meldeliste!AA100) & IF(EXACT(Meldeliste!AB100,\"\"),\"\",\"/\" & Meldeliste!AB100) & IF(EXACT(Meldeliste!AC100,\"\"),\"\",\"/\" & Meldeliste!AC100)  & IF(EXACT(Meldeliste!AD100,\"\"),\"\",\"/\" & Meldeliste!AD100) & IF(EXACT(Meldeliste!AE100,\"\"),\"\",\"/\" & Meldeliste!AE100) & IF(EXACT(Meldeliste!AF100,\"\"),\"\",\"/\" & Meldeliste!AF100) & IF(EXACT(Meldeliste!AG100,\"\"),\"\",\"/\" & Meldeliste!AG100),\"\"),\"\",Meldeliste!Z100 & IF(EXACT(Meldeliste!AA100,\"\"),\"\",\"/\" & Meldeliste!AA100) & IF(EXACT(Meldeliste!AB100,\"\"),\"\",\"/\" & Meldeliste!AB100) & IF(EXACT(Meldeliste!AC100,\"\"),\"\",\"/\" & Meldeliste!AC100)  & IF(EXACT(Meldeliste!AD100,\"\"),\"\",\"/\" & Meldeliste!AD100) & IF(EXACT(Meldeliste!AE100,\"\"),\"\",\"/\" & Meldeliste!AE100) & IF(EXACT(Meldeliste!AF100,\"\"),\"\",\"/\" & Meldeliste!AF100) & IF(EXACT(Meldeliste!AG100,\"\"),\"\",\"/\" & Meldeliste!AG100))","v":""},{"$f":"IF(EXACT(Meldeliste!E100,\"\"),\"\",Meldeliste!E100)","v":""},{"$f":"IF(EXACT(Meldeliste!F100,\"\"),\"\",Meldeliste!F100)","v":""},{"$f":"IF(EXACT(Meldeliste!B100,\"\"),\"\",Meldeliste!B100)","v":""},null,"","",null,"",""]
[{"$f":"IF(EXACT(Meldeliste!C101,\"\"),\"\",Meldeliste!C101)","v":""},{"$f":"IF(EXACT(Meldeliste!H101&\" \"&Meldeliste!I101,\"\"),\"\",Meldeliste!H101&\" \"&Meldeliste!I101)","v":" "},{"$f":"IF(EXACT(Meldeliste!P101,\"\"),\"\",Meldeliste!P101)","v":""},{"$f":"IF(EXACT(Meldeliste!Z101 & IF(EXACT(Meldeliste!AA101,\"\"),\"\",\"/\" & Meldeliste!AA101) & IF(EXACT(Meldeliste!AB101,\"\"),\"\",\"/\" & Meldeliste!AB101) & IF(EXACT(Meldeliste!AC101,\"\"),\"\",\"/\" & Meldeliste!AC101)  & IF(EXACT(Meldeliste!AD101,\"\"),\"\",\"/\" & Meldeliste!AD101) & IF(EXACT(Meldeliste!AE101,\"\"),\"\",\"/\" & Meldeliste!AE101) & IF(EXACT(Meldeliste!AF101,\"\"),\"\",\"/\" & Meldeliste!AF101) & IF(EXACT(Meldeliste!AG101,\"\"),\"\",\"/\" & Meldeliste!AG101),\"\"),\"\",Meldeliste!Z101 & IF(EXACT(Meldeliste!AA101,\"\"),\"\",\"/\" & Meldeliste!AA101) & IF(EXACT(Meldeliste!AB101,\"\"),\"\",\"/\" & Meldeliste!AB101) & IF(EXACT(Meldeliste!AC101,\"\"),\"\",\"/\" & Meldeliste!AC101)  & IF(EXACT(Meldeliste!AD101,\"\"),\"\",\"/\" & Meldeliste!AD101) & IF(EXACT(Meldeliste!AE101,\"\"),\"\",\"/\" & Meldeliste!AE101) & IF(EXACT(Meldeliste!AF101,\"\"),\"\",\"/\" & Meldeliste!AF101) & IF(EXACT(Meldeliste!AG101,\"\"),\"\",\"/\" & Meldeliste!AG101))","v":""},{"$f":"IF(EXACT(Meldeliste!E101,\"\"),\"\",Meldeliste!E101)","v":""},{"$f":"IF(EXACT(Meldeliste!F101,\"\"),\"\",Meldeliste!F101)","v":""},{"$f":"IF(EXACT(Meldeliste!B101,\"\"),\"\",Meldeliste!B101)","v":""},null,"","",null,"",""]
[{"$f":"IF(EXACT(Meldeliste!C102,\"\"),\"\",Meldeliste!C102)","v":""},{"$f":"IF(EXACT(Meldeliste!H102&\" \"&Meldeliste!I102,\"\"),\"\",Meldeliste!H102&\" \"&Meldeliste!I102)","v":" "},{"$f":"IF(EXACT(Meldeliste!P102,\"\"),\"\",Meldeliste!P102)","v":""},{"$f":"IF(EXACT(Meldeliste!Z102 & IF(EXACT(Meldeliste!AA102,\"\"),\"\",\"/\" & Meldeliste!AA102) & IF(EXACT(Meldeliste!AB102,\"\"),\"\",\"/\" & Meldeliste!AB102) & IF(EXACT(Meldeliste!AC102,\"\"),\"\",\"/\" & Meldeliste!AC102)  & IF(EXACT(Meldeliste!AD102,\"\"),\"\",\"/\" & Meldeliste!AD102) & IF(EXACT(Meldeliste!AE102,\"\"),\"\",\"/\" & Meldeliste!AE102) & IF(EXACT(Meldeliste!AF102,\"\"),\"\",\"/\" & Meldeliste!AF102) & IF(EXACT(Meldeliste!AG102,\"\"),\"\",\"/\" & Meldeliste!AG102),\"\"),\"\",Meldeliste!Z102 & IF(EXACT(Meldeliste!AA102,\"\"),\"\",\"/\" & Meldeliste!AA102) & IF(EXACT(Meldeliste!AB102,\"\"),\"\",\"/\" & Meldeliste!AB102) & IF(EXACT(Meldeliste!AC102,\"\"),\"\",\"/\" & Meldeliste!AC102)  & IF(EXACT(Meldeliste!AD102,\"\"),\"\",\"/\" & Meldeliste!AD102) & IF(EXACT(Meldeliste!AE102,\"\"),\"\",\"/\" & Meldeliste!AE102) & IF(EXACT(Meldeliste!AF102,\"\"),\"\",\"/\" & Meldeliste!AF102) & IF(EXACT(Meldeliste!AG102,\"\"),\"\",\"/\" & Meldeliste!AG102))","v":""},{"$f":"IF(EXACT(Meldeliste!E102,\"\"),\"\",Meldeliste!E102)","v":""},{"$f":"IF(EXACT(Meldeliste!F102,\"\"),\"\",Meldeliste!F102)","v":""},{"$f":"IF(EXACT(Meldeliste!B102,\"\"),\"\",Meldeliste!B102)","v":""},null,"","",null,"",""]
[{"$f":"IF(EXACT(Meldeliste!C103,\"\"),\"\",Meldeliste!C103)","v":""},{"$f":"IF(EXACT(Meldeliste!H103&\" \"&Meldeliste!I103,\"\"),\"\",Meldeliste!H103&\" \"&Meldeliste!I103)","v":" "},{"$f":"IF(EXACT(Meldeliste!P103,\"\"),\"\",Meldeliste!P103)","v":""},{"$f":"IF(EXACT(Meldeliste!Z103 & IF(EXACT(Meldeliste!AA103,\"\"),\"\",\"/\" & Meldeliste!AA103) & IF(EXACT(Meldeliste!AB103,\"\"),\"\",\"/\" & Meldeliste!AB103) & IF(EXACT(Meldeliste!AC103,\"\"),\"\",\"/\" & Meldeliste!AC103)  & IF(EXACT(Meldeliste!AD103,\"\"),\"\",\"/\" & Meldeliste!AD103) & IF(EXACT(Meldeliste!AE103,\"\"),\"\",\"/\" & Meldeliste!AE103) & IF(EXACT(Meldeliste!AF103,\"\"),\"\",\"/\" & Meldeliste!AF103) & IF(EXACT(Meldeliste!AG103,\"\"),\"\",\"/\" & Meldeliste!AG103),\"\"),\"\",Meldeliste!Z103 & IF(EXACT(Meldeliste!AA103,\"\"),\"\",\"/\" & Meldeliste!AA103) & IF(EXACT(Meldeliste!AB103,\"\"),\"\",\"/\" & Meldeliste!AB103) & IF(EXACT(Meldeliste!AC103,\"\"),\"\",\"/\" & Meldeliste!AC103)  & IF(EXACT(Meldeliste!AD103,\"\"),\"\",\"/\" & Meldeliste!AD103) & IF(EXACT(Meldeliste!AE103,\"\"),\"\",\"/\" & Meldeliste!AE103) & IF(EXACT(Meldeliste!AF103,\"\"),\"\",\"/\" & Meldeliste!AF103) & IF(EXACT(Meldeliste!AG103,\"\"),\"\",\"/\" & Meldeliste!AG103))","v":""},{"$f":"IF(EXACT(Meldeliste!E103,\"\"),\"\",Meldeliste!E103)","v":""},{"$f":"IF(EXACT(Meldeliste!F103,\"\"),\"\",Meldeliste!F103)","v":""},{"$f":"IF(EXACT(Meldeliste!B103,\"\"),\"\",Meldeliste!B103)","v":""},null,"","",null,"",""]
[{"$f":"IF(EXACT(Meldeliste!C104,\"\"),\"\",Meldeliste!C104)","v":""},{"$f":"IF(EXACT(Meldeliste!H104&\" \"&Meldeliste!I104,\"\"),\"\",Meldeliste!H104&\" \"&Meldeliste!I104)","v":" "},{"$f":"IF(EXACT(Meldeliste!P104,\"\"),\"\",Meldeliste!P104)","v":""},{"$f":"IF(EXACT(Meldeliste!Z104 & IF(EXACT(Meldeliste!AA104,\"\"),\"\",\"/\" & Meldeliste!AA104) & IF(EXACT(Meldeliste!AB104,\"\"),\"\",\"/\" & Meldeliste!AB104) & IF(EXACT(Meldeliste!AC104,\"\"),\"\",\"/\" & Meldeliste!AC104)  & IF(EXACT(Meldeliste!AD104,\"\"),\"\",\"/\" & Meldeliste!AD104) & IF(EXACT(Meldeliste!AE104,\"\"),\"\",\"/\" & Meldeliste!AE104) & IF(EXACT(Meldeliste!AF104,\"\"),\"\",\"/\" & Meldeliste!AF104) & IF(EXACT(Meldeliste!AG104,\"\"),\"\",\"/\" & Meldeliste!AG104),\"\"),\"\",Meldeliste!Z104 & IF(EXACT(Meldeliste!AA104,\"\"),\"\",\"/\" & Meldeliste!AA104) & IF(EXACT(Meldeliste!AB104,\"\"),\"\",\"/\" & Meldeliste!AB104) & IF(EXACT(Meldeliste!AC104,\"\"),\"\",\"/\" & Meldeliste!AC104)  & IF(EXACT(Meldeliste!AD104,\"\"),\"\",\"/\" & Meldeliste!AD104) & IF(EXACT(Meldeliste!AE104,\"\"),\"\",\"/\" & Meldeliste!AE104) & IF(EXACT(Meldeliste!AF104,\"\"),\"\",\"/\" & Meldeliste!AF104) & IF(EXACT(Meldeliste!AG104,\"\"),\"\",\"/\" & Meldeliste!AG104))","v":""},{"$f":"IF(EXACT(Meldeliste!E104,\"\"),\"\",Meldeliste!E104)","v":""},{"$f":"IF(EXACT(Meldeliste!F104,\"\"),\"\",Meldeliste!F104)","v":""},{"$f":"IF(EXACT(Meldeliste!B104,\"\"),\"\",Meldeliste!B104)","v":""},null,"","",null,"",""]
[{"$f":"IF(EXACT(Meldeliste!C105,\"\"),\"\",Meldeliste!C105)","v":""},{"$f":"IF(EXACT(Meldeliste!H105&\" \"&Meldeliste!I105,\"\"),\"\",Meldeliste!H105&\" \"&Meldeliste!I105)","v":" "},{"$f":"IF(EXACT(Meldeliste!P105,\"\"),\"\",Meldeliste!P105)","v":""},{"$f":"IF(EXACT(Meldeliste!Z105 & IF(EXACT(Meldeliste!AA105,\"\"),\"\",\"/\" & Meldeliste!AA105) & IF(EXACT(Meldeliste!AB105,\"\"),\"\",\"/\" & Meldeliste!AB105) & IF(EXACT(Meldeliste!AC105,\"\"),\"\",\"/\" & Meldeliste!AC105)  & IF(EXACT(Meldeliste!AD105,\"\"),\"\",\"/\" & Meldeliste!AD105) & IF(EXACT(Meldeliste!AE105,\"\"),\"\",\"/\" & Meldeliste!AE105) & IF(EXACT(Meldeliste!AF105,\"\"),\"\",\"/\" & Meldeliste!AF105) & IF(EXACT(Meldeliste!AG105,\"\"),\"\",\"/\" & Meldeliste!AG105),\"\"),\"\",Meldeliste!Z105 & IF(EXACT(Meldeliste!AA105,\"\"),\"\",\"/\" & Meldeliste!AA105) & IF(EXACT(Meldeliste!AB105,\"\"),\"\",\"/\" & Meldeliste!AB105) & IF(EXACT(Meldeliste!AC105,\"\"),\"\",\"/\" & Meldeliste!AC105)  & IF(EXACT(Meldeliste!AD105,\"\"),\"\",\"/\" & Meldeliste!AD105) & IF(EXACT(Meldeliste!AE105,\"\"),\"\",\"/\" & Meldeliste!AE105) & IF(EXACT(Meldeliste!AF105,\"\"),\"\",\"/\" & Meldeliste!AF105) & IF(EXACT(Meldeliste!AG105,\"\"),\"\",\"/\" & Meldeliste!AG105))","v":""},{"$f":"IF(EXACT(Meldeliste!E105,\"\"),\"\",Meldeliste!E105)","v":""},{"$f":"IF(EXACT(Meldeliste!F105,\"\"),\"\",Meldeliste!F105)","v":""},{"$f":"IF(EXACT(Meldeliste!B105,\"\"),\"\",Meldeliste!B105)","v":""},null,"","",null,"",""]
[{"$f":"IF(EXACT(Meldeliste!C106,\"\"),\"\",Meldeliste!C106)","v":""},{"$f":"IF(EXACT(Meldeliste!H106&\" \"&Meldeliste!I106,\"\"),\"\",Meldeliste!H106&\" \"&Meldeliste!I106)","v":" "},{"$f":"IF(EXACT(Meldeliste!P106,\"\"),\"\",Meldeliste!P106)","v":""},{"$f":"IF(EXACT(Meldeliste!Z106 & IF(EXACT(Meldeliste!AA106,\"\"),\"\",\"/\" & Meldeliste!AA106) & IF(EXACT(Meldeliste!AB106,\"\"),\"\",\"/\" & Meldeliste!AB106) & IF(EXACT(Meldeliste!AC106,\"\"),\"\",\"/\" & Meldeliste!AC106)  & IF(EXACT(Meldeliste!AD106,\"\"),\"\",\"/\" & Meldeliste!AD106) & IF(EXACT(Meldeliste!AE106,\"\"),\"\",\"/\" & Meldeliste!AE106) & IF(EXACT(Meldeliste!AF106,\"\"),\"\",\"/\" & Meldeliste!AF106) & IF(EXACT(Meldeliste!AG106,\"\"),\"\",\"/\" & Meldeliste!AG106),\"\"),\"\",Meldeliste!Z106 & IF(EXACT(Meldeliste!AA106,\"\"),\"\",\"/\" & Meldeliste!AA106) & IF(EXACT(Meldeliste!AB106,\"\"),\"\",\"/\" & Meldeliste!AB106) & IF(EXACT(Meldeliste!AC106,\"\"),\"\",\"/\" & Meldeliste!AC106)  & IF(EXACT(Meldeliste!AD106,\"\"),\"\",\"/\" & Meldeliste!AD106) & IF(EXACT(Meldeliste!AE106,\"\"),\"\",\"/\" & Meldeliste!AE106) & IF(EXACT(Meldeliste!AF106,\"\"),\"\",\"/\" & Meldeliste!AF106) & IF(EXACT(Meldeliste!AG106,\"\"),\"\",\"/\" & Meldeliste!AG106))","v":""},{"$f":"IF(EXACT(Meldeliste!E106,\"\"),\"\",Meldeliste!E106)","v":""},{"$f":"IF(EXACT(Meldeliste!F106,\"\"),\"\",Meldeliste!F106)","v":""},{"$f":"IF(EXACT(Meldeliste!B106,\"\"),\"\",Meldeliste!B106)","v":""},null,"","",null,"",""]
[{"$f":"IF(EXACT(Meldeliste!C107,\"\"),\"\",Meldeliste!C107)","v":""},{"$f":"IF(EXACT(Meldeliste!H107&\" \"&Meldeliste!I107,\"\"),\"\",Meldeliste!H107&\" \"&Meldeliste!I107)","v":" "},{"$f":"IF(EXACT(Meldeliste!P107,\"\"),\"\",Meldeliste!P107)","v":""},{"$f":"IF(EXACT(Meldeliste!Z107 & IF(EXACT(Meldeliste!AA107,\"\"),\"\",\"/\" & Meldeliste!AA107) & IF(EXACT(Meldeliste!AB107,\"\"),\"\",\"/\" & Meldeliste!AB107) & IF(EXACT(Meldeliste!AC107,\"\"),\"\",\"/\" & Meldeliste!AC107)  & IF(EXACT(Meldeliste!AD107,\"\"),\"\",\"/\" & Meldeliste!AD107) & IF(EXACT(Meldeliste!AE107,\"\"),\"\",\"/\" & Meldeliste!AE107) & IF(EXACT(Meldeliste!AF107,\"\"),\"\",\"/\" & Meldeliste!AF107) & IF(EXACT(Meldeliste!AG107,\"\"),\"\",\"/\" & Meldeliste!AG107),\"\"),\"\",Meldeliste!Z107 & IF(EXACT(Meldeliste!AA107,\"\"),\"\",\"/\" & Meldeliste!AA107) & IF(EXACT(Meldeliste!AB107,\"\"),\"\",\"/\" & Meldeliste!AB107) & IF(EXACT(Meldeliste!AC107,\"\"),\"\",\"/\" & Meldeliste!AC107)  & IF(EXACT(Meldeliste!AD107,\"\"),\"\",\"/\" & Meldeliste!AD107) & IF(EXACT(Meldeliste!AE107,\"\"),\"\",\"/\" & Meldeliste!AE107) & IF(EXACT(Meldeliste!AF107,\"\"),\"\",\"/\" & Meldeliste!AF107) & IF(EXACT(Meldeliste!AG107,\"\"),\"\",\"/\" & Meldeliste!AG107))","v":""},{"$f":"IF(EXACT(Meldeliste!E107,\"\"),\"\",Meldeliste!E107)","v":""},{"$f":"IF(EXACT(Meldeliste!F107,\"\"),\"\",Meldeliste!F107)","v":""},{"$f":"IF(EXACT(Meldeliste!B107,\"\"),\"\",Meldeliste!B107)","v":""},null,"","",null,"",""]
[{"$f":"IF(EXACT(Meldeliste!C108,\"\"),\"\",Meldeliste!C108)","v":""},{"$f":"IF(EXACT(Meldeliste!H108&\" \"&Meldeliste!I108,\"\"),\"\",Meldeliste!H108&\" \"&Meldeliste!I108)","v":" "},{"$f":"IF(EXACT(Meldeliste!P108,\"\"),\"\",Meldeliste!P108)","v":""},{"$f":"IF(EXACT(Meldeliste!Z108 & IF(EXACT(Meldeliste!AA108,\"\"),\"\",\"/\" & Meldeliste!AA108) & IF(EXACT(Meldeliste!AB108,\"\"),\"\",\"/\" & Meldeliste!AB108) & IF(EXACT(Meldeliste!AC108,\"\"),\"\",\"/\" & Meldeliste!AC108)  & IF(EXACT(Meldeliste!AD108,\"\"),\"\",\"/\" & Meldeliste!AD108) & IF(EXACT(Meldeliste!AE108,\"\"),\"\",\"/\" & Meldeliste!AE108) & IF(EXACT(Meldeliste!AF108,\"\"),\"\",\"/\" & Meldeliste!AF108) & IF(EXACT(Meldeliste!AG108,\"\"),\"\",\"/\" & Meldeliste!AG108),\"\"),\"\",Meldeliste!Z108 & IF(EXACT(Meldeliste!AA108,\"\"),\"\",\"/\" & Meldeliste!AA108) & IF(EXACT(Meldeliste!AB108,\"\"),\"\",\"/\" & Meldeliste!AB108) & IF(EXACT(Meldeliste!AC108,\"\"),\"\",\"/\" & Meldeliste!AC108)  & IF(EXACT(Meldeliste!AD108,\"\"),\"\",\"/\" & Meldeliste!AD108) & IF(EXACT(Meldeliste!AE108,\"\"),\"\",\"/\" & Meldeliste!AE108) & IF(EXACT(Meldeliste!AF108,\"\"),\"\",\"/\" & Meldeliste!AF108) & IF(EXACT(Meldeliste!AG108,\"\"),\"\",\"/\" & Meldeliste!AG108))","v":""},{"$f":"IF(EXACT(Meldeliste!E108,\"\"),\"\",Meldeliste!E108)","v":""},{"$f":"IF(EXACT(Meldeliste!F108,\"\"),\"\",Meldeliste!F108)","v":""},{"$f":"IF(EXACT(Meldeliste!B108,\"\"),\"\",Meldeliste!B108)","v":""},null,"","",null,"",""]
[{"$f":"IF(EXACT(Meldeliste!C109,\"\"),\"\",Meldeliste!C109)","v":""},{"$f":"IF(EXACT(Meldeliste!H109&\" \"&Meldeliste!I109,\"\"),\"\",Meldeliste!H109&\" \"&Meldeliste!I109)","v":" "},{"$f":"IF(EXACT(Meldeliste!P109,\"\"),\"\",Meldeliste!P109)","v":""},{"$f":"IF(EXACT(Meldeliste!Z109 & IF(EXACT(Meldeliste!AA109,\"\"),\"\",\"/\" & Meldeliste!AA109) & IF(EXACT(Meldeliste!AB109,\"\"),\"\",\"/\" & Meldeliste!AB109) & IF(EXACT(Meldeliste!AC109,\"\"),\"\",\"/\" & Meldeliste!AC109)  & IF(EXACT(Meldeliste!AD109,\"\"),\"\",\"/\" & Meldeliste!AD109) & IF(EXACT(Meldeliste!AE109,\"\"),\"\",\"/\" & Meldeliste!AE109) & IF(EXACT(Meldeliste!AF109,\"\"),\"\",\"/\" & Meldeliste!AF109) & IF(EXACT(Meldeliste!AG109,\"\"),\"\",\"/\" & Meldeliste!AG109),\"\"),\"\",Meldeliste!Z109 & IF(EXACT(Meldeliste!AA109,\"\"),\"\",\"/\" & Meldeliste!AA109) & IF(EXACT(Meldeliste!AB109,\"\"),\"\",\"/\" & Meldeliste!AB109) & IF(EXACT(Meldeliste!AC109,\"\"),\"\",\"/\" & Meldeliste!AC109)  & IF(EXACT(Meldeliste!AD109,\"\"),\"\",\"/\" & Meldeliste!AD109) & IF(EXACT(Meldeliste!AE109,\"\"),\"\",\"/\" & Meldeliste!AE109) & IF(EXACT(Meldeliste!AF109,\"\"),\"\",\"/\" & Meldeliste!AF109) & IF(EXACT(Meldeliste!AG109,\"\"),\"\",\"/\" & Meldeliste!AG109))","v":""},{"$f":"IF(EXACT(Meldeliste!E109,\"\"),\"\",Meldeliste!E109)","v":""},{"$f":"IF(EXACT(Meldeliste!F109,\"\"),\"\",Meldeliste!F109)","v":""},{"$f":"IF(EXACT(Meldeliste!B109,\"\"),\"\",Meldeliste!B109)","v":""},null,"","",null,"",""]
[{"$f":"IF(EXACT(Meldeliste!C110,\"\"),\"\",Meldeliste!C110)","v":""},{"$f":"IF(EXACT(Meldeliste!H110&\" \"&Meldeliste!I110,\"\"),\"\",Meldeliste!H110&\" \"&Meldeliste!I110)","v":" "},{"$f":"IF(EXACT(Meldeliste!P110,\"\"),\"\",Meldeliste!P110)","v":""},{"$f":"IF(EXACT(Meldeliste!Z110 & IF(EXACT(Meldeliste!AA110,\"\"),\"\",\"/\" & Meldeliste!AA110) & IF(EXACT(Meldeliste!AB110,\"\"),\"\",\"/\" & Meldeliste!AB110) & IF(EXACT(Meldeliste!AC110,\"\"),\"\",\"/\" & Meldeliste!AC110)  & IF(EXACT(Meldeliste!AD110,\"\"),\"\",\"/\" & Meldeliste!AD110) & IF(EXACT(Meldeliste!AE110,\"\"),\"\",\"/\" & Meldeliste!AE110) & IF(EXACT(Meldeliste!AF110,\"\"),\"\",\"/\" & Meldeliste!AF110) & IF(EXACT(Meldeliste!AG110,\"\"),\"\",\"/\" & Meldeliste!AG110),\"\"),\"\",Meldeliste!Z110 & IF(EXACT(Meldeliste!AA110,\"\"),\"\",\"/\" & Meldeliste!AA110) & IF(EXACT(Meldeliste!AB110,\"\"),\"\",\"/\" & Meldeliste!AB110) & IF(EXACT(Meldeliste!AC110,\"\"),\"\",\"/\" & Meldeliste!AC110)  & IF(EXACT(Meldeliste!AD110,\"\"),\"\",\"/\" & Meldeliste!AD110) & IF(EXACT(Meldeliste!AE110,\"\"),\"\",\"/\" & Meldeliste!AE110) & IF(EXACT(Meldeliste!AF110,\"\"),\"\",\"/\" & Meldeliste!AF110) & IF(EXACT(Meldeliste!AG110,\"\"),\"\",\"/\" & Meldeliste!AG110))","v":""},{"$f":"IF(EXACT(Meldeliste!E110,\"\"),\"\",Meldeliste!E110)","v":""},{"$f":"IF(EXACT(Meldeliste!F110,\"\"),\"\",Meldeliste!F110)","v":""},{"$f":"IF(EXACT(Meldeliste!B110,\"\"),\"\",Meldeliste!B110)","v":""},null,"","",null,"",""]
[{"$f":"IF(EXACT(Meldeliste!C111,\"\"),\"\",Meldeliste!C111)","v":""},{"$f":"IF(EXACT(Meldeliste!H111&\" \"&Meldeliste!I111,\"\"),\"\",Meldeliste!H111&\" \"&Meldeliste!I111)","v":" "},{"$f":"IF(EXACT(Meldeliste!P111,\"\"),\"\",Meldeliste!P111)","v":""},{"$f":"IF(EXACT(Meldeliste!Z111 & IF(EXACT(Meldeliste!AA111,\"\"),\"\",\"/\" & Meldeliste!AA111) & IF(EXACT(Meldeliste!AB111,\"\"),\"\",\"/\" & Meldeliste!AB111) & IF(EXACT(Meldeliste!AC111,\"\"),\"\",\"/\" & Meldeliste!AC111)  & IF(EXACT(Meldeliste!AD111,\"\"),\"\",\"/\" & Meldeliste!AD111) & IF(EXACT(Meldeliste!AE111,\"\"),\"\",\"/\" & Meldeliste!AE111) & IF(EXACT(Meldeliste!AF111,\"\"),\"\",\"/\" & Meldeliste!AF111) & IF(EXACT(Meldeliste!AG111,\"\"),\"\",\"/\" & Meldeliste!AG111),\"\"),\"\",Meldeliste!Z111 & IF(EXACT(Meldeliste!AA111,\"\"),\"\",\"/\" & Meldeliste!AA111) & IF(EXACT(Meldeliste!AB111,\"\"),\"\",\"/\" & Meldeliste!AB111) & IF(EXACT(Meldeliste!AC111,\"\"),\"\",\"/\" & Meldeliste!AC111)  & IF(EXACT(Meldeliste!AD111,\"\"),\"\",\"/\" & Meldeliste!AD111) & IF(EXACT(Meldeliste!AE111,\"\"),\"\",\"/\" & Meldeliste!AE111) & IF(EXACT(Meldeliste!AF111,\"\"),\"\",\"/\" & Meldeliste!AF111) & IF(EXACT(Meldeliste!AG111,\"\"),\"\",\"/\" & Meldeliste!AG111))","v":""},{"$f":"IF(EXACT(Meldeliste!E111,\"\"),\"\",Meldeliste!E111)","v":""},{"$f":"IF(EXACT(Meldeliste!F111,\"\"),\"\",Meldeliste!F111)","v":""},{"$f":"IF(EXACT(Meldeliste!B111,\"\"),\"\",Meldeliste!B111)","v":""},null,"","",null,"",""]
[{"$f":"IF(EXACT(Meldeliste!C112,\"\"),\"\",Meldeliste!C112)","v":""},{"$f":"IF(EXACT(Meldeliste!H112&\" \"&Meldeliste!I112,\"\"),\"\",Meldeliste!H112&\" \"&Meldeliste!I112)","v":" "},{"$f":"IF(EXACT(Meldeliste!P112,\"\"),\"\",Meldeliste!P112)","v":""},{"$f":"IF(EXACT(Meldeliste!Z112 & IF(EXACT(Meldeliste!AA112,\"\"),\"\",\"/\" & Meldeliste!AA112) & IF(EXACT(Meldeliste!AB112,\"\"),\"\",\"/\" & Meldeliste!AB112) & IF(EXACT(Meldeliste!AC112,\"\"),\"\",\"/\" & Meldeliste!AC112)  & IF(EXACT(Meldeliste!AD112,\"\"),\"\",\"/\" & Meldeliste!AD112) & IF(EXACT(Meldeliste!AE112,\"\"),\"\",\"/\" & Meldeliste!AE112) & IF(EXACT(Meldeliste!AF112,\"\"),\"\",\"/\" & Meldeliste!AF112) & IF(EXACT(Meldeliste!AG112,\"\"),\"\",\"/\" & Meldeliste!AG112),\"\"),\"\",Meldeliste!Z112 & IF(EXACT(Meldeliste!AA112,\"\"),\"\",\"/\" & Meldeliste!AA112) & IF(EXACT(Meldeliste!AB112,\"\"),\"\",\"/\" & Meldeliste!AB112) & IF(EXACT(Meldeliste!AC112,\"\"),\"\",\"/\" & Meldeliste!AC112)  & IF(EXACT(Meldeliste!AD112,\"\"),\"\",\"/\" & Meldeliste!AD112) & IF(EXACT(Meldeliste!AE112,\"\"),\"\",\"/\" & Meldeliste!AE112) & IF(EXACT(Meldeliste!AF112,\"\"),\"\",\"/\" & Meldeliste!AF112) & IF(EXACT(Meldeliste!AG112,\"\"),\"\",\"/\" & Meldeliste!AG112))","v":""},{"$f":"IF(EXACT(Meldeliste!E112,\"\"),\"\",Meldeliste!E112)","v":""},{"$f":"IF(EXACT(Meldeliste!F112,\"\"),\"\",Meldeliste!F112)","v":""},{"$f":"IF(EXACT(Meldeliste!B112,\"\"),\"\",Meldeliste!B112)","v":""},null,"","",null,"",""]
[{"$f":"IF(EXACT(Meldeliste!C113,\"\"),\"\",Meldeliste!C113)","v":""},{"$f":"IF(EXACT(Meldeliste!H113&\" \"&Meldeliste!I113,\"\"),\"\",Meldeliste!H113&\" \"&Meldeliste!I113)","v":" "},{"$f":"IF(EXACT(Meldeliste!P113,\"\"),\"\",Meldeliste!P113)","v":""},{"$f":"IF(EXACT(Meldeliste!Z113 & IF(EXACT(Meldeliste!AA113,\"\"),\"\",\"/\" & Meldeliste!AA113) & IF(EXACT(Meldeliste!AB113,\"\"),\"\",\"/\" & Meldeliste!AB113) & IF(EXACT(Meldeliste!AC113,\"\"),\"\",\"/\" & Meldeliste!AC113)  & IF(EXACT(Meldeliste!AD113,\"\"),\"\",\"/\" & Meldeliste!AD113) & IF(EXACT(Meldeliste!AE113,\"\"),\"\",\"/\" & Meldeliste!AE113) & IF(EXACT(Meldeliste!AF113,\"\"),\"\",\"/\" & Meldeliste!AF113) & IF(EXACT(Meldeliste!AG113,\"\"),\"\",\"/\" & Meldeliste!AG113),\"\"),\"\",Meldeliste!Z113 & IF(EXACT(Meldeliste!AA113,\"\"),\"\",\"/\" & Meldeliste!AA113) & IF(EXACT(Meldeliste!AB113,\"\"),\"\",\"/\" & Meldeliste!AB113) & IF(EXACT(Meldeliste!AC113,\"\"),\"\",\"/\" & Meldeliste!AC113)  & IF(EXACT(Meldeliste!AD113,\"\"),\"\",\"/\" & Meldeliste!AD113) & IF(EXACT(Meldeliste!AE113,\"\"),\"\",\"/\" & Meldeliste!AE113) & IF(EXACT(Meldeliste!AF113,\"\"),\"\",\"/\" & Meldeliste!AF113) & IF(EXACT(Meldeliste!AG113,\"\"),\"\",\"/\" & Meldeliste!AG113))","v":""},{"$f":"IF(EXACT(Meldeliste!E113,\"\"),\"\",Meldeliste!E113)","v":""},{"$f":"IF(EXACT(Meldeliste!F113,\"\"),\"\",Meldeliste!F113)","v":""},{"$f":"IF(EXACT(Meldeliste!B113,\"\"),\"\",Meldeliste!B113)","v":""},null,"","",null,"",""]
[{"$f":"IF(EXACT(Meldeliste!C114,\"\"),\"\",Meldeliste!C114)","v":""},{"$f":"IF(EXACT(Meldeliste!H114&\" \"&Meldeliste!I114,\"\"),\"\",Meldeliste!H114&\" \"&Meldeliste!I114)","v":" "},{"$f":"IF(EXACT(Meldeliste!P114,\"\"),\"\",Meldeliste!P114)","v":""},{"$f":"IF(EXACT(Meldeliste!Z114 & IF(EXACT(Meldeliste!AA114,\"\"),\"\",\"/\" & Meldeliste!AA114) & IF(EXACT(Meldeliste!AB114,\"\"),\"\",\"/\" & Meldeliste!AB114) & IF(EXACT(Meldeliste!AC114,\"\"),\"\",\"/\" & Meldeliste!AC114)  & IF(EXACT(Meldeliste!AD114,\"\"),\"\",\"/\" & Meldeliste!AD114) & IF(EXACT(Meldeliste!AE114,\"\"),\"\",\"/\" & Meldeliste!AE114) & IF(EXACT(Meldeliste!AF114,\"\"),\"\",\"/\" & Meldeliste!AF114) & IF(EXACT(Meldeliste!AG114,\"\"),\"\",\"/\" & Meldeliste!AG114),\"\"),\"\",Meldeliste!Z114 & IF(EXACT(Meldeliste!AA114,\"\"),\"\",\"/\" & Meldeliste!AA114) & IF(EXACT(Meldeliste!AB114,\"\"),\"\",\"/\" & Meldeliste!AB114) & IF(EXACT(Meldeliste!AC114,\"\"),\"\",\"/\" & Meldeliste!AC114)  & IF(EXACT(Meldeliste!AD114,\"\"),\"\",\"/\" & Meldeliste!AD114) & IF(EXACT(Meldeliste!AE114,\"\"),\"\",\"/\" & Meldeliste!AE114) & IF(EXACT(Meldeliste!AF114,\"\"),\"\",\"/\" & Meldeliste!AF114) & IF(EXACT(Meldeliste!AG114,\"\"),\"\",\"/\" & Meldeliste!AG114))","v":""},{"$f":"IF(EXACT(Meldeliste!E114,\"\"),\"\",Meldeliste!E114)","v":""},{"$f":"IF(EXACT(Meldeliste!F114,\"\"),\"\",Meldeliste!F114)","v":""},{"$f":"IF(EXACT(Meldeliste!B114,\"\"),\"\",Meldeliste!B114)","v":""},null,"","",null,"",""]
[{"$f":"IF(EXACT(Meldeliste!C115,\"\"),\"\",Meldeliste!C115)","v":""},{"$f":"IF(EXACT(Meldeliste!H115&\" \"&Meldeliste!I115,\"\"),\"\",Meldeliste!H115&\" \"&Meldeliste!I115)","v":" "},{"$f":"IF(EXACT(Meldeliste!P115,\"\"),\"\",Meldeliste!P115)","v":""},{"$f":"IF(EXACT(Meldeliste!Z115 & IF(EXACT(Meldeliste!AA115,\"\"),\"\",\"/\" & Meldeliste!AA115) & IF(EXACT(Meldeliste!AB115,\"\"),\"\",\"/\" & Meldeliste!AB115) & IF(EXACT(Meldeliste!AC115,\"\"),\"\",\"/\" & Meldeliste!AC115)  & IF(EXACT(Meldeliste!AD115,\"\"),\"\",\"/\" & Meldeliste!AD115) & IF(EXACT(Meldeliste!AE115,\"\"),\"\",\"/\" & Meldeliste!AE115) & IF(EXACT(Meldeliste!AF115,\"\"),\"\",\"/\" & Meldeliste!AF115) & IF(EXACT(Meldeliste!AG115,\"\"),\"\",\"/\" & Meldeliste!AG115),\"\"),\"\",Meldeliste!Z115 & IF(EXACT(Meldeliste!AA115,\"\"),\"\",\"/\" & Meldeliste!AA115) & IF(EXACT(Meldeliste!AB115,\"\"),\"\",\"/\" & Meldeliste!AB115) & IF(EXACT(Meldeliste!AC115,\"\"),\"\",\"/\" & Meldeliste!AC115)  & IF(EXACT(Meldeliste!AD115,\"\"),\"\",\"/\" & Meldeliste!AD115) & IF(EXACT(Meldeliste!AE115,\"\"),\"\",\"/\" & Meldeliste!AE115) & IF(EXACT(Meldeliste!AF115,\"\"),\"\",\"/\" & Meldeliste!AF115) & IF(EXACT(Meldeliste!AG115,\"\"),\"\",\"/\" & Meldeliste!AG115))","v":""},{"$f":"IF(EXACT(Meldeliste!E115,\"\"),\"\",Meldeliste!E115)","v":""},{"$f":"IF(EXACT(Meldeliste!F115,\"\"),\"\",Meldeliste!F115)","v":""},{"$f":"IF(EXACT(Meldeliste!B115,\"\"),\"\",Meldeliste!B115)","v":""},null,"","",null,"",""]
[{"$f":"IF(EXACT(Meldeliste!C116,\"\"),\"\",Meldeliste!C116)","v":""},{"$f":"IF(EXACT(Meldeliste!H116&\" \"&Meldeliste!I116,\"\"),\"\",Meldeliste!H116&\" \"&Meldeliste!I116)","v":" "},{"$f":"IF(EXACT(Meldeliste!P116,\"\"),\"\",Meldeliste!P116)","v":""},{"$f":"IF(EXACT(Meldeliste!Z116 & IF(EXACT(Meldeliste!AA116,\"\"),\"\",\"/\" & Meldeliste!AA116) & IF(EXACT(Meldeliste!AB116,\"\"),\"\",\"/\" & Meldeliste!AB116) & IF(EXACT(Meldeliste!AC116,\"\"),\"\",\"/\" & Meldeliste!AC116)  & IF(EXACT(Meldeliste!AD116,\"\"),\"\",\"/\" & Meldeliste!AD116) & IF(EXACT(Meldeliste!AE116,\"\"),\"\",\"/\" & Meldeliste!AE116) & IF(EXACT(Meldeliste!AF116,\"\"),\"\",\"/\" & Meldeliste!AF116) & IF(EXACT(Meldeliste!AG116,\"\"),\"\",\"/\" & Meldeliste!AG116),\"\"),\"\",Meldeliste!Z116 & IF(EXACT(Meldeliste!AA116,\"\"),\"\",\"/\" & Meldeliste!AA116) & IF(EXACT(Meldeliste!AB116,\"\"),\"\",\"/\" & Meldeliste!AB116) & IF(EXACT(Meldeliste!AC116,\"\"),\"\",\"/\" & Meldeliste!AC116)  & IF(EXACT(Meldeliste!AD116,\"\"),\"\",\"/\" & Meldeliste!AD116) & IF(EXACT(Meldeliste!AE116,\"\"),\"\",\"/\" & Meldeliste!AE116) & IF(EXACT(Meldeliste!AF116,\"\"),\"\",\"/\" & Meldeliste!AF116) & IF(EXACT(Meldeliste!AG116,\"\"),\"\",\"/\" & Meldeliste!AG116))","v":""},{"$f":"IF(EXACT(Meldeliste!E116,\"\"),\"\",Meldeliste!E116)","v":""},{"$f":"IF(EXACT(Meldeliste!F116,\"\"),\"\",Meldeliste!F116)","v":""},{"$f":"IF(EXACT(Meldeliste!B116,\"\"),\"\",Meldeliste!B116)","v":""},null,"","",null,"",""]
[{"$f":"IF(EXACT(Meldeliste!C117,\"\"),\"\",Meldeliste!C117)","v":""},{"$f":"IF(EXACT(Meldeliste!H117&\" \"&Meldeliste!I117,\"\"),\"\",Meldeliste!H117&\" \"&Meldeliste!I117)","v":" "},{"$f":"IF(EXACT(Meldeliste!P117,\"\"),\"\",Meldeliste!P117)","v":""},{"$f":"IF(EXACT(Meldeliste!Z117 & IF(EXACT(Meldeliste!AA117,\"\"),\"\",\"/\" & Meldeliste!AA117) & IF(EXACT(Meldeliste!AB117,\"\"),\"\",\"/\" & Meldeliste!AB117) & IF(EXACT(Meldeliste!AC117,\"\"),\"\",\"/\" & Meldeliste!AC117)  & IF(EXACT(Meldeliste!AD117,\"\"),\"\",\"/\" & Meldeliste!AD117) & IF(EXACT(Meldeliste!AE117,\"\"),\"\",\"/\" & Meldeliste!AE117) & IF(EXACT(Meldeliste!AF117,\"\"),\"\",\"/\" & Meldeliste!AF117) & IF(EXACT(Meldeliste!AG117,\"\"),\"\",\"/\" & Meldeliste!AG117),\"\"),\"\",Meldeliste!Z117 & IF(EXACT(Meldeliste!AA117,\"\"),\"\",\"/\" & Meldeliste!AA117) & IF(EXACT(Meldeliste!AB117,\"\"),\"\",\"/\" & Meldeliste!AB117) & IF(EXACT(Meldeliste!AC117,\"\"),\"\",\"/\" & Meldeliste!AC117)  & IF(EXACT(Meldeliste!AD117,\"\"),\"\",\"/\" & Meldeliste!AD117) & IF(EXACT(Meldeliste!AE117,\"\"),\"\",\"/\" & Meldeliste!AE117) & IF(EXACT(Meldeliste!AF117,\"\"),\"\",\"/\" & Meldeliste!AF117) & IF(EXACT(Meldeliste!AG117,\"\"),\"\",\"/\" & Meldeliste!AG117))","v":""},{"$f":"IF(EXACT(Meldeliste!E117,\"\"),\"\",Meldeliste!E117)","v":""},{"$f":"IF(EXACT(Meldeliste!F117,\"\"),\"\",Meldeliste!F117)","v":""},{"$f":"IF(EXACT(Meldeliste!B117,\"\"),\"\",Meldeliste!B117)","v":""},null,"","",null,"",""]
[{"$f":"IF(EXACT(Meldeliste!C118,\"\"),\"\",Meldeliste!C118)","v":""},{"$f":"IF(EXACT(Meldeliste!H118&\" \"&Meldeliste!I118,\"\"),\"\",Meldeliste!H118&\" \"&Meldeliste!I118)","v":" "},{"$f":"IF(EXACT(Meldeliste!P118,\"\"),\"\",Meldeliste!P118)","v":""},{"$f":"IF(EXACT(Meldeliste!Z118 & IF(EXACT(Meldeliste!AA118,\"\"),\"\",\"/\" & Meldeliste!AA118) & IF(EXACT(Meldeliste!AB118,\"\"),\"\",\"/\" & Meldeliste!AB118) & IF(EXACT(Meldeliste!AC118,\"\"),\"\",\"/\" & Meldeliste!AC118)  & IF(EXACT(Meldeliste!AD118,\"\"),\"\",\"/\" & Meldeliste!AD118) & IF(EXACT(Meldeliste!AE118,\"\"),\"\",\"/\" & Meldeliste!AE118) & IF(EXACT(Meldeliste!AF118,\"\"),\"\",\"/\" & Meldeliste!AF118) & IF(EXACT(Meldeliste!AG118,\"\"),\"\",\"/\" & Meldeliste!AG118),\"\"),\"\",Meldeliste!Z118 & IF(EXACT(Meldeliste!AA118,\"\"),\"\",\"/\" & Meldeliste!AA118) & IF(EXACT(Meldeliste!AB118,\"\"),\"\",\"/\" & Meldeliste!AB118) & IF(EXACT(Meldeliste!AC118,\"\"),\"\",\"/\" & Meldeliste!AC118)  & IF(EXACT(Meldeliste!AD118,\"\"),\"\",\"/\" & Meldeliste!AD118) & IF(EXACT(Meldeliste!AE118,\"\"),\"\",\"/\" & Meldeliste!AE118) & IF(EXACT(Meldeliste!AF118,\"\"),\"\",\"/\" & Meldeliste!AF118) & IF(EXACT(Meldeliste!AG118,\"\"),\"\",\"/\" & Meldeliste!AG118))","v":""},{"$f":"IF(EXACT(Meldeliste!E118,\"\"),\"\",Meldeliste!E118)","v":""},{"$f":"IF(EXACT(Meldeliste!F118,\"\"),\"\",Meldeliste!F118)","v":""},{"$f":"IF(EXACT(Meldeliste!B118,\"\"),\"\",Meldeliste!B118)","v":""},null,"","",null,"",""]
[{"$f":"IF(EXACT(Meldeliste!C119,\"\"),\"\",Meldeliste!C119)","v":""},{"$f":"IF(EXACT(Meldeliste!H119&\" \"&Meldeliste!I119,\"\"),\"\",Meldeliste!H119&\" \"&Meldeliste!I119)","v":" "},{"$f":"IF(EXACT(Meldeliste!P119,\"\"),\"\",Meldeliste!P119)","v":""},{"$f":"IF(EXACT(Meldeliste!Z119 & IF(EXACT(Meldeliste!AA119,\"\"),\"\",\"/\" & Meldeliste!AA119) & IF(EXACT(Meldeliste!AB119,\"\"),\"\",\"/\" & Meldeliste!AB119) & IF(EXACT(Meldeliste!AC119,\"\"),\"\",\"/\" & Meldeliste!AC119)  & IF(EXACT(Meldeliste!AD119,\"\"),\"\",\"/\" & Meldeliste!AD119) & IF(EXACT(Meldeliste!AE119,\"\"),\"\",\"/\" & Meldeliste!AE119) & IF(EXACT(Meldeliste!AF119,\"\"),\"\",\"/\" & Meldeliste!AF119) & IF(EXACT(Meldeliste!AG119,\"\"),\"\",\"/\" & Meldeliste!AG119),\"\"),\"\",Meldeliste!Z119 & IF(EXACT(Meldeliste!AA119,\"\"),\"\",\"/\" & Meldeliste!AA119) & IF(EXACT(Meldeliste!AB119,\"\"),\"\",\"/\" & Meldeliste!AB119) & IF(EXACT(Meldeliste!AC119,\"\"),\"\",\"/\" & Meldeliste!AC119)  & IF(EXACT(Meldeliste!AD119,\"\"),\"\",\"/\" & Meldeliste!AD119) & IF(EXACT(Meldeliste!AE119,\"\"),\"\",\"/\" & Meldeliste!AE119) & IF(EXACT(Meldeliste!AF119,\"\"),\"\",\"/\" & Meldeliste!AF119) & IF(EXACT(Meldeliste!AG119,\"\"),\"\",\"/\" & Meldeliste!AG119))","v":""},{"$f":"IF(EXACT(Meldeliste!E119,\"\"),\"\",Meldeliste!E119)","v":""},{"$f":"IF(EXACT(Meldeliste!F119,\"\"),\"\",Meldeliste!F119)","v":""},{"$f":"IF(EXACT(Meldeliste!B119,\"\"),\"\",Meldeliste!B119)","v":""},null,"","",null,"",""]
[{"$f":"IF(EXACT(Meldeliste!C120,\"\"),\"\",Meldeliste!C120)","v":""},{"$f":"IF(EXACT(Meldeliste!H120&\" \"&Meldeliste!I120,\"\"),\"\",Meldeliste!H120&\" \"&Meldeliste!I120)","v":" "},{"$f":"IF(EXACT(Meldeliste!P120,\"\"),\"\",Meldeliste!P120)","v":""},{"$f":"IF(EXACT(Meldeliste!Z120 & IF(EXACT(Meldeliste!AA120,\"\"),\"\",\"/\" & Meldeliste!AA120) & IF(EXACT(Meldeliste!AB120,\"\"),\"\",\"/\" & Meldeliste!AB120) & IF(EXACT(Meldeliste!AC120,\"\"),\"\",\"/\" & Meldeliste!AC120)  & IF(EXACT(Meldeliste!AD120,\"\"),\"\",\"/\" & Meldeliste!AD120) & IF(EXACT(Meldeliste!AE120,\"\"),\"\",\"/\" & Meldeliste!AE120) & IF(EXACT(Meldeliste!AF120,\"\"),\"\",\"/\" & Meldeliste!AF120) & IF(EXACT(Meldeliste!AG120,\"\"),\"\",\"/\" & Meldeliste!AG120),\"\"),\"\",Meldeliste!Z120 & IF(EXACT(Meldeliste!AA120,\"\"),\"\",\"/\" & Meldeliste!AA120) & IF(EXACT(Meldeliste!AB120,\"\"),\"\",\"/\" & Meldeliste!AB120) & IF(EXACT(Meldeliste!AC120,\"\"),\"\",\"/\" & Meldeliste!AC120)  & IF(EXACT(Meldeliste!AD120,\"\"),\"\",\"/\" & Meldeliste!AD120) & IF(EXACT(Meldeliste!AE120,\"\"),\"\",\"/\" & Meldeliste!AE120) & IF(EXACT(Meldeliste!AF120,\"\"),\"\",\"/\" & Meldeliste!AF120) & IF(EXACT(Meldeliste!AG120,\"\"),\"\",\"/\" & Meldeliste!AG120))","v":""},{"$f":"IF(EXACT(Meldeliste!E120,\"\"),\"\",Meldeliste!E120)","v":""},{"$f":"IF(EXACT(Meldeliste!F120,\"\"),\"\",Meldeliste!F120)","v":""},{"$f":"IF(EXACT(Meldeliste!B120,\"\"),\"\",Meldeliste!B120)","v":""},null,"","",null,"",""]
[{"$f":"IF(EXACT(Meldeliste!C121,\"\"),\"\",Meldeliste!C121)","v":""},{"$f":"IF(EXACT(Meldeliste!H121&\" \"&Meldeliste!I121,\"\"),\"\",Meldeliste!H121&\" \"&Meldeliste!I121)","v":" "},{"$f":"IF(EXACT(Meldeliste!P121,\"\"),\"\",Meldeliste!P121)","v":""},{"$f":"IF(EXACT(Meldeliste!Z121 & IF(EXACT(Meldeliste!AA121,\"\"),\"\",\"/\" & Meldeliste!AA121) & IF(EXACT(Meldeliste!AB121,\"\"),\"\",\"/\" & Meldeliste!AB121) & IF(EXACT(Meldeliste!AC121,\"\"),\"\",\"/\" & Meldeliste!AC121)  & IF(EXACT(Meldeliste!AD121,\"\"),\"\",\"/\" & Meldeliste!AD121) & IF(EXACT(Meldeliste!AE121,\"\"),\"\",\"/\" & Meldeliste!AE121) & IF(EXACT(Meldeliste!AF121,\"\"),\"\",\"/\" & Meldeliste!AF121) & IF(EXACT(Meldeliste!AG121,\"\"),\"\",\"/\" & Meldeliste!AG121),\"\"),\"\",Meldeliste!Z121 & IF(EXACT(Meldeliste!AA121,\"\"),\"\",\"/\" & Meldeliste!AA121) & IF(EXACT(Meldeliste!AB121,\"\"),\"\",\"/\" & Meldeliste!AB121) & IF(EXACT(Meldeliste!AC121,\"\"),\"\",\"/\" & Meldeliste!AC121)  & IF(EXACT(Meldeliste!AD121,\"\"),\"\",\"/\" & Meldeliste!AD121) & IF(EXACT(Meldeliste!AE121,\"\"),\"\",\"/\" & Meldeliste!AE121) & IF(EXACT(Meldeliste!AF121,\"\"),\"\",\"/\" & Meldeliste!AF121) & IF(EXACT(Meldeliste!AG121,\"\"),\"\",\"/\" & Meldeliste!AG121))","v":""},{"$f":"IF(EXACT(Meldeliste!E121,\"\"),\"\",Meldeliste!E121)","v":""},{"$f":"IF(EXACT(Meldeliste!F121,\"\"),\"\",Meldeliste!F121)","v":""},{"$f":"IF(EXACT(Meldeliste!B121,\"\"),\"\",Meldeliste!B121)","v":""},null,"","",null,"",""]
[{"$f":"IF(EXACT(Meldeliste!C122,\"\"),\"\",Meldeliste!C122)","v":""},{"$f":"IF(EXACT(Meldeliste!H122&\" \"&Meldeliste!I122,\"\"),\"\",Meldeliste!H122&\" \"&Meldeliste!I122)","v":" "},{"$f":"IF(EXACT(Meldeliste!P122,\"\"),\"\",Meldeliste!P122)","v":""},{"$f":"IF(EXACT(Meldeliste!Z122 & IF(EXACT(Meldeliste!AA122,\"\"),\"\",\"/\" & Meldeliste!AA122) & IF(EXACT(Meldeliste!AB122,\"\"),\"\",\"/\" & Meldeliste!AB122) & IF(EXACT(Meldeliste!AC122,\"\"),\"\",\"/\" & Meldeliste!AC122)  & IF(EXACT(Meldeliste!AD122,\"\"),\"\",\"/\" & Meldeliste!AD122) & IF(EXACT(Meldeliste!AE122,\"\"),\"\",\"/\" & Meldeliste!AE122) & IF(EXACT(Meldeliste!AF122,\"\"),\"\",\"/\" & Meldeliste!AF122) & IF(EXACT(Meldeliste!AG122,\"\"),\"\",\"/\" & Meldeliste!AG122),\"\"),\"\",Meldeliste!Z122 & IF(EXACT(Meldeliste!AA122,\"\"),\"\",\"/\" & Meldeliste!AA122) & IF(EXACT(Meldeliste!AB122,\"\"),\"\",\"/\" & Meldeliste!AB122) & IF(EXACT(Meldeliste!AC122,\"\"),\"\",\"/\" & Meldeliste!AC122)  & IF(EXACT(Meldeliste!AD122,\"\"),\"\",\"/\" & Meldeliste!AD122) & IF(EXACT(Meldeliste!AE122,\"\"),\"\",\"/\" & Meldeliste!AE122) & IF(EXACT(Meldeliste!AF122,\"\"),\"\",\"/\" & Meldeliste!AF122) & IF(EXACT(Meldeliste!AG122,\"\"),\"\",\"/\" & Meldeliste!AG122))","v":""},{"$f":"IF(EXACT(Meldeliste!E122,\"\"),\"\",Meldeliste!E122)","v":""},{"$f":"IF(EXACT(Meldeliste!F122,\"\"),\"\",Meldeliste!F122)","v":""},{"$f":"IF(EXACT(Meldeliste!B122,\"\"),\"\",Meldeliste!B122)","v":""},null,"","",null,"",""]
[{"$f":"IF(EXACT(Meldeliste!C123,\"\"),\"\",Meldeliste!C123)","v":""},{"$f":"IF(EXACT(Meldeliste!H123&\" \"&Meldeliste!I123,\"\"),\"\",Meldeliste!H123&\" \"&Meldeliste!I123)","v":" "},{"$f":"IF(EXACT(Meldeliste!P123,\"\"),\"\",Meldeliste!P123)","v":""},{"$f":"IF(EXACT(Meldeliste!Z123 & IF(EXACT(Meldeliste!AA123,\"\"),\"\",\"/\" & Meldeliste!AA123) & IF(EXACT(Meldeliste!AB123,\"\"),\"\",\"/\" & Meldeliste!AB123) & IF(EXACT(Meldeliste!AC123,\"\"),\"\",\"/\" & Meldeliste!AC123)  & IF(EXACT(Meldeliste!AD123,\"\"),\"\",\"/\" & Meldeliste!AD123) & IF(EXACT(Meldeliste!AE123,\"\"),\"\",\"/\" & Meldeliste!AE123) & IF(EXACT(Meldeliste!AF123,\"\"),\"\",\"/\" & Meldeliste!AF123) & IF(EXACT(Meldeliste!AG123,\"\"),\"\",\"/\" & Meldeliste!AG123),\"\"),\"\",Meldeliste!Z123 & IF(EXACT(Meldeliste!AA123,\"\"),\"\",\"/\" & Meldeliste!AA123) & IF(EXACT(Meldeliste!AB123,\"\"),\"\",\"/\" & Meldeliste!AB123) & IF(EXACT(Meldeliste!AC123,\"\"),\"\",\"/\" & Meldeliste!AC123)  & IF(EXACT(Meldeliste!AD123,\"\"),\"\",\"/\" & Meldeliste!AD123) & IF(EXACT(Meldeliste!AE123,\"\"),\"\",\"/\" & Meldeliste!AE123) & IF(EXACT(Meldeliste!AF123,\"\"),\"\",\"/\" & Meldeliste!AF123) & IF(EXACT(Meldeliste!AG123,\"\"),\"\",\"/\" & Meldeliste!AG123))","v":""},{"$f":"IF(EXACT(Meldeliste!E123,\"\"),\"\",Meldeliste!E123)","v":""},{"$f":"IF(EXACT(Meldeliste!F123,\"\"),\"\",Meldeliste!F123)","v":""},{"$f":"IF(EXACT(Meldeliste!B123,\"\"),\"\",Meldeliste!B123)","v":""},null,"","",null,"",""]
[{"$f":"IF(EXACT(Meldeliste!C124,\"\"),\"\",Meldeliste!C124)","v":""},{"$f":"IF(EXACT(Meldeliste!H124&\" \"&Meldeliste!I124,\"\"),\"\",Meldeliste!H124&\" \"&Meldeliste!I124)","v":" "},{"$f":"IF(EXACT(Meldeliste!P124,\"\"),\"\",Meldeliste!P124)","v":""},{"$f":"IF(EXACT(Meldeliste!Z124 & IF(EXACT(Meldeliste!AA124,\"\"),\"\",\"/\" & Meldeliste!AA124) & IF(EXACT(Meldeliste!AB124,\"\"),\"\",\"/\" & Meldeliste!AB124) & IF(EXACT(Meldeliste!AC124,\"\"),\"\",\"/\" & Meldeliste!AC124)  & IF(EXACT(Meldeliste!AD124,\"\"),\"\",\"/\" & Meldeliste!AD124) & IF(EXACT(Meldeliste!AE124,\"\"),\"\",\"/\" & Meldeliste!AE124) & IF(EXACT(Meldeliste!AF124,\"\"),\"\",\"/\" & Meldeliste!AF124) & IF(EXACT(Meldeliste!AG124,\"\"),\"\",\"/\" & Meldeliste!AG124),\"\"),\"\",Meldeliste!Z124 & IF(EXACT(Meldeliste!AA124,\"\"),\"\",\"/\" & Meldeliste!AA124) & IF(EXACT(Meldeliste!AB124,\"\"),\"\",\"/\" & Meldeliste!AB124) & IF(EXACT(Meldeliste!AC124,\"\"),\"\",\"/\" & Meldeliste!AC124)  & IF(EXACT(Meldeliste!AD124,\"\"),\"\",\"/\" & Meldeliste!AD124) & IF(EXACT(Meldeliste!AE124,\"\"),\"\",\"/\" & Meldeliste!AE124) & IF(EXACT(Meldeliste!AF124,\"\"),\"\",\"/\" & Meldeliste!AF124) & IF(EXACT(Meldeliste!AG124,\"\"),\"\",\"/\" & Meldeliste!AG124))","v":""},{"$f":"IF(EXACT(Meldeliste!E124,\"\"),\"\",Meldeliste!E124)","v":""},{"$f":"IF(EXACT(Meldeliste!F124,\"\"),\"\",Meldeliste!F124)","v":""},{"$f":"IF(EXACT(Meldeliste!B124,\"\"),\"\",Meldeliste!B124)","v":""},null,"","",null,"",""]
[{"$f":"IF(EXACT(Meldeliste!C125,\"\"),\"\",Meldeliste!C125)","v":""},{"$f":"IF(EXACT(Meldeliste!H125&\" \"&Meldeliste!I125,\"\"),\"\",Meldeliste!H125&\" \"&Meldeliste!I125)","v":" "},{"$f":"IF(EXACT(Meldeliste!P125,\"\"),\"\",Meldeliste!P125)","v":""},{"$f":"IF(EXACT(Meldeliste!Z125 & IF(EXACT(Meldeliste!AA125,\"\"),\"\",\"/\" & Meldeliste!AA125) & IF(EXACT(Meldeliste!AB125,\"\"),\"\",\"/\" & Meldeliste!AB125) & IF(EXACT(Meldeliste!AC125,\"\"),\"\",\"/\" & Meldeliste!AC125)  & IF(EXACT(Meldeliste!AD125,\"\"),\"\",\"/\" & Meldeliste!AD125) & IF(EXACT(Meldeliste!AE125,\"\"),\"\",\"/\" & Meldeliste!AE125) & IF(EXACT(Meldeliste!AF125,\"\"),\"\",\"/\" & Meldeliste!AF125) & IF(EXACT(Meldeliste!AG125,\"\"),\"\",\"/\" & Meldeliste!AG125),\"\"),\"\",Meldeliste!Z125 & IF(EXACT(Meldeliste!AA125,\"\"),\"\",\"/\" & Meldeliste!AA125) & IF(EXACT(Meldeliste!AB125,\"\"),\"\",\"/\" & Meldeliste!AB125) & IF(EXACT(Meldeliste!AC125,\"\"),\"\",\"/\" & Meldeliste!AC125)  & IF(EXACT(Meldeliste!AD125,\"\"),\"\",\"/\" & Meldeliste!AD125) & IF(EXACT(Meldeliste!AE125,\"\"),\"\",\"/\" & Meldeliste!AE125) & IF(EXACT(Meldeliste!AF125,\"\"),\"\",\"/\" & Meldeliste!AF125) & IF(EXACT(Meldeliste!AG125,\"\"),\"\",\"/\" & Meldeliste!AG125))","v":""},{"$f":"IF(EXACT(Meldeliste!E125,\"\"),\"\",Meldeliste!E125)","v":""},{"$f":"IF(EXACT(Meldeliste!F125,\"\"),\"\",Meldeliste!F125)","v":""},{"$f":"IF(EXACT(Meldeliste!B125,\"\"),\"\",Meldeliste!B125)","v":""},null,"","",null,"",""]
[{"$f":"IF(EXACT(Meldeliste!C126,\"\"),\"\",Meldeliste!C126)","v":""},{"$f":"IF(EXACT(Meldeliste!H126&\" \"&Meldeliste!I126,\"\"),\"\",Meldeliste!H126&\" \"&Meldeliste!I126)","v":" "},{"$f":"IF(EXACT(Meldeliste!P126,\"\"),\"\",Meldeliste!P126)","v":""},{"$f":"IF(EXACT(Meldeliste!Z126 & IF(EXACT(Meldeliste!AA126,\"\"),\"\",\"/\" & Meldeliste!AA126) & IF(EXACT(Meldeliste!AB126,\"\"),\"\",\"/\" & Meldeliste!AB126) & IF(EXACT(Meldeliste!AC126,\"\"),\"\",\"/\" & Meldeliste!AC126)  & IF(EXACT(Meldeliste!AD126,\"\"),\"\",\"/\" & Meldeliste!AD126) & IF(EXACT(Meldeliste!AE126,\"\"),\"\",\"/\" & Meldeliste!AE126) & IF(EXACT(Meldeliste!AF126,\"\"),\"\",\"/\" & Meldeliste!AF126) & IF(EXACT(Meldeliste!AG126,\"\"),\"\",\"/\" & Meldeliste!AG126),\"\"),\"\",Meldeliste!Z126 & IF(EXACT(Meldeliste!AA126,\"\"),\"\",\"/\" & Meldeliste!AA126) & IF(EXACT(Meldeliste!AB126,\"\"),\"\",\"/\" & Meldeliste!AB126) & IF(EXACT(Meldeliste!AC126,\"\"),\"\",\"/\" & Meldeliste!AC126)  & IF(EXACT(Meldeliste!AD126,\"\"),\"\",\"/\" & Meldeliste!AD126) & IF(EXACT(Meldeliste!AE126,\"\"),\"\",\"/\" & Meldeliste!AE126) & IF(EXACT(Meldeliste!AF126,\"\"),\"\",\"/\" & Meldeliste!AF126) & IF(EXACT(Meldeliste!AG126,\"\"),\"\",\"/\" & Meldeliste!AG126))","v":""},{"$f":"IF(EXACT(Meldeliste!E126,\"\"),\"\",Meldeliste!E126)","v":""},{"$f":"IF(EXACT(Meldeliste!F126,\"\"),\"\",Meldeliste!F126)","v":""},{"$f":"IF(EXACT(Meldeliste!B126,\"\"),\"\",Meldeliste!B126)","v":""},null,"","",null,"",""]
[{"$f":"IF(EXACT(Meldeliste!C127,\"\"),\"\",Meldeliste!C127)","v":""},{"$f":"IF(EXACT(Meldeliste!H127&\" \"&Meldeliste!I127,\"\"),\"\",Meldeliste!H127&\" \"&Meldeliste!I127)","v":" "},{"$f":"IF(EXACT(Meldeliste!P127,\"\"),\"\",Meldeliste!P127)","v":""},{"$f":"IF(EXACT(Meldeliste!Z127 & IF(EXACT(Meldeliste!AA127,\"\"),\"\",\"/\" & Meldeliste!AA127) & IF(EXACT(Meldeliste!AB127,\"\"),\"\",\"/\" & Meldeliste!AB127) & IF(EXACT(Meldeliste!AC127,\"\"),\"\",\"/\" & Meldeliste!AC127)  & IF(EXACT(Meldeliste!AD127,\"\"),\"\",\"/\" & Meldeliste!AD127) & IF(EXACT(Meldeliste!AE127,\"\"),\"\",\"/\" & Meldeliste!AE127) & IF(EXACT(Meldeliste!AF127,\"\"),\"\",\"/\" & Meldeliste!AF127) & IF(EXACT(Meldeliste!AG127,\"\"),\"\",\"/\" & Meldeliste!AG127),\"\"),\"\",Meldeliste!Z127 & IF(EXACT(Meldeliste!AA127,\"\"),\"\",\"/\" & Meldeliste!AA127) & IF(EXACT(Meldeliste!AB127,\"\"),\"\",\"/\" & Meldeliste!AB127) & IF(EXACT(Meldeliste!AC127,\"\"),\"\",\"/\" & Meldeliste!AC127)  & IF(EXACT(Meldeliste!AD127,\"\"),\"\",\"/\" & Meldeliste!AD127) & IF(EXACT(Meldeliste!AE127,\"\"),\"\",\"/\" & Meldeliste!AE127) & IF(EXACT(Meldeliste!AF127,\"\"),\"\",\"/\" & Meldeliste!AF127) & IF(EXACT(Meldeliste!AG127,\"\"),\"\",\"/\" & Meldeliste!AG127))","v":""},{"$f":"IF(EXACT(Meldeliste!E127,\"\"),\"\",Meldeliste!E127)","v":""},{"$f":"IF(EXACT(Meldeliste!F127,\"\"),\"\",Meldeliste!F127)","v":""},{"$f":"IF(EXACT(Meldeliste!B127,\"\"),\"\",Meldeliste!B127)","v":""},null,"","",null,"",""]
[{"$f":"IF(EXACT(Meldeliste!C128,\"\"),\"\",Meldeliste!C128)","v":""},{"$f":"IF(EXACT(Meldeliste!H128&\" \"&Meldeliste!I128,\"\"),\"\",Meldeliste!H128&\" \"&Meldeliste!I128)","v":" "},{"$f":"IF(EXACT(Meldeliste!P128,\"\"),\"\",Meldeliste!P128)","v":""},{"$f":"IF(EXACT(Meldeliste!Z128 & IF(EXACT(Meldeliste!AA128,\"\"),\"\",\"/\" & Meldeliste!AA128) & IF(EXACT(Meldeliste!AB128,\"\"),\"\",\"/\" & Meldeliste!AB128) & IF(EXACT(Meldeliste!AC128,\"\"),\"\",\"/\" & Meldeliste!AC128)  & IF(EXACT(Meldeliste!AD128,\"\"),\"\",\"/\" & Meldeliste!AD128) & IF(EXACT(Meldeliste!AE128,\"\"),\"\",\"/\" & Meldeliste!AE128) & IF(EXACT(Meldeliste!AF128,\"\"),\"\",\"/\" & Meldeliste!AF128) & IF(EXACT(Meldeliste!AG128,\"\"),\"\",\"/\" & Meldeliste!AG128),\"\"),\"\",Meldeliste!Z128 & IF(EXACT(Meldeliste!AA128,\"\"),\"\",\"/\" & Meldeliste!AA128) & IF(EXACT(Meldeliste!AB128,\"\"),\"\",\"/\" & Meldeliste!AB128) & IF(EXACT(Meldeliste!AC128,\"\"),\"\",\"/\" & Meldeliste!AC128)  & IF(EXACT(Meldeliste!AD128,\"\"),\"\",\"/\" & Meldeliste!AD128) & IF(EXACT(Meldeliste!AE128,\"\"),\"\",\"/\" & Meldeliste!AE128) & IF(EXACT(Meldeliste!AF128,\"\"),\"\",\"/\" & Meldeliste!AF128) & IF(EXACT(Meldeliste!AG128,\"\"),\"\",\"/\" & Meldeliste!AG128))","v":""},{"$f":"IF(EXACT(Meldeliste!E128,\"\"),\"\",Meldeliste!E128)","v":""},{"$f":"IF(EXACT(Meldeliste!F128,\"\"),\"\",Meldeliste!F128)","v":""},{"$f":"IF(EXACT(Meldeliste!B128,\"\"),\"\",Meldeliste!B128)","v":""},null,"","",null,"",""]
[{"$f":"IF(EXACT(Meldeliste!C129,\"\"),\"\",Meldeliste!C129)","v":""},{"$f":"IF(EXACT(Meldeliste!H129&\" \"&Meldeliste!I129,\"\"),\"\",Meldeliste!H129&\" \"&Meldeliste!I129)","v":" "},{"$f":"IF(EXACT(Meldeliste!P129,\"\"),\"\",Meldeliste!P129)","v":""},{"$f":"IF(EXACT(Meldeliste!Z129 & IF(EXACT(Meldeliste!AA129,\"\"),\"\",\"/\" & Meldeliste!AA129) & IF(EXACT(Meldeliste!AB129,\"\"),\"\",\"/\" & Meldeliste!AB129) & IF(EXACT(Meldeliste!AC129,\"\"),\"\",\"/\" & Meldeliste!AC129)  & IF(EXACT(Meldeliste!AD129,\"\"),\"\",\"/\" & Meldeliste!AD129) & IF(EXACT(Meldeliste!AE129,\"\"),\"\",\"/\" & Meldeliste!AE129) & IF(EXACT(Meldeliste!AF129,\"\"),\"\",\"/\" & Meldeliste!AF129) & IF(EXACT(Meldeliste!AG129,\"\"),\"\",\"/\" & Meldeliste!AG129),\"\"),\"\",Meldeliste!Z129 & IF(EXACT(Meldeliste!AA129,\"\"),\"\",\"/\" & Meldeliste!AA129) & IF(EXACT(Meldeliste!AB129,\"\"),\"\",\"/\" & Meldeliste!AB129) & IF(EXACT(Meldeliste!AC129,\"\"),\"\",\"/\" & Meldeliste!AC129)  & IF(EXACT(Meldeliste!AD129,\"\"),\"\",\"/\" & Meldeliste!AD129) & IF(EXACT(Meldeliste!AE129,\"\"),\"\",\"/\" & Meldeliste!AE129) & IF(EXACT(Meldeliste!AF129,\"\"),\"\",\"/\" & Meldeliste!AF129) & IF(EXACT(Meldeliste!AG129,\"\"),\"\",\"/\" & Meldeliste!AG129))","v":""},{"$f":"IF(EXACT(Meldeliste!E129,\"\"),\"\",Meldeliste!E129)","v":""},{"$f":"IF(EXACT(Meldeliste!F129,\"\"),\"\",Meldeliste!F129)","v":""},{"$f":"IF(EXACT(Meldeliste!B129,\"\"),\"\",Meldeliste!B129)","v":""},null,"","",null,"",""]
[{"$f":"IF(EXACT(Meldeliste!C130,\"\"),\"\",Meldeliste!C130)","v":""},{"$f":"IF(EXACT(Meldeliste!H130&\" \"&Meldeliste!I130,\"\"),\"\",Meldeliste!H130&\" \"&Meldeliste!I130)","v":" "},{"$f":"IF(EXACT(Meldeliste!P130,\"\"),\"\",Meldeliste!P130)","v":""},{"$f":"IF(EXACT(Meldeliste!Z130 & IF(EXACT(Meldeliste!AA130,\"\"),\"\",\"/\" & Meldeliste!AA130) & IF(EXACT(Meldeliste!AB130,\"\"),\"\",\"/\" & Meldeliste!AB130) & IF(EXACT(Meldeliste!AC130,\"\"),\"\",\"/\" & Meldeliste!AC130)  & IF(EXACT(Meldeliste!AD130,\"\"),\"\",\"/\" & Meldeliste!AD130) & IF(EXACT(Meldeliste!AE130,\"\"),\"\",\"/\" & Meldeliste!AE130) & IF(EXACT(Meldeliste!AF130,\"\"),\"\",\"/\" & Meldeliste!AF130) & IF(EXACT(Meldeliste!AG130,\"\"),\"\",\"/\" & Meldeliste!AG130),\"\"),\"\",Meldeliste!Z130 & IF(EXACT(Meldeliste!AA130,\"\"),\"\",\"/\" & Meldeliste!AA130) & IF(EXACT(Meldeliste!AB130,\"\"),\"\",\"/\" & Meldeliste!AB130) & IF(EXACT(Meldeliste!AC130,\"\"),\"\",\"/\" & Meldeliste!AC130)  & IF(EXACT(Meldeliste!AD130,\"\"),\"\",\"/\" & Meldeliste!AD130) & IF(EXACT(Meldeliste!AE130,\"\"),\"\",\"/\" & Meldeliste!AE130) & IF(EXACT(Meldeliste!AF130,\"\"),\"\",\"/\" & Meldeliste!AF130) & IF(EXACT(Meldeliste!AG130,\"\"),\"\",\"/\" & Meldeliste!AG130))","v":""},{"$f":"IF(EXACT(Meldeliste!E130,\"\"),\"\",Meldeliste!E130)","v":""},{"$f":"IF(EXACT(Meldeliste!F130,\"\"),\"\",Meldeliste!F130)","v":""},{"$f":"IF(EXACT(Meldeliste!B130,\"\"),\"\",Meldeliste!B130)","v":""},null,"","",null,"",""]
[{"$f":"IF(EXACT(Meldeliste!C131,\"\"),\"\",Meldeliste!C131)","v":""},{"$f":"IF(EXACT(Meldeliste!H131&\" \"&Meldeliste!I131,\"\"),\"\",Meldeliste!H131&\" \"&Meldeliste!I131)","v":" "},{"$f":"IF(EXACT(Meldeliste!P131,\"\"),\"\",Meldeliste!P131)","v":""},{"$f":"IF(EXACT(Meldeliste!Z131 & IF(EXACT(Meldeliste!AA131,\"\"),\"\",\"/\" & Meldeliste!AA131) & IF(EXACT(Meldeliste!AB131,\"\"),\"\",\"/\" & Meldeliste!AB131) & IF(EXACT(Meldeliste!AC131,\"\"),\"\",\"/\" & Meldeliste!AC131)  & IF(EXACT(Meldeliste!AD131,\"\"),\"\",\"/\" & Meldeliste!AD131) & IF(EXACT(Meldeliste!AE131,\"\"),\"\",\"/\" & Meldeliste!AE131) & IF(EXACT(Meldeliste!AF131,\"\"),\"\",\"/\" & Meldeliste!AF131) & IF(EXACT(Meldeliste!AG131,\"\"),\"\",\"/\" & Meldeliste!AG131),\"\"),\"\",Meldeliste!Z131 & IF(EXACT(Meldeliste!AA131,\"\"),\"\",\"/\" & Meldeliste!AA131) & IF(EXACT(Meldeliste!AB131,\"\"),\"\",\"/\" & Meldeliste!AB131) & IF(EXACT(Meldeliste!AC131,\"\"),\"\",\"/\" & Meldeliste!AC131)  & IF(EXACT(Meldeliste!AD131,\"\"),\"\",\"/\" & Meldeliste!AD131) & IF(EXACT(Meldeliste!AE131,\"\"),\"\",\"/\" & Meldeliste!AE131) & IF(EXACT(Meldeliste!AF131,\"\"),\"\",\"/\" & Meldeliste!AF131) & IF(EXACT(Meldeliste!AG131,\"\"),\"\",\"/\" & Meldeliste!AG131))","v":""},{"$f":"IF(EXACT(Meldeliste!E131,\"\"),\"\",Meldeliste!E131)","v":""},{"$f":"IF(EXACT(Meldeliste!F131,\"\"),\"\",Meldeliste!F131)","v":""},{"$f":"IF(EXACT(Meldeliste!B131,\"\"),\"\",Meldeliste!B131)","v":""},null,"","",null,"",""]
[{"$f":"IF(EXACT(Meldeliste!C132,\"\"),\"\",Meldeliste!C132)","v":""},{"$f":"IF(EXACT(Meldeliste!H132&\" \"&Meldeliste!I132,\"\"),\"\",Meldeliste!H132&\" \"&Meldeliste!I132)","v":" "},{"$f":"IF(EXACT(Meldeliste!P132,\"\"),\"\",Meldeliste!P132)","v":""},{"$f":"IF(EXACT(Meldeliste!Z132 & IF(EXACT(Meldeliste!AA132,\"\"),\"\",\"/\" & Meldeliste!AA132) & IF(EXACT(Meldeliste!AB132,\"\"),\"\",\"/\" & Meldeliste!AB132) & IF(EXACT(Meldeliste!AC132,\"\"),\"\",\"/\" & Meldeliste!AC132)  & IF(EXACT(Meldeliste!AD132,\"\"),\"\",\"/\" & Meldeliste!AD132) & IF(EXACT(Meldeliste!AE132,\"\"),\"\",\"/\" & Meldeliste!AE132) & IF(EXACT(Meldeliste!AF132,\"\"),\"\",\"/\" & Meldeliste!AF132) & IF(EXACT(Meldeliste!AG132,\"\"),\"\",\"/\" & Meldeliste!AG132),\"\"),\"\",Meldeliste!Z132 & IF(EXACT(Meldeliste!AA132,\"\"),\"\",\"/\" & Meldeliste!AA132) & IF(EXACT(Meldeliste!AB132,\"\"),\"\",\"/\" & Meldeliste!AB132) & IF(EXACT(Meldeliste!AC132,\"\"),\"\",\"/\" & Meldeliste!AC132)  & IF(EXACT(Meldeliste!AD132,\"\"),\"\",\"/\" & Meldeliste!AD132) & IF(EXACT(Meldeliste!AE132,\"\"),\"\",\"/\" & Meldeliste!AE132) & IF(EXACT(Meldeliste!AF132,\"\"),\"\",\"/\" & Meldeliste!AF132) & IF(EXACT(Meldeliste!AG132,\"\"),\"\",\"/\" & Meldeliste!AG132))","v":""},{"$f":"IF(EXACT(Meldeliste!E132,\"\"),\"\",Meldeliste!E132)","v":""},{"$f":"IF(EXACT(Meldeliste!F132,\"\"),\"\",Meldeliste!F132)","v":""},{"$f":"IF(EXACT(Meldeliste!B132,\"\"),\"\",Meldeliste!B132)","v":""},null,"","",null,"",""]
[{"$f":"IF(EXACT(Meldeliste!C133,\"\"),\"\",Meldeliste!C133)","v":""},{"$f":"IF(EXACT(Meldeliste!H133&\" \"&Meldeliste!I133,\"\"),\"\",Meldeliste!H133&\" \"&Meldeliste!I133)","v":" "},{"$f":"IF(EXACT(Meldeliste!P133,\"\"),\"\",Meldeliste!P133)","v":""},{"$f":"IF(EXACT(Meldeliste!Z133 & IF(EXACT(Meldeliste!AA133,\"\"),\"\",\"/\" & Meldeliste!AA133) & IF(EXACT(Meldeliste!AB133,\"\"),\"\",\"/\" & Meldeliste!AB133) & IF(EXACT(Meldeliste!AC133,\"\"),\"\",\"/\" & Meldeliste!AC133)  & IF(EXACT(Meldeliste!AD133,\"\"),\"\",\"/\" & Meldeliste!AD133) & IF(EXACT(Meldeliste!AE133,\"\"),\"\",\"/\" & Meldeliste!AE133) & IF(EXACT(Meldeliste!AF133,\"\"),\"\",\"/\" & Meldeliste!AF133) & IF(EXACT(Meldeliste!AG133,\"\"),\"\",\"/\" & Meldeliste!AG133),\"\"),\"\",Meldeliste!Z133 & IF(EXACT(Meldeliste!AA133,\"\"),\"\",\"/\" & Meldeliste!AA133) & IF(EXACT(Meldeliste!AB133,\"\"),\"\",\"/\" & Meldeliste!AB133) & IF(EXACT(Meldeliste!AC133,\"\"),\"\",\"/\" & Meldeliste!AC133)  & IF(EXACT(Meldeliste!AD133,\"\"),\"\",\"/\" & Meldeliste!AD133) & IF(EXACT(Meldeliste!AE133,\"\"),\"\",\"/\" & Meldeliste!AE133) & IF(EXACT(Meldeliste!AF133,\"\"),\"\",\"/\" & Meldeliste!AF133) & IF(EXACT(Meldeliste!AG133,\"\"),\"\",\"/\" & Meldeliste!AG133))","v":""},{"$f":"IF(EXACT(Meldeliste!E133,\"\"),\"\",Meldeliste!E133)","v":""},{"$f":"IF(EXACT(Meldeliste!F133,\"\"),\"\",Meldeliste!F133)","v":""},{"$f":"IF(EXACT(Meldeliste!B133,\"\"),\"\",Meldeliste!B133)","v":""},null,"","",null,"",""]
[{"$f":"IF(EXACT(Meldeliste!C134,\"\"),\"\",Meldeliste!C134)","v":""},{"$f":"IF(EXACT(Meldeliste!H134&\" \"&Meldeliste!I134,\"\"),\"\",Meldeliste!H134&\" \"&Meldeliste!I134)","v":" "},{"$f":"IF(EXACT(Meldeliste!P134,\"\"),\"\",Meldeliste!P134)","v":""},{"$f":"IF(EXACT(Meldeliste!Z134 & IF(EXACT(Meldeliste!AA134,\"\"),\"\",\"/\" & Meldeliste!AA134) & IF(EXACT(Meldeliste!AB134,\"\"),\"\",\"/\" & Meldeliste!AB134) & IF(EXACT(Meldeliste!AC134,\"\"),\"\",\"/\" & Meldeliste!AC134)  & IF(EXACT(Meldeliste!AD134,\"\"),\"\",\"/\" & Meldeliste!AD134) & IF(EXACT(Meldeliste!AE134,\"\"),\"\",\"/\" & Meldeliste!AE134) & IF(EXACT(Meldeliste!AF134,\"\"),\"\",\"/\" & Meldeliste!AF134) & IF(EXACT(Meldeliste!AG134,\"\"),\"\",\"/\" & Meldeliste!AG134),\"\"),\"\",Meldeliste!Z134 & IF(EXACT(Meldeliste!AA134,\"\"),\"\",\"/\" & Meldeliste!AA134) & IF(EXACT(Meldeliste!AB134,\"\"),\"\",\"/\" & Meldeliste!AB134) & IF(EXACT(Meldeliste!AC134,\"\"),\"\",\"/\" & Meldeliste!AC134)  & IF(EXACT(Meldeliste!AD134,\"\"),\"\",\"/\" & Meldeliste!AD134) & IF(EXACT(Meldeliste!AE134,\"\"),\"\",\"/\" & Meldeliste!AE134) & IF(EXACT(Meldeliste!AF134,\"\"),\"\",\"/\" & Meldeliste!AF134) & IF(EXACT(Meldeliste!AG134,\"\"),\"\",\"/\" & Meldeliste!AG134))","v":""},{"$f":"IF(EXACT(Meldeliste!E134,\"\"),\"\",Meldeliste!E134)","v":""},{"$f":"IF(EXACT(Meldeliste!F134,\"\"),\"\",Meldeliste!F134)","v":""},{"$f":"IF(EXACT(Meldeliste!B134,\"\"),\"\",Meldeliste!B134)","v":""},null,"","",null,"",""]
[{"$f":"IF(EXACT(Meldeliste!C135,\"\"),\"\",Meldeliste!C135)","v":""},{"$f":"IF(EXACT(Meldeliste!H135&\" \"&Meldeliste!I135,\"\"),\"\",Meldeliste!H135&\" \"&Meldeliste!I135)","v":" "},{"$f":"IF(EXACT(Meldeliste!P135,\"\"),\"\",Meldeliste!P135)","v":""},{"$f":"IF(EXACT(Meldeliste!Z135 & IF(EXACT(Meldeliste!AA135,\"\"),\"\",\"/\" & Meldeliste!AA135) & IF(EXACT(Meldeliste!AB135,\"\"),\"\",\"/\" & Meldeliste!AB135) & IF(EXACT(Meldeliste!AC135,\"\"),\"\",\"/\" & Meldeliste!AC135)  & IF(EXACT(Meldeliste!AD135,\"\"),\"\",\"/\" & Meldeliste!AD135) & IF(EXACT(Meldeliste!AE135,\"\"),\"\",\"/\" & Meldeliste!AE135) & IF(EXACT(Meldeliste!AF135,\"\"),\"\",\"/\" & Meldeliste!AF135) & IF(EXACT(Meldeliste!AG135,\"\"),\"\",\"/\" & Meldeliste!AG135),\"\"),\"\",Meldeliste!Z135 & IF(EXACT(Meldeliste!AA135,\"\"),\"\",\"/\" & Meldeliste!AA135) & IF(EXACT(Meldeliste!AB135,\"\"),\"\",\"/\" & Meldeliste!AB135) & IF(EXACT(Meldeliste!AC135,\"\"),\"\",\"/\" & Meldeliste!AC135)  & IF(EXACT(Meldeliste!AD135,\"\"),\"\",\"/\" & Meldeliste!AD135) & IF(EXACT(Meldeliste!AE135,\"\"),\"\",\"/\" & Meldeliste!AE135) & IF(EXACT(Meldeliste!AF135,\"\"),\"\",\"/\" & Meldeliste!AF135) & IF(EXACT(Meldeliste!AG135,\"\"),\"\",\"/\" & Meldeliste!AG135))","v":""},{"$f":"IF(EXACT(Meldeliste!E135,\"\"),\"\",Meldeliste!E135)","v":""},{"$f":"IF(EXACT(Meldeliste!F135,\"\"),\"\",Meldeliste!F135)","v":""},{"$f":"IF(EXACT(Meldeliste!B135,\"\"),\"\",Meldeliste!B135)","v":""},null,"","",null,"",""]
[{"$f":"IF(EXACT(Meldeliste!C136,\"\"),\"\",Meldeliste!C136)","v":""},{"$f":"IF(EXACT(Meldeliste!H136&\" \"&Meldeliste!I136,\"\"),\"\",Meldeliste!H136&\" \"&Meldeliste!I136)","v":" "},{"$f":"IF(EXACT(Meldeliste!P136,\"\"),\"\",Meldeliste!P136)","v":""},{"$f":"IF(EXACT(Meldeliste!Z136 & IF(EXACT(Meldeliste!AA136,\"\"),\"\",\"/\" & Meldeliste!AA136) & IF(EXACT(Meldeliste!AB136,\"\"),\"\",\"/\" & Meldeliste!AB136) & IF(EXACT(Meldeliste!AC136,\"\"),\"\",\"/\" & Meldeliste!AC136)  & IF(EXACT(Meldeliste!AD136,\"\"),\"\",\"/\" & Meldeliste!AD136) & IF(EXACT(Meldeliste!AE136,\"\"),\"\",\"/\" & Meldeliste!AE136) & IF(EXACT(Meldeliste!AF136,\"\"),\"\",\"/\" & Meldeliste!AF136) & IF(EXACT(Meldeliste!AG136,\"\"),\"\",\"/\" & Meldeliste!AG136),\"\"),\"\",Meldeliste!Z136 & IF(EXACT(Meldeliste!AA136,\"\"),\"\",\"/\" & Meldeliste!AA136) & IF(EXACT(Meldeliste!AB136,\"\"),\"\",\"/\" & Meldeliste!AB136) & IF(EXACT(Meldeliste!AC136,\"\"),\"\",\"/\" & Meldeliste!AC136)  & IF(EXACT(Meldeliste!AD136,\"\"),\"\",\"/\" & Meldeliste!AD136) & IF(EXACT(Meldeliste!AE136,\"\"),\"\",\"/\" & Meldeliste!AE136) & IF(EXACT(Meldeliste!AF136,\"\"),\"\",\"/\" & Meldeliste!AF136) & IF(EXACT(Meldeliste!AG136,\"\"),\"\",\"/\" & Meldeliste!AG136))","v":""},{"$f":"IF(EXACT(Meldeliste!E136,\"\"),\"\",Meldeliste!E136)","v":""},{"$f":"IF(EXACT(Meldeliste!F136,\"\"),\"\",Meldeliste!F136)","v":""},{"$f":"IF(EXACT(Meldeliste!B136,\"\"),\"\",Meldeliste!B136)","v":""},null,"","",null,"",""]
[{"$f":"IF(EXACT(Meldeliste!C137,\"\"),\"\",Meldeliste!C137)","v":""},{"$f":"IF(EXACT(Meldeliste!H137&\" \"&Meldeliste!I137,\"\"),\"\",Meldeliste!H137&\" \"&Meldeliste!I137)","v":" "},{"$f":"IF(EXACT(Meldeliste!P137,\"\"),\"\",Meldeliste!P137)","v":""},{"$f":"IF(EXACT(Meldeliste!Z137 & IF(EXACT(Meldeliste!AA137,\"\"),\"\",\"/\" & Meldeliste!AA137) & IF(EXACT(Meldeliste!AB137,\"\"),\"\",\"/\" & Meldeliste!AB137) & IF(EXACT(Meldeliste!AC137,\"\"),\"\",\"/\" & Meldeliste!AC137)  & IF(EXACT(Meldeliste!AD137,\"\"),\"\",\"/\" & Meldeliste!AD137) & IF(EXACT(Meldeliste!AE137,\"\"),\"\",\"/\" & Meldeliste!AE137) & IF(EXACT(Meldeliste!AF137,\"\"),\"\",\"/\" & Meldeliste!AF137) & IF(EXACT(Meldeliste!AG137,\"\"),\"\",\"/\" & Meldeliste!AG137),\"\"),\"\",Meldeliste!Z137 & IF(EXACT(Meldeliste!AA137,\"\"),\"\",\"/\" & Meldeliste!AA137) & IF(EXACT(Meldeliste!AB137,\"\"),\"\",\"/\" & Meldeliste!AB137) & IF(EXACT(Meldeliste!AC137,\"\"),\"\",\"/\" & Meldeliste!AC137)  & IF(EXACT(Meldeliste!AD137,\"\"),\"\",\"/\" & Meldeliste!AD137) & IF(EXACT(Meldeliste!AE137,\"\"),\"\",\"/\" & Meldeliste!AE137) & IF(EXACT(Meldeliste!AF137,\"\"),\"\",\"/\" & Meldeliste!AF137) & IF(EXACT(Meldeliste!AG137,\"\"),\"\",\"/\" & Meldeliste!AG137))","v":""},{"$f":"IF(EXACT(Meldeliste!E137,\"\"),\"\",Meldeliste!E137)","v":""},{"$f":"IF(EXACT(Meldeliste!F137,\"\"),\"\",Meldeliste!F137)","v":""},{"$f":"IF(EXACT(Meldeliste!B137,\"\"),\"\",Meldeliste!B137)","v":""},null,"","",null,"",""]
[{"$f":"IF(EXACT(Meldeliste!C138,\"\"),\"\",Meldeliste!C138)","v":""},{"$f":"IF(EXACT(Meldeliste!H138&\" \"&Meldeliste!I138,\"\"),\"\",Meldeliste!H138&\" \"&Meldeliste!I138)","v":" "},{"$f":"IF(EXACT(Meldeliste!P138,\"\"),\"\",Meldeliste!P138)","v":""},{"$f":"IF(EXACT(Meldeliste!Z138 & IF(EXACT(Meldeliste!AA138,\"\"),\"\",\"/\" & Meldeliste!AA138) & IF(EXACT(Meldeliste!AB138,\"\"),\"\",\"/\" & Meldeliste!AB138) & IF(EXACT(Meldeliste!AC138,\"\"),\"\",\"/\" & Meldeliste!AC138)  & IF(EXACT(Meldeliste!AD138,\"\"),\"\",\"/\" & Meldeliste!AD138) & IF(EXACT(Meldeliste!AE138,\"\"),\"\",\"/\" & Meldeliste!AE138) & IF(EXACT(Meldeliste!AF138,\"\"),\"\",\"/\" & Meldeliste!AF138) & IF(EXACT(Meldeliste!AG138,\"\"),\"\",\"/\" & Meldeliste!AG138),\"\"),\"\",Meldeliste!Z138 & IF(EXACT(Meldeliste!AA138,\"\"),\"\",\"/\" & Meldeliste!AA138) & IF(EXACT(Meldeliste!AB138,\"\"),\"\",\"/\" & Meldeliste!AB138) & IF(EXACT(Meldeliste!AC138,\"\"),\"\",\"/\" & Meldeliste!AC138)  & IF(EXACT(Meldeliste!AD138,\"\"),\"\",\"/\" & Meldeliste!AD138) & IF(EXACT(Meldeliste!AE138,\"\"),\"\",\"/\" & Meldeliste!AE138) & IF(EXACT(Meldeliste!AF138,\"\"),\"\",\"/\" & Meldeliste!AF138) & IF(EXACT(Meldeliste!AG138,\"\"),\"\",\"/\" & Meldeliste!AG138))","v":""},{"$f":"IF(EXACT(Meldeliste!E138,\"\"),\"\",Meldeliste!E138)","v":""},{"$f":"IF(EXACT(Meldeliste!F138,\"\"),\"\",Meldeliste!F138)","v":""},{"$f":"IF(EXACT(Meldeliste!B138,\"\"),\"\",Meldeliste!B138)","v":""},null,{"$f":"IF(OR(EXACT(H138,\"\"),ISTEXT(H138)),\"\" & H138,H138-H$6)","v":""},{"$f":"IF(OR(EXACT(H138,\"\"),ISTEXT(H138)),\"\" & H138,I138*100/$G138)","v":""},null,{"$f":"IF(OR(EXACT(K138,\"\"),ISTEXT(K138)),\"\" & K138,K138-K$6)","v":""},{"$f":"IF(OR(EXACT(K138,\"\"),ISTEXT(K138)),\"\" & K138,L138*100/$G138)","v":""}]
[{"$f":"IF(EXACT(Meldeliste!C139,\"\"),\"\",Meldeliste!C139)","v":""},{"$f":"IF(EXACT(Meldeliste!H139&\" \"&Meldeliste!I139,\"\"),\"\",Meldeliste!H139&\" \"&Meldeliste!I139)","v":" "},{"$f":"IF(EXACT(Meldeliste!P139,\"\"),\"\",Meldeliste!P139)","v":""},{"$f":"IF(EXACT(Meldeliste!Z139 & IF(EXACT(Meldeliste!AA139,\"\"),\"\",\"/\" & Meldeliste!AA139) & IF(EXACT(Meldeliste!AB139,\"\"),\"\",\"/\" & Meldeliste!AB139) & IF(EXACT(Meldeliste!AC139,\"\"),\"\",\"/\" & Meldeliste!AC139)  & IF(EXACT(Meldeliste!AD139,\"\"),\"\",\"/\" & Meldeliste!AD139) & IF(EXACT(Meldeliste!AE139,\"\"),\"\",\"/\" & Meldeliste!AE139) & IF(EXACT(Meldeliste!AF139,\"\"),\"\",\"/\" & Meldeliste!AF139) & IF(EXACT(Meldeliste!AG139,\"\"),\"\",\"/\" & Meldeliste!AG139),\"\"),\"\",Meldeliste!Z139 & IF(EXACT(Meldeliste!AA139,\"\"),\"\",\"/\" & Meldeliste!AA139) & IF(EXACT(Meldeliste!AB139,\"\"),\"\",\"/\" & Meldeliste!AB139) & IF(EXACT(Meldeliste!AC139,\"\"),\"\",\"/\" & Meldeliste!AC139)  & IF(EXACT(Meldeliste!AD139,\"\"),\"\",\"/\" & Meldeliste!AD139) & IF(EXACT(Meldeliste!AE139,\"\"),\"\",\"/\" & Meldeliste!AE139) & IF(EXACT(Meldeliste!AF139,\"\"),\"\",\"/\" & Meldeliste!AF139) & IF(EXACT(Meldeliste!AG139,\"\"),\"\",\"/\" & Meldeliste!AG139))","v":""},{"$f":"IF(EXACT(Meldeliste!E139,\"\"),\"\",Meldeliste!E139)","v":""},{"$f":"IF(EXACT(Meldeliste!F139,\"\"),\"\",Meldeliste!F139)","v":""},{"$f":"IF(EXACT(Meldeliste!B139,\"\"),\"\",Meldeliste!B139)","v":""},null,"","",null,"",""]
[{"$f":"IF(EXACT(Meldeliste!C140,\"\"),\"\",Meldeliste!C140)","v":""},{"$f":"IF(EXACT(Meldeliste!H140&\" \"&Meldeliste!I140,\"\"),\"\",Meldeliste!H140&\" \"&Meldeliste!I140)","v":" "},{"$f":"IF(EXACT(Meldeliste!P140,\"\"),\"\",Meldeliste!P140)","v":""},{"$f":"IF(EXACT(Meldeliste!Z140 & IF(EXACT(Meldeliste!AA140,\"\"),\"\",\"/\" & Meldeliste!AA140) & IF(EXACT(Meldeliste!AB140,\"\"),\"\",\"/\" & Meldeliste!AB140) & IF(EXACT(Meldeliste!AC140,\"\"),\"\",\"/\" & Meldeliste!AC140)  & IF(EXACT(Meldeliste!AD140,\"\"),\"\",\"/\" & Meldeliste!AD140) & IF(EXACT(Meldeliste!AE140,\"\"),\"\",\"/\" & Meldeliste!AE140) & IF(EXACT(Meldeliste!AF140,\"\"),\"\",\"/\" & Meldeliste!AF140) & IF(EXACT(Meldeliste!AG140,\"\"),\"\",\"/\" & Meldeliste!AG140),\"\"),\"\",Meldeliste!Z140 & IF(EXACT(Meldeliste!AA140,\"\"),\"\",\"/\" & Meldeliste!AA140) & IF(EXACT(Meldeliste!AB140,\"\"),\"\",\"/\" & Meldeliste!AB140) & IF(EXACT(Meldeliste!AC140,\"\"),\"\",\"/\" & Meldeliste!AC140)  & IF(EXACT(Meldeliste!AD140,\"\"),\"\",\"/\" & Meldeliste!AD140) & IF(EXACT(Meldeliste!AE140,\"\"),\"\",\"/\" & Meldeliste!AE140) & IF(EXACT(Meldeliste!AF140,\"\"),\"\",\"/\" & Meldeliste!AF140) & IF(EXACT(Meldeliste!AG140,\"\"),\"\",\"/\" & Meldeliste!AG140))","v":""},{"$f":"IF(EXACT(Meldeliste!E140,\"\"),\"\",Meldeliste!E140)","v":""},{"$f":"IF(EXACT(Meldeliste!F140,\"\"),\"\",Meldeliste!F140)","v":""},{"$f":"IF(EXACT(Meldeliste!B140,\"\"),\"\",Meldeliste!B140)","v":""},null,"","",null,"",""]
[{"$f":"IF(EXACT(Meldeliste!C141,\"\"),\"\",Meldeliste!C141)","v":""},{"$f":"IF(EXACT(Meldeliste!H141&\" \"&Meldeliste!I141,\"\"),\"\",Meldeliste!H141&\" \"&Meldeliste!I141)","v":" "},{"$f":"IF(EXACT(Meldeliste!P141,\"\"),\"\",Meldeliste!P141)","v":""},{"$f":"IF(EXACT(Meldeliste!Z141 & IF(EXACT(Meldeliste!AA141,\"\"),\"\",\"/\" & Meldeliste!AA141) & IF(EXACT(Meldeliste!AB141,\"\"),\"\",\"/\" & Meldeliste!AB141) & IF(EXACT(Meldeliste!AC141,\"\"),\"\",\"/\" & Meldeliste!AC141)  & IF(EXACT(Meldeliste!AD141,\"\"),\"\",\"/\" & Meldeliste!AD141) & IF(EXACT(Meldeliste!AE141,\"\"),\"\",\"/\" & Meldeliste!AE141) & IF(EXACT(Meldeliste!AF141,\"\"),\"\",\"/\" & Meldeliste!AF141) & IF(EXACT(Meldeliste!AG141,\"\"),\"\",\"/\" & Meldeliste!AG141),\"\"),\"\",Meldeliste!Z141 & IF(EXACT(Meldeliste!AA141,\"\"),\"\",\"/\" & Meldeliste!AA141) & IF(EXACT(Meldeliste!AB141,\"\"),\"\",\"/\" & Meldeliste!AB141) & IF(EXACT(Meldeliste!AC141,\"\"),\"\",\"/\" & Meldeliste!AC141)  & IF(EXACT(Meldeliste!AD141,\"\"),\"\",\"/\" & Meldeliste!AD141) & IF(EXACT(Meldeliste!AE141,\"\"),\"\",\"/\" & Meldeliste!AE141) & IF(EXACT(Meldeliste!AF141,\"\"),\"\",\"/\" & Meldeliste!AF141) & IF(EXACT(Meldeliste!AG141,\"\"),\"\",\"/\" & Meldeliste!AG141))","v":""},{"$f":"IF(EXACT(Meldeliste!E141,\"\"),\"\",Meldeliste!E141)","v":""},{"$f":"IF(EXACT(Meldeliste!F141,\"\"),\"\",Meldeliste!F141)","v":""},{"$f":"IF(EXACT(Meldeliste!B141,\"\"),\"\",Meldeliste!B141)","v":""},null,"","",null,"",""]
[{"$f":"IF(EXACT(Meldeliste!C142,\"\"),\"\",Meldeliste!C142)","v":""},{"$f":"IF(EXACT(Meldeliste!H142&\" \"&Meldeliste!I142,\"\"),\"\",Meldeliste!H142&\" \"&Meldeliste!I142)","v":" "},{"$f":"IF(EXACT(Meldeliste!P142,\"\"),\"\",Meldeliste!P142)","v":""},{"$f":"IF(EXACT(Meldeliste!Z142 & IF(EXACT(Meldeliste!AA142,\"\"),\"\",\"/\" & Meldeliste!AA142) & IF(EXACT(Meldeliste!AB142,\"\"),\"\",\"/\" & Meldeliste!AB142) & IF(EXACT(Meldeliste!AC142,\"\"),\"\",\"/\" & Meldeliste!AC142)  & IF(EXACT(Meldeliste!AD142,\"\"),\"\",\"/\" & Meldeliste!AD142) & IF(EXACT(Meldeliste!AE142,\"\"),\"\",\"/\" & Meldeliste!AE142) & IF(EXACT(Meldeliste!AF142,\"\"),\"\",\"/\" & Meldeliste!AF142) & IF(EXACT(Meldeliste!AG142,\"\"),\"\",\"/\" & Meldeliste!AG142),\"\"),\"\",Meldeliste!Z142 & IF(EXACT(Meldeliste!AA142,\"\"),\"\",\"/\" & Meldeliste!AA142) & IF(EXACT(Meldeliste!AB142,\"\"),\"\",\"/\" & Meldeliste!AB142) & IF(EXACT(Meldeliste!AC142,\"\"),\"\",\"/\" & Meldeliste!AC142)  & IF(EXACT(Meldeliste!AD142,\"\"),\"\",\"/\" & Meldeliste!AD142) & IF(EXACT(Meldeliste!AE142,\"\"),\"\",\"/\" & Meldeliste!AE142) & IF(EXACT(Meldeliste!AF142,\"\"),\"\",\"/\" & Meldeliste!AF142) & IF(EXACT(Meldeliste!AG142,\"\"),\"\",\"/\" & Meldeliste!AG142))","v":""},{"$f":"IF(EXACT(Meldeliste!E142,\"\"),\"\",Meldeliste!E142)","v":""},{"$f":"IF(EXACT(Meldeliste!F142,\"\"),\"\",Meldeliste!F142)","v":""},{"$f":"IF(EXACT(Meldeliste!B142,\"\"),\"\",Meldeliste!B142)","v":""},null,"","",null,"",""]
[{"$f":"IF(EXACT(Meldeliste!C143,\"\"),\"\",Meldeliste!C143)","v":""},{"$f":"IF(EXACT(Meldeliste!H143&\" \"&Meldeliste!I143,\"\"),\"\",Meldeliste!H143&\" \"&Meldeliste!I143)","v":" "},{"$f":"IF(EXACT(Meldeliste!P143,\"\"),\"\",Meldeliste!P143)","v":""},{"$f":"IF(EXACT(Meldeliste!Z143 & IF(EXACT(Meldeliste!AA143,\"\"),\"\",\"/\" & Meldeliste!AA143) & IF(EXACT(Meldeliste!AB143,\"\"),\"\",\"/\" & Meldeliste!AB143) & IF(EXACT(Meldeliste!AC143,\"\"),\"\",\"/\" & Meldeliste!AC143)  & IF(EXACT(Meldeliste!AD143,\"\"),\"\",\"/\" & Meldeliste!AD143) & IF(EXACT(Meldeliste!AE143,\"\"),\"\",\"/\" & Meldeliste!AE143) & IF(EXACT(Meldeliste!AF143,\"\"),\"\",\"/\" & Meldeliste!AF143) & IF(EXACT(Meldeliste!AG143,\"\"),\"\",\"/\" & Meldeliste!AG143),\"\"),\"\",Meldeliste!Z143 & IF(EXACT(Meldeliste!AA143,\"\"),\"\",\"/\" & Meldeliste!AA143) & IF(EXACT(Meldeliste!AB143,\"\"),\"\",\"/\" & Meldeliste!AB143) & IF(EXACT(Meldeliste!AC143,\"\"),\"\",\"/\" & Meldeliste!AC143)  & IF(EXACT(Meldeliste!AD143,\"\"),\"\",\"/\" & Meldeliste!AD143) & IF(EXACT(Meldeliste!AE143,\"\"),\"\",\"/\" & Meldeliste!AE143) & IF(EXACT(Meldeliste!AF143,\"\"),\"\",\"/\" & Meldeliste!AF143) & IF(EXACT(Meldeliste!AG143,\"\"),\"\",\"/\" & Meldeliste!AG143))","v":""},{"$f":"IF(EXACT(Meldeliste!E143,\"\"),\"\",Meldeliste!E143)","v":""},{"$f":"IF(EXACT(Meldeliste!F143,\"\"),\"\",Meldeliste!F143)","v":""},{"$f":"IF(EXACT(Meldeliste!B143,\"\"),\"\",Meldeliste!B143)","v":""},null,"","",null,"",""]
[{"$f":"IF(EXACT(Meldeliste!C144,\"\"),\"\",Meldeliste!C144)","v":""},{"$f":"IF(EXACT(Meldeliste!H144&\" \"&Meldeliste!I144,\"\"),\"\",Meldeliste!H144&\" \"&Meldeliste!I144)","v":" "},{"$f":"IF(EXACT(Meldeliste!P144,\"\"),\"\",Meldeliste!P144)","v":""},{"$f":"IF(EXACT(Meldeliste!Z144 & IF(EXACT(Meldeliste!AA144,\"\"),\"\",\"/\" & Meldeliste!AA144) & IF(EXACT(Meldeliste!AB144,\"\"),\"\",\"/\" & Meldeliste!AB144) & IF(EXACT(Meldeliste!AC144,\"\"),\"\",\"/\" & Meldeliste!AC144)  & IF(EXACT(Meldeliste!AD144,\"\"),\"\",\"/\" & Meldeliste!AD144) & IF(EXACT(Meldeliste!AE144,\"\"),\"\",\"/\" & Meldeliste!AE144) & IF(EXACT(Meldeliste!AF144,\"\"),\"\",\"/\" & Meldeliste!AF144) & IF(EXACT(Meldeliste!AG144,\"\"),\"\",\"/\" & Meldeliste!AG144),\"\"),\"\",Meldeliste!Z144 & IF(EXACT(Meldeliste!AA144,\"\"),\"\",\"/\" & Meldeliste!AA144) & IF(EXACT(Meldeliste!AB144,\"\"),\"\",\"/\" & Meldeliste!AB144) & IF(EXACT(Meldeliste!AC144,\"\"),\"\",\"/\" & Meldeliste!AC144)  & IF(EXACT(Meldeliste!AD144,\"\"),\"\",\"/\" & Meldeliste!AD144) & IF(EXACT(Meldeliste!AE144,\"\"),\"\",\"/\" & Meldeliste!AE144) & IF(EXACT(Meldeliste!AF144,\"\"),\"\",\"/\" & Meldeliste!AF144) & IF(EXACT(Meldeliste!AG144,\"\"),\"\",\"/\" & Meldeliste!AG144))","v":""},{"$f":"IF(EXACT(Meldeliste!E144,\"\"),\"\",Meldeliste!E144)","v":""},{"$f":"IF(EXACT(Meldeliste!F144,\"\"),\"\",Meldeliste!F144)","v":""},{"$f":"IF(EXACT(Meldeliste!B144,\"\"),\"\",Meldeliste!B144)","v":""},null,"","",null,"",""]
[{"$f":"IF(EXACT(Meldeliste!C145,\"\"),\"\",Meldeliste!C145)","v":""},{"$f":"IF(EXACT(Meldeliste!H145&\" \"&Meldeliste!I145,\"\"),\"\",Meldeliste!H145&\" \"&Meldeliste!I145)","v":" "},{"$f":"IF(EXACT(Meldeliste!P145,\"\"),\"\",Meldeliste!P145)","v":""},{"$f":"IF(EXACT(Meldeliste!Z145 & IF(EXACT(Meldeliste!AA145,\"\"),\"\",\"/\" & Meldeliste!AA145) & IF(EXACT(Meldeliste!AB145,\"\"),\"\",\"/\" & Meldeliste!AB145) & IF(EXACT(Meldeliste!AC145,\"\"),\"\",\"/\" & Meldeliste!AC145)  & IF(EXACT(Meldeliste!AD145,\"\"),\"\",\"/\" & Meldeliste!AD145) & IF(EXACT(Meldeliste!AE145,\"\"),\"\",\"/\" & Meldeliste!AE145) & IF(EXACT(Meldeliste!AF145,\"\"),\"\",\"/\" & Meldeliste!AF145) & IF(EXACT(Meldeliste!AG145,\"\"),\"\",\"/\" & Meldeliste!AG145),\"\"),\"\",Meldeliste!Z145 & IF(EXACT(Meldeliste!AA145,\"\"),\"\",\"/\" & Meldeliste!AA145) & IF(EXACT(Meldeliste!AB145,\"\"),\"\",\"/\" & Meldeliste!AB145) & IF(EXACT(Meldeliste!AC145,\"\"),\"\",\"/\" & Meldeliste!AC145)  & IF(EXACT(Meldeliste!AD145,\"\"),\"\",\"/\" & Meldeliste!AD145) & IF(EXACT(Meldeliste!AE145,\"\"),\"\",\"/\" & Meldeliste!AE145) & IF(EXACT(Meldeliste!AF145,\"\"),\"\",\"/\" & Meldeliste!AF145) & IF(EXACT(Meldeliste!AG145,\"\"),\"\",\"/\" & Meldeliste!AG145))","v":""},{"$f":"IF(EXACT(Meldeliste!E145,\"\"),\"\",Meldeliste!E145)","v":""},{"$f":"IF(EXACT(Meldeliste!F145,\"\"),\"\",Meldeliste!F145)","v":""},{"$f":"IF(EXACT(Meldeliste!B145,\"\"),\"\",Meldeliste!B145)","v":""},null,"","",null,"",""]
[{"$f":"IF(EXACT(Meldeliste!C146,\"\"),\"\",Meldeliste!C146)","v":""},{"$f":"IF(EXACT(Meldeliste!H146&\" \"&Meldeliste!I146,\"\"),\"\",Meldeliste!H146&\" \"&Meldeliste!I146)","v":" "},{"$f":"IF(EXACT(Meldeliste!P146,\"\"),\"\",Meldeliste!P146)","v":""},{"$f":"IF(EXACT(Meldeliste!Z146 & IF(EXACT(Meldeliste!AA146,\"\"),\"\",\"/\" & Meldeliste!AA146) & IF(EXACT(Meldeliste!AB146,\"\"),\"\",\"/\" & Meldeliste!AB146) & IF(EXACT(Meldeliste!AC146,\"\"),\"\",\"/\" & Meldeliste!AC146)  & IF(EXACT(Meldeliste!AD146,\"\"),\"\",\"/\" & Meldeliste!AD146) & IF(EXACT(Meldeliste!AE146,\"\"),\"\",\"/\" & Meldeliste!AE146) & IF(EXACT(Meldeliste!AF146,\"\"),\"\",\"/\" & Meldeliste!AF146) & IF(EXACT(Meldeliste!AG146,\"\"),\"\",\"/\" & Meldeliste!AG146),\"\"),\"\",Meldeliste!Z146 & IF(EXACT(Meldeliste!AA146,\"\"),\"\",\"/\" & Meldeliste!AA146) & IF(EXACT(Meldeliste!AB146,\"\"),\"\",\"/\" & Meldeliste!AB146) & IF(EXACT(Meldeliste!AC146,\"\"),\"\",\"/\" & Meldeliste!AC146)  & IF(EXACT(Meldeliste!AD146,\"\"),\"\",\"/\" & Meldeliste!AD146) & IF(EXACT(Meldeliste!AE146,\"\"),\"\",\"/\" & Meldeliste!AE146) & IF(EXACT(Meldeliste!AF146,\"\"),\"\",\"/\" & Meldeliste!AF146) & IF(EXACT(Meldeliste!AG146,\"\"),\"\",\"/\" & Meldeliste!AG146))","v":""},{"$f":"IF(EXACT(Meldeliste!E146,\"\"),\"\",Meldeliste!E146)","v":""},{"$f":"IF(EXACT(Meldeliste!F146,\"\"),\"\",Meldeliste!F146)","v":""},{"$f":"IF(EXACT(Meldeliste!B146,\"\"),\"\",Meldeliste!B146)","v":""},null,"","",null,"",""]
[{"$f":"IF(EXACT(Meldeliste!C147,\"\"),\"\",Meldeliste!C147)","v":""},{"$f":"IF(EXACT(Meldeliste!H147&\" \"&Meldeliste!I147,\"\"),\"\",Meldeliste!H147&\" \"&Meldeliste!I147)","v":" "},{"$f":"IF(EXACT(Meldeliste!P147,\"\"),\"\",Meldeliste!P147)","v":""},{"$f":"IF(EXACT(Meldeliste!Z147 & IF(EXACT(Meldeliste!AA147,\"\"),\"\",\"/\" & Meldeliste!AA147) & IF(EXACT(Meldeliste!AB147,\"\"),\"\",\"/\" & Meldeliste!AB147) & IF(EXACT(Meldeliste!AC147,\"\"),\"\",\"/\" & Meldeliste!AC147)  & IF(EXACT(Meldeliste!AD147,\"\"),\"\",\"/\" & Meldeliste!AD147) & IF(EXACT(Meldeliste!AE147,\"\"),\"\",\"/\" & Meldeliste!AE147) & IF(EXACT(Meldeliste!AF147,\"\"),\"\",\"/\" & Meldeliste!AF147) & IF(EXACT(Meldeliste!AG147,\"\"),\"\",\"/\" & Meldeliste!AG147),\"\"),\"\",Meldeliste!Z147 & IF(EXACT(Meldeliste!AA147,\"\"),\"\",\"/\" & Meldeliste!AA147) & IF(EXACT(Meldeliste!AB147,\"\"),\"\",\"/\" & Meldeliste!AB147) & IF(EXACT(Meldeliste!AC147,\"\"),\"\",\"/\" & Meldeliste!AC147)  & IF(EXACT(Meldeliste!AD147,\"\"),\"\",\"/\" & Meldeliste!AD147) & IF(EXACT(Meldeliste!AE147,\"\"),\"\",\"/\" & Meldeliste!AE147) & IF(EXACT(Meldeliste!AF147,\"\"),\"\",\"/\" & Meldeliste!AF147) & IF(EXACT(Meldeliste!AG147,\"\"),\"\",\"/\" & Meldeliste!AG147))","v":""},{"$f":"IF(EXACT(Meldeliste!E147,\"\"),\"\",Meldeliste!E147)","v":""},{"$f":"IF(EXACT(Meldeliste!F147,\"\"),\"\",Meldeliste!F147)","v":""},{"$f":"IF(EXACT(Meldeliste!B147,\"\"),\"\",Meldeliste!B147)","v":""},null,"","",null,"",""]
[{"$f":"IF(EXACT(Meldeliste!C148,\"\"),\"\",Meldeliste!C148)","v":""},{"$f":"IF(EXACT(Meldeliste!H148&\" \"&Meldeliste!I148,\"\"),\"\",Meldeliste!H148&\" \"&Meldeliste!I148)","v":" "},{"$f":"IF(EXACT(Meldeliste!P148,\"\"),\"\",Meldeliste!P148)","v":""},{"$f":"IF(EXACT(Meldeliste!Z148 & IF(EXACT(Meldeliste!AA148,\"\"),\"\",\"/\" & Meldeliste!AA148) & IF(EXACT(Meldeliste!AB148,\"\"),\"\",\"/\" & Meldeliste!AB148) & IF(EXACT(Meldeliste!AC148,\"\"),\"\",\"/\" & Meldeliste!AC148)  & IF(EXACT(Meldeliste!AD148,\"\"),\"\",\"/\" & Meldeliste!AD148) & IF(EXACT(Meldeliste!AE148,\"\"),\"\",\"/\" & Meldeliste!AE148) & IF(EXACT(Meldeliste!AF148,\"\"),\"\",\"/\" & Meldeliste!AF148) & IF(EXACT(Meldeliste!AG148,\"\"),\"\",\"/\" & Meldeliste!AG148),\"\"),\"\",Meldeliste!Z148 & IF(EXACT(Meldeliste!AA148,\"\"),\"\",\"/\" & Meldeliste!AA148) & IF(EXACT(Meldeliste!AB148,\"\"),\"\",\"/\" & Meldeliste!AB148) & IF(EXACT(Meldeliste!AC148,\"\"),\"\",\"/\" & Meldeliste!AC148)  & IF(EXACT(Meldeliste!AD148,\"\"),\"\",\"/\" & Meldeliste!AD148) & IF(EXACT(Meldeliste!AE148,\"\"),\"\",\"/\" & Meldeliste!AE148) & IF(EXACT(Meldeliste!AF148,\"\"),\"\",\"/\" & Meldeliste!AF148) & IF(EXACT(Meldeliste!AG148,\"\"),\"\",\"/\" & Meldeliste!AG148))","v":""},{"$f":"IF(EXACT(Meldeliste!E148,\"\"),\"\",Meldeliste!E148)","v":""},{"$f":"IF(EXACT(Meldeliste!F148,\"\"),\"\",Meldeliste!F148)","v":""},{"$f":"IF(EXACT(Meldeliste!B148,\"\"),\"\",Meldeliste!B148)","v":""},null,"","",null,"",""]
[{"$f":"IF(EXACT(Meldeliste!C149,\"\"),\"\",Meldeliste!C149)","v":""},{"$f":"IF(EXACT(Meldeliste!H149&\" \"&Meldeliste!I149,\"\"),\"\",Meldeliste!H149&\" \"&Meldeliste!I149)","v":" "},{"$f":"IF(EXACT(Meldeliste!P149,\"\"),\"\",Meldeliste!P149)","v":""},{"$f":"IF(EXACT(Meldeliste!Z149 & IF(EXACT(Meldeliste!AA149,\"\"),\"\",\"/\" & Meldeliste!AA149) & IF(EXACT(Meldeliste!AB149,\"\"),\"\",\"/\" & Meldeliste!AB149) & IF(EXACT(Meldeliste!AC149,\"\"),\"\",\"/\" & Meldeliste!AC149)  & IF(EXACT(Meldeliste!AD149,\"\"),\"\",\"/\" & Meldeliste!AD149) & IF(EXACT(Meldeliste!AE149,\"\"),\"\",\"/\" & Meldeliste!AE149) & IF(EXACT(Meldeliste!AF149,\"\"),\"\",\"/\" & Meldeliste!AF149) & IF(EXACT(Meldeliste!AG149,\"\"),\"\",\"/\" & Meldeliste!AG149),\"\"),\"\",Meldeliste!Z149 & IF(EXACT(Meldeliste!AA149,\"\"),\"\",\"/\" & Meldeliste!AA149) & IF(EXACT(Meldeliste!AB149,\"\"),\"\",\"/\" & Meldeliste!AB149) & IF(EXACT(Meldeliste!AC149,\"\"),\"\",\"/\" & Meldeliste!AC149)  & IF(EXACT(Meldeliste!AD149,\"\"),\"\",\"/\" & Meldeliste!AD149) & IF(EXACT(Meldeliste!AE149,\"\"),\"\",\"/\" & Meldeliste!AE149) & IF(EXACT(Meldeliste!AF149,\"\"),\"\",\"/\" & Meldeliste!AF149) & IF(EXACT(Meldeliste!AG149,\"\"),\"\",\"/\" & Meldeliste!AG149))","v":""},{"$f":"IF(EXACT(Meldeliste!E149,\"\"),\"\",Meldeliste!E149)","v":""},{"$f":"IF(EXACT(Meldeliste!F149,\"\"),\"\",Meldeliste!F149)","v":""},{"$f":"IF(EXACT(Meldeliste!B149,\"\"),\"\",Meldeliste!B149)","v":""},null,"","",null,"",""]
[{"$f":"IF(EXACT(Meldeliste!C150,\"\"),\"\",Meldeliste!C150)","v":""},{"$f":"IF(EXACT(Meldeliste!H150&\" \"&Meldeliste!I150,\"\"),\"\",Meldeliste!H150&\" \"&Meldeliste!I150)","v":" "},{"$f":"IF(EXACT(Meldeliste!P150,\"\"),\"\",Meldeliste!P150)","v":""},{"$f":"IF(EXACT(Meldeliste!Z150 & IF(EXACT(Meldeliste!AA150,\"\"),\"\",\"/\" & Meldeliste!AA150) & IF(EXACT(Meldeliste!AB150,\"\"),\"\",\"/\" & Meldeliste!AB150) & IF(EXACT(Meldeliste!AC150,\"\"),\"\",\"/\" & Meldeliste!AC150)  & IF(EXACT(Meldeliste!AD150,\"\"),\"\",\"/\" & Meldeliste!AD150) & IF(EXACT(Meldeliste!AE150,\"\"),\"\",\"/\" & Meldeliste!AE150) & IF(EXACT(Meldeliste!AF150,\"\"),\"\",\"/\" & Meldeliste!AF150) & IF(EXACT(Meldeliste!AG150,\"\"),\"\",\"/\" & Meldeliste!AG150),\"\"),\"\",Meldeliste!Z150 & IF(EXACT(Meldeliste!AA150,\"\"),\"\",\"/\" & Meldeliste!AA150) & IF(EXACT(Meldeliste!AB150,\"\"),\"\",\"/\" & Meldeliste!AB150) & IF(EXACT(Meldeliste!AC150,\"\"),\"\",\"/\" & Meldeliste!AC150)  & IF(EXACT(Meldeliste!AD150,\"\"),\"\",\"/\" & Meldeliste!AD150) & IF(EXACT(Meldeliste!AE150,\"\"),\"\",\"/\" & Meldeliste!AE150) & IF(EXACT(Meldeliste!AF150,\"\"),\"\",\"/\" & Meldeliste!AF150) & IF(EXACT(Meldeliste!AG150,\"\"),\"\",\"/\" & Meldeliste!AG150))","v":""},{"$f":"IF(EXACT(Meldeliste!E150,\"\"),\"\",Meldeliste!E150)","v":""},{"$f":"IF(EXACT(Meldeliste!F150,\"\"),\"\",Meldeliste!F150)","v":""},{"$f":"IF(EXACT(Meldeliste!B150,\"\"),\"\",Meldeliste!B150)","v":""},null,"","",null,"",""]
[{"$f":"IF(EXACT(Meldeliste!C151,\"\"),\"\",Meldeliste!C151)","v":""},{"$f":"IF(EXACT(Meldeliste!H151&\" \"&Meldeliste!I151,\"\"),\"\",Meldeliste!H151&\" \"&Meldeliste!I151)","v":" "},{"$f":"IF(EXACT(Meldeliste!P151,\"\"),\"\",Meldeliste!P151)","v":""},{"$f":"IF(EXACT(Meldeliste!Z151 & IF(EXACT(Meldeliste!AA151,\"\"),\"\",\"/\" & Meldeliste!AA151) & IF(EXACT(Meldeliste!AB151,\"\"),\"\",\"/\" & Meldeliste!AB151) & IF(EXACT(Meldeliste!AC151,\"\"),\"\",\"/\" & Meldeliste!AC151)  & IF(EXACT(Meldeliste!AD151,\"\"),\"\",\"/\" & Meldeliste!AD151) & IF(EXACT(Meldeliste!AE151,\"\"),\"\",\"/\" & Meldeliste!AE151) & IF(EXACT(Meldeliste!AF151,\"\"),\"\",\"/\" & Meldeliste!AF151) & IF(EXACT(Meldeliste!AG151,\"\"),\"\",\"/\" & Meldeliste!AG151),\"\"),\"\",Meldeliste!Z151 & IF(EXACT(Meldeliste!AA151,\"\"),\"\",\"/\" & Meldeliste!AA151) & IF(EXACT(Meldeliste!AB151,\"\"),\"\",\"/\" & Meldeliste!AB151) & IF(EXACT(Meldeliste!AC151,\"\"),\"\",\"/\" & Meldeliste!AC151)  & IF(EXACT(Meldeliste!AD151,\"\"),\"\",\"/\" & Meldeliste!AD151) & IF(EXACT(Meldeliste!AE151,\"\"),\"\",\"/\" & Meldeliste!AE151) & IF(EXACT(Meldeliste!AF151,\"\"),\"\",\"/\" & Meldeliste!AF151) & IF(EXACT(Meldeliste!AG151,\"\"),\"\",\"/\" & Meldeliste!AG151))","v":""},{"$f":"IF(EXACT(Meldeliste!E151,\"\"),\"\",Meldeliste!E151)","v":""},{"$f":"IF(EXACT(Meldeliste!F151,\"\"),\"\",Meldeliste!F151)","v":""},{"$f":"IF(EXACT(Meldeliste!B151,\"\"),\"\",Meldeliste!B151)","v":""},null,"","",null,"",""]
[{"$f":"IF(EXACT(Meldeliste!C152,\"\"),\"\",Meldeliste!C152)","v":""},{"$f":"IF(EXACT(Meldeliste!H152&\" \"&Meldeliste!I152,\"\"),\"\",Meldeliste!H152&\" \"&Meldeliste!I152)","v":" "},{"$f":"IF(EXACT(Meldeliste!P152,\"\"),\"\",Meldeliste!P152)","v":""},{"$f":"IF(EXACT(Meldeliste!Z152 & IF(EXACT(Meldeliste!AA152,\"\"),\"\",\"/\" & Meldeliste!AA152) & IF(EXACT(Meldeliste!AB152,\"\"),\"\",\"/\" & Meldeliste!AB152) & IF(EXACT(Meldeliste!AC152,\"\"),\"\",\"/\" & Meldeliste!AC152)  & IF(EXACT(Meldeliste!AD152,\"\"),\"\",\"/\" & Meldeliste!AD152) & IF(EXACT(Meldeliste!AE152,\"\"),\"\",\"/\" & Meldeliste!AE152) & IF(EXACT(Meldeliste!AF152,\"\"),\"\",\"/\" & Meldeliste!AF152) & IF(EXACT(Meldeliste!AG152,\"\"),\"\",\"/\" & Meldeliste!AG152),\"\"),\"\",Meldeliste!Z152 & IF(EXACT(Meldeliste!AA152,\"\"),\"\",\"/\" & Meldeliste!AA152) & IF(EXACT(Meldeliste!AB152,\"\"),\"\",\"/\" & Meldeliste!AB152) & IF(EXACT(Meldeliste!AC152,\"\"),\"\",\"/\" & Meldeliste!AC152)  & IF(EXACT(Meldeliste!AD152,\"\"),\"\",\"/\" & Meldeliste!AD152) & IF(EXACT(Meldeliste!AE152,\"\"),\"\",\"/\" & Meldeliste!AE152) & IF(EXACT(Meldeliste!AF152,\"\"),\"\",\"/\" & Meldeliste!AF152) & IF(EXACT(Meldeliste!AG152,\"\"),\"\",\"/\" & Meldeliste!AG152))","v":""},{"$f":"IF(EXACT(Meldeliste!E152,\"\"),\"\",Meldeliste!E152)","v":""},{"$f":"IF(EXACT(Meldeliste!F152,\"\"),\"\",Meldeliste!F152)","v":""},{"$f":"IF(EXACT(Meldeliste!B152,\"\"),\"\",Meldeliste!B152)","v":""},null,"","",null,"",""]
[{"$f":"IF(EXACT(Meldeliste!C153,\"\"),\"\",Meldeliste!C153)","v":""},{"$f":"IF(EXACT(Meldeliste!H153&\" \"&Meldeliste!I153,\"\"),\"\",Meldeliste!H153&\" \"&Meldeliste!I153)","v":" "},{"$f":"IF(EXACT(Meldeliste!P153,\"\"),\"\",Meldeliste!P153)","v":""},{"$f":"IF(EXACT(Meldeliste!Z153 & IF(EXACT(Meldeliste!AA153,\"\"),\"\",\"/\" & Meldeliste!AA153) & IF(EXACT(Meldeliste!AB153,\"\"),\"\",\"/\" & Meldeliste!AB153) & IF(EXACT(Meldeliste!AC153,\"\"),\"\",\"/\" & Meldeliste!AC153)  & IF(EXACT(Meldeliste!AD153,\"\"),\"\",\"/\" & Meldeliste!AD153) & IF(EXACT(Meldeliste!AE153,\"\"),\"\",\"/\" & Meldeliste!AE153) & IF(EXACT(Meldeliste!AF153,\"\"),\"\",\"/\" & Meldeliste!AF153) & IF(EXACT(Meldeliste!AG153,\"\"),\"\",\"/\" & Meldeliste!AG153),\"\"),\"\",Meldeliste!Z153 & IF(EXACT(Meldeliste!AA153,\"\"),\"\",\"/\" & Meldeliste!AA153) & IF(EXACT(Meldeliste!AB153,\"\"),\"\",\"/\" & Meldeliste!AB153) & IF(EXACT(Meldeliste!AC153,\"\"),\"\",\"/\" & Meldeliste!AC153)  & IF(EXACT(Meldeliste!AD153,\"\"),\"\",\"/\" & Meldeliste!AD153) & IF(EXACT(Meldeliste!AE153,\"\"),\"\",\"/\" & Meldeliste!AE153) & IF(EXACT(Meldeliste!AF153,\"\"),\"\",\"/\" & Meldeliste!AF153) & IF(EXACT(Meldeliste!AG153,\"\"),\"\",\"/\" & Meldeliste!AG153))","v":""},{"$f":"IF(EXACT(Meldeliste!E153,\"\"),\"\",Meldeliste!E153)","v":""},{"$f":"IF(EXACT(Meldeliste!F153,\"\"),\"\",Meldeliste!F153)","v":""},{"$f":"IF(EXACT(Meldeliste!B153,\"\"),\"\",Meldeliste!B153)","v":""},null,"","",null,"",""]
[{"$f":"IF(EXACT(Meldeliste!C154,\"\"),\"\",Meldeliste!C154)","v":""},{"$f":"IF(EXACT(Meldeliste!H154&\" \"&Meldeliste!I154,\"\"),\"\",Meldeliste!H154&\" \"&Meldeliste!I154)","v":" "},{"$f":"IF(EXACT(Meldeliste!P154,\"\"),\"\",Meldeliste!P154)","v":""},{"$f":"IF(EXACT(Meldeliste!Z154 & IF(EXACT(Meldeliste!AA154,\"\"),\"\",\"/\" & Meldeliste!AA154) & IF(EXACT(Meldeliste!AB154,\"\"),\"\",\"/\" & Meldeliste!AB154) & IF(EXACT(Meldeliste!AC154,\"\"),\"\",\"/\" & Meldeliste!AC154)  & IF(EXACT(Meldeliste!AD154,\"\"),\"\",\"/\" & Meldeliste!AD154) & IF(EXACT(Meldeliste!AE154,\"\"),\"\",\"/\" & Meldeliste!AE154) & IF(EXACT(Meldeliste!AF154,\"\"),\"\",\"/\" & Meldeliste!AF154) & IF(EXACT(Meldeliste!AG154,\"\"),\"\",\"/\" & Meldeliste!AG154),\"\"),\"\",Meldeliste!Z154 & IF(EXACT(Meldeliste!AA154,\"\"),\"\",\"/\" & Meldeliste!AA154) & IF(EXACT(Meldeliste!AB154,\"\"),\"\",\"/\" & Meldeliste!AB154) & IF(EXACT(Meldeliste!AC154,\"\"),\"\",\"/\" & Meldeliste!AC154)  & IF(EXACT(Meldeliste!AD154,\"\"),\"\",\"/\" & Meldeliste!AD154) & IF(EXACT(Meldeliste!AE154,\"\"),\"\",\"/\" & Meldeliste!AE154) & IF(EXACT(Meldeliste!AF154,\"\"),\"\",\"/\" & Meldeliste!AF154) & IF(EXACT(Meldeliste!AG154,\"\"),\"\",\"/\" & Meldeliste!AG154))","v":""},{"$f":"IF(EXACT(Meldeliste!E154,\"\"),\"\",Meldeliste!E154)","v":""},{"$f":"IF(EXACT(Meldeliste!F154,\"\"),\"\",Meldeliste!F154)","v":""},{"$f":"IF(EXACT(Meldeliste!B154,\"\"),\"\",Meldeliste!B154)","v":""},null,"","",null,"",""]
[{"$f":"IF(EXACT(Meldeliste!C155,\"\"),\"\",Meldeliste!C155)","v":""},{"$f":"IF(EXACT(Meldeliste!H155&\" \"&Meldeliste!I155,\"\"),\"\",Meldeliste!H155&\" \"&Meldeliste!I155)","v":" "},{"$f":"IF(EXACT(Meldeliste!P155,\"\"),\"\",Meldeliste!P155)","v":""},{"$f":"IF(EXACT(Meldeliste!Z155 & IF(EXACT(Meldeliste!AA155,\"\"),\"\",\"/\" & Meldeliste!AA155) & IF(EXACT(Meldeliste!AB155,\"\"),\"\",\"/\" & Meldeliste!AB155) & IF(EXACT(Meldeliste!AC155,\"\"),\"\",\"/\" & Meldeliste!AC155)  & IF(EXACT(Meldeliste!AD155,\"\"),\"\",\"/\" & Meldeliste!AD155) & IF(EXACT(Meldeliste!AE155,\"\"),\"\",\"/\" & Meldeliste!AE155) & IF(EXACT(Meldeliste!AF155,\"\"),\"\",\"/\" & Meldeliste!AF155) & IF(EXACT(Meldeliste!AG155,\"\"),\"\",\"/\" & Meldeliste!AG155),\"\"),\"\",Meldeliste!Z155 & IF(EXACT(Meldeliste!AA155,\"\"),\"\",\"/\" & Meldeliste!AA155) & IF(EXACT(Meldeliste!AB155,\"\"),\"\",\"/\" & Meldeliste!AB155) & IF(EXACT(Meldeliste!AC155,\"\"),\"\",\"/\" & Meldeliste!AC155)  & IF(EXACT(Meldeliste!AD155,\"\"),\"\",\"/\" & Meldeliste!AD155) & IF(EXACT(Meldeliste!AE155,\"\"),\"\",\"/\" & Meldeliste!AE155) & IF(EXACT(Meldeliste!AF155,\"\"),\"\",\"/\" & Meldeliste!AF155) & IF(EXACT(Meldeliste!AG155,\"\"),\"\",\"/\" & Meldeliste!AG155))","v":""},{"$f":"IF(EXACT(Meldeliste!E155,\"\"),\"\",Meldeliste!E155)","v":""},{"$f":"IF(EXACT(Meldeliste!F155,\"\"),\"\",Meldeliste!F155)","v":""},{"$f":"IF(EXACT(Meldeliste!B155,\"\"),\"\",Meldeliste!B155)","v":""},null,"","",null,"",""]
[{"$f":"IF(EXACT(Meldeliste!C156,\"\"),\"\",Meldeliste!C156)","v":""},{"$f":"IF(EXACT(Meldeliste!H156&\" \"&Meldeliste!I156,\"\"),\"\",Meldeliste!H156&\" \"&Meldeliste!I156)","v":" "},{"$f":"IF(EXACT(Meldeliste!P156,\"\"),\"\",Meldeliste!P156)","v":""},{"$f":"IF(EXACT(Meldeliste!Z156 & IF(EXACT(Meldeliste!AA156,\"\"),\"\",\"/\" & Meldeliste!AA156) & IF(EXACT(Meldeliste!AB156,\"\"),\"\",\"/\" & Meldeliste!AB156) & IF(EXACT(Meldeliste!AC156,\"\"),\"\",\"/\" & Meldeliste!AC156)  & IF(EXACT(Meldeliste!AD156,\"\"),\"\",\"/\" & Meldeliste!AD156) & IF(EXACT(Meldeliste!AE156,\"\"),\"\",\"/\" & Meldeliste!AE156) & IF(EXACT(Meldeliste!AF156,\"\"),\"\",\"/\" & Meldeliste!AF156) & IF(EXACT(Meldeliste!AG156,\"\"),\"\",\"/\" & Meldeliste!AG156),\"\"),\"\",Meldeliste!Z156 & IF(EXACT(Meldeliste!AA156,\"\"),\"\",\"/\" & Meldeliste!AA156) & IF(EXACT(Meldeliste!AB156,\"\"),\"\",\"/\" & Meldeliste!AB156) & IF(EXACT(Meldeliste!AC156,\"\"),\"\",\"/\" & Meldeliste!AC156)  & IF(EXACT(Meldeliste!AD156,\"\"),\"\",\"/\" & Meldeliste!AD156) & IF(EXACT(Meldeliste!AE156,\"\"),\"\",\"/\" & Meldeliste!AE156) & IF(EXACT(Meldeliste!AF156,\"\"),\"\",\"/\" & Meldeliste!AF156) & IF(EXACT(Meldeliste!AG156,\"\"),\"\",\"/\" & Meldeliste!AG156))","v":""},{"$f":"IF(EXACT(Meldeliste!E156,\"\"),\"\",Meldeliste!E156)","v":""},{"$f":"IF(EXACT(Meldeliste!F156,\"\"),\"\",Meldeliste!F156)","v":""},{"$f":"IF(EXACT(Meldeliste!B156,\"\"),\"\",Meldeliste!B156)","v":""},null,"","",null,"",""]
[{"$f":"IF(EXACT(Meldeliste!C157,\"\"),\"\",Meldeliste!C157)","v":""},{"$f":"IF(EXACT(Meldeliste!H157&\" \"&Meldeliste!I157,\"\"),\"\",Meldeliste!H157&\" \"&Meldeliste!I157)","v":" "},{"$f":"IF(EXACT(Meldeliste!P157,\"\"),\"\",Meldeliste!P157)","v":""},{"$f":"IF(EXACT(Meldeliste!Z157 & IF(EXACT(Meldeliste!AA157,\"\"),\"\",\"/\" & Meldeliste!AA157) & IF(EXACT(Meldeliste!AB157,\"\"),\"\",\"/\" & Meldeliste!AB157) & IF(EXACT(Meldeliste!AC157,\"\"),\"\",\"/\" & Meldeliste!AC157)  & IF(EXACT(Meldeliste!AD157,\"\"),\"\",\"/\" & Meldeliste!AD157) & IF(EXACT(Meldeliste!AE157,\"\"),\"\",\"/\" & Meldeliste!AE157) & IF(EXACT(Meldeliste!AF157,\"\"),\"\",\"/\" & Meldeliste!AF157) & IF(EXACT(Meldeliste!AG157,\"\"),\"\",\"/\" & Meldeliste!AG157),\"\"),\"\",Meldeliste!Z157 & IF(EXACT(Meldeliste!AA157,\"\"),\"\",\"/\" & Meldeliste!AA157) & IF(EXACT(Meldeliste!AB157,\"\"),\"\",\"/\" & Meldeliste!AB157) & IF(EXACT(Meldeliste!AC157,\"\"),\"\",\"/\" & Meldeliste!AC157)  & IF(EXACT(Meldeliste!AD157,\"\"),\"\",\"/\" & Meldeliste!AD157) & IF(EXACT(Meldeliste!AE157,\"\"),\"\",\"/\" & Meldeliste!AE157) & IF(EXACT(Meldeliste!AF157,\"\"),\"\",\"/\" & Meldeliste!AF157) & IF(EXACT(Meldeliste!AG157,\"\"),\"\",\"/\" & Meldeliste!AG157))","v":""},{"$f":"IF(EXACT(Meldeliste!E157,\"\"),\"\",Meldeliste!E157)","v":""},{"$f":"IF(EXACT(Meldeliste!F157,\"\"),\"\",Meldeliste!F157)","v":""},{"$f":"IF(EXACT(Meldeliste!B157,\"\"),\"\",Meldeliste!B157)","v":""},null,"","",null,"",""]
[{"$f":"IF(EXACT(Meldeliste!C158,\"\"),\"\",Meldeliste!C158)","v":""},{"$f":"IF(EXACT(Meldeliste!H158&\" \"&Meldeliste!I158,\"\"),\"\",Meldeliste!H158&\" \"&Meldeliste!I158)","v":" "},{"$f":"IF(EXACT(Meldeliste!P158,\"\"),\"\",Meldeliste!P158)","v":""},{"$f":"IF(EXACT(Meldeliste!Z158 & IF(EXACT(Meldeliste!AA158,\"\"),\"\",\"/\" & Meldeliste!AA158) & IF(EXACT(Meldeliste!AB158,\"\"),\"\",\"/\" & Meldeliste!AB158) & IF(EXACT(Meldeliste!AC158,\"\"),\"\",\"/\" & Meldeliste!AC158)  & IF(EXACT(Meldeliste!AD158,\"\"),\"\",\"/\" & Meldeliste!AD158) & IF(EXACT(Meldeliste!AE158,\"\"),\"\",\"/\" & Meldeliste!AE158) & IF(EXACT(Meldeliste!AF158,\"\"),\"\",\"/\" & Meldeliste!AF158) & IF(EXACT(Meldeliste!AG158,\"\"),\"\",\"/\" & Meldeliste!AG158),\"\"),\"\",Meldeliste!Z158 & IF(EXACT(Meldeliste!AA158,\"\"),\"\",\"/\" & Meldeliste!AA158) & IF(EXACT(Meldeliste!AB158,\"\"),\"\",\"/\" & Meldeliste!AB158) & IF(EXACT(Meldeliste!AC158,\"\"),\"\",\"/\" & Meldeliste!AC158)  & IF(EXACT(Meldeliste!AD158,\"\"),\"\",\"/\" & Meldeliste!AD158) & IF(EXACT(Meldeliste!AE158,\"\"),\"\",\"/\" & Meldeliste!AE158) & IF(EXACT(Meldeliste!AF158,\"\"),\"\",\"/\" & Meldeliste!AF158) & IF(EXACT(Meldeliste!AG158,\"\"),\"\",\"/\" & Meldeliste!AG158))","v":""},{"$f":"IF(EXACT(Meldeliste!E158,\"\"),\"\",Meldeliste!E158)","v":""},{"$f":"IF(EXACT(Meldeliste!F158,\"\"),\"\",Meldeliste!F158)","v":""},{"$f":"IF(EXACT(Meldeliste!B158,\"\"),\"\",Meldeliste!B158)","v":""},null,"","",null,"",""]
[{"$f":"IF(EXACT(Meldeliste!C159,\"\"),\"\",Meldeliste!C159)","v":""},{"$f":"IF(EXACT(Meldeliste!H159&\" \"&Meldeliste!I159,\"\"),\"\",Meldeliste!H159&\" \"&Meldeliste!I159)","v":" "},{"$f":"IF(EXACT(Meldeliste!P159,\"\"),\"\",Meldeliste!P159)","v":""},{"$f":"IF(EXACT(Meldeliste!Z159 & IF(EXACT(Meldeliste!AA159,\"\"),\"\",\"/\" & Meldeliste!AA159) & IF(EXACT(Meldeliste!AB159,\"\"),\"\",\"/\" & Meldeliste!AB159) & IF(EXACT(Meldeliste!AC159,\"\"),\"\",\"/\" & Meldeliste!AC159)  & IF(EXACT(Meldeliste!AD159,\"\"),\"\",\"/\" & Meldeliste!AD159) & IF(EXACT(Meldeliste!AE159,\"\"),\"\",\"/\" & Meldeliste!AE159) & IF(EXACT(Meldeliste!AF159,\"\"),\"\",\"/\" & Meldeliste!AF159) & IF(EXACT(Meldeliste!AG159,\"\"),\"\",\"/\" & Meldeliste!AG159),\"\"),\"\",Meldeliste!Z159 & IF(EXACT(Meldeliste!AA159,\"\"),\"\",\"/\" & Meldeliste!AA159) & IF(EXACT(Meldeliste!AB159,\"\"),\"\",\"/\" & Meldeliste!AB159) & IF(EXACT(Meldeliste!AC159,\"\"),\"\",\"/\" & Meldeliste!AC159)  & IF(EXACT(Meldeliste!AD159,\"\"),\"\",\"/\" & Meldeliste!AD159) & IF(EXACT(Meldeliste!AE159,\"\"),\"\",\"/\" & Meldeliste!AE159) & IF(EXACT(Meldeliste!AF159,\"\"),\"\",\"/\" & Meldeliste!AF159) & IF(EXACT(Meldeliste!AG159,\"\"),\"\",\"/\" & Meldeliste!AG159))","v":""},{"$f":"IF(EXACT(Meldeliste!E159,\"\"),\"\",Meldeliste!E159)","v":""},{"$f":"IF(EXACT(Meldeliste!F159,\"\"),\"\",Meldeliste!F159)","v":""},{"$f":"IF(EXACT(Meldeliste!B159,\"\"),\"\",Meldeliste!B159)","v":""},null,"","",null,"",""]
[{"$f":"IF(EXACT(Meldeliste!C160,\"\"),\"\",Meldeliste!C160)","v":""},{"$f":"IF(EXACT(Meldeliste!H160&\" \"&Meldeliste!I160,\"\"),\"\",Meldeliste!H160&\" \"&Meldeliste!I160)","v":" "},{"$f":"IF(EXACT(Meldeliste!P160,\"\"),\"\",Meldeliste!P160)","v":""},{"$f":"IF(EXACT(Meldeliste!Z160 & IF(EXACT(Meldeliste!AA160,\"\"),\"\",\"/\" & Meldeliste!AA160) & IF(EXACT(Meldeliste!AB160,\"\"),\"\",\"/\" & Meldeliste!AB160) & IF(EXACT(Meldeliste!AC160,\"\"),\"\",\"/\" & Meldeliste!AC160)  & IF(EXACT(Meldeliste!AD160,\"\"),\"\",\"/\" & Meldeliste!AD160) & IF(EXACT(Meldeliste!AE160,\"\"),\"\",\"/\" & Meldeliste!AE160) & IF(EXACT(Meldeliste!AF160,\"\"),\"\",\"/\" & Meldeliste!AF160) & IF(EXACT(Meldeliste!AG160,\"\"),\"\",\"/\" & Meldeliste!AG160),\"\"),\"\",Meldeliste!Z160 & IF(EXACT(Meldeliste!AA160,\"\"),\"\",\"/\" & Meldeliste!AA160) & IF(EXACT(Meldeliste!AB160,\"\"),\"\",\"/\" & Meldeliste!AB160) & IF(EXACT(Meldeliste!AC160,\"\"),\"\",\"/\" & Meldeliste!AC160)  & IF(EXACT(Meldeliste!AD160,\"\"),\"\",\"/\" & Meldeliste!AD160) & IF(EXACT(Meldeliste!AE160,\"\"),\"\",\"/\" & Meldeliste!AE160) & IF(EXACT(Meldeliste!AF160,\"\"),\"\",\"/\" & Meldeliste!AF160) & IF(EXACT(Meldeliste!AG160,\"\"),\"\",\"/\" & Meldeliste!AG160))","v":""},{"$f":"IF(EXACT(Meldeliste!E160,\"\"),\"\",Meldeliste!E160)","v":""},{"$f":"IF(EXACT(Meldeliste!F160,\"\"),\"\",Meldeliste!F160)","v":""},{"$f":"IF(EXACT(Meldeliste!B160,\"\"),\"\",Meldeliste!B160)","v":""},null,"","",null,"",""]
[{"$f":"IF(EXACT(Meldeliste!C161,\"\"),\"\",Meldeliste!C161)","v":""},{"$f":"IF(EXACT(Meldeliste!H161&\" \"&Meldeliste!I161,\"\"),\"\",Meldeliste!H161&\" \"&Meldeliste!I161)","v":" "},{"$f":"IF(EXACT(Meldeliste!P161,\"\"),\"\",Meldeliste!P161)","v":""},{"$f":"IF(EXACT(Meldeliste!Z161 & IF(EXACT(Meldeliste!AA161,\"\"),\"\",\"/\" & Meldeliste!AA161) & IF(EXACT(Meldeliste!AB161,\"\"),\"\",\"/\" & Meldeliste!AB161) & IF(EXACT(Meldeliste!AC161,\"\"),\"\",\"/\" & Meldeliste!AC161)  & IF(EXACT(Meldeliste!AD161,\"\"),\"\",\"/\" & Meldeliste!AD161) & IF(EXACT(Meldeliste!AE161,\"\"),\"\",\"/\" & Meldeliste!AE161) & IF(EXACT(Meldeliste!AF161,\"\"),\"\",\"/\" & Meldeliste!AF161) & IF(EXACT(Meldeliste!AG161,\"\"),\"\",\"/\" & Meldeliste!AG161),\"\"),\"\",Meldeliste!Z161 & IF(EXACT(Meldeliste!AA161,\"\"),\"\",\"/\" & Meldeliste!AA161) & IF(EXACT(Meldeliste!AB161,\"\"),\"\",\"/\" & Meldeliste!AB161) & IF(EXACT(Meldeliste!AC161,\"\"),\"\",\"/\" & Meldeliste!AC161)  & IF(EXACT(Meldeliste!AD161,\"\"),\"\",\"/\" & Meldeliste!AD161) & IF(EXACT(Meldeliste!AE161,\"\"),\"\",\"/\" & Meldeliste!AE161) & IF(EXACT(Meldeliste!AF161,\"\"),\"\",\"/\" & Meldeliste!AF161) & IF(EXACT(Meldeliste!AG161,\"\"),\"\",\"/\" & Meldeliste!AG161))","v":""},{"$f":"IF(EXACT(Meldeliste!E161,\"\"),\"\",Meldeliste!E161)","v":""},{"$f":"IF(EXACT(Meldeliste!F161,\"\"),\"\",Meldeliste!F161)","v":""},{"$f":"IF(EXACT(Meldeliste!B161,\"\"),\"\",Meldeliste!B161)","v":""},null,"","",null,"",""]
[{"$f":"IF(EXACT(Meldeliste!C162,\"\"),\"\",Meldeliste!C162)","v":""},{"$f":"IF(EXACT(Meldeliste!H162&\" \"&Meldeliste!I162,\"\"),\"\",Meldeliste!H162&\" \"&Meldeliste!I162)","v":" "},{"$f":"IF(EXACT(Meldeliste!P162,\"\"),\"\",Meldeliste!P162)","v":""},{"$f":"IF(EXACT(Meldeliste!Z162 & IF(EXACT(Meldeliste!AA162,\"\"),\"\",\"/\" & Meldeliste!AA162) & IF(EXACT(Meldeliste!AB162,\"\"),\"\",\"/\" & Meldeliste!AB162) & IF(EXACT(Meldeliste!AC162,\"\"),\"\",\"/\" & Meldeliste!AC162)  & IF(EXACT(Meldeliste!AD162,\"\"),\"\",\"/\" & Meldeliste!AD162) & IF(EXACT(Meldeliste!AE162,\"\"),\"\",\"/\" & Meldeliste!AE162) & IF(EXACT(Meldeliste!AF162,\"\"),\"\",\"/\" & Meldeliste!AF162) & IF(EXACT(Meldeliste!AG162,\"\"),\"\",\"/\" & Meldeliste!AG162),\"\"),\"\",Meldeliste!Z162 & IF(EXACT(Meldeliste!AA162,\"\"),\"\",\"/\" & Meldeliste!AA162) & IF(EXACT(Meldeliste!AB162,\"\"),\"\",\"/\" & Meldeliste!AB162) & IF(EXACT(Meldeliste!AC162,\"\"),\"\",\"/\" & Meldeliste!AC162)  & IF(EXACT(Meldeliste!AD162,\"\"),\"\",\"/\" & Meldeliste!AD162) & IF(EXACT(Meldeliste!AE162,\"\"),\"\",\"/\" & Meldeliste!AE162) & IF(EXACT(Meldeliste!AF162,\"\"),\"\",\"/\" & Meldeliste!AF162) & IF(EXACT(Meldeliste!AG162,\"\"),\"\",\"/\" & Meldeliste!AG162))","v":""},{"$f":"IF(EXACT(Meldeliste!E162,\"\"),\"\",Meldeliste!E162)","v":""},{"$f":"IF(EXACT(Meldeliste!F162,\"\"),\"\",Meldeliste!F162)","v":""},{"$f":"IF(EXACT(Meldeliste!B162,\"\"),\"\",Meldeliste!B162)","v":""},null,"","",null,"",""]
[{"$f":"IF(EXACT(Meldeliste!C163,\"\"),\"\",Meldeliste!C163)","v":""},{"$f":"IF(EXACT(Meldeliste!H163&\" \"&Meldeliste!I163,\"\"),\"\",Meldeliste!H163&\" \"&Meldeliste!I163)","v":" "},{"$f":"IF(EXACT(Meldeliste!P163,\"\"),\"\",Meldeliste!P163)","v":""},{"$f":"IF(EXACT(Meldeliste!Z163 & IF(EXACT(Meldeliste!AA163,\"\"),\"\",\"/\" & Meldeliste!AA163) & IF(EXACT(Meldeliste!AB163,\"\"),\"\",\"/\" & Meldeliste!AB163) & IF(EXACT(Meldeliste!AC163,\"\"),\"\",\"/\" & Meldeliste!AC163)  & IF(EXACT(Meldeliste!AD163,\"\"),\"\",\"/\" & Meldeliste!AD163) & IF(EXACT(Meldeliste!AE163,\"\"),\"\",\"/\" & Meldeliste!AE163) & IF(EXACT(Meldeliste!AF163,\"\"),\"\",\"/\" & Meldeliste!AF163) & IF(EXACT(Meldeliste!AG163,\"\"),\"\",\"/\" & Meldeliste!AG163),\"\"),\"\",Meldeliste!Z163 & IF(EXACT(Meldeliste!AA163,\"\"),\"\",\"/\" & Meldeliste!AA163) & IF(EXACT(Meldeliste!AB163,\"\"),\"\",\"/\" & Meldeliste!AB163) & IF(EXACT(Meldeliste!AC163,\"\"),\"\",\"/\" & Meldeliste!AC163)  & IF(EXACT(Meldeliste!AD163,\"\"),\"\",\"/\" & Meldeliste!AD163) & IF(EXACT(Meldeliste!AE163,\"\"),\"\",\"/\" & Meldeliste!AE163) & IF(EXACT(Meldeliste!AF163,\"\"),\"\",\"/\" & Meldeliste!AF163) & IF(EXACT(Meldeliste!AG163,\"\"),\"\",\"/\" & Meldeliste!AG163))","v":""},{"$f":"IF(EXACT(Meldeliste!E163,\"\"),\"\",Meldeliste!E163)","v":""},{"$f":"IF(EXACT(Meldeliste!F163,\"\"),\"\",Meldeliste!F163)","v":""},{"$f":"IF(EXACT(Meldeliste!B163,\"\"),\"\",Meldeliste!B163)","v":""},null,"","",null,"",""]
[{"$f":"IF(EXACT(Meldeliste!C164,\"\"),\"\",Meldeliste!C164)","v":""},{"$f":"IF(EXACT(Meldeliste!H164&\" \"&Meldeliste!I164,\"\"),\"\",Meldeliste!H164&\" \"&Meldeliste!I164)","v":" "},{"$f":"IF(EXACT(Meldeliste!P164,\"\"),\"\",Meldeliste!P164)","v":""},{"$f":"IF(EXACT(Meldeliste!Z164 & IF(EXACT(Meldeliste!AA164,\"\"),\"\",\"/\" & Meldeliste!AA164) & IF(EXACT(Meldeliste!AB164,\"\"),\"\",\"/\" & Meldeliste!AB164) & IF(EXACT(Meldeliste!AC164,\"\"),\"\",\"/\" & Meldeliste!AC164)  & IF(EXACT(Meldeliste!AD164,\"\"),\"\",\"/\" & Meldeliste!AD164) & IF(EXACT(Meldeliste!AE164,\"\"),\"\",\"/\" & Meldeliste!AE164) & IF(EXACT(Meldeliste!AF164,\"\"),\"\",\"/\" & Meldeliste!AF164) & IF(EXACT(Meldeliste!AG164,\"\"),\"\",\"/\" & Meldeliste!AG164),\"\"),\"\",Meldeliste!Z164 & IF(EXACT(Meldeliste!AA164,\"\"),\"\",\"/\" & Meldeliste!AA164) & IF(EXACT(Meldeliste!AB164,\"\"),\"\",\"/\" & Meldeliste!AB164) & IF(EXACT(Meldeliste!AC164,\"\"),\"\",\"/\" & Meldeliste!AC164)  & IF(EXACT(Meldeliste!AD164,\"\"),\"\",\"/\" & Meldeliste!AD164) & IF(EXACT(Meldeliste!AE164,\"\"),\"\",\"/\" & Meldeliste!AE164) & IF(EXACT(Meldeliste!AF164,\"\"),\"\",\"/\" & Meldeliste!AF164) & IF(EXACT(Meldeliste!AG164,\"\"),\"\",\"/\" & Meldeliste!AG164))","v":""},{"$f":"IF(EXACT(Meldeliste!E164,\"\"),\"\",Meldeliste!E164)","v":""},{"$f":"IF(EXACT(Meldeliste!F164,\"\"),\"\",Meldeliste!F164)","v":""},{"$f":"IF(EXACT(Meldeliste!B164,\"\"),\"\",Meldeliste!B164)","v":""},null,"","",null,"",""]
[{"$f":"IF(EXACT(Meldeliste!C165,\"\"),\"\",Meldeliste!C165)","v":""},{"$f":"IF(EXACT(Meldeliste!H165&\" \"&Meldeliste!I165,\"\"),\"\",Meldeliste!H165&\" \"&Meldeliste!I165)","v":" "},{"$f":"IF(EXACT(Meldeliste!P165,\"\"),\"\",Meldeliste!P165)","v":""},{"$f":"IF(EXACT(Meldeliste!Z165 & IF(EXACT(Meldeliste!AA165,\"\"),\"\",\"/\" & Meldeliste!AA165) & IF(EXACT(Meldeliste!AB165,\"\"),\"\",\"/\" & Meldeliste!AB165) & IF(EXACT(Meldeliste!AC165,\"\"),\"\",\"/\" & Meldeliste!AC165)  & IF(EXACT(Meldeliste!AD165,\"\"),\"\",\"/\" & Meldeliste!AD165) & IF(EXACT(Meldeliste!AE165,\"\"),\"\",\"/\" & Meldeliste!AE165) & IF(EXACT(Meldeliste!AF165,\"\"),\"\",\"/\" & Meldeliste!AF165) & IF(EXACT(Meldeliste!AG165,\"\"),\"\",\"/\" & Meldeliste!AG165),\"\"),\"\",Meldeliste!Z165 & IF(EXACT(Meldeliste!AA165,\"\"),\"\",\"/\" & Meldeliste!AA165) & IF(EXACT(Meldeliste!AB165,\"\"),\"\",\"/\" & Meldeliste!AB165) & IF(EXACT(Meldeliste!AC165,\"\"),\"\",\"/\" & Meldeliste!AC165)  & IF(EXACT(Meldeliste!AD165,\"\"),\"\",\"/\" & Meldeliste!AD165) & IF(EXACT(Meldeliste!AE165,\"\"),\"\",\"/\" & Meldeliste!AE165) & IF(EXACT(Meldeliste!AF165,\"\"),\"\",\"/\" & Meldeliste!AF165) & IF(EXACT(Meldeliste!AG165,\"\"),\"\",\"/\" & Meldeliste!AG165))","v":""},{"$f":"IF(EXACT(Meldeliste!E165,\"\"),\"\",Meldeliste!E165)","v":""},{"$f":"IF(EXACT(Meldeliste!F165,\"\"),\"\",Meldeliste!F165)","v":""},{"$f":"IF(EXACT(Meldeliste!B165,\"\"),\"\",Meldeliste!B165)","v":""},null,"","",null,"",""]
[{"$f":"IF(EXACT(Meldeliste!C166,\"\"),\"\",Meldeliste!C166)","v":""},{"$f":"IF(EXACT(Meldeliste!H166&\" \"&Meldeliste!I166,\"\"),\"\",Meldeliste!H166&\" \"&Meldeliste!I166)","v":" "},{"$f":"IF(EXACT(Meldeliste!P166,\"\"),\"\",Meldeliste!P166)","v":""},{"$f":"IF(EXACT(Meldeliste!Z166 & IF(EXACT(Meldeliste!AA166,\"\"),\"\",\"/\" & Meldeliste!AA166) & IF(EXACT(Meldeliste!AB166,\"\"),\"\",\"/\" & Meldeliste!AB166) & IF(EXACT(Meldeliste!AC166,\"\"),\"\",\"/\" & Meldeliste!AC166)  & IF(EXACT(Meldeliste!AD166,\"\"),\"\",\"/\" & Meldeliste!AD166) & IF(EXACT(Meldeliste!AE166,\"\"),\"\",\"/\" & Meldeliste!AE166) & IF(EXACT(Meldeliste!AF166,\"\"),\"\",\"/\" & Meldeliste!AF166) & IF(EXACT(Meldeliste!AG166,\"\"),\"\",\"/\" & Meldeliste!AG166),\"\"),\"\",Meldeliste!Z166 & IF(EXACT(Meldeliste!AA166,\"\"),\"\",\"/\" & Meldeliste!AA166) & IF(EXACT(Meldeliste!AB166,\"\"),\"\",\"/\" & Meldeliste!AB166) & IF(EXACT(Meldeliste!AC166,\"\"),\"\",\"/\" & Meldeliste!AC166)  & IF(EXACT(Meldeliste!AD166,\"\"),\"\",\"/\" & Meldeliste!AD166) & IF(EXACT(Meldeliste!AE166,\"\"),\"\",\"/\" & Meldeliste!AE166) & IF(EXACT(Meldeliste!AF166,\"\"),\"\",\"/\" & Meldeliste!AF166) & IF(EXACT(Meldeliste!AG166,\"\"),\"\",\"/\" & Meldeliste!AG166))","v":""},{"$f":"IF(EXACT(Meldeliste!E166,\"\"),\"\",Meldeliste!E166)","v":""},{"$f":"IF(EXACT(Meldeliste!F166,\"\"),\"\",Meldeliste!F166)","v":""},{"$f":"IF(EXACT(Meldeliste!B166,\"\"),\"\",Meldeliste!B166)","v":""},null,"","",null,"",""]
[{"$f":"IF(EXACT(Meldeliste!C167,\"\"),\"\",Meldeliste!C167)","v":""},{"$f":"IF(EXACT(Meldeliste!H167&\" \"&Meldeliste!I167,\"\"),\"\",Meldeliste!H167&\" \"&Meldeliste!I167)","v":" "},{"$f":"IF(EXACT(Meldeliste!P167,\"\"),\"\",Meldeliste!P167)","v":""},{"$f":"IF(EXACT(Meldeliste!Z167 & IF(EXACT(Meldeliste!AA167,\"\"),\"\",\"/\" & Meldeliste!AA167) & IF(EXACT(Meldeliste!AB167,\"\"),\"\",\"/\" & Meldeliste!AB167) & IF(EXACT(Meldeliste!AC167,\"\"),\"\",\"/\" & Meldeliste!AC167)  & IF(EXACT(Meldeliste!AD167,\"\"),\"\",\"/\" & Meldeliste!AD167) & IF(EXACT(Meldeliste!AE167,\"\"),\"\",\"/\" & Meldeliste!AE167) & IF(EXACT(Meldeliste!AF167,\"\"),\"\",\"/\" & Meldeliste!AF167) & IF(EXACT(Meldeliste!AG167,\"\"),\"\",\"/\" & Meldeliste!AG167),\"\"),\"\",Meldeliste!Z167 & IF(EXACT(Meldeliste!AA167,\"\"),\"\",\"/\" & Meldeliste!AA167) & IF(EXACT(Meldeliste!AB167,\"\"),\"\",\"/\" & Meldeliste!AB167) & IF(EXACT(Meldeliste!AC167,\"\"),\"\",\"/\" & Meldeliste!AC167)  & IF(EXACT(Meldeliste!AD167,\"\"),\"\",\"/\" & Meldeliste!AD167) & IF(EXACT(Meldeliste!AE167,\"\"),\"\",\"/\" & Meldeliste!AE167) & IF(EXACT(Meldeliste!AF167,\"\"),\"\",\"/\" & Meldeliste!AF167) & IF(EXACT(Meldeliste!AG167,\"\"),\"\",\"/\" & Meldeliste!AG167))","v":""},{"$f":"IF(EXACT(Meldeliste!E167,\"\"),\"\",Meldeliste!E167)","v":""},{"$f":"IF(EXACT(Meldeliste!F167,\"\"),\"\",Meldeliste!F167)","v":""},{"$f":"IF(EXACT(Meldeliste!B167,\"\"),\"\",Meldeliste!B167)","v":""},null,"","",null,"",""]
[{"$f":"IF(EXACT(Meldeliste!C168,\"\"),\"\",Meldeliste!C168)","v":""},{"$f":"IF(EXACT(Meldeliste!H168&\" \"&Meldeliste!I168,\"\"),\"\",Meldeliste!H168&\" \"&Meldeliste!I168)","v":" "},{"$f":"IF(EXACT(Meldeliste!P168,\"\"),\"\",Meldeliste!P168)","v":""},{"$f":"IF(EXACT(Meldeliste!Z168 & IF(EXACT(Meldeliste!AA168,\"\"),\"\",\"/\" & Meldeliste!AA168) & IF(EXACT(Meldeliste!AB168,\"\"),\"\",\"/\" & Meldeliste!AB168) & IF(EXACT(Meldeliste!AC168,\"\"),\"\",\"/\" & Meldeliste!AC168)  & IF(EXACT(Meldeliste!AD168,\"\"),\"\",\"/\" & Meldeliste!AD168) & IF(EXACT(Meldeliste!AE168,\"\"),\"\",\"/\" & Meldeliste!AE168) & IF(EXACT(Meldeliste!AF168,\"\"),\"\",\"/\" & Meldeliste!AF168) & IF(EXACT(Meldeliste!AG168,\"\"),\"\",\"/\" & Meldeliste!AG168),\"\"),\"\",Meldeliste!Z168 & IF(EXACT(Meldeliste!AA168,\"\"),\"\",\"/\" & Meldeliste!AA168) & IF(EXACT(Meldeliste!AB168,\"\"),\"\",\"/\" & Meldeliste!AB168) & IF(EXACT(Meldeliste!AC168,\"\"),\"\",\"/\" & Meldeliste!AC168)  & IF(EXACT(Meldeliste!AD168,\"\"),\"\",\"/\" & Meldeliste!AD168) & IF(EXACT(Meldeliste!AE168,\"\"),\"\",\"/\" & Meldeliste!AE168) & IF(EXACT(Meldeliste!AF168,\"\"),\"\",\"/\" & Meldeliste!AF168) & IF(EXACT(Meldeliste!AG168,\"\"),\"\",\"/\" & Meldeliste!AG168))","v":""},{"$f":"IF(EXACT(Meldeliste!E168,\"\"),\"\",Meldeliste!E168)","v":""},{"$f":"IF(EXACT(Meldeliste!F168,\"\"),\"\",Meldeliste!F168)","v":""},{"$f":"IF(EXACT(Meldeliste!B168,\"\"),\"\",Meldeliste!B168)","v":""},null,"","",null,"",""]
[{"$f":"IF(EXACT(Meldeliste!C169,\"\"),\"\",Meldeliste!C169)","v":""},{"$f":"IF(EXACT(Meldeliste!H169&\" \"&Meldeliste!I169,\"\"),\"\",Meldeliste!H169&\" \"&Meldeliste!I169)","v":" "},{"$f":"IF(EXACT(Meldeliste!P169,\"\"),\"\",Meldeliste!P169)","v":""},{"$f":"IF(EXACT(Meldeliste!Z169 & IF(EXACT(Meldeliste!AA169,\"\"),\"\",\"/\" & Meldeliste!AA169) & IF(EXACT(Meldeliste!AB169,\"\"),\"\",\"/\" & Meldeliste!AB169) & IF(EXACT(Meldeliste!AC169,\"\"),\"\",\"/\" & Meldeliste!AC169)  & IF(EXACT(Meldeliste!AD169,\"\"),\"\",\"/\" & Meldeliste!AD169) & IF(EXACT(Meldeliste!AE169,\"\"),\"\",\"/\" & Meldeliste!AE169) & IF(EXACT(Meldeliste!AF169,\"\"),\"\",\"/\" & Meldeliste!AF169) & IF(EXACT(Meldeliste!AG169,\"\"),\"\",\"/\" & Meldeliste!AG169),\"\"),\"\",Meldeliste!Z169 & IF(EXACT(Meldeliste!AA169,\"\"),\"\",\"/\" & Meldeliste!AA169) & IF(EXACT(Meldeliste!AB169,\"\"),\"\",\"/\" & Meldeliste!AB169) & IF(EXACT(Meldeliste!AC169,\"\"),\"\",\"/\" & Meldeliste!AC169)  & IF(EXACT(Meldeliste!AD169,\"\"),\"\",\"/\" & Meldeliste!AD169) & IF(EXACT(Meldeliste!AE169,\"\"),\"\",\"/\" & Meldeliste!AE169) & IF(EXACT(Meldeliste!AF169,\"\"),\"\",\"/\" & Meldeliste!AF169) & IF(EXACT(Meldeliste!AG169,\"\"),\"\",\"/\" & Meldeliste!AG169))","v":""},{"$f":"IF(EXACT(Meldeliste!E169,\"\"),\"\",Meldeliste!E169)","v":""},{"$f":"IF(EXACT(Meldeliste!F169,\"\"),\"\",Meldeliste!F169)","v":""},{"$f":"IF(EXACT(Meldeliste!B169,\"\"),\"\",Meldeliste!B169)","v":""},null,"","",null,"",""]
[{"$f":"IF(EXACT(Meldeliste!C170,\"\"),\"\",Meldeliste!C170)","v":""},{"$f":"IF(EXACT(Meldeliste!H170&\" \"&Meldeliste!I170,\"\"),\"\",Meldeliste!H170&\" \"&Meldeliste!I170)","v":" "},{"$f":"IF(EXACT(Meldeliste!P170,\"\"),\"\",Meldeliste!P170)","v":""},{"$f":"IF(EXACT(Meldeliste!Z170 & IF(EXACT(Meldeliste!AA170,\"\"),\"\",\"/\" & Meldeliste!AA170) & IF(EXACT(Meldeliste!AB170,\"\"),\"\",\"/\" & Meldeliste!AB170) & IF(EXACT(Meldeliste!AC170,\"\"),\"\",\"/\" & Meldeliste!AC170)  & IF(EXACT(Meldeliste!AD170,\"\"),\"\",\"/\" & Meldeliste!AD170) & IF(EXACT(Meldeliste!AE170,\"\"),\"\",\"/\" & Meldeliste!AE170) & IF(EXACT(Meldeliste!AF170,\"\"),\"\",\"/\" & Meldeliste!AF170) & IF(EXACT(Meldeliste!AG170,\"\"),\"\",\"/\" & Meldeliste!AG170),\"\"),\"\",Meldeliste!Z170 & IF(EXACT(Meldeliste!AA170,\"\"),\"\",\"/\" & Meldeliste!AA170) & IF(EXACT(Meldeliste!AB170,\"\"),\"\",\"/\" & Meldeliste!AB170) & IF(EXACT(Meldeliste!AC170,\"\"),\"\",\"/\" & Meldeliste!AC170)  & IF(EXACT(Meldeliste!AD170,\"\"),\"\",\"/\" & Meldeliste!AD170) & IF(EXACT(Meldeliste!AE170,\"\"),\"\",\"/\" & Meldeliste!AE170) & IF(EXACT(Meldeliste!AF170,\"\"),\"\",\"/\" & Meldeliste!AF170) & IF(EXACT(Meldeliste!AG170,\"\"),\"\",\"/\" & Meldeliste!AG170))","v":""},{"$f":"IF(EXACT(Meldeliste!E170,\"\"),\"\",Meldeliste!E170)","v":""},{"$f":"IF(EXACT(Meldeliste!F170,\"\"),\"\",Meldeliste!F170)","v":""},{"$f":"IF(EXACT(Meldeliste!B170,\"\"),\"\",Meldeliste!B170)","v":""},null,"","",null,"",""]
[{"$f":"IF(EXACT(Meldeliste!C171,\"\"),\"\",Meldeliste!C171)","v":""},{"$f":"IF(EXACT(Meldeliste!H171&\" \"&Meldeliste!I171,\"\"),\"\",Meldeliste!H171&\" \"&Meldeliste!I171)","v":" "},{"$f":"IF(EXACT(Meldeliste!P171,\"\"),\"\",Meldeliste!P171)","v":""},{"$f":"IF(EXACT(Meldeliste!Z171 & IF(EXACT(Meldeliste!AA171,\"\"),\"\",\"/\" & Meldeliste!AA171) & IF(EXACT(Meldeliste!AB171,\"\"),\"\",\"/\" & Meldeliste!AB171) & IF(EXACT(Meldeliste!AC171,\"\"),\"\",\"/\" & Meldeliste!AC171)  & IF(EXACT(Meldeliste!AD171,\"\"),\"\",\"/\" & Meldeliste!AD171) & IF(EXACT(Meldeliste!AE171,\"\"),\"\",\"/\" & Meldeliste!AE171) & IF(EXACT(Meldeliste!AF171,\"\"),\"\",\"/\" & Meldeliste!AF171) & IF(EXACT(Meldeliste!AG171,\"\"),\"\",\"/\" & Meldeliste!AG171),\"\"),\"\",Meldeliste!Z171 & IF(EXACT(Meldeliste!AA171,\"\"),\"\",\"/\" & Meldeliste!AA171) & IF(EXACT(Meldeliste!AB171,\"\"),\"\",\"/\" & Meldeliste!AB171) & IF(EXACT(Meldeliste!AC171,\"\"),\"\",\"/\" & Meldeliste!AC171)  & IF(EXACT(Meldeliste!AD171,\"\"),\"\",\"/\" & Meldeliste!AD171) & IF(EXACT(Meldeliste!AE171,\"\"),\"\",\"/\" & Meldeliste!AE171) & IF(EXACT(Meldeliste!AF171,\"\"),\"\",\"/\" & Meldeliste!AF171) & IF(EXACT(Meldeliste!AG171,\"\"),\"\",\"/\" & Meldeliste!AG171))","v":""},{"$f":"IF(EXACT(Meldeliste!E171,\"\"),\"\",Meldeliste!E171)","v":""},{"$f":"IF(EXACT(Meldeliste!F171,\"\"),\"\",Meldeliste!F171)","v":""},{"$f":"IF(EXACT(Meldeliste!B171,\"\"),\"\",Meldeliste!B171)","v":""},null,"","",null,"",""]
[{"$f":"IF(EXACT(Meldeliste!C172,\"\"),\"\",Meldeliste!C172)","v":""},{"$f":"IF(EXACT(Meldeliste!H172&\" \"&Meldeliste!I172,\"\"),\"\",Meldeliste!H172&\" \"&Meldeliste!I172)","v":" "},{"$f":"IF(EXACT(Meldeliste!P172,\"\"),\"\",Meldeliste!P172)","v":""},{"$f":"IF(EXACT(Meldeliste!Z172 & IF(EXACT(Meldeliste!AA172,\"\"),\"\",\"/\" & Meldeliste!AA172) & IF(EXACT(Meldeliste!AB172,\"\"),\"\",\"/\" & Meldeliste!AB172) & IF(EXACT(Meldeliste!AC172,\"\"),\"\",\"/\" & Meldeliste!AC172)  & IF(EXACT(Meldeliste!AD172,\"\"),\"\",\"/\" & Meldeliste!AD172) & IF(EXACT(Meldeliste!AE172,\"\"),\"\",\"/\" & Meldeliste!AE172) & IF(EXACT(Meldeliste!AF172,\"\"),\"\",\"/\" & Meldeliste!AF172) & IF(EXACT(Meldeliste!AG172,\"\"),\"\",\"/\" & Meldeliste!AG172),\"\"),\"\",Meldeliste!Z172 & IF(EXACT(Meldeliste!AA172,\"\"),\"\",\"/\" & Meldeliste!AA172) & IF(EXACT(Meldeliste!AB172,\"\"),\"\",\"/\" & Meldeliste!AB172) & IF(EXACT(Meldeliste!AC172,\"\"),\"\",\"/\" & Meldeliste!AC172)  & IF(EXACT(Meldeliste!AD172,\"\"),\"\",\"/\" & Meldeliste!AD172) & IF(EXACT(Meldeliste!AE172,\"\"),\"\",\"/\" & Meldeliste!AE172) & IF(EXACT(Meldeliste!AF172,\"\"),\"\",\"/\" & Meldeliste!AF172) & IF(EXACT(Meldeliste!AG172,\"\"),\"\",\"/\" & Meldeliste!AG172))","v":""},{"$f":"IF(EXACT(Meldeliste!E172,\"\"),\"\",Meldeliste!E172)","v":""},{"$f":"IF(EXACT(Meldeliste!F172,\"\"),\"\",Meldeliste!F172)","v":""},{"$f":"IF(EXACT(Meldeliste!B172,\"\"),\"\",Meldeliste!B172)","v":""},null,"","",null,"",""]
[{"$f":"IF(EXACT(Meldeliste!C173,\"\"),\"\",Meldeliste!C173)","v":""},{"$f":"IF(EXACT(Meldeliste!H173&\" \"&Meldeliste!I173,\"\"),\"\",Meldeliste!H173&\" \"&Meldeliste!I173)","v":" "},{"$f":"IF(EXACT(Meldeliste!P173,\"\"),\"\",Meldeliste!P173)","v":""},{"$f":"IF(EXACT(Meldeliste!Z173 & IF(EXACT(Meldeliste!AA173,\"\"),\"\",\"/\" & Meldeliste!AA173) & IF(EXACT(Meldeliste!AB173,\"\"),\"\",\"/\" & Meldeliste!AB173) & IF(EXACT(Meldeliste!AC173,\"\"),\"\",\"/\" & Meldeliste!AC173)  & IF(EXACT(Meldeliste!AD173,\"\"),\"\",\"/\" & Meldeliste!AD173) & IF(EXACT(Meldeliste!AE173,\"\"),\"\",\"/\" & Meldeliste!AE173) & IF(EXACT(Meldeliste!AF173,\"\"),\"\",\"/\" & Meldeliste!AF173) & IF(EXACT(Meldeliste!AG173,\"\"),\"\",\"/\" & Meldeliste!AG173),\"\"),\"\",Meldeliste!Z173 & IF(EXACT(Meldeliste!AA173,\"\"),\"\",\"/\" & Meldeliste!AA173) & IF(EXACT(Meldeliste!AB173,\"\"),\"\",\"/\" & Meldeliste!AB173) & IF(EXACT(Meldeliste!AC173,\"\"),\"\",\"/\" & Meldeliste!AC173)  & IF(EXACT(Meldeliste!AD173,\"\"),\"\",\"/\" & Meldeliste!AD173) & IF(EXACT(Meldeliste!AE173,\"\"),\"\",\"/\" & Meldeliste!AE173) & IF(EXACT(Meldeliste!AF173,\"\"),\"\",\"/\" & Meldeliste!AF173) & IF(EXACT(Meldeliste!AG173,\"\"),\"\",\"/\" & Meldeliste!AG173))","v":""},{"$f":"IF(EXACT(Meldeliste!E173,\"\"),\"\",Meldeliste!E173)","v":""},{"$f":"IF(EXACT(Meldeliste!F173,\"\"),\"\",Meldeliste!F173)","v":""},{"$f":"IF(EXACT(Meldeliste!B173,\"\"),\"\",Meldeliste!B173)","v":""},null,"","",null,"",""]
[{"$f":"IF(EXACT(Meldeliste!C174,\"\"),\"\",Meldeliste!C174)","v":""},{"$f":"IF(EXACT(Meldeliste!H174&\" \"&Meldeliste!I174,\"\"),\"\",Meldeliste!H174&\" \"&Meldeliste!I174)","v":" "},{"$f":"IF(EXACT(Meldeliste!P174,\"\"),\"\",Meldeliste!P174)","v":""},{"$f":"IF(EXACT(Meldeliste!Z174 & IF(EXACT(Meldeliste!AA174,\"\"),\"\",\"/\" & Meldeliste!AA174) & IF(EXACT(Meldeliste!AB174,\"\"),\"\",\"/\" & Meldeliste!AB174) & IF(EXACT(Meldeliste!AC174,\"\"),\"\",\"/\" & Meldeliste!AC174)  & IF(EXACT(Meldeliste!AD174,\"\"),\"\",\"/\" & Meldeliste!AD174) & IF(EXACT(Meldeliste!AE174,\"\"),\"\",\"/\" & Meldeliste!AE174) & IF(EXACT(Meldeliste!AF174,\"\"),\"\",\"/\" & Meldeliste!AF174) & IF(EXACT(Meldeliste!AG174,\"\"),\"\",\"/\" & Meldeliste!AG174),\"\"),\"\",Meldeliste!Z174 & IF(EXACT(Meldeliste!AA174,\"\"),\"\",\"/\" & Meldeliste!AA174) & IF(EXACT(Meldeliste!AB174,\"\"),\"\",\"/\" & Meldeliste!AB174) & IF(EXACT(Meldeliste!AC174,\"\"),\"\",\"/\" & Meldeliste!AC174)  & IF(EXACT(Meldeliste!AD174,\"\"),\"\",\"/\" & Meldeliste!AD174) & IF(EXACT(Meldeliste!AE174,\"\"),\"\",\"/\" & Meldeliste!AE174) & IF(EXACT(Meldeliste!AF174,\"\"),\"\",\"/\" & Meldeliste!AF174) & IF(EXACT(Meldeliste!AG174,\"\"),\"\",\"/\" & Meldeliste!AG174))","v":""},{"$f":"IF(EXACT(Meldeliste!E174,\"\"),\"\",Meldeliste!E174)","v":""},{"$f":"IF(EXACT(Meldeliste!F174,\"\"),\"\",Meldeliste!F174)","v":""},{"$f":"IF(EXACT(Meldeliste!B174,\"\"),\"\",Meldeliste!B174)","v":""},null,"","",null,"",""]
[{"$f":"IF(EXACT(Meldeliste!C175,\"\"),\"\",Meldeliste!C175)","v":""},{"$f":"IF(EXACT(Meldeliste!H175&\" \"&Meldeliste!I175,\"\"),\"\",Meldeliste!H175&\" \"&Meldeliste!I175)","v":" "},{"$f":"IF(EXACT(Meldeliste!P175,\"\"),\"\",Meldeliste!P175)","v":""},{"$f":"IF(EXACT(Meldeliste!Z175 & IF(EXACT(Meldeliste!AA175,\"\"),\"\",\"/\" & Meldeliste!AA175) & IF(EXACT(Meldeliste!AB175,\"\"),\"\",\"/\" & Meldeliste!AB175) & IF(EXACT(Meldeliste!AC175,\"\"),\"\",\"/\" & Meldeliste!AC175)  & IF(EXACT(Meldeliste!AD175,\"\"),\"\",\"/\" & Meldeliste!AD175) & IF(EXACT(Meldeliste!AE175,\"\"),\"\",\"/\" & Meldeliste!AE175) & IF(EXACT(Meldeliste!AF175,\"\"),\"\",\"/\" & Meldeliste!AF175) & IF(EXACT(Meldeliste!AG175,\"\"),\"\",\"/\" & Meldeliste!AG175),\"\"),\"\",Meldeliste!Z175 & IF(EXACT(Meldeliste!AA175,\"\"),\"\",\"/\" & Meldeliste!AA175) & IF(EXACT(Meldeliste!AB175,\"\"),\"\",\"/\" & Meldeliste!AB175) & IF(EXACT(Meldeliste!AC175,\"\"),\"\",\"/\" & Meldeliste!AC175)  & IF(EXACT(Meldeliste!AD175,\"\"),\"\",\"/\" & Meldeliste!AD175) & IF(EXACT(Meldeliste!AE175,\"\"),\"\",\"/\" & Meldeliste!AE175) & IF(EXACT(Meldeliste!AF175,\"\"),\"\",\"/\" & Meldeliste!AF175) & IF(EXACT(Meldeliste!AG175,\"\"),\"\",\"/\" & Meldeliste!AG175))","v":""},{"$f":"IF(EXACT(Meldeliste!E175,\"\"),\"\",Meldeliste!E175)","v":""},{"$f":"IF(EXACT(Meldeliste!F175,\"\"),\"\",Meldeliste!F175)","v":""},{"$f":"IF(EXACT(Meldeliste!B175,\"\"),\"\",Meldeliste!B175)","v":""},null,"","",null,"",""]
[{"$f":"IF(EXACT(Meldeliste!C176,\"\"),\"\",Meldeliste!C176)","v":""},{"$f":"IF(EXACT(Meldeliste!H176&\" \"&Meldeliste!I176,\"\"),\"\",Meldeliste!H176&\" \"&Meldeliste!I176)","v":" "},{"$f":"IF(EXACT(Meldeliste!P176,\"\"),\"\",Meldeliste!P176)","v":""},{"$f":"IF(EXACT(Meldeliste!Z176 & IF(EXACT(Meldeliste!AA176,\"\"),\"\",\"/\" & Meldeliste!AA176) & IF(EXACT(Meldeliste!AB176,\"\"),\"\",\"/\" & Meldeliste!AB176) & IF(EXACT(Meldeliste!AC176,\"\"),\"\",\"/\" & Meldeliste!AC176)  & IF(EXACT(Meldeliste!AD176,\"\"),\"\",\"/\" & Meldeliste!AD176) & IF(EXACT(Meldeliste!AE176,\"\"),\"\",\"/\" & Meldeliste!AE176) & IF(EXACT(Meldeliste!AF176,\"\"),\"\",\"/\" & Meldeliste!AF176) & IF(EXACT(Meldeliste!AG176,\"\"),\"\",\"/\" & Meldeliste!AG176),\"\"),\"\",Meldeliste!Z176 & IF(EXACT(Meldeliste!AA176,\"\"),\"\",\"/\" & Meldeliste!AA176) & IF(EXACT(Meldeliste!AB176,\"\"),\"\",\"/\" & Meldeliste!AB176) & IF(EXACT(Meldeliste!AC176,\"\"),\"\",\"/\" & Meldeliste!AC176)  & IF(EXACT(Meldeliste!AD176,\"\"),\"\",\"/\" & Meldeliste!AD176) & IF(EXACT(Meldeliste!AE176,\"\"),\"\",\"/\" & Meldeliste!AE176) & IF(EXACT(Meldeliste!AF176,\"\"),\"\",\"/\" & Meldeliste!AF176) & IF(EXACT(Meldeliste!AG176,\"\"),\"\",\"/\" & Meldeliste!AG176))","v":""},{"$f":"IF(EXACT(Meldeliste!E176,\"\"),\"\",Meldeliste!E176)","v":""},{"$f":"IF(EXACT(Meldeliste!F176,\"\"),\"\",Meldeliste!F176)","v":""},{"$f":"IF(EXACT(Meldeliste!B176,\"\"),\"\",Meldeliste!B176)","v":""},null,"","",null,"",""]
[{"$f":"IF(EXACT(Meldeliste!C177,\"\"),\"\",Meldeliste!C177)","v":""},{"$f":"IF(EXACT(Meldeliste!H177&\" \"&Meldeliste!I177,\"\"),\"\",Meldeliste!H177&\" \"&Meldeliste!I177)","v":" "},{"$f":"IF(EXACT(Meldeliste!P177,\"\"),\"\",Meldeliste!P177)","v":""},{"$f":"IF(EXACT(Meldeliste!Z177 & IF(EXACT(Meldeliste!AA177,\"\"),\"\",\"/\" & Meldeliste!AA177) & IF(EXACT(Meldeliste!AB177,\"\"),\"\",\"/\" & Meldeliste!AB177) & IF(EXACT(Meldeliste!AC177,\"\"),\"\",\"/\" & Meldeliste!AC177)  & IF(EXACT(Meldeliste!AD177,\"\"),\"\",\"/\" & Meldeliste!AD177) & IF(EXACT(Meldeliste!AE177,\"\"),\"\",\"/\" & Meldeliste!AE177) & IF(EXACT(Meldeliste!AF177,\"\"),\"\",\"/\" & Meldeliste!AF177) & IF(EXACT(Meldeliste!AG177,\"\"),\"\",\"/\" & Meldeliste!AG177),\"\"),\"\",Meldeliste!Z177 & IF(EXACT(Meldeliste!AA177,\"\"),\"\",\"/\" & Meldeliste!AA177) & IF(EXACT(Meldeliste!AB177,\"\"),\"\",\"/\" & Meldeliste!AB177) & IF(EXACT(Meldeliste!AC177,\"\"),\"\",\"/\" & Meldeliste!AC177)  & IF(EXACT(Meldeliste!AD177,\"\"),\"\",\"/\" & Meldeliste!AD177) & IF(EXACT(Meldeliste!AE177,\"\"),\"\",\"/\" & Meldeliste!AE177) & IF(EXACT(Meldeliste!AF177,\"\"),\"\",\"/\" & Meldeliste!AF177) & IF(EXACT(Meldeliste!AG177,\"\"),\"\",\"/\" & Meldeliste!AG177))","v":""},{"$f":"IF(EXACT(Meldeliste!E177,\"\"),\"\",Meldeliste!E177)","v":""},{"$f":"IF(EXACT(Meldeliste!F177,\"\"),\"\",Meldeliste!F177)","v":""},{"$f":"IF(EXACT(Meldeliste!B177,\"\"),\"\",Meldeliste!B177)","v":""},null,"","",null,"",""]
[{"$f":"IF(EXACT(Meldeliste!C178,\"\"),\"\",Meldeliste!C178)","v":""},{"$f":"IF(EXACT(Meldeliste!H178&\" \"&Meldeliste!I178,\"\"),\"\",Meldeliste!H178&\" \"&Meldeliste!I178)","v":" "},{"$f":"IF(EXACT(Meldeliste!P178,\"\"),\"\",Meldeliste!P178)","v":""},{"$f":"IF(EXACT(Meldeliste!Z178 & IF(EXACT(Meldeliste!AA178,\"\"),\"\",\"/\" & Meldeliste!AA178) & IF(EXACT(Meldeliste!AB178,\"\"),\"\",\"/\" & Meldeliste!AB178) & IF(EXACT(Meldeliste!AC178,\"\"),\"\",\"/\" & Meldeliste!AC178)  & IF(EXACT(Meldeliste!AD178,\"\"),\"\",\"/\" & Meldeliste!AD178) & IF(EXACT(Meldeliste!AE178,\"\"),\"\",\"/\" & Meldeliste!AE178) & IF(EXACT(Meldeliste!AF178,\"\"),\"\",\"/\" & Meldeliste!AF178) & IF(EXACT(Meldeliste!AG178,\"\"),\"\",\"/\" & Meldeliste!AG178),\"\"),\"\",Meldeliste!Z178 & IF(EXACT(Meldeliste!AA178,\"\"),\"\",\"/\" & Meldeliste!AA178) & IF(EXACT(Meldeliste!AB178,\"\"),\"\",\"/\" & Meldeliste!AB178) & IF(EXACT(Meldeliste!AC178,\"\"),\"\",\"/\" & Meldeliste!AC178)  & IF(EXACT(Meldeliste!AD178,\"\"),\"\",\"/\" & Meldeliste!AD178) & IF(EXACT(Meldeliste!AE178,\"\"),\"\",\"/\" & Meldeliste!AE178) & IF(EXACT(Meldeliste!AF178,\"\"),\"\",\"/\" & Meldeliste!AF178) & IF(EXACT(Meldeliste!AG178,\"\"),\"\",\"/\" & Meldeliste!AG178))","v":""},{"$f":"IF(EXACT(Meldeliste!E178,\"\"),\"\",Meldeliste!E178)","v":""},{"$f":"IF(EXACT(Meldeliste!F178,\"\"),\"\",Meldeliste!F178)","v":""},{"$f":"IF(EXACT(Meldeliste!B178,\"\"),\"\",Meldeliste!B178)","v":""},null,"","",null,"",""]
[{"$f":"IF(EXACT(Meldeliste!C179,\"\"),\"\",Meldeliste!C179)","v":""},{"$f":"IF(EXACT(Meldeliste!H179&\" \"&Meldeliste!I179,\"\"),\"\",Meldeliste!H179&\" \"&Meldeliste!I179)","v":" "},{"$f":"IF(EXACT(Meldeliste!P179,\"\"),\"\",Meldeliste!P179)","v":""},{"$f":"IF(EXACT(Meldeliste!Z179 & IF(EXACT(Meldeliste!AA179,\"\"),\"\",\"/\" & Meldeliste!AA179) & IF(EXACT(Meldeliste!AB179,\"\"),\"\",\"/\" & Meldeliste!AB179) & IF(EXACT(Meldeliste!AC179,\"\"),\"\",\"/\" & Meldeliste!AC179)  & IF(EXACT(Meldeliste!AD179,\"\"),\"\",\"/\" & Meldeliste!AD179) & IF(EXACT(Meldeliste!AE179,\"\"),\"\",\"/\" & Meldeliste!AE179) & IF(EXACT(Meldeliste!AF179,\"\"),\"\",\"/\" & Meldeliste!AF179) & IF(EXACT(Meldeliste!AG179,\"\"),\"\",\"/\" & Meldeliste!AG179),\"\"),\"\",Meldeliste!Z179 & IF(EXACT(Meldeliste!AA179,\"\"),\"\",\"/\" & Meldeliste!AA179) & IF(EXACT(Meldeliste!AB179,\"\"),\"\",\"/\" & Meldeliste!AB179) & IF(EXACT(Meldeliste!AC179,\"\"),\"\",\"/\" & Meldeliste!AC179)  & IF(EXACT(Meldeliste!AD179,\"\"),\"\",\"/\" & Meldeliste!AD179) & IF(EXACT(Meldeliste!AE179,\"\"),\"\",\"/\" & Meldeliste!AE179) & IF(EXACT(Meldeliste!AF179,\"\"),\"\",\"/\" & Meldeliste!AF179) & IF(EXACT(Meldeliste!AG179,\"\"),\"\",\"/\" & Meldeliste!AG179))","v":""},{"$f":"IF(EXACT(Meldeliste!E179,\"\"),\"\",Meldeliste!E179)","v":""},{"$f":"IF(EXACT(Meldeliste!F179,\"\"),\"\",Meldeliste!F179)","v":""},{"$f":"IF(EXACT(Meldeliste!B179,\"\"),\"\",Meldeliste!B179)","v":""},null,"","",null,"",""]
[{"$f":"IF(EXACT(Meldeliste!C180,\"\"),\"\",Meldeliste!C180)","v":""},{"$f":"IF(EXACT(Meldeliste!H180&\" \"&Meldeliste!I180,\"\"),\"\",Meldeliste!H180&\" \"&Meldeliste!I180)","v":" "},{"$f":"IF(EXACT(Meldeliste!P180,\"\"),\"\",Meldeliste!P180)","v":""},{"$f":"IF(EXACT(Meldeliste!Z180 & IF(EXACT(Meldeliste!AA180,\"\"),\"\",\"/\" & Meldeliste!AA180) & IF(EXACT(Meldeliste!AB180,\"\"),\"\",\"/\" & Meldeliste!AB180) & IF(EXACT(Meldeliste!AC180,\"\"),\"\",\"/\" & Meldeliste!AC180)  & IF(EXACT(Meldeliste!AD180,\"\"),\"\",\"/\" & Meldeliste!AD180) & IF(EXACT(Meldeliste!AE180,\"\"),\"\",\"/\" & Meldeliste!AE180) & IF(EXACT(Meldeliste!AF180,\"\"),\"\",\"/\" & Meldeliste!AF180) & IF(EXACT(Meldeliste!AG180,\"\"),\"\",\"/\" & Meldeliste!AG180),\"\"),\"\",Meldeliste!Z180 & IF(EXACT(Meldeliste!AA180,\"\"),\"\",\"/\" & Meldeliste!AA180) & IF(EXACT(Meldeliste!AB180,\"\"),\"\",\"/\" & Meldeliste!AB180) & IF(EXACT(Meldeliste!AC180,\"\"),\"\",\"/\" & Meldeliste!AC180)  & IF(EXACT(Meldeliste!AD180,\"\"),\"\",\"/\" & Meldeliste!AD180) & IF(EXACT(Meldeliste!AE180,\"\"),\"\",\"/\" & Meldeliste!AE180) & IF(EXACT(Meldeliste!AF180,\"\"),\"\",\"/\" & Meldeliste!AF180) & IF(EXACT(Meldeliste!AG180,\"\"),\"\",\"/\" & Meldeliste!AG180))","v":""},{"$f":"IF(EXACT(Meldeliste!E180,\"\"),\"\",Meldeliste!E180)","v":""},{"$f":"IF(EXACT(Meldeliste!F180,\"\"),\"\",Meldeliste!F180)","v":""},{"$f":"IF(EXACT(Meldeliste!B180,\"\"),\"\",Meldeliste!B180)","v":""},null,"","",null,"",""]
[{"$f":"IF(EXACT(Meldeliste!C181,\"\"),\"\",Meldeliste!C181)","v":""},{"$f":"IF(EXACT(Meldeliste!H181&\" \"&Meldeliste!I181,\"\"),\"\",Meldeliste!H181&\" \"&Meldeliste!I181)","v":" "},{"$f":"IF(EXACT(Meldeliste!P181,\"\"),\"\",Meldeliste!P181)","v":""},{"$f":"IF(EXACT(Meldeliste!Z181 & IF(EXACT(Meldeliste!AA181,\"\"),\"\",\"/\" & Meldeliste!AA181) & IF(EXACT(Meldeliste!AB181,\"\"),\"\",\"/\" & Meldeliste!AB181) & IF(EXACT(Meldeliste!AC181,\"\"),\"\",\"/\" & Meldeliste!AC181)  & IF(EXACT(Meldeliste!AD181,\"\"),\"\",\"/\" & Meldeliste!AD181) & IF(EXACT(Meldeliste!AE181,\"\"),\"\",\"/\" & Meldeliste!AE181) & IF(EXACT(Meldeliste!AF181,\"\"),\"\",\"/\" & Meldeliste!AF181) & IF(EXACT(Meldeliste!AG181,\"\"),\"\",\"/\" & Meldeliste!AG181),\"\"),\"\",Meldeliste!Z181 & IF(EXACT(Meldeliste!AA181,\"\"),\"\",\"/\" & Meldeliste!AA181) & IF(EXACT(Meldeliste!AB181,\"\"),\"\",\"/\" & Meldeliste!AB181) & IF(EXACT(Meldeliste!AC181,\"\"),\"\",\"/\" & Meldeliste!AC181)  & IF(EXACT(Meldeliste!AD181,\"\"),\"\",\"/\" & Meldeliste!AD181) & IF(EXACT(Meldeliste!AE181,\"\"),\"\",\"/\" & Meldeliste!AE181) & IF(EXACT(Meldeliste!AF181,\"\"),\"\",\"/\" & Meldeliste!AF181) & IF(EXACT(Meldeliste!AG181,\"\"),\"\",\"/\" & Meldeliste!AG181))","v":""},{"$f":"IF(EXACT(Meldeliste!E181,\"\"),\"\",Meldeliste!E181)","v":""},{"$f":"IF(EXACT(Meldeliste!F181,\"\"),\"\",Meldeliste!F181)","v":""},{"$f":"IF(EXACT(Meldeliste!B181,\"\"),\"\",Meldeliste!B181)","v":""},null,"","",null,"",""]
[{"$f":"IF(EXACT(Meldeliste!C182,\"\"),\"\",Meldeliste!C182)","v":""},{"$f":"IF(EXACT(Meldeliste!H182&\" \"&Meldeliste!I182,\"\"),\"\",Meldeliste!H182&\" \"&Meldeliste!I182)","v":" "},{"$f":"IF(EXACT(Meldeliste!P182,\"\"),\"\",Meldeliste!P182)","v":""},{"$f":"IF(EXACT(Meldeliste!Z182 & IF(EXACT(Meldeliste!AA182,\"\"),\"\",\"/\" & Meldeliste!AA182) & IF(EXACT(Meldeliste!AB182,\"\"),\"\",\"/\" & Meldeliste!AB182) & IF(EXACT(Meldeliste!AC182,\"\"),\"\",\"/\" & Meldeliste!AC182)  & IF(EXACT(Meldeliste!AD182,\"\"),\"\",\"/\" & Meldeliste!AD182) & IF(EXACT(Meldeliste!AE182,\"\"),\"\",\"/\" & Meldeliste!AE182) & IF(EXACT(Meldeliste!AF182,\"\"),\"\",\"/\" & Meldeliste!AF182) & IF(EXACT(Meldeliste!AG182,\"\"),\"\",\"/\" & Meldeliste!AG182),\"\"),\"\",Meldeliste!Z182 & IF(EXACT(Meldeliste!AA182,\"\"),\"\",\"/\" & Meldeliste!AA182) & IF(EXACT(Meldeliste!AB182,\"\"),\"\",\"/\" & Meldeliste!AB182) & IF(EXACT(Meldeliste!AC182,\"\"),\"\",\"/\" & Meldeliste!AC182)  & IF(EXACT(Meldeliste!AD182,\"\"),\"\",\"/\" & Meldeliste!AD182) & IF(EXACT(Meldeliste!AE182,\"\"),\"\",\"/\" & Meldeliste!AE182) & IF(EXACT(Meldeliste!AF182,\"\"),\"\",\"/\" & Meldeliste!AF182) & IF(EXACT(Meldeliste!AG182,\"\"),\"\",\"/\" & Meldeliste!AG182))","v":""},{"$f":"IF(EXACT(Meldeliste!E182,\"\"),\"\",Meldeliste!E182)","v":""},{"$f":"IF(EXACT(Meldeliste!F182,\"\"),\"\",Meldeliste!F182)","v":""},{"$f":"IF(EXACT(Meldeliste!B182,\"\"),\"\",Meldeliste!B182)","v":""},null,"","",null,"",""]