{"text_format":"1","workbook":"xlsx","n_sheets":18,"sheets":["acccueil","premières chaleurs","intensité chaleurs","saillies naturelles","syncros","échos","vêlage","trait prév vaches","trait prev veaux","comportement veau au sevrage","trait curatif veaux","lots cases à cocher","mortalité veau","parage par lot","parage","aide calendrier ","aide à la saisie","planning des enregistrements"],"not_rendered":{"charts":1,"images":24,"macros":1,"external_links":1,"defined_names":18,"comments":14,"pivot_tables":0},"unopened":[],"bounds":{"document_bytes":16777216,"sheet_cells":100000,"rows_first":2000,"rows_last":500,"rows_between":2000,"halvings":0,"cell_chars":16384,"cell_head_chars":4096},"cells_cut":0,"cells_raw":0,"read":"whole","date_system":"1900"}

{"sheet":"acccueil","index":0,"n_rows":9,"n_cols":12,"rows_kept":9,"cut":false,"hidden":false,"merged":[[2,1,2,11]]}
[]
[]
[null,"Pour accéder à la saisie, cliquez sur l'image correspondante "]
[]
[null,"précocité sexuelle",null,"intensité des chaleurs",null,"saillies naturelles",null,"synchros",null,"échographies",null,"vêlage"]
[]
[null,"traitement préventif sur vaches",null,"traitement préventif sur veaux",null,"comportement veau autour du sevrage",null,"traitements curatifs sur veaux",null,"lots",null,"mortalité veaux"]
[]
[null,"pattes par lot d'animaux",null,"pattes pour un animal",null,"aide à la saisie",null,"aide à l'installation du calendrier automatique",null,"planning des enregistrements"]

{"sheet":"premières chaleurs","index":1,"n_rows":201,"n_cols":21,"rows_kept":201,"cut":false,"hidden":false,"merged":[[1,0,1,2],[5,9,5,11],[5,12,5,13],[5,14,5,15],[4,0,4,2],[5,16,5,17],[5,18,5,19],[1,3,1,19],[3,6,3,8],[3,9,3,19],[4,4,6,4],[4,5,6,5],[4,6,6,6],[4,7,6,7],[4,8,6,8],[4,9,4,11],[4,12,4,13],[4,14,4,15],[4,16,4,17],[4,18,4,19],[4,3,5,3]]}
[]
["retour à la page d'accueil",null,null,"Date des premières chaleurs par l'observation ou par échographie/palper "]
[]
[null,null,null,null,null,null,"Par l'observation",null,null,"Par échographie/palper"]
[{"$f":"'[1]1 ères chaleurs'!$B$1","v":"54474307"},null,null,"N° 4 chiffres ","Nom de l'animal","Date de naissance "," Date de l'observation de la première chaleur ","Moyens de détection ","Lieu d'observation"," 1ère date écho/palper:                au sevrage",null,null," 2nde date écho/palper:                à la 1 ère entrée au bâtiment",null," 3ème date écho/palper:                  à la 1 ère sortie du bâtiment",null,"4ème date écho/palper:                à la 2 nde entrée du bâtiment",null,"5ème date écho/palper:                  à la 2 nde sortie du bâtiment"]
[]
[null,null,null,null,null,null,null,null,null,"type","résultat ","épine du bassin?","type","résultat ","type","résultat ","type","résultat ","type","résultat ","Remarques particulières sur l'animal"]
[null,null,null,{"$f":"IF('[1]1 ères chaleurs'!A11=\"\",\"\",IF('[1]1 ères chaleurs'!A11=\"total général\",\"\",'[1]1 ères chaleurs'!A11))","v":"4886"},{"$f":"IF('[1]1 ères chaleurs'!B11=\"\",\"\",'[1]1 ères chaleurs'!B11)","v":"JELLY"},{"$f":"IF('[1]1 ères chaleurs'!C11=\"\",\"\",'[1]1 ères chaleurs'!C11)","v":"2014-10-06"},null,null,null,{"$f":"IF(G8=\"\",\"\",\"XXX\")","v":""},{"$f":"IF(G8=\"\",\"\",\"XXX\")","v":""},null,{"$f":"IF(K8=\"\",\"\",IF(K8=1,IF(G8=\"\",\"\",\"XXX\"),\"XXX\"))","v":""},{"$f":"IF(K8=\"\",\"\",IF(K8=1,IF(G8=\"\",\"\",\"XXX\"),\"XXX\"))","v":""},{"$f":"IF(N8=\"\",\"\",IF(N8=1,IF(G8=\"\",\"\",\"XXX\"),\"XXX\"))","v":""},{"$f":"IF(N8=\"\",\"\",IF(N8=1,IF(G8=\"\",\"\",\"XXX\"),\"XXX\"))","v":""},{"$f":"IF(P8=\"\",\"\",IF(P8=1,IF(G8=\"\",\"\",\"XXX\"),\"XXX\"))","v":""},{"$f":"IF(P8=\"\",\"\",IF(P8=1,IF(G8=\"\",\"\",\"XXX\"),\"XXX\"))","v":""},{"$f":"IF(R8=\"\",\"\",IF(R8=1,IF(G8=\"\",\"\",\"XXX\"),\"XXX\"))","v":""},{"$f":"IF(R8=\"\",\"\",IF(R8=1,IF(G8=\"\",\"\",\"XXX\"),\"XXX\"))","v":""}]
[null,null,null,{"$f":"IF('[1]1 ères chaleurs'!A12=\"\",\"\",IF('[1]1 ères chaleurs'!A12=\"total général\",\"\",'[1]1 ères chaleurs'!A12))","v":"4887"},{"$f":"IF('[1]1 ères chaleurs'!B12=\"\",\"\",'[1]1 ères chaleurs'!B12)","v":"JACYNTHE"},{"$f":"IF('[1]1 ères chaleurs'!C12=\"\",\"\",'[1]1 ères chaleurs'!C12)","v":"2014-10-07"},null,null,null,"","",null,{"$f":"IF(K9=\"\",\"\",IF(K9=1,IF(G9=\"\",\"\",\"XXX\"),\"XXX\"))","v":""},"","","","","","",""]
[null,null,null,{"$f":"IF('[1]1 ères chaleurs'!A13=\"\",\"\",IF('[1]1 ères chaleurs'!A13=\"total général\",\"\",'[1]1 ères chaleurs'!A13))","v":"4888"},{"$f":"IF('[1]1 ères chaleurs'!B13=\"\",\"\",'[1]1 ères chaleurs'!B13)","v":"JASMINE"},{"$f":"IF('[1]1 ères chaleurs'!C13=\"\",\"\",'[1]1 ères chaleurs'!C13)","v":"2014-10-08"},null,null,null,"","",null,"","","","","","","",""]
[null,null,null,{"$f":"IF('[1]1 ères chaleurs'!A14=\"\",\"\",IF('[1]1 ères chaleurs'!A14=\"total général\",\"\",'[1]1 ères chaleurs'!A14))","v":"4889"},{"$f":"IF('[1]1 ères chaleurs'!B14=\"\",\"\",'[1]1 ères chaleurs'!B14)","v":"JALA"},{"$f":"IF('[1]1 ères chaleurs'!C14=\"\",\"\",'[1]1 ères chaleurs'!C14)","v":"2014-10-11"},null,null,null,"","",null,"","","","","","","",""]
[null,null,null,{"$f":"IF('[1]1 ères chaleurs'!A15=\"\",\"\",IF('[1]1 ères chaleurs'!A15=\"total général\",\"\",'[1]1 ères chaleurs'!A15))","v":"4890"},{"$f":"IF('[1]1 ères chaleurs'!B15=\"\",\"\",'[1]1 ères chaleurs'!B15)","v":"JENNA"},{"$f":"IF('[1]1 ères chaleurs'!C15=\"\",\"\",'[1]1 ères chaleurs'!C15)","v":"2014-10-18"},null,null,null,"","",null,"","","","","","","",""]
[null,null,null,{"$f":"IF('[1]1 ères chaleurs'!A16=\"\",\"\",IF('[1]1 ères chaleurs'!A16=\"total général\",\"\",'[1]1 ères chaleurs'!A16))","v":"4891"},{"$f":"IF('[1]1 ères chaleurs'!B16=\"\",\"\",'[1]1 ères chaleurs'!B16)","v":"JIXIE"},{"$f":"IF('[1]1 ères chaleurs'!C16=\"\",\"\",'[1]1 ères chaleurs'!C16)","v":"2014-10-18"},null,null,null,"","",null,"","","","","","","",""]
[null,null,null,{"$f":"IF('[1]1 ères chaleurs'!A17=\"\",\"\",IF('[1]1 ères chaleurs'!A17=\"total général\",\"\",'[1]1 ères chaleurs'!A17))","v":"4892"},{"$f":"IF('[1]1 ères chaleurs'!B17=\"\",\"\",'[1]1 ères chaleurs'!B17)","v":"JAMAIQUE"},{"$f":"IF('[1]1 ères chaleurs'!C17=\"\",\"\",'[1]1 ères chaleurs'!C17)","v":"2014-10-29"},null,null,null,"","",null,"","","","","","","",""]
[null,null,null,{"$f":"IF('[1]1 ères chaleurs'!A18=\"\",\"\",IF('[1]1 ères chaleurs'!A18=\"total général\",\"\",'[1]1 ères chaleurs'!A18))","v":"4893"},{"$f":"IF('[1]1 ères chaleurs'!B18=\"\",\"\",'[1]1 ères chaleurs'!B18)","v":"JACOTTE"},{"$f":"IF('[1]1 ères chaleurs'!C18=\"\",\"\",'[1]1 ères chaleurs'!C18)","v":"2014-11-03"},null,null,null,"","",null,"","","","","","","",""]
[null,null,null,{"$f":"IF('[1]1 ères chaleurs'!A19=\"\",\"\",IF('[1]1 ères chaleurs'!A19=\"total général\",\"\",'[1]1 ères chaleurs'!A19))","v":"4894"},{"$f":"IF('[1]1 ères chaleurs'!B19=\"\",\"\",'[1]1 ères chaleurs'!B19)","v":"JOCONDE"},{"$f":"IF('[1]1 ères chaleurs'!C19=\"\",\"\",'[1]1 ères chaleurs'!C19)","v":"2014-11-08"},null,null,null,"","",null,"","","","","","","",""]
[null,null,null,{"$f":"IF('[1]1 ères chaleurs'!A20=\"\",\"\",IF('[1]1 ères chaleurs'!A20=\"total général\",\"\",'[1]1 ères chaleurs'!A20))","v":"4895"},{"$f":"IF('[1]1 ères chaleurs'!B20=\"\",\"\",'[1]1 ères chaleurs'!B20)","v":"JETSET"},{"$f":"IF('[1]1 ères chaleurs'!C20=\"\",\"\",'[1]1 ères chaleurs'!C20)","v":"2014-11-12"},null,null,null,"","",null,"","","","","","","",""]
[null,null,null,{"$f":"IF('[1]1 ères chaleurs'!A21=\"\",\"\",IF('[1]1 ères chaleurs'!A21=\"total général\",\"\",'[1]1 ères chaleurs'!A21))","v":"4896"},{"$f":"IF('[1]1 ères chaleurs'!B21=\"\",\"\",'[1]1 ères chaleurs'!B21)","v":"JOY"},{"$f":"IF('[1]1 ères chaleurs'!C21=\"\",\"\",'[1]1 ères chaleurs'!C21)","v":"2014-11-18"},null,null,null,"","",null,"","","","","","","",""]
[null,null,null,{"$f":"IF('[1]1 ères chaleurs'!A22=\"\",\"\",IF('[1]1 ères chaleurs'!A22=\"total général\",\"\",'[1]1 ères chaleurs'!A22))","v":"4897"},{"$f":"IF('[1]1 ères chaleurs'!B22=\"\",\"\",'[1]1 ères chaleurs'!B22)","v":"JASMA"},{"$f":"IF('[1]1 ères chaleurs'!C22=\"\",\"\",'[1]1 ères chaleurs'!C22)","v":"2014-11-24"},null,null,null,"","",null,"","","","","","","",""]
[null,null,null,{"$f":"IF('[1]1 ères chaleurs'!A23=\"\",\"\",IF('[1]1 ères chaleurs'!A23=\"total général\",\"\",'[1]1 ères chaleurs'!A23))","v":"4898"},{"$f":"IF('[1]1 ères chaleurs'!B23=\"\",\"\",'[1]1 ères chaleurs'!B23)","v":"JAMIE"},{"$f":"IF('[1]1 ères chaleurs'!C23=\"\",\"\",'[1]1 ères chaleurs'!C23)","v":"2014-12-01"},null,null,null,"","",null,"","","","","","","",""]
[null,null,null,{"$f":"IF('[1]1 ères chaleurs'!A24=\"\",\"\",IF('[1]1 ères chaleurs'!A24=\"total général\",\"\",'[1]1 ères chaleurs'!A24))","v":"4899"},{"$f":"IF('[1]1 ères chaleurs'!B24=\"\",\"\",'[1]1 ères chaleurs'!B24)","v":"JALNA"},{"$f":"IF('[1]1 ères chaleurs'!C24=\"\",\"\",'[1]1 ères chaleurs'!C24)","v":"2014-12-03"},null,null,null,"","",null,"","","","","","","",""]
[null,null,null,{"$f":"IF('[1]1 ères chaleurs'!A25=\"\",\"\",IF('[1]1 ères chaleurs'!A25=\"total général\",\"\",'[1]1 ères chaleurs'!A25))","v":"4901"},{"$f":"IF('[1]1 ères chaleurs'!B25=\"\",\"\",'[1]1 ères chaleurs'!B25)","v":"JODIE"},{"$f":"IF('[1]1 ères chaleurs'!C25=\"\",\"\",'[1]1 ères chaleurs'!C25)","v":"2014-12-06"},null,null,null,"","",null,"","","","","","","",""]
[null,null,null,{"$f":"IF('[1]1 ères chaleurs'!A26=\"\",\"\",IF('[1]1 ères chaleurs'!A26=\"total général\",\"\",'[1]1 ères chaleurs'!A26))","v":"4902"},{"$f":"IF('[1]1 ères chaleurs'!B26=\"\",\"\",'[1]1 ères chaleurs'!B26)","v":"JUNGLE"},{"$f":"IF('[1]1 ères chaleurs'!C26=\"\",\"\",'[1]1 ères chaleurs'!C26)","v":"2014-12-08"},null,null,null,"","",null,"","","","","","","",""]
[null,null,null,{"$f":"IF('[1]1 ères chaleurs'!A27=\"\",\"\",IF('[1]1 ères chaleurs'!A27=\"total général\",\"\",'[1]1 ères chaleurs'!A27))","v":"4903"},{"$f":"IF('[1]1 ères chaleurs'!B27=\"\",\"\",'[1]1 ères chaleurs'!B27)","v":"JELENE"},{"$f":"IF('[1]1 ères chaleurs'!C27=\"\",\"\",'[1]1 ères chaleurs'!C27)","v":"2014-12-08"},null,null,null,"","",null,"","","","","","","",""]
[null,null,null,{"$f":"IF('[1]1 ères chaleurs'!A28=\"\",\"\",IF('[1]1 ères chaleurs'!A28=\"total général\",\"\",'[1]1 ères chaleurs'!A28))","v":"4904"},{"$f":"IF('[1]1 ères chaleurs'!B28=\"\",\"\",'[1]1 ères chaleurs'!B28)","v":"JAMBETTE"},{"$f":"IF('[1]1 ères chaleurs'!C28=\"\",\"\",'[1]1 ères chaleurs'!C28)","v":"2014-12-12"},null,null,null,"","",null,"","","","","","","",""]
[null,null,null,{"$f":"IF('[1]1 ères chaleurs'!A29=\"\",\"\",IF('[1]1 ères chaleurs'!A29=\"total général\",\"\",'[1]1 ères chaleurs'!A29))","v":"4905"},{"$f":"IF('[1]1 ères chaleurs'!B29=\"\",\"\",'[1]1 ères chaleurs'!B29)","v":"JOLIE"},{"$f":"IF('[1]1 ères chaleurs'!C29=\"\",\"\",'[1]1 ères chaleurs'!C29)","v":"2014-12-14"},null,null,null,"","",null,"","","","","","","",""]
[null,null,null,{"$f":"IF('[1]1 ères chaleurs'!A30=\"\",\"\",IF('[1]1 ères chaleurs'!A30=\"total général\",\"\",'[1]1 ères chaleurs'!A30))","v":"4906"},{"$f":"IF('[1]1 ères chaleurs'!B30=\"\",\"\",'[1]1 ères chaleurs'!B30)","v":"JOYEUSE"},{"$f":"IF('[1]1 ères chaleurs'!C30=\"\",\"\",'[1]1 ères chaleurs'!C30)","v":"2014-12-14"},null,null,null,"",{"$f":"IF(G27=\"\",\"\",\"XXX\")","v":""},null,"",{"$f":"IF(K27=\"\",\"\",IF(K27=1,IF(G27=\"\",\"\",\"XXX\"),\"XXX\"))","v":""},"",{"$f":"IF(N27=\"\",\"\",IF(N27=1,IF(G27=\"\",\"\",\"XXX\"),\"XXX\"))","v":""},"","","",{"$f":"IF(R27=\"\",\"\",IF(R27=1,IF(G27=\"\",\"\",\"XXX\"),\"XXX\"))","v":""}]
[null,null,null,{"$f":"IF('[1]1 ères chaleurs'!A31=\"\",\"\",IF('[1]1 ères chaleurs'!A31=\"total général\",\"\",'[1]1 ères chaleurs'!A31))","v":"4907"},{"$f":"IF('[1]1 ères chaleurs'!B31=\"\",\"\",'[1]1 ères chaleurs'!B31)","v":"JORDANIE"},{"$f":"IF('[1]1 ères chaleurs'!C31=\"\",\"\",'[1]1 ères chaleurs'!C31)","v":"2014-12-16"},null,null,null,"","",null,"","","","","","","",""]
[null,null,null,{"$f":"IF('[1]1 ères chaleurs'!A32=\"\",\"\",IF('[1]1 ères chaleurs'!A32=\"total général\",\"\",'[1]1 ères chaleurs'!A32))","v":"4908"},{"$f":"IF('[1]1 ères chaleurs'!B32=\"\",\"\",'[1]1 ères chaleurs'!B32)","v":"LACUNE"},{"$f":"IF('[1]1 ères chaleurs'!C32=\"\",\"\",'[1]1 ères chaleurs'!C32)","v":"2015-01-04"},null,null,null,"","",null,"","","","","","","",""]
[null,null,null,{"$f":"IF('[1]1 ères chaleurs'!A33=\"\",\"\",IF('[1]1 ères chaleurs'!A33=\"total général\",\"\",'[1]1 ères chaleurs'!A33))","v":"4909"},{"$f":"IF('[1]1 ères chaleurs'!B33=\"\",\"\",'[1]1 ères chaleurs'!B33)","v":"LIQUEUR"},{"$f":"IF('[1]1 ères chaleurs'!C33=\"\",\"\",'[1]1 ères chaleurs'!C33)","v":"2015-01-19"},null,null,null,"","",null,"","","","","","","",""]
[null,null,null,{"$f":"IF('[1]1 ères chaleurs'!A34=\"\",\"\",IF('[1]1 ères chaleurs'!A34=\"total général\",\"\",'[1]1 ères chaleurs'!A34))","v":"4910"},{"$f":"IF('[1]1 ères chaleurs'!B34=\"\",\"\",'[1]1 ères chaleurs'!B34)","v":"LITURGIE"},{"$f":"IF('[1]1 ères chaleurs'!C34=\"\",\"\",'[1]1 ères chaleurs'!C34)","v":"2015-02-03"},null,null,null,"","",null,"","","","","","","",""]
[null,null,null,{"$f":"IF('[1]1 ères chaleurs'!A35=\"\",\"\",IF('[1]1 ères chaleurs'!A35=\"total général\",\"\",'[1]1 ères chaleurs'!A35))","v":"4911"},{"$f":"IF('[1]1 ères chaleurs'!B35=\"\",\"\",'[1]1 ères chaleurs'!B35)","v":"LAINE"},{"$f":"IF('[1]1 ères chaleurs'!C35=\"\",\"\",'[1]1 ères chaleurs'!C35)","v":"2015-02-08"},null,null,null,"","",null,"","","","","","","",""]
[null,null,null,{"$f":"IF('[1]1 ères chaleurs'!A36=\"\",\"\",IF('[1]1 ères chaleurs'!A36=\"total général\",\"\",'[1]1 ères chaleurs'!A36))","v":"5937"},{"$f":"IF('[1]1 ères chaleurs'!B36=\"\",\"\",'[1]1 ères chaleurs'!B36)","v":"IMPERIALE"},{"$f":"IF('[1]1 ères chaleurs'!C36=\"\",\"\",'[1]1 ères chaleurs'!C36)","v":"2013-12-01"},null,null,null,"","",null,"","","","","","","",""]
[null,null,null,{"$f":"IF('[1]1 ères chaleurs'!A37=\"\",\"\",IF('[1]1 ères chaleurs'!A37=\"total général\",\"\",'[1]1 ères chaleurs'!A37))","v":"5946"},{"$f":"IF('[1]1 ères chaleurs'!B37=\"\",\"\",'[1]1 ères chaleurs'!B37)","v":"JARDINE"},{"$f":"IF('[1]1 ères chaleurs'!C37=\"\",\"\",'[1]1 ères chaleurs'!C37)","v":"2014-01-15"},null,null,null,"","",null,"","","","","","","",""]
[null,null,null,{"$f":"IF('[1]1 ères chaleurs'!A38=\"\",\"\",IF('[1]1 ères chaleurs'!A38=\"total général\",\"\",'[1]1 ères chaleurs'!A38))","v":"5948"},{"$f":"IF('[1]1 ères chaleurs'!B38=\"\",\"\",'[1]1 ères chaleurs'!B38)","v":"JUPETTE"},{"$f":"IF('[1]1 ères chaleurs'!C38=\"\",\"\",'[1]1 ères chaleurs'!C38)","v":"2014-09-29"},null,null,null,"","",null,"","","","","","","",""]
[null,null,null,{"$f":"IF('[1]1 ères chaleurs'!A39=\"\",\"\",IF('[1]1 ères chaleurs'!A39=\"total général\",\"\",'[1]1 ères chaleurs'!A39))","v":"5949"},{"$f":"IF('[1]1 ères chaleurs'!B39=\"\",\"\",'[1]1 ères chaleurs'!B39)","v":"JALIE"},{"$f":"IF('[1]1 ères chaleurs'!C39=\"\",\"\",'[1]1 ères chaleurs'!C39)","v":"2014-09-29"},null,null,null,"","",null,"","","","","","","",""]
[null,null,null,{"$f":"IF('[1]1 ères chaleurs'!A40=\"\",\"\",IF('[1]1 ères chaleurs'!A40=\"total général\",\"\",'[1]1 ères chaleurs'!A40))","v":""},{"$f":"IF('[1]1 ères chaleurs'!B40=\"\",\"\",'[1]1 ères chaleurs'!B40)","v":""},{"$f":"IF('[1]1 ères chaleurs'!C40=\"\",\"\",'[1]1 ères chaleurs'!C40)","v":""},null,null,null,"","",null,"","","","","","","",""]
[null,null,null,{"$f":"IF('[1]1 ères chaleurs'!A41=\"\",\"\",IF('[1]1 ères chaleurs'!A41=\"total général\",\"\",'[1]1 ères chaleurs'!A41))","v":""},{"$f":"IF('[1]1 ères chaleurs'!B41=\"\",\"\",'[1]1 ères chaleurs'!B41)","v":""},{"$f":"IF('[1]1 ères chaleurs'!C41=\"\",\"\",'[1]1 ères chaleurs'!C41)","v":""},null,null,null,"","",null,"","","","","","","",""]
[null,null,null,{"$f":"IF('[1]1 ères chaleurs'!A42=\"\",\"\",IF('[1]1 ères chaleurs'!A42=\"total général\",\"\",'[1]1 ères chaleurs'!A42))","v":""},{"$f":"IF('[1]1 ères chaleurs'!B42=\"\",\"\",'[1]1 ères chaleurs'!B42)","v":""},{"$f":"IF('[1]1 ères chaleurs'!C42=\"\",\"\",'[1]1 ères chaleurs'!C42)","v":""},null,null,null,"","",null,"","","","","","","",""]
[null,null,null,{"$f":"IF('[1]1 ères chaleurs'!A43=\"\",\"\",IF('[1]1 ères chaleurs'!A43=\"total général\",\"\",'[1]1 ères chaleurs'!A43))","v":""},{"$f":"IF('[1]1 ères chaleurs'!B43=\"\",\"\",'[1]1 ères chaleurs'!B43)","v":""},{"$f":"IF('[1]1 ères chaleurs'!C43=\"\",\"\",'[1]1 ères chaleurs'!C43)","v":""},null,null,null,"","",null,"","","","","","","",""]
[null,null,null,{"$f":"IF('[1]1 ères chaleurs'!A44=\"\",\"\",IF('[1]1 ères chaleurs'!A44=\"total général\",\"\",'[1]1 ères chaleurs'!A44))","v":""},{"$f":"IF('[1]1 ères chaleurs'!B44=\"\",\"\",'[1]1 ères chaleurs'!B44)","v":""},{"$f":"IF('[1]1 ères chaleurs'!C44=\"\",\"\",'[1]1 ères chaleurs'!C44)","v":""},null,null,null,"","",null,"","","","","","","",""]
[null,null,null,{"$f":"IF('[1]1 ères chaleurs'!A45=\"\",\"\",IF('[1]1 ères chaleurs'!A45=\"total général\",\"\",'[1]1 ères chaleurs'!A45))","v":""},{"$f":"IF('[1]1 ères chaleurs'!B45=\"\",\"\",'[1]1 ères chaleurs'!B45)","v":""},{"$f":"IF('[1]1 ères chaleurs'!C45=\"\",\"\",'[1]1 ères chaleurs'!C45)","v":""},null,null,null,"","",null,"","","","","","","",""]
[null,null,null,{"$f":"IF('[1]1 ères chaleurs'!A46=\"\",\"\",IF('[1]1 ères chaleurs'!A46=\"total général\",\"\",'[1]1 ères chaleurs'!A46))","v":""},{"$f":"IF('[1]1 ères chaleurs'!B46=\"\",\"\",'[1]1 ères chaleurs'!B46)","v":""},{"$f":"IF('[1]1 ères chaleurs'!C46=\"\",\"\",'[1]1 ères chaleurs'!C46)","v":""},null,null,null,"","",null,"","","","","","","",""]
[null,null,null,{"$f":"IF('[1]1 ères chaleurs'!A47=\"\",\"\",IF('[1]1 ères chaleurs'!A47=\"total général\",\"\",'[1]1 ères chaleurs'!A47))","v":""},{"$f":"IF('[1]1 ères chaleurs'!B47=\"\",\"\",'[1]1 ères chaleurs'!B47)","v":""},{"$f":"IF('[1]1 ères chaleurs'!C47=\"\",\"\",'[1]1 ères chaleurs'!C47)","v":""},null,null,null,"","",null,"","","","","","","",""]
[null,null,null,{"$f":"IF('[1]1 ères chaleurs'!A48=\"\",\"\",IF('[1]1 ères chaleurs'!A48=\"total général\",\"\",'[1]1 ères chaleurs'!A48))","v":""},{"$f":"IF('[1]1 ères chaleurs'!B48=\"\",\"\",'[1]1 ères chaleurs'!B48)","v":""},{"$f":"IF('[1]1 ères chaleurs'!C48=\"\",\"\",'[1]1 ères chaleurs'!C48)","v":""},null,null,null,"","",null,"","","","","","","",""]
[null,null,null,{"$f":"IF('[1]1 ères chaleurs'!A49=\"\",\"\",IF('[1]1 ères chaleurs'!A49=\"total général\",\"\",'[1]1 ères chaleurs'!A49))","v":""},{"$f":"IF('[1]1 ères chaleurs'!B49=\"\",\"\",'[1]1 ères chaleurs'!B49)","v":""},{"$f":"IF('[1]1 ères chaleurs'!C49=\"\",\"\",'[1]1 ères chaleurs'!C49)","v":""},null,null,null,"","",null,"","","","","","","",""]
[null,null,null,{"$f":"IF('[1]1 ères chaleurs'!A50=\"\",\"\",IF('[1]1 ères chaleurs'!A50=\"total général\",\"\",'[1]1 ères chaleurs'!A50))","v":""},{"$f":"IF('[1]1 ères chaleurs'!B50=\"\",\"\",'[1]1 ères chaleurs'!B50)","v":""},{"$f":"IF('[1]1 ères chaleurs'!C50=\"\",\"\",'[1]1 ères chaleurs'!C50)","v":""},null,null,null,"","",null,"","","","","","","",""]
[null,null,null,{"$f":"IF('[1]1 ères chaleurs'!A51=\"\",\"\",IF('[1]1 ères chaleurs'!A51=\"total général\",\"\",'[1]1 ères chaleurs'!A51))","v":""},{"$f":"IF('[1]1 ères chaleurs'!B51=\"\",\"\",'[1]1 ères chaleurs'!B51)","v":""},{"$f":"IF('[1]1 ères chaleurs'!C51=\"\",\"\",'[1]1 ères chaleurs'!C51)","v":""},null,null,null,"","",null,"","","","","","","",""]
[null,null,null,{"$f":"IF('[1]1 ères chaleurs'!A52=\"\",\"\",IF('[1]1 ères chaleurs'!A52=\"total général\",\"\",'[1]1 ères chaleurs'!A52))","v":""},{"$f":"IF('[1]1 ères chaleurs'!B52=\"\",\"\",'[1]1 ères chaleurs'!B52)","v":""},{"$f":"IF('[1]1 ères chaleurs'!C52=\"\",\"\",'[1]1 ères chaleurs'!C52)","v":""},null,null,null,"","",null,"","","","","","","",""]
[null,null,null,{"$f":"IF('[1]1 ères chaleurs'!A53=\"\",\"\",IF('[1]1 ères chaleurs'!A53=\"total général\",\"\",'[1]1 ères chaleurs'!A53))","v":""},{"$f":"IF('[1]1 ères chaleurs'!B53=\"\",\"\",'[1]1 ères chaleurs'!B53)","v":""},{"$f":"IF('[1]1 ères chaleurs'!C53=\"\",\"\",'[1]1 ères chaleurs'!C53)","v":""},null,null,null,"","",null,"","","","","","","",""]
[null,null,null,{"$f":"IF('[1]1 ères chaleurs'!A54=\"\",\"\",IF('[1]1 ères chaleurs'!A54=\"total général\",\"\",'[1]1 ères chaleurs'!A54))","v":""},{"$f":"IF('[1]1 ères chaleurs'!B54=\"\",\"\",'[1]1 ères chaleurs'!B54)","v":""},{"$f":"IF('[1]1 ères chaleurs'!C54=\"\",\"\",'[1]1 ères chaleurs'!C54)","v":""},null,null,null,"","",null,"","","","","","","",""]
[null,null,null,{"$f":"IF('[1]1 ères chaleurs'!A55=\"\",\"\",IF('[1]1 ères chaleurs'!A55=\"total général\",\"\",'[1]1 ères chaleurs'!A55))","v":""},{"$f":"IF('[1]1 ères chaleurs'!B55=\"\",\"\",'[1]1 ères chaleurs'!B55)","v":""},{"$f":"IF('[1]1 ères chaleurs'!C55=\"\",\"\",'[1]1 ères chaleurs'!C55)","v":""},null,null,null,"","",null,"","","","","","","",""]
[null,null,null,{"$f":"IF('[1]1 ères chaleurs'!A56=\"\",\"\",IF('[1]1 ères chaleurs'!A56=\"total général\",\"\",'[1]1 ères chaleurs'!A56))","v":""},{"$f":"IF('[1]1 ères chaleurs'!B56=\"\",\"\",'[1]1 ères chaleurs'!B56)","v":""},{"$f":"IF('[1]1 ères chaleurs'!C56=\"\",\"\",'[1]1 ères chaleurs'!C56)","v":""},null,null,null,"","",null,"","","","","","","",""]
[null,null,null,{"$f":"IF('[1]1 ères chaleurs'!A57=\"\",\"\",IF('[1]1 ères chaleurs'!A57=\"total général\",\"\",'[1]1 ères chaleurs'!A57))","v":""},{"$f":"IF('[1]1 ères chaleurs'!B57=\"\",\"\",'[1]1 ères chaleurs'!B57)","v":""},{"$f":"IF('[1]1 ères chaleurs'!C57=\"\",\"\",'[1]1 ères chaleurs'!C57)","v":""},null,null,null,"","",null,"","","","","","","",""]
[null,null,null,{"$f":"IF('[1]1 ères chaleurs'!A58=\"\",\"\",IF('[1]1 ères chaleurs'!A58=\"total général\",\"\",'[1]1 ères chaleurs'!A58))","v":""},{"$f":"IF('[1]1 ères chaleurs'!B58=\"\",\"\",'[1]1 ères chaleurs'!B58)","v":""},{"$f":"IF('[1]1 ères chaleurs'!C58=\"\",\"\",'[1]1 ères chaleurs'!C58)","v":""},null,null,null,"","",null,"","","","","","","",""]
[null,null,null,{"$f":"IF('[1]1 ères chaleurs'!A59=\"\",\"\",IF('[1]1 ères chaleurs'!A59=\"total général\",\"\",'[1]1 ères chaleurs'!A59))","v":""},{"$f":"IF('[1]1 ères chaleurs'!B59=\"\",\"\",'[1]1 ères chaleurs'!B59)","v":""},{"$f":"IF('[1]1 ères chaleurs'!C59=\"\",\"\",'[1]1 ères chaleurs'!C59)","v":""},null,null,null,"","",null,"","","","","","","",""]
[null,null,null,{"$f":"IF('[1]1 ères chaleurs'!A60=\"\",\"\",IF('[1]1 ères chaleurs'!A60=\"total général\",\"\",'[1]1 ères chaleurs'!A60))","v":""},{"$f":"IF('[1]1 ères chaleurs'!B60=\"\",\"\",'[1]1 ères chaleurs'!B60)","v":""},{"$f":"IF('[1]1 ères chaleurs'!C60=\"\",\"\",'[1]1 ères chaleurs'!C60)","v":""},null,null,null,"","",null,"","","","","","","",""]
[null,null,null,{"$f":"IF('[1]1 ères chaleurs'!A61=\"\",\"\",IF('[1]1 ères chaleurs'!A61=\"total général\",\"\",'[1]1 ères chaleurs'!A61))","v":""},{"$f":"IF('[1]1 ères chaleurs'!B61=\"\",\"\",'[1]1 ères chaleurs'!B61)","v":""},{"$f":"IF('[1]1 ères chaleurs'!C61=\"\",\"\",'[1]1 ères chaleurs'!C61)","v":""},null,null,null,"","",null,"","","","","","","",""]
[null,null,null,{"$f":"IF('[1]1 ères chaleurs'!A62=\"\",\"\",IF('[1]1 ères chaleurs'!A62=\"total général\",\"\",'[1]1 ères chaleurs'!A62))","v":""},{"$f":"IF('[1]1 ères chaleurs'!B62=\"\",\"\",'[1]1 ères chaleurs'!B62)","v":""},{"$f":"IF('[1]1 ères chaleurs'!C62=\"\",\"\",'[1]1 ères chaleurs'!C62)","v":""},null,null,null,"","",null,"","","","","","","",""]
[null,null,null,{"$f":"IF('[1]1 ères chaleurs'!A63=\"\",\"\",IF('[1]1 ères chaleurs'!A63=\"total général\",\"\",'[1]1 ères chaleurs'!A63))","v":""},{"$f":"IF('[1]1 ères chaleurs'!B63=\"\",\"\",'[1]1 ères chaleurs'!B63)","v":""},{"$f":"IF('[1]1 ères chaleurs'!C63=\"\",\"\",'[1]1 ères chaleurs'!C63)","v":""},null,null,null,"","",null,"","","","","","","",""]
[null,null,null,{"$f":"IF('[1]1 ères chaleurs'!A64=\"\",\"\",IF('[1]1 ères chaleurs'!A64=\"total général\",\"\",'[1]1 ères chaleurs'!A64))","v":""},{"$f":"IF('[1]1 ères chaleurs'!B64=\"\",\"\",'[1]1 ères chaleurs'!B64)","v":""},{"$f":"IF('[1]1 ères chaleurs'!C64=\"\",\"\",'[1]1 ères chaleurs'!C64)","v":""},null,null,null,"","",null,"","","","","","","",""]
[null,null,null,{"$f":"IF('[1]1 ères chaleurs'!A65=\"\",\"\",IF('[1]1 ères chaleurs'!A65=\"total général\",\"\",'[1]1 ères chaleurs'!A65))","v":""},{"$f":"IF('[1]1 ères chaleurs'!B65=\"\",\"\",'[1]1 ères chaleurs'!B65)","v":""},{"$f":"IF('[1]1 ères chaleurs'!C65=\"\",\"\",'[1]1 ères chaleurs'!C65)","v":""},null,null,null,"","",null,"","","","","","","",""]
[null,null,null,{"$f":"IF('[1]1 ères chaleurs'!A66=\"\",\"\",IF('[1]1 ères chaleurs'!A66=\"total général\",\"\",'[1]1 ères chaleurs'!A66))","v":""},{"$f":"IF('[1]1 ères chaleurs'!B66=\"\",\"\",'[1]1 ères chaleurs'!B66)","v":""},{"$f":"IF('[1]1 ères chaleurs'!C66=\"\",\"\",'[1]1 ères chaleurs'!C66)","v":""},null,null,null,"","",null,"","","","","","","",""]
[null,null,null,{"$f":"IF('[1]1 ères chaleurs'!A67=\"\",\"\",IF('[1]1 ères chaleurs'!A67=\"total général\",\"\",'[1]1 ères chaleurs'!A67))","v":""},{"$f":"IF('[1]1 ères chaleurs'!B67=\"\",\"\",'[1]1 ères chaleurs'!B67)","v":""},{"$f":"IF('[1]1 ères chaleurs'!C67=\"\",\"\",'[1]1 ères chaleurs'!C67)","v":""},null,null,null,"","",null,"","","","","","","",""]
[null,null,null,{"$f":"IF('[1]1 ères chaleurs'!A68=\"\",\"\",IF('[1]1 ères chaleurs'!A68=\"total général\",\"\",'[1]1 ères chaleurs'!A68))","v":""},{"$f":"IF('[1]1 ères chaleurs'!B68=\"\",\"\",'[1]1 ères chaleurs'!B68)","v":""},{"$f":"IF('[1]1 ères chaleurs'!C68=\"\",\"\",'[1]1 ères chaleurs'!C68)","v":""},null,null,null,"","",null,"","","","","","","",""]
[null,null,null,{"$f":"IF('[1]1 ères chaleurs'!A69=\"\",\"\",IF('[1]1 ères chaleurs'!A69=\"total général\",\"\",'[1]1 ères chaleurs'!A69))","v":""},{"$f":"IF('[1]1 ères chaleurs'!B69=\"\",\"\",'[1]1 ères chaleurs'!B69)","v":""},{"$f":"IF('[1]1 ères chaleurs'!C69=\"\",\"\",'[1]1 ères chaleurs'!C69)","v":""},null,null,null,"","",null,"","","","","","","",""]
[null,null,null,{"$f":"IF('[1]1 ères chaleurs'!A70=\"\",\"\",IF('[1]1 ères chaleurs'!A70=\"total général\",\"\",'[1]1 ères chaleurs'!A70))","v":""},{"$f":"IF('[1]1 ères chaleurs'!B70=\"\",\"\",'[1]1 ères chaleurs'!B70)","v":""},{"$f":"IF('[1]1 ères chaleurs'!C70=\"\",\"\",'[1]1 ères chaleurs'!C70)","v":""},null,null,null,"","",null,"","","","","","","",""]
[null,null,null,{"$f":"IF('[1]1 ères chaleurs'!A71=\"\",\"\",IF('[1]1 ères chaleurs'!A71=\"total général\",\"\",'[1]1 ères chaleurs'!A71))","v":""},{"$f":"IF('[1]1 ères chaleurs'!B71=\"\",\"\",'[1]1 ères chaleurs'!B71)","v":""},{"$f":"IF('[1]1 ères chaleurs'!C71=\"\",\"\",'[1]1 ères chaleurs'!C71)","v":""},null,null,null,"","",null,"","","","","","","",""]
[null,null,null,{"$f":"IF('[1]1 ères chaleurs'!A72=\"\",\"\",IF('[1]1 ères chaleurs'!A72=\"total général\",\"\",'[1]1 ères chaleurs'!A72))","v":""},{"$f":"IF('[1]1 ères chaleurs'!B72=\"\",\"\",'[1]1 ères chaleurs'!B72)","v":""},{"$f":"IF('[1]1 ères chaleurs'!C72=\"\",\"\",'[1]1 ères chaleurs'!C72)","v":""},null,null,null,"","",null,"","","","","","","",""]
[null,null,null,{"$f":"IF('[1]1 ères chaleurs'!A73=\"\",\"\",IF('[1]1 ères chaleurs'!A73=\"total général\",\"\",'[1]1 ères chaleurs'!A73))","v":""},{"$f":"IF('[1]1 ères chaleurs'!B73=\"\",\"\",'[1]1 ères chaleurs'!B73)","v":""},{"$f":"IF('[1]1 ères chaleurs'!C73=\"\",\"\",'[1]1 ères chaleurs'!C73)","v":""},null,null,null,"","",null,"","","","","","","",""]
[null,null,null,{"$f":"IF('[1]1 ères chaleurs'!A74=\"\",\"\",IF('[1]1 ères chaleurs'!A74=\"total général\",\"\",'[1]1 ères chaleurs'!A74))","v":""},{"$f":"IF('[1]1 ères chaleurs'!B74=\"\",\"\",'[1]1 ères chaleurs'!B74)","v":""},{"$f":"IF('[1]1 ères chaleurs'!C74=\"\",\"\",'[1]1 ères chaleurs'!C74)","v":""},null,null,null,"","",null,"","","","","","","",""]
[null,null,null,{"$f":"IF('[1]1 ères chaleurs'!A75=\"\",\"\",IF('[1]1 ères chaleurs'!A75=\"total général\",\"\",'[1]1 ères chaleurs'!A75))","v":""},{"$f":"IF('[1]1 ères chaleurs'!B75=\"\",\"\",'[1]1 ères chaleurs'!B75)","v":""},{"$f":"IF('[1]1 ères chaleurs'!C75=\"\",\"\",'[1]1 ères chaleurs'!C75)","v":""},null,null,null,"","",null,"","",{"$f":"IF(N72=\"\",\"\",IF(N72=1,IF(G72=\"\",\"\",\"XXX\"),\"XXX\"))","v":""},"",{"$f":"IF(P72=\"\",\"\",IF(P72=1,IF(G72=\"\",\"\",\"XXX\"),\"XXX\"))","v":""},{"$f":"IF(P72=\"\",\"\",IF(P72=1,IF(G72=\"\",\"\",\"XXX\"),\"XXX\"))","v":""},{"$f":"IF(R72=\"\",\"\",IF(R72=1,IF(G72=\"\",\"\",\"XXX\"),\"XXX\"))","v":""},""]
[null,null,null,{"$f":"IF('[1]1 ères chaleurs'!A76=\"\",\"\",IF('[1]1 ères chaleurs'!A76=\"total général\",\"\",'[1]1 ères chaleurs'!A76))","v":""},{"$f":"IF('[1]1 ères chaleurs'!B76=\"\",\"\",'[1]1 ères chaleurs'!B76)","v":""},{"$f":"IF('[1]1 ères chaleurs'!C76=\"\",\"\",'[1]1 ères chaleurs'!C76)","v":""},null,null,null,{"$f":"IF(G73=\"\",\"\",\"XXX\")","v":""},"",null,{"$f":"IF(K73=\"\",\"\",IF(K73=1,IF(G73=\"\",\"\",\"XXX\"),\"XXX\"))","v":""},"","","","","","",""]
[null,null,null,{"$f":"IF('[1]1 ères chaleurs'!A77=\"\",\"\",IF('[1]1 ères chaleurs'!A77=\"total général\",\"\",'[1]1 ères chaleurs'!A77))","v":""},{"$f":"IF('[1]1 ères chaleurs'!B77=\"\",\"\",'[1]1 ères chaleurs'!B77)","v":""},{"$f":"IF('[1]1 ères chaleurs'!C77=\"\",\"\",'[1]1 ères chaleurs'!C77)","v":""},null,null,null,"","",null,"","","","","","","",""]
[null,null,null,{"$f":"IF('[1]1 ères chaleurs'!A78=\"\",\"\",IF('[1]1 ères chaleurs'!A78=\"total général\",\"\",'[1]1 ères chaleurs'!A78))","v":""},{"$f":"IF('[1]1 ères chaleurs'!B78=\"\",\"\",'[1]1 ères chaleurs'!B78)","v":""},{"$f":"IF('[1]1 ères chaleurs'!C78=\"\",\"\",'[1]1 ères chaleurs'!C78)","v":""},null,null,null,"","",null,"","","","","","","",""]
[null,null,null,{"$f":"IF('[1]1 ères chaleurs'!A79=\"\",\"\",IF('[1]1 ères chaleurs'!A79=\"total général\",\"\",'[1]1 ères chaleurs'!A79))","v":""},{"$f":"IF('[1]1 ères chaleurs'!B79=\"\",\"\",'[1]1 ères chaleurs'!B79)","v":""},{"$f":"IF('[1]1 ères chaleurs'!C79=\"\",\"\",'[1]1 ères chaleurs'!C79)","v":""},null,null,null,"","",null,"","","","","","","",""]
[null,null,null,{"$f":"IF('[1]1 ères chaleurs'!A80=\"\",\"\",IF('[1]1 ères chaleurs'!A80=\"total général\",\"\",'[1]1 ères chaleurs'!A80))","v":""},{"$f":"IF('[1]1 ères chaleurs'!B80=\"\",\"\",'[1]1 ères chaleurs'!B80)","v":""},{"$f":"IF('[1]1 ères chaleurs'!C80=\"\",\"\",'[1]1 ères chaleurs'!C80)","v":""},null,null,null,"","",null,"","","","","","","",""]
[null,null,null,{"$f":"IF('[1]1 ères chaleurs'!A81=\"\",\"\",IF('[1]1 ères chaleurs'!A81=\"total général\",\"\",'[1]1 ères chaleurs'!A81))","v":""},{"$f":"IF('[1]1 ères chaleurs'!B81=\"\",\"\",'[1]1 ères chaleurs'!B81)","v":""},{"$f":"IF('[1]1 ères chaleurs'!C81=\"\",\"\",'[1]1 ères chaleurs'!C81)","v":""},null,null,null,"","",null,"","","","","","","",""]
[null,null,null,{"$f":"IF('[1]1 ères chaleurs'!A82=\"\",\"\",IF('[1]1 ères chaleurs'!A82=\"total général\",\"\",'[1]1 ères chaleurs'!A82))","v":""},{"$f":"IF('[1]1 ères chaleurs'!B82=\"\",\"\",'[1]1 ères chaleurs'!B82)","v":""},{"$f":"IF('[1]1 ères chaleurs'!C82=\"\",\"\",'[1]1 ères chaleurs'!C82)","v":""},null,null,null,"","",null,"","","","","","","",""]
[null,null,null,{"$f":"IF('[1]1 ères chaleurs'!A83=\"\",\"\",IF('[1]1 ères chaleurs'!A83=\"total général\",\"\",'[1]1 ères chaleurs'!A83))","v":""},{"$f":"IF('[1]1 ères chaleurs'!B83=\"\",\"\",'[1]1 ères chaleurs'!B83)","v":""},{"$f":"IF('[1]1 ères chaleurs'!C83=\"\",\"\",'[1]1 ères chaleurs'!C83)","v":""},null,null,null,"","",null,"","","","","","","",""]
[null,null,null,{"$f":"IF('[1]1 ères chaleurs'!A84=\"\",\"\",IF('[1]1 ères chaleurs'!A84=\"total général\",\"\",'[1]1 ères chaleurs'!A84))","v":""},{"$f":"IF('[1]1 ères chaleurs'!B84=\"\",\"\",'[1]1 ères chaleurs'!B84)","v":""},{"$f":"IF('[1]1 ères chaleurs'!C84=\"\",\"\",'[1]1 ères chaleurs'!C84)","v":""},null,null,null,"","",null,"","","","","","","",""]
[null,null,null,{"$f":"IF('[1]1 ères chaleurs'!A85=\"\",\"\",IF('[1]1 ères chaleurs'!A85=\"total général\",\"\",'[1]1 ères chaleurs'!A85))","v":""},{"$f":"IF('[1]1 ères chaleurs'!B85=\"\",\"\",'[1]1 ères chaleurs'!B85)","v":""},{"$f":"IF('[1]1 ères chaleurs'!C85=\"\",\"\",'[1]1 ères chaleurs'!C85)","v":""},null,null,null,"","",null,"","","","","","","",""]
[null,null,null,{"$f":"IF('[1]1 ères chaleurs'!A86=\"\",\"\",IF('[1]1 ères chaleurs'!A86=\"total général\",\"\",'[1]1 ères chaleurs'!A86))","v":""},{"$f":"IF('[1]1 ères chaleurs'!B86=\"\",\"\",'[1]1 ères chaleurs'!B86)","v":""},{"$f":"IF('[1]1 ères chaleurs'!C86=\"\",\"\",'[1]1 ères chaleurs'!C86)","v":""},null,null,null,"","",null,"","","","","","","",""]
[null,null,null,{"$f":"IF('[1]1 ères chaleurs'!A87=\"\",\"\",IF('[1]1 ères chaleurs'!A87=\"total général\",\"\",'[1]1 ères chaleurs'!A87))","v":""},{"$f":"IF('[1]1 ères chaleurs'!B87=\"\",\"\",'[1]1 ères chaleurs'!B87)","v":""},{"$f":"IF('[1]1 ères chaleurs'!C87=\"\",\"\",'[1]1 ères chaleurs'!C87)","v":""},null,null,null,"","",null,"","","","","","","",""]
[null,null,null,{"$f":"IF('[1]1 ères chaleurs'!A88=\"\",\"\",IF('[1]1 ères chaleurs'!A88=\"total général\",\"\",'[1]1 ères chaleurs'!A88))","v":""},{"$f":"IF('[1]1 ères chaleurs'!B88=\"\",\"\",'[1]1 ères chaleurs'!B88)","v":""},{"$f":"IF('[1]1 ères chaleurs'!C88=\"\",\"\",'[1]1 ères chaleurs'!C88)","v":""},null,null,null,"","",null,"","","","","","","",""]
[null,null,null,{"$f":"IF('[1]1 ères chaleurs'!A89=\"\",\"\",IF('[1]1 ères chaleurs'!A89=\"total général\",\"\",'[1]1 ères chaleurs'!A89))","v":""},{"$f":"IF('[1]1 ères chaleurs'!B89=\"\",\"\",'[1]1 ères chaleurs'!B89)","v":""},{"$f":"IF('[1]1 ères chaleurs'!C89=\"\",\"\",'[1]1 ères chaleurs'!C89)","v":""},null,null,null,"","",null,"","","","","","","",""]
[null,null,null,{"$f":"IF('[1]1 ères chaleurs'!A90=\"\",\"\",IF('[1]1 ères chaleurs'!A90=\"total général\",\"\",'[1]1 ères chaleurs'!A90))","v":""},{"$f":"IF('[1]1 ères chaleurs'!B90=\"\",\"\",'[1]1 ères chaleurs'!B90)","v":""},{"$f":"IF('[1]1 ères chaleurs'!C90=\"\",\"\",'[1]1 ères chaleurs'!C90)","v":""},null,null,null,"","",null,"","","","","","","",""]
[null,null,null,{"$f":"IF('[1]1 ères chaleurs'!A91=\"\",\"\",IF('[1]1 ères chaleurs'!A91=\"total général\",\"\",'[1]1 ères chaleurs'!A91))","v":""},{"$f":"IF('[1]1 ères chaleurs'!B91=\"\",\"\",'[1]1 ères chaleurs'!B91)","v":""},{"$f":"IF('[1]1 ères chaleurs'!C91=\"\",\"\",'[1]1 ères chaleurs'!C91)","v":""},null,null,null,"","",null,"","","","","","","",""]
[null,null,null,{"$f":"IF('[1]1 ères chaleurs'!A92=\"\",\"\",IF('[1]1 ères chaleurs'!A92=\"total général\",\"\",'[1]1 ères chaleurs'!A92))","v":""},{"$f":"IF('[1]1 ères chaleurs'!B92=\"\",\"\",'[1]1 ères chaleurs'!B92)","v":""},{"$f":"IF('[1]1 ères chaleurs'!C92=\"\",\"\",'[1]1 ères chaleurs'!C92)","v":""},null,null,null,"","",null,"","","","","","","",""]
[null,null,null,{"$f":"IF('[1]1 ères chaleurs'!A93=\"\",\"\",IF('[1]1 ères chaleurs'!A93=\"total général\",\"\",'[1]1 ères chaleurs'!A93))","v":""},{"$f":"IF('[1]1 ères chaleurs'!B93=\"\",\"\",'[1]1 ères chaleurs'!B93)","v":""},{"$f":"IF('[1]1 ères chaleurs'!C93=\"\",\"\",'[1]1 ères chaleurs'!C93)","v":""},null,null,null,"","",null,"","","","","","","",""]
[null,null,null,{"$f":"IF('[1]1 ères chaleurs'!A94=\"\",\"\",IF('[1]1 ères chaleurs'!A94=\"total général\",\"\",'[1]1 ères chaleurs'!A94))","v":""},{"$f":"IF('[1]1 ères chaleurs'!B94=\"\",\"\",'[1]1 ères chaleurs'!B94)","v":""},{"$f":"IF('[1]1 ères chaleurs'!C94=\"\",\"\",'[1]1 ères chaleurs'!C94)","v":""},null,null,null,"",{"$f":"IF(G91=\"\",\"\",\"XXX\")","v":""},null,"",{"$f":"IF(K91=\"\",\"\",IF(K91=1,IF(G91=\"\",\"\",\"XXX\"),\"XXX\"))","v":""},"",{"$f":"IF(N91=\"\",\"\",IF(N91=1,IF(G91=\"\",\"\",\"XXX\"),\"XXX\"))","v":""},"","","",{"$f":"IF(R91=\"\",\"\",IF(R91=1,IF(G91=\"\",\"\",\"XXX\"),\"XXX\"))","v":""}]
[null,null,null,{"$f":"IF('[1]1 ères chaleurs'!A95=\"\",\"\",IF('[1]1 ères chaleurs'!A95=\"total général\",\"\",'[1]1 ères chaleurs'!A95))","v":""},{"$f":"IF('[1]1 ères chaleurs'!B95=\"\",\"\",'[1]1 ères chaleurs'!B95)","v":""},{"$f":"IF('[1]1 ères chaleurs'!C95=\"\",\"\",'[1]1 ères chaleurs'!C95)","v":""},null,null,null,"","",null,"","","","","","","",""]
[null,null,null,{"$f":"IF('[1]1 ères chaleurs'!A96=\"\",\"\",IF('[1]1 ères chaleurs'!A96=\"total général\",\"\",'[1]1 ères chaleurs'!A96))","v":""},{"$f":"IF('[1]1 ères chaleurs'!B96=\"\",\"\",'[1]1 ères chaleurs'!B96)","v":""},{"$f":"IF('[1]1 ères chaleurs'!C96=\"\",\"\",'[1]1 ères chaleurs'!C96)","v":""},null,null,null,"","",null,"","","","","","","",""]
[null,null,null,{"$f":"IF('[1]1 ères chaleurs'!A97=\"\",\"\",IF('[1]1 ères chaleurs'!A97=\"total général\",\"\",'[1]1 ères chaleurs'!A97))","v":""},{"$f":"IF('[1]1 ères chaleurs'!B97=\"\",\"\",'[1]1 ères chaleurs'!B97)","v":""},{"$f":"IF('[1]1 ères chaleurs'!C97=\"\",\"\",'[1]1 ères chaleurs'!C97)","v":""},null,null,null,"","",null,"","","","","","","",""]
[null,null,null,{"$f":"IF('[1]1 ères chaleurs'!A98=\"\",\"\",IF('[1]1 ères chaleurs'!A98=\"total général\",\"\",'[1]1 ères chaleurs'!A98))","v":""},{"$f":"IF('[1]1 ères chaleurs'!B98=\"\",\"\",'[1]1 ères chaleurs'!B98)","v":""},{"$f":"IF('[1]1 ères chaleurs'!C98=\"\",\"\",'[1]1 ères chaleurs'!C98)","v":""},null,null,null,"","",null,"","","","","","","",""]
[null,null,null,{"$f":"IF('[1]1 ères chaleurs'!A99=\"\",\"\",IF('[1]1 ères chaleurs'!A99=\"total général\",\"\",'[1]1 ères chaleurs'!A99))","v":""},{"$f":"IF('[1]1 ères chaleurs'!B99=\"\",\"\",'[1]1 ères chaleurs'!B99)","v":""},{"$f":"IF('[1]1 ères chaleurs'!C99=\"\",\"\",'[1]1 ères chaleurs'!C99)","v":""},null,null,null,"","",null,"","","","","","","",""]
[null,null,null,{"$f":"IF('[1]1 ères chaleurs'!A100=\"\",\"\",IF('[1]1 ères chaleurs'!A100=\"total général\",\"\",'[1]1 ères chaleurs'!A100))","v":""},{"$f":"IF('[1]1 ères chaleurs'!B100=\"\",\"\",'[1]1 ères chaleurs'!B100)","v":""},{"$f":"IF('[1]1 ères chaleurs'!C100=\"\",\"\",'[1]1 ères chaleurs'!C100)","v":""},null,null,null,"","",null,"","","","","","","",""]
[null,null,null,{"$f":"IF('[1]1 ères chaleurs'!A101=\"\",\"\",IF('[1]1 ères chaleurs'!A101=\"total général\",\"\",'[1]1 ères chaleurs'!A101))","v":""},{"$f":"IF('[1]1 ères chaleurs'!B101=\"\",\"\",'[1]1 ères chaleurs'!B101)","v":""},{"$f":"IF('[1]1 ères chaleurs'!C101=\"\",\"\",'[1]1 ères chaleurs'!C101)","v":""},null,null,null,"","",null,"","","","","","","",""]
[null,null,null,{"$f":"IF('[1]1 ères chaleurs'!A102=\"\",\"\",IF('[1]1 ères chaleurs'!A102=\"total général\",\"\",'[1]1 ères chaleurs'!A102))","v":""},{"$f":"IF('[1]1 ères chaleurs'!B102=\"\",\"\",'[1]1 ères chaleurs'!B102)","v":""},{"$f":"IF('[1]1 ères chaleurs'!C102=\"\",\"\",'[1]1 ères chaleurs'!C102)","v":""},null,null,null,"","",null,"","","","","","","",""]
[null,null,null,{"$f":"IF('[1]1 ères chaleurs'!A103=\"\",\"\",IF('[1]1 ères chaleurs'!A103=\"total général\",\"\",'[1]1 ères chaleurs'!A103))","v":""},{"$f":"IF('[1]1 ères chaleurs'!B103=\"\",\"\",'[1]1 ères chaleurs'!B103)","v":""},{"$f":"IF('[1]1 ères chaleurs'!C103=\"\",\"\",'[1]1 ères chaleurs'!C103)","v":""},null,null,null,"","",null,"","","","","","","",""]
[null,null,null,{"$f":"IF('[1]1 ères chaleurs'!A104=\"\",\"\",IF('[1]1 ères chaleurs'!A104=\"total général\",\"\",'[1]1 ères chaleurs'!A104))","v":""},{"$f":"IF('[1]1 ères chaleurs'!B104=\"\",\"\",'[1]1 ères chaleurs'!B104)","v":""},{"$f":"IF('[1]1 ères chaleurs'!C104=\"\",\"\",'[1]1 ères chaleurs'!C104)","v":""},null,null,null,"","",null,"","","","","","","",""]
[null,null,null,{"$f":"IF('[1]1 ères chaleurs'!A105=\"\",\"\",IF('[1]1 ères chaleurs'!A105=\"total général\",\"\",'[1]1 ères chaleurs'!A105))","v":""},{"$f":"IF('[1]1 ères chaleurs'!B105=\"\",\"\",'[1]1 ères chaleurs'!B105)","v":""},{"$f":"IF('[1]1 ères chaleurs'!C105=\"\",\"\",'[1]1 ères chaleurs'!C105)","v":""},null,null,null,"","",null,"","","","","","","",""]
[null,null,null,{"$f":"IF('[1]1 ères chaleurs'!A106=\"\",\"\",IF('[1]1 ères chaleurs'!A106=\"total général\",\"\",'[1]1 ères chaleurs'!A106))","v":""},{"$f":"IF('[1]1 ères chaleurs'!B106=\"\",\"\",'[1]1 ères chaleurs'!B106)","v":""},{"$f":"IF('[1]1 ères chaleurs'!C106=\"\",\"\",'[1]1 ères chaleurs'!C106)","v":""},null,null,null,"","",null,"","","","","","","",""]
[null,null,null,{"$f":"IF('[1]1 ères chaleurs'!A107=\"\",\"\",IF('[1]1 ères chaleurs'!A107=\"total général\",\"\",'[1]1 ères chaleurs'!A107))","v":""},{"$f":"IF('[1]1 ères chaleurs'!B107=\"\",\"\",'[1]1 ères chaleurs'!B107)","v":""},{"$f":"IF('[1]1 ères chaleurs'!C107=\"\",\"\",'[1]1 ères chaleurs'!C107)","v":""},null,null,null,"","",null,"","","","","","","",""]
[null,null,null,{"$f":"IF('[1]1 ères chaleurs'!A108=\"\",\"\",IF('[1]1 ères chaleurs'!A108=\"total général\",\"\",'[1]1 ères chaleurs'!A108))","v":""},{"$f":"IF('[1]1 ères chaleurs'!B108=\"\",\"\",'[1]1 ères chaleurs'!B108)","v":""},{"$f":"IF('[1]1 ères chaleurs'!C108=\"\",\"\",'[1]1 ères chaleurs'!C108)","v":""},null,null,null,"","",null,"","","","","","","",""]
[null,null,null,{"$f":"IF('[1]1 ères chaleurs'!A109=\"\",\"\",IF('[1]1 ères chaleurs'!A109=\"total général\",\"\",'[1]1 ères chaleurs'!A109))","v":""},{"$f":"IF('[1]1 ères chaleurs'!B109=\"\",\"\",'[1]1 ères chaleurs'!B109)","v":""},{"$f":"IF('[1]1 ères chaleurs'!C109=\"\",\"\",'[1]1 ères chaleurs'!C109)","v":""},null,null,null,"","",null,"","","","","","","",""]
[null,null,null,{"$f":"IF('[1]1 ères chaleurs'!A110=\"\",\"\",IF('[1]1 ères chaleurs'!A110=\"total général\",\"\",'[1]1 ères chaleurs'!A110))","v":""},{"$f":"IF('[1]1 ères chaleurs'!B110=\"\",\"\",'[1]1 ères chaleurs'!B110)","v":""},{"$f":"IF('[1]1 ères chaleurs'!C110=\"\",\"\",'[1]1 ères chaleurs'!C110)","v":""},null,null,null,"","",null,"","","","","","","",""]
[null,null,null,{"$f":"IF('[1]1 ères chaleurs'!A111=\"\",\"\",IF('[1]1 ères chaleurs'!A111=\"total général\",\"\",'[1]1 ères chaleurs'!A111))","v":""},{"$f":"IF('[1]1 ères chaleurs'!B111=\"\",\"\",'[1]1 ères chaleurs'!B111)","v":""},{"$f":"IF('[1]1 ères chaleurs'!C111=\"\",\"\",'[1]1 ères chaleurs'!C111)","v":""},null,null,null,"","",null,"","","","","","","",""]
[null,null,null,{"$f":"IF('[1]1 ères chaleurs'!A112=\"\",\"\",IF('[1]1 ères chaleurs'!A112=\"total général\",\"\",'[1]1 ères chaleurs'!A112))","v":""},{"$f":"IF('[1]1 ères chaleurs'!B112=\"\",\"\",'[1]1 ères chaleurs'!B112)","v":""},{"$f":"IF('[1]1 ères chaleurs'!C112=\"\",\"\",'[1]1 ères chaleurs'!C112)","v":""},null,null,null,"","",null,"","","","","","","",""]
[null,null,null,{"$f":"IF('[1]1 ères chaleurs'!A113=\"\",\"\",IF('[1]1 ères chaleurs'!A113=\"total général\",\"\",'[1]1 ères chaleurs'!A113))","v":""},{"$f":"IF('[1]1 ères chaleurs'!B113=\"\",\"\",'[1]1 ères chaleurs'!B113)","v":""},{"$f":"IF('[1]1 ères chaleurs'!C113=\"\",\"\",'[1]1 ères chaleurs'!C113)","v":""},null,null,null,"","",null,"","","","","","","",""]
[null,null,null,{"$f":"IF('[1]1 ères chaleurs'!A114=\"\",\"\",IF('[1]1 ères chaleurs'!A114=\"total général\",\"\",'[1]1 ères chaleurs'!A114))","v":""},{"$f":"IF('[1]1 ères chaleurs'!B114=\"\",\"\",'[1]1 ères chaleurs'!B114)","v":""},{"$f":"IF('[1]1 ères chaleurs'!C114=\"\",\"\",'[1]1 ères chaleurs'!C114)","v":""},null,null,null,"","",null,"","","","","","","",""]
[null,null,null,{"$f":"IF('[1]1 ères chaleurs'!A115=\"\",\"\",IF('[1]1 ères chaleurs'!A115=\"total général\",\"\",'[1]1 ères chaleurs'!A115))","v":""},{"$f":"IF('[1]1 ères chaleurs'!B115=\"\",\"\",'[1]1 ères chaleurs'!B115)","v":""},{"$f":"IF('[1]1 ères chaleurs'!C115=\"\",\"\",'[1]1 ères chaleurs'!C115)","v":""},null,null,null,"","",null,"","","","","","","",""]
[null,null,null,{"$f":"IF('[1]1 ères chaleurs'!A116=\"\",\"\",IF('[1]1 ères chaleurs'!A116=\"total général\",\"\",'[1]1 ères chaleurs'!A116))","v":""},{"$f":"IF('[1]1 ères chaleurs'!B116=\"\",\"\",'[1]1 ères chaleurs'!B116)","v":""},{"$f":"IF('[1]1 ères chaleurs'!C116=\"\",\"\",'[1]1 ères chaleurs'!C116)","v":""},null,null,null,"","",null,"","","","","","","",""]
[null,null,null,{"$f":"IF('[1]1 ères chaleurs'!A117=\"\",\"\",IF('[1]1 ères chaleurs'!A117=\"total général\",\"\",'[1]1 ères chaleurs'!A117))","v":""},{"$f":"IF('[1]1 ères chaleurs'!B117=\"\",\"\",'[1]1 ères chaleurs'!B117)","v":""},{"$f":"IF('[1]1 ères chaleurs'!C117=\"\",\"\",'[1]1 ères chaleurs'!C117)","v":""},null,null,null,"","",null,"","","","","","","",""]
[null,null,null,{"$f":"IF('[1]1 ères chaleurs'!A118=\"\",\"\",IF('[1]1 ères chaleurs'!A118=\"total général\",\"\",'[1]1 ères chaleurs'!A118))","v":""},{"$f":"IF('[1]1 ères chaleurs'!B118=\"\",\"\",'[1]1 ères chaleurs'!B118)","v":""},{"$f":"IF('[1]1 ères chaleurs'!C118=\"\",\"\",'[1]1 ères chaleurs'!C118)","v":""},null,null,null,"","",null,"","","","","","","",""]
[null,null,null,{"$f":"IF('[1]1 ères chaleurs'!A119=\"\",\"\",IF('[1]1 ères chaleurs'!A119=\"total général\",\"\",'[1]1 ères chaleurs'!A119))","v":""},{"$f":"IF('[1]1 ères chaleurs'!B119=\"\",\"\",'[1]1 ères chaleurs'!B119)","v":""},{"$f":"IF('[1]1 ères chaleurs'!C119=\"\",\"\",'[1]1 ères chaleurs'!C119)","v":""},null,null,null,"","",null,"","","","","","","",""]
[null,null,null,{"$f":"IF('[1]1 ères chaleurs'!A120=\"\",\"\",IF('[1]1 ères chaleurs'!A120=\"total général\",\"\",'[1]1 ères chaleurs'!A120))","v":""},{"$f":"IF('[1]1 ères chaleurs'!B120=\"\",\"\",'[1]1 ères chaleurs'!B120)","v":""},{"$f":"IF('[1]1 ères chaleurs'!C120=\"\",\"\",'[1]1 ères chaleurs'!C120)","v":""},null,null,null,"","",null,"","","","","","","",""]
[null,null,null,{"$f":"IF('[1]1 ères chaleurs'!A121=\"\",\"\",IF('[1]1 ères chaleurs'!A121=\"total général\",\"\",'[1]1 ères chaleurs'!A121))","v":""},{"$f":"IF('[1]1 ères chaleurs'!B121=\"\",\"\",'[1]1 ères chaleurs'!B121)","v":""},{"$f":"IF('[1]1 ères chaleurs'!C121=\"\",\"\",'[1]1 ères chaleurs'!C121)","v":""},null,null,null,"","",null,"","","","","","","",""]
[null,null,null,{"$f":"IF('[1]1 ères chaleurs'!A122=\"\",\"\",IF('[1]1 ères chaleurs'!A122=\"total général\",\"\",'[1]1 ères chaleurs'!A122))","v":""},{"$f":"IF('[1]1 ères chaleurs'!B122=\"\",\"\",'[1]1 ères chaleurs'!B122)","v":""},{"$f":"IF('[1]1 ères chaleurs'!C122=\"\",\"\",'[1]1 ères chaleurs'!C122)","v":""},null,null,null,"","",null,"","","","","","","",""]
[null,null,null,{"$f":"IF('[1]1 ères chaleurs'!A123=\"\",\"\",IF('[1]1 ères chaleurs'!A123=\"total général\",\"\",'[1]1 ères chaleurs'!A123))","v":""},{"$f":"IF('[1]1 ères chaleurs'!B123=\"\",\"\",'[1]1 ères chaleurs'!B123)","v":""},{"$f":"IF('[1]1 ères chaleurs'!C123=\"\",\"\",'[1]1 ères chaleurs'!C123)","v":""},null,null,null,"","",null,"","","","","","","",""]
[null,null,null,{"$f":"IF('[1]1 ères chaleurs'!A124=\"\",\"\",IF('[1]1 ères chaleurs'!A124=\"total général\",\"\",'[1]1 ères chaleurs'!A124))","v":""},{"$f":"IF('[1]1 ères chaleurs'!B124=\"\",\"\",'[1]1 ères chaleurs'!B124)","v":""},{"$f":"IF('[1]1 ères chaleurs'!C124=\"\",\"\",'[1]1 ères chaleurs'!C124)","v":""},null,null,null,"","",null,"","","","","","","",""]
[null,null,null,{"$f":"IF('[1]1 ères chaleurs'!A125=\"\",\"\",IF('[1]1 ères chaleurs'!A125=\"total général\",\"\",'[1]1 ères chaleurs'!A125))","v":""},{"$f":"IF('[1]1 ères chaleurs'!B125=\"\",\"\",'[1]1 ères chaleurs'!B125)","v":""},{"$f":"IF('[1]1 ères chaleurs'!C125=\"\",\"\",'[1]1 ères chaleurs'!C125)","v":""},null,null,null,"","",null,"","","","","","","",""]
[null,null,null,{"$f":"IF('[1]1 ères chaleurs'!A126=\"\",\"\",IF('[1]1 ères chaleurs'!A126=\"total général\",\"\",'[1]1 ères chaleurs'!A126))","v":""},{"$f":"IF('[1]1 ères chaleurs'!B126=\"\",\"\",'[1]1 ères chaleurs'!B126)","v":""},{"$f":"IF('[1]1 ères chaleurs'!C126=\"\",\"\",'[1]1 ères chaleurs'!C126)","v":""},null,null,null,"","",null,"","","","","","","",""]
[null,null,null,{"$f":"IF('[1]1 ères chaleurs'!A127=\"\",\"\",IF('[1]1 ères chaleurs'!A127=\"total général\",\"\",'[1]1 ères chaleurs'!A127))","v":""},{"$f":"IF('[1]1 ères chaleurs'!B127=\"\",\"\",'[1]1 ères chaleurs'!B127)","v":""},{"$f":"IF('[1]1 ères chaleurs'!C127=\"\",\"\",'[1]1 ères chaleurs'!C127)","v":""},null,null,null,"","",null,"","","","","","","",""]
[null,null,null,{"$f":"IF('[1]1 ères chaleurs'!A128=\"\",\"\",IF('[1]1 ères chaleurs'!A128=\"total général\",\"\",'[1]1 ères chaleurs'!A128))","v":""},{"$f":"IF('[1]1 ères chaleurs'!B128=\"\",\"\",'[1]1 ères chaleurs'!B128)","v":""},{"$f":"IF('[1]1 ères chaleurs'!C128=\"\",\"\",'[1]1 ères chaleurs'!C128)","v":""},null,null,null,"","",null,"","","","","","","",""]
[null,null,null,{"$f":"IF('[1]1 ères chaleurs'!A129=\"\",\"\",IF('[1]1 ères chaleurs'!A129=\"total général\",\"\",'[1]1 ères chaleurs'!A129))","v":""},{"$f":"IF('[1]1 ères chaleurs'!B129=\"\",\"\",'[1]1 ères chaleurs'!B129)","v":""},{"$f":"IF('[1]1 ères chaleurs'!C129=\"\",\"\",'[1]1 ères chaleurs'!C129)","v":""},null,null,null,"","",null,"","","","","","","",""]
[null,null,null,{"$f":"IF('[1]1 ères chaleurs'!A130=\"\",\"\",IF('[1]1 ères chaleurs'!A130=\"total général\",\"\",'[1]1 ères chaleurs'!A130))","v":""},{"$f":"IF('[1]1 ères chaleurs'!B130=\"\",\"\",'[1]1 ères chaleurs'!B130)","v":""},{"$f":"IF('[1]1 ères chaleurs'!C130=\"\",\"\",'[1]1 ères chaleurs'!C130)","v":""},null,null,null,"","",null,"","","","","","","",""]
[null,null,null,{"$f":"IF('[1]1 ères chaleurs'!A131=\"\",\"\",IF('[1]1 ères chaleurs'!A131=\"total général\",\"\",'[1]1 ères chaleurs'!A131))","v":""},{"$f":"IF('[1]1 ères chaleurs'!B131=\"\",\"\",'[1]1 ères chaleurs'!B131)","v":""},{"$f":"IF('[1]1 ères chaleurs'!C131=\"\",\"\",'[1]1 ères chaleurs'!C131)","v":""},null,null,null,"","",null,"","","","","","","",""]
[null,null,null,{"$f":"IF('[1]1 ères chaleurs'!A132=\"\",\"\",IF('[1]1 ères chaleurs'!A132=\"total général\",\"\",'[1]1 ères chaleurs'!A132))","v":""},{"$f":"IF('[1]1 ères chaleurs'!B132=\"\",\"\",'[1]1 ères chaleurs'!B132)","v":""},{"$f":"IF('[1]1 ères chaleurs'!C132=\"\",\"\",'[1]1 ères chaleurs'!C132)","v":""},null,null,null,"","",null,"","","","","","","",""]
[null,null,null,{"$f":"IF('[1]1 ères chaleurs'!A133=\"\",\"\",IF('[1]1 ères chaleurs'!A133=\"total général\",\"\",'[1]1 ères chaleurs'!A133))","v":""},{"$f":"IF('[1]1 ères chaleurs'!B133=\"\",\"\",'[1]1 ères chaleurs'!B133)","v":""},{"$f":"IF('[1]1 ères chaleurs'!C133=\"\",\"\",'[1]1 ères chaleurs'!C133)","v":""},null,null,null,"","",null,"","","","","","","",""]
[null,null,null,{"$f":"IF('[1]1 ères chaleurs'!A134=\"\",\"\",IF('[1]1 ères chaleurs'!A134=\"total général\",\"\",'[1]1 ères chaleurs'!A134))","v":""},{"$f":"IF('[1]1 ères chaleurs'!B134=\"\",\"\",'[1]1 ères chaleurs'!B134)","v":""},{"$f":"IF('[1]1 ères chaleurs'!C134=\"\",\"\",'[1]1 ères chaleurs'!C134)","v":""},null,null,null,"","",null,"","","","","","","",""]
[null,null,null,{"$f":"IF('[1]1 ères chaleurs'!A135=\"\",\"\",IF('[1]1 ères chaleurs'!A135=\"total général\",\"\",'[1]1 ères chaleurs'!A135))","v":""},{"$f":"IF('[1]1 ères chaleurs'!B135=\"\",\"\",'[1]1 ères chaleurs'!B135)","v":""},{"$f":"IF('[1]1 ères chaleurs'!C135=\"\",\"\",'[1]1 ères chaleurs'!C135)","v":""},null,null,null,"","",null,"","","","","","","",""]
[null,null,null,{"$f":"IF('[1]1 ères chaleurs'!A136=\"\",\"\",IF('[1]1 ères chaleurs'!A136=\"total général\",\"\",'[1]1 ères chaleurs'!A136))","v":""},{"$f":"IF('[1]1 ères chaleurs'!B136=\"\",\"\",'[1]1 ères chaleurs'!B136)","v":""},{"$f":"IF('[1]1 ères chaleurs'!C136=\"\",\"\",'[1]1 ères chaleurs'!C136)","v":""},null,null,null,"","",null,"","","","","","","",""]
[null,null,null,{"$f":"IF('[1]1 ères chaleurs'!A137=\"\",\"\",IF('[1]1 ères chaleurs'!A137=\"total général\",\"\",'[1]1 ères chaleurs'!A137))","v":""},{"$f":"IF('[1]1 ères chaleurs'!B137=\"\",\"\",'[1]1 ères chaleurs'!B137)","v":""},{"$f":"IF('[1]1 ères chaleurs'!C137=\"\",\"\",'[1]1 ères chaleurs'!C137)","v":""},null,null,null,"","",null,"","","","","","","",""]
[null,null,null,{"$f":"IF('[1]1 ères chaleurs'!A138=\"\",\"\",IF('[1]1 ères chaleurs'!A138=\"total général\",\"\",'[1]1 ères chaleurs'!A138))","v":""},{"$f":"IF('[1]1 ères chaleurs'!B138=\"\",\"\",'[1]1 ères chaleurs'!B138)","v":""},{"$f":"IF('[1]1 ères chaleurs'!C138=\"\",\"\",'[1]1 ères chaleurs'!C138)","v":""},null,null,null,"","",null,"","","","","","","",""]
[null,null,null,{"$f":"IF('[1]1 ères chaleurs'!A139=\"\",\"\",IF('[1]1 ères chaleurs'!A139=\"total général\",\"\",'[1]1 ères chaleurs'!A139))","v":""},{"$f":"IF('[1]1 ères chaleurs'!B139=\"\",\"\",'[1]1 ères chaleurs'!B139)","v":""},{"$f":"IF('[1]1 ères chaleurs'!C139=\"\",\"\",'[1]1 ères chaleurs'!C139)","v":""},null,null,null,"","",null,"","",{"$f":"IF(N136=\"\",\"\",IF(N136=1,IF(G136=\"\",\"\",\"XXX\"),\"XXX\"))","v":""},"",{"$f":"IF(P136=\"\",\"\",IF(P136=1,IF(G136=\"\",\"\",\"XXX\"),\"XXX\"))","v":""},{"$f":"IF(P136=\"\",\"\",IF(P136=1,IF(G136=\"\",\"\",\"XXX\"),\"XXX\"))","v":""},{"$f":"IF(R136=\"\",\"\",IF(R136=1,IF(G136=\"\",\"\",\"XXX\"),\"XXX\"))","v":""},""]
[null,null,null,{"$f":"IF('[1]1 ères chaleurs'!A140=\"\",\"\",IF('[1]1 ères chaleurs'!A140=\"total général\",\"\",'[1]1 ères chaleurs'!A140))","v":""},{"$f":"IF('[1]1 ères chaleurs'!B140=\"\",\"\",'[1]1 ères chaleurs'!B140)","v":""},{"$f":"IF('[1]1 ères chaleurs'!C140=\"\",\"\",'[1]1 ères chaleurs'!C140)","v":""},null,null,null,{"$f":"IF(G137=\"\",\"\",\"XXX\")","v":""},"",null,{"$f":"IF(K137=\"\",\"\",IF(K137=1,IF(G137=\"\",\"\",\"XXX\"),\"XXX\"))","v":""},"","","","","","",""]
[null,null,null,{"$f":"IF('[1]1 ères chaleurs'!A141=\"\",\"\",IF('[1]1 ères chaleurs'!A141=\"total général\",\"\",'[1]1 ères chaleurs'!A141))","v":""},{"$f":"IF('[1]1 ères chaleurs'!B141=\"\",\"\",'[1]1 ères chaleurs'!B141)","v":""},{"$f":"IF('[1]1 ères chaleurs'!C141=\"\",\"\",'[1]1 ères chaleurs'!C141)","v":""},null,null,null,"","",null,"","","","","","","",""]
[null,null,null,{"$f":"IF('[1]1 ères chaleurs'!A142=\"\",\"\",IF('[1]1 ères chaleurs'!A142=\"total général\",\"\",'[1]1 ères chaleurs'!A142))","v":""},{"$f":"IF('[1]1 ères chaleurs'!B142=\"\",\"\",'[1]1 ères chaleurs'!B142)","v":""},{"$f":"IF('[1]1 ères chaleurs'!C142=\"\",\"\",'[1]1 ères chaleurs'!C142)","v":""},null,null,null,"","",null,"","","","","","","",""]
[null,null,null,{"$f":"IF('[1]1 ères chaleurs'!A143=\"\",\"\",IF('[1]1 ères chaleurs'!A143=\"total général\",\"\",'[1]1 ères chaleurs'!A143))","v":""},{"$f":"IF('[1]1 ères chaleurs'!B143=\"\",\"\",'[1]1 ères chaleurs'!B143)","v":""},{"$f":"IF('[1]1 ères chaleurs'!C143=\"\",\"\",'[1]1 ères chaleurs'!C143)","v":""},null,null,null,"","",null,"","","","","","","",""]
[null,null,null,{"$f":"IF('[1]1 ères chaleurs'!A144=\"\",\"\",IF('[1]1 ères chaleurs'!A144=\"total général\",\"\",'[1]1 ères chaleurs'!A144))","v":""},{"$f":"IF('[1]1 ères chaleurs'!B144=\"\",\"\",'[1]1 ères chaleurs'!B144)","v":""},{"$f":"IF('[1]1 ères chaleurs'!C144=\"\",\"\",'[1]1 ères chaleurs'!C144)","v":""},null,null,null,"","",null,"","","","","","","",""]
[null,null,null,{"$f":"IF('[1]1 ères chaleurs'!A145=\"\",\"\",IF('[1]1 ères chaleurs'!A145=\"total général\",\"\",'[1]1 ères chaleurs'!A145))","v":""},{"$f":"IF('[1]1 ères chaleurs'!B145=\"\",\"\",'[1]1 ères chaleurs'!B145)","v":""},{"$f":"IF('[1]1 ères chaleurs'!C145=\"\",\"\",'[1]1 ères chaleurs'!C145)","v":""},null,null,null,"","",null,"","","","","","","",""]
[null,null,null,{"$f":"IF('[1]1 ères chaleurs'!A146=\"\",\"\",IF('[1]1 ères chaleurs'!A146=\"total général\",\"\",'[1]1 ères chaleurs'!A146))","v":""},{"$f":"IF('[1]1 ères chaleurs'!B146=\"\",\"\",'[1]1 ères chaleurs'!B146)","v":""},{"$f":"IF('[1]1 ères chaleurs'!C146=\"\",\"\",'[1]1 ères chaleurs'!C146)","v":""},null,null,null,"","",null,"","","","","","","",""]
[null,null,null,{"$f":"IF('[1]1 ères chaleurs'!A147=\"\",\"\",IF('[1]1 ères chaleurs'!A147=\"total général\",\"\",'[1]1 ères chaleurs'!A147))","v":""},{"$f":"IF('[1]1 ères chaleurs'!B147=\"\",\"\",'[1]1 ères chaleurs'!B147)","v":""},{"$f":"IF('[1]1 ères chaleurs'!C147=\"\",\"\",'[1]1 ères chaleurs'!C147)","v":""},null,null,null,"","",null,"","","","","","","",""]
[null,null,null,{"$f":"IF('[1]1 ères chaleurs'!A148=\"\",\"\",IF('[1]1 ères chaleurs'!A148=\"total général\",\"\",'[1]1 ères chaleurs'!A148))","v":""},{"$f":"IF('[1]1 ères chaleurs'!B148=\"\",\"\",'[1]1 ères chaleurs'!B148)","v":""},{"$f":"IF('[1]1 ères chaleurs'!C148=\"\",\"\",'[1]1 ères chaleurs'!C148)","v":""},null,null,null,"","",null,"","","","","","","",""]
[null,null,null,{"$f":"IF('[1]1 ères chaleurs'!A149=\"\",\"\",IF('[1]1 ères chaleurs'!A149=\"total général\",\"\",'[1]1 ères chaleurs'!A149))","v":""},{"$f":"IF('[1]1 ères chaleurs'!B149=\"\",\"\",'[1]1 ères chaleurs'!B149)","v":""},{"$f":"IF('[1]1 ères chaleurs'!C149=\"\",\"\",'[1]1 ères chaleurs'!C149)","v":""},null,null,null,"","",null,"","","","","","","",""]
[null,null,null,{"$f":"IF('[1]1 ères chaleurs'!A150=\"\",\"\",IF('[1]1 ères chaleurs'!A150=\"total général\",\"\",'[1]1 ères chaleurs'!A150))","v":""},{"$f":"IF('[1]1 ères chaleurs'!B150=\"\",\"\",'[1]1 ères chaleurs'!B150)","v":""},{"$f":"IF('[1]1 ères chaleurs'!C150=\"\",\"\",'[1]1 ères chaleurs'!C150)","v":""},null,null,null,"","",null,"","","","","","","",""]
[null,null,null,{"$f":"IF('[1]1 ères chaleurs'!A151=\"\",\"\",IF('[1]1 ères chaleurs'!A151=\"total général\",\"\",'[1]1 ères chaleurs'!A151))","v":""},{"$f":"IF('[1]1 ères chaleurs'!B151=\"\",\"\",'[1]1 ères chaleurs'!B151)","v":""},{"$f":"IF('[1]1 ères chaleurs'!C151=\"\",\"\",'[1]1 ères chaleurs'!C151)","v":""},null,null,null,"","",null,"","","","","","","",""]
[null,null,null,{"$f":"IF('[1]1 ères chaleurs'!A152=\"\",\"\",IF('[1]1 ères chaleurs'!A152=\"total général\",\"\",'[1]1 ères chaleurs'!A152))","v":""},{"$f":"IF('[1]1 ères chaleurs'!B152=\"\",\"\",'[1]1 ères chaleurs'!B152)","v":""},{"$f":"IF('[1]1 ères chaleurs'!C152=\"\",\"\",'[1]1 ères chaleurs'!C152)","v":""},null,null,null,"","",null,"","","","","","","",""]
[null,null,null,{"$f":"IF('[1]1 ères chaleurs'!A153=\"\",\"\",IF('[1]1 ères chaleurs'!A153=\"total général\",\"\",'[1]1 ères chaleurs'!A153))","v":""},{"$f":"IF('[1]1 ères chaleurs'!B153=\"\",\"\",'[1]1 ères chaleurs'!B153)","v":""},{"$f":"IF('[1]1 ères chaleurs'!C153=\"\",\"\",'[1]1 ères chaleurs'!C153)","v":""},null,null,null,"","",null,"","","","","","","",""]
[null,null,null,{"$f":"IF('[1]1 ères chaleurs'!A154=\"\",\"\",IF('[1]1 ères chaleurs'!A154=\"total général\",\"\",'[1]1 ères chaleurs'!A154))","v":""},{"$f":"IF('[1]1 ères chaleurs'!B154=\"\",\"\",'[1]1 ères chaleurs'!B154)","v":""},{"$f":"IF('[1]1 ères chaleurs'!C154=\"\",\"\",'[1]1 ères chaleurs'!C154)","v":""},null,null,null,"","",null,"","","","","","","",""]
[null,null,null,{"$f":"IF('[1]1 ères chaleurs'!A155=\"\",\"\",IF('[1]1 ères chaleurs'!A155=\"total général\",\"\",'[1]1 ères chaleurs'!A155))","v":""},{"$f":"IF('[1]1 ères chaleurs'!B155=\"\",\"\",'[1]1 ères chaleurs'!B155)","v":""},{"$f":"IF('[1]1 ères chaleurs'!C155=\"\",\"\",'[1]1 ères chaleurs'!C155)","v":""},null,null,null,"","",null,"","","","","","","",""]
[null,null,null,{"$f":"IF('[1]1 ères chaleurs'!A156=\"\",\"\",IF('[1]1 ères chaleurs'!A156=\"total général\",\"\",'[1]1 ères chaleurs'!A156))","v":""},{"$f":"IF('[1]1 ères chaleurs'!B156=\"\",\"\",'[1]1 ères chaleurs'!B156)","v":""},{"$f":"IF('[1]1 ères chaleurs'!C156=\"\",\"\",'[1]1 ères chaleurs'!C156)","v":""},null,null,null,"","",null,"","","","","","","",""]
[null,null,null,{"$f":"IF('[1]1 ères chaleurs'!A157=\"\",\"\",IF('[1]1 ères chaleurs'!A157=\"total général\",\"\",'[1]1 ères chaleurs'!A157))","v":""},{"$f":"IF('[1]1 ères chaleurs'!B157=\"\",\"\",'[1]1 ères chaleurs'!B157)","v":""},{"$f":"IF('[1]1 ères chaleurs'!C157=\"\",\"\",'[1]1 ères chaleurs'!C157)","v":""},null,null,null,"","",null,"","","","","","","",""]
[null,null,null,{"$f":"IF('[1]1 ères chaleurs'!A158=\"\",\"\",IF('[1]1 ères chaleurs'!A158=\"total général\",\"\",'[1]1 ères chaleurs'!A158))","v":""},{"$f":"IF('[1]1 ères chaleurs'!B158=\"\",\"\",'[1]1 ères chaleurs'!B158)","v":""},{"$f":"IF('[1]1 ères chaleurs'!C158=\"\",\"\",'[1]1 ères chaleurs'!C158)","v":""},null,null,null,"",{"$f":"IF(G155=\"\",\"\",\"XXX\")","v":""},null,"",{"$f":"IF(K155=\"\",\"\",IF(K155=1,IF(G155=\"\",\"\",\"XXX\"),\"XXX\"))","v":""},"",{"$f":"IF(N155=\"\",\"\",IF(N155=1,IF(G155=\"\",\"\",\"XXX\"),\"XXX\"))","v":""},"","","",{"$f":"IF(R155=\"\",\"\",IF(R155=1,IF(G155=\"\",\"\",\"XXX\"),\"XXX\"))","v":""}]
[null,null,null,{"$f":"IF('[1]1 ères chaleurs'!A159=\"\",\"\",IF('[1]1 ères chaleurs'!A159=\"total général\",\"\",'[1]1 ères chaleurs'!A159))","v":""},{"$f":"IF('[1]1 ères chaleurs'!B159=\"\",\"\",'[1]1 ères chaleurs'!B159)","v":""},{"$f":"IF('[1]1 ères chaleurs'!C159=\"\",\"\",'[1]1 ères chaleurs'!C159)","v":""},null,null,null,"","",null,"","","","","","","",""]
[null,null,null,{"$f":"IF('[1]1 ères chaleurs'!A160=\"\",\"\",IF('[1]1 ères chaleurs'!A160=\"total général\",\"\",'[1]1 ères chaleurs'!A160))","v":""},{"$f":"IF('[1]1 ères chaleurs'!B160=\"\",\"\",'[1]1 ères chaleurs'!B160)","v":""},{"$f":"IF('[1]1 ères chaleurs'!C160=\"\",\"\",'[1]1 ères chaleurs'!C160)","v":""},null,null,null,"","",null,"","","","","","","",""]
[null,null,null,{"$f":"IF('[1]1 ères chaleurs'!A161=\"\",\"\",IF('[1]1 ères chaleurs'!A161=\"total général\",\"\",'[1]1 ères chaleurs'!A161))","v":""},{"$f":"IF('[1]1 ères chaleurs'!B161=\"\",\"\",'[1]1 ères chaleurs'!B161)","v":""},{"$f":"IF('[1]1 ères chaleurs'!C161=\"\",\"\",'[1]1 ères chaleurs'!C161)","v":""},null,null,null,"","",null,"","","","","","","",""]
[null,null,null,{"$f":"IF('[1]1 ères chaleurs'!A162=\"\",\"\",IF('[1]1 ères chaleurs'!A162=\"total général\",\"\",'[1]1 ères chaleurs'!A162))","v":""},{"$f":"IF('[1]1 ères chaleurs'!B162=\"\",\"\",'[1]1 ères chaleurs'!B162)","v":""},{"$f":"IF('[1]1 ères chaleurs'!C162=\"\",\"\",'[1]1 ères chaleurs'!C162)","v":""},null,null,null,"","",null,"","","","","","","",""]
[null,null,null,{"$f":"IF('[1]1 ères chaleurs'!A163=\"\",\"\",IF('[1]1 ères chaleurs'!A163=\"total général\",\"\",'[1]1 ères chaleurs'!A163))","v":""},{"$f":"IF('[1]1 ères chaleurs'!B163=\"\",\"\",'[1]1 ères chaleurs'!B163)","v":""},{"$f":"IF('[1]1 ères chaleurs'!C163=\"\",\"\",'[1]1 ères chaleurs'!C163)","v":""},null,null,null,"","",null,"","","","","","","",""]
[null,null,null,{"$f":"IF('[1]1 ères chaleurs'!A164=\"\",\"\",IF('[1]1 ères chaleurs'!A164=\"total général\",\"\",'[1]1 ères chaleurs'!A164))","v":""},{"$f":"IF('[1]1 ères chaleurs'!B164=\"\",\"\",'[1]1 ères chaleurs'!B164)","v":""},{"$f":"IF('[1]1 ères chaleurs'!C164=\"\",\"\",'[1]1 ères chaleurs'!C164)","v":""},null,null,null,"","",null,"","","","","","","",""]
[null,null,null,{"$f":"IF('[1]1 ères chaleurs'!A165=\"\",\"\",IF('[1]1 ères chaleurs'!A165=\"total général\",\"\",'[1]1 ères chaleurs'!A165))","v":""},{"$f":"IF('[1]1 ères chaleurs'!B165=\"\",\"\",'[1]1 ères chaleurs'!B165)","v":""},{"$f":"IF('[1]1 ères chaleurs'!C165=\"\",\"\",'[1]1 ères chaleurs'!C165)","v":""},null,null,null,"","",null,"","","","","","","",""]
[null,null,null,{"$f":"IF('[1]1 ères chaleurs'!A166=\"\",\"\",IF('[1]1 ères chaleurs'!A166=\"total général\",\"\",'[1]1 ères chaleurs'!A166))","v":""},{"$f":"IF('[1]1 ères chaleurs'!B166=\"\",\"\",'[1]1 ères chaleurs'!B166)","v":""},{"$f":"IF('[1]1 ères chaleurs'!C166=\"\",\"\",'[1]1 ères chaleurs'!C166)","v":""},null,null,null,"","",null,"","","","","","","",""]
[null,null,null,{"$f":"IF('[1]1 ères chaleurs'!A167=\"\",\"\",IF('[1]1 ères chaleurs'!A167=\"total général\",\"\",'[1]1 ères chaleurs'!A167))","v":""},{"$f":"IF('[1]1 ères chaleurs'!B167=\"\",\"\",'[1]1 ères chaleurs'!B167)","v":""},{"$f":"IF('[1]1 ères chaleurs'!C167=\"\",\"\",'[1]1 ères chaleurs'!C167)","v":""},null,null,null,"","",null,"","","","","","","",""]
[null,null,null,{"$f":"IF('[1]1 ères chaleurs'!A168=\"\",\"\",IF('[1]1 ères chaleurs'!A168=\"total général\",\"\",'[1]1 ères chaleurs'!A168))","v":""},{"$f":"IF('[1]1 ères chaleurs'!B168=\"\",\"\",'[1]1 ères chaleurs'!B168)","v":""},{"$f":"IF('[1]1 ères chaleurs'!C168=\"\",\"\",'[1]1 ères chaleurs'!C168)","v":""},null,null,null,"","",null,"","","","","","","",""]
[null,null,null,{"$f":"IF('[1]1 ères chaleurs'!A169=\"\",\"\",IF('[1]1 ères chaleurs'!A169=\"total général\",\"\",'[1]1 ères chaleurs'!A169))","v":""},{"$f":"IF('[1]1 ères chaleurs'!B169=\"\",\"\",'[1]1 ères chaleurs'!B169)","v":""},{"$f":"IF('[1]1 ères chaleurs'!C169=\"\",\"\",'[1]1 ères chaleurs'!C169)","v":""},null,null,null,"","",null,"","","","","","","",""]
[null,null,null,{"$f":"IF('[1]1 ères chaleurs'!A170=\"\",\"\",IF('[1]1 ères chaleurs'!A170=\"total général\",\"\",'[1]1 ères chaleurs'!A170))","v":""},{"$f":"IF('[1]1 ères chaleurs'!B170=\"\",\"\",'[1]1 ères chaleurs'!B170)","v":""},{"$f":"IF('[1]1 ères chaleurs'!C170=\"\",\"\",'[1]1 ères chaleurs'!C170)","v":""},null,null,null,"","",null,"","","","","","","",""]
[null,null,null,{"$f":"IF('[1]1 ères chaleurs'!A171=\"\",\"\",IF('[1]1 ères chaleurs'!A171=\"total général\",\"\",'[1]1 ères chaleurs'!A171))","v":""},{"$f":"IF('[1]1 ères chaleurs'!B171=\"\",\"\",'[1]1 ères chaleurs'!B171)","v":""},{"$f":"IF('[1]1 ères chaleurs'!C171=\"\",\"\",'[1]1 ères chaleurs'!C171)","v":""},null,null,null,"","",null,"","","","","","","",""]
[null,null,null,{"$f":"IF('[1]1 ères chaleurs'!A172=\"\",\"\",IF('[1]1 ères chaleurs'!A172=\"total général\",\"\",'[1]1 ères chaleurs'!A172))","v":""},{"$f":"IF('[1]1 ères chaleurs'!B172=\"\",\"\",'[1]1 ères chaleurs'!B172)","v":""},{"$f":"IF('[1]1 ères chaleurs'!C172=\"\",\"\",'[1]1 ères chaleurs'!C172)","v":""},null,null,null,"","",null,"","","","","","","",""]
[null,null,null,{"$f":"IF('[1]1 ères chaleurs'!A173=\"\",\"\",IF('[1]1 ères chaleurs'!A173=\"total général\",\"\",'[1]1 ères chaleurs'!A173))","v":""},{"$f":"IF('[1]1 ères chaleurs'!B173=\"\",\"\",'[1]1 ères chaleurs'!B173)","v":""},{"$f":"IF('[1]1 ères chaleurs'!C173=\"\",\"\",'[1]1 ères chaleurs'!C173)","v":""},null,null,null,"","",null,"","","","","","","",""]
[null,null,null,{"$f":"IF('[1]1 ères chaleurs'!A174=\"\",\"\",IF('[1]1 ères chaleurs'!A174=\"total général\",\"\",'[1]1 ères chaleurs'!A174))","v":""},{"$f":"IF('[1]1 ères chaleurs'!B174=\"\",\"\",'[1]1 ères chaleurs'!B174)","v":""},{"$f":"IF('[1]1 ères chaleurs'!C174=\"\",\"\",'[1]1 ères chaleurs'!C174)","v":""},null,null,null,"","",null,"","","","","","","",""]
[null,null,null,{"$f":"IF('[1]1 ères chaleurs'!A175=\"\",\"\",IF('[1]1 ères chaleurs'!A175=\"total général\",\"\",'[1]1 ères chaleurs'!A175))","v":""},{"$f":"IF('[1]1 ères chaleurs'!B175=\"\",\"\",'[1]1 ères chaleurs'!B175)","v":""},{"$f":"IF('[1]1 ères chaleurs'!C175=\"\",\"\",'[1]1 ères chaleurs'!C175)","v":""},null,null,null,"","",null,"","","","","","","",""]
[null,null,null,{"$f":"IF('[1]1 ères chaleurs'!A176=\"\",\"\",IF('[1]1 ères chaleurs'!A176=\"total général\",\"\",'[1]1 ères chaleurs'!A176))","v":""},{"$f":"IF('[1]1 ères chaleurs'!B176=\"\",\"\",'[1]1 ères chaleurs'!B176)","v":""},{"$f":"IF('[1]1 ères chaleurs'!C176=\"\",\"\",'[1]1 ères chaleurs'!C176)","v":""},null,null,null,"","",null,"","","","","","","",""]
[null,null,null,{"$f":"IF('[1]1 ères chaleurs'!A177=\"\",\"\",IF('[1]1 ères chaleurs'!A177=\"total général\",\"\",'[1]1 ères chaleurs'!A177))","v":""},{"$f":"IF('[1]1 ères chaleurs'!B177=\"\",\"\",'[1]1 ères chaleurs'!B177)","v":""},{"$f":"IF('[1]1 ères chaleurs'!C177=\"\",\"\",'[1]1 ères chaleurs'!C177)","v":""},null,null,null,"","",null,"","","","","","","",""]
[null,null,null,{"$f":"IF('[1]1 ères chaleurs'!A178=\"\",\"\",IF('[1]1 ères chaleurs'!A178=\"total général\",\"\",'[1]1 ères chaleurs'!A178))","v":""},{"$f":"IF('[1]1 ères chaleurs'!B178=\"\",\"\",'[1]1 ères chaleurs'!B178)","v":""},{"$f":"IF('[1]1 ères chaleurs'!C178=\"\",\"\",'[1]1 ères chaleurs'!C178)","v":""},null,null,null,"","",null,"","","","","","","",""]
[null,null,null,{"$f":"IF('[1]1 ères chaleurs'!A179=\"\",\"\",IF('[1]1 ères chaleurs'!A179=\"total général\",\"\",'[1]1 ères chaleurs'!A179))","v":""},{"$f":"IF('[1]1 ères chaleurs'!B179=\"\",\"\",'[1]1 ères chaleurs'!B179)","v":""},{"$f":"IF('[1]1 ères chaleurs'!C179=\"\",\"\",'[1]1 ères chaleurs'!C179)","v":""},null,null,null,"","",null,"","","","","","","",""]
[null,null,null,{"$f":"IF('[1]1 ères chaleurs'!A180=\"\",\"\",IF('[1]1 ères chaleurs'!A180=\"total général\",\"\",'[1]1 ères chaleurs'!A180))","v":""},{"$f":"IF('[1]1 ères chaleurs'!B180=\"\",\"\",'[1]1 ères chaleurs'!B180)","v":""},{"$f":"IF('[1]1 ères chaleurs'!C180=\"\",\"\",'[1]1 ères chaleurs'!C180)","v":""},null,null,null,"","",null,"","","","","","","",""]
[null,null,null,{"$f":"IF('[1]1 ères chaleurs'!A181=\"\",\"\",IF('[1]1 ères chaleurs'!A181=\"total général\",\"\",'[1]1 ères chaleurs'!A181))","v":""},{"$f":"IF('[1]1 ères chaleurs'!B181=\"\",\"\",'[1]1 ères chaleurs'!B181)","v":""},{"$f":"IF('[1]1 ères chaleurs'!C181=\"\",\"\",'[1]1 ères chaleurs'!C181)","v":""},null,null,null,"","",null,"","","","","","","",""]
[null,null,null,{"$f":"IF('[1]1 ères chaleurs'!A182=\"\",\"\",IF('[1]1 ères chaleurs'!A182=\"total général\",\"\",'[1]1 ères chaleurs'!A182))","v":""},{"$f":"IF('[1]1 ères chaleurs'!B182=\"\",\"\",'[1]1 ères chaleurs'!B182)","v":""},{"$f":"IF('[1]1 ères chaleurs'!C182=\"\",\"\",'[1]1 ères chaleurs'!C182)","v":""},null,null,null,"","",null,"","","","","","","",""]
[null,null,null,{"$f":"IF('[1]1 ères chaleurs'!A183=\"\",\"\",IF('[1]1 ères chaleurs'!A183=\"total général\",\"\",'[1]1 ères chaleurs'!A183))","v":""},{"$f":"IF('[1]1 ères chaleurs'!B183=\"\",\"\",'[1]1 ères chaleurs'!B183)","v":""},{"$f":"IF('[1]1 ères chaleurs'!C183=\"\",\"\",'[1]1 ères chaleurs'!C183)","v":""},null,null,null,"","",null,"","","","","","","",""]
[null,null,null,{"$f":"IF('[1]1 ères chaleurs'!A184=\"\",\"\",IF('[1]1 ères chaleurs'!A184=\"total général\",\"\",'[1]1 ères chaleurs'!A184))","v":""},{"$f":"IF('[1]1 ères chaleurs'!B184=\"\",\"\",'[1]1 ères chaleurs'!B184)","v":""},{"$f":"IF('[1]1 ères chaleurs'!C184=\"\",\"\",'[1]1 ères chaleurs'!C184)","v":""},null,null,null,"","",null,"","","","","","","",""]
[null,null,null,{"$f":"IF('[1]1 ères chaleurs'!A185=\"\",\"\",IF('[1]1 ères chaleurs'!A185=\"total général\",\"\",'[1]1 ères chaleurs'!A185))","v":""},{"$f":"IF('[1]1 ères chaleurs'!B185=\"\",\"\",'[1]1 ères chaleurs'!B185)","v":""},{"$f":"IF('[1]1 ères chaleurs'!C185=\"\",\"\",'[1]1 ères chaleurs'!C185)","v":""},null,null,null,"","",null,"","","","","","","",""]
[null,null,null,{"$f":"IF('[1]1 ères chaleurs'!A186=\"\",\"\",IF('[1]1 ères chaleurs'!A186=\"total général\",\"\",'[1]1 ères chaleurs'!A186))","v":""},{"$f":"IF('[1]1 ères chaleurs'!B186=\"\",\"\",'[1]1 ères chaleurs'!B186)","v":""},{"$f":"IF('[1]1 ères chaleurs'!C186=\"\",\"\",'[1]1 ères chaleurs'!C186)","v":""},null,null,null,"","",null,"","","","","","","",""]
[null,null,null,{"$f":"IF('[1]1 ères chaleurs'!A187=\"\",\"\",IF('[1]1 ères chaleurs'!A187=\"total général\",\"\",'[1]1 ères chaleurs'!A187))","v":""},{"$f":"IF('[1]1 ères chaleurs'!B187=\"\",\"\",'[1]1 ères chaleurs'!B187)","v":""},{"$f":"IF('[1]1 ères chaleurs'!C187=\"\",\"\",'[1]1 ères chaleurs'!C187)","v":""},null,null,null,"","",null,"","","","","","","",""]
[null,null,null,{"$f":"IF('[1]1 ères chaleurs'!A188=\"\",\"\",IF('[1]1 ères chaleurs'!A188=\"total général\",\"\",'[1]1 ères chaleurs'!A188))","v":""},{"$f":"IF('[1]1 ères chaleurs'!B188=\"\",\"\",'[1]1 ères chaleurs'!B188)","v":""},{"$f":"IF('[1]1 ères chaleurs'!C188=\"\",\"\",'[1]1 ères chaleurs'!C188)","v":""},null,null,null,"","",null,"","","","","","","",""]
[null,null,null,{"$f":"IF('[1]1 ères chaleurs'!A189=\"\",\"\",IF('[1]1 ères chaleurs'!A189=\"total général\",\"\",'[1]1 ères chaleurs'!A189))","v":""},{"$f":"IF('[1]1 ères chaleurs'!B189=\"\",\"\",'[1]1 ères chaleurs'!B189)","v":""},{"$f":"IF('[1]1 ères chaleurs'!C189=\"\",\"\",'[1]1 ères chaleurs'!C189)","v":""},null,null,null,"","",null,"","","","","","","",""]
[null,null,null,{"$f":"IF('[1]1 ères chaleurs'!A190=\"\",\"\",IF('[1]1 ères chaleurs'!A190=\"total général\",\"\",'[1]1 ères chaleurs'!A190))","v":""},{"$f":"IF('[1]1 ères chaleurs'!B190=\"\",\"\",'[1]1 ères chaleurs'!B190)","v":""},{"$f":"IF('[1]1 ères chaleurs'!C190=\"\",\"\",'[1]1 ères chaleurs'!C190)","v":""},null,null,null,"","",null,"","","","","","","",""]
[null,null,null,{"$f":"IF('[1]1 ères chaleurs'!A191=\"\",\"\",IF('[1]1 ères chaleurs'!A191=\"total général\",\"\",'[1]1 ères chaleurs'!A191))","v":""},{"$f":"IF('[1]1 ères chaleurs'!B191=\"\",\"\",'[1]1 ères chaleurs'!B191)","v":""},{"$f":"IF('[1]1 ères chaleurs'!C191=\"\",\"\",'[1]1 ères chaleurs'!C191)","v":""},null,null,null,"","",null,"","","","","","","",""]
[null,null,null,{"$f":"IF('[1]1 ères chaleurs'!A192=\"\",\"\",IF('[1]1 ères chaleurs'!A192=\"total général\",\"\",'[1]1 ères chaleurs'!A192))","v":""},{"$f":"IF('[1]1 ères chaleurs'!B192=\"\",\"\",'[1]1 ères chaleurs'!B192)","v":""},{"$f":"IF('[1]1 ères chaleurs'!C192=\"\",\"\",'[1]1 ères chaleurs'!C192)","v":""},null,null,null,"","",null,"","","","","","","",""]
[null,null,null,{"$f":"IF('[1]1 ères chaleurs'!A193=\"\",\"\",IF('[1]1 ères chaleurs'!A193=\"total général\",\"\",'[1]1 ères chaleurs'!A193))","v":""},{"$f":"IF('[1]1 ères chaleurs'!B193=\"\",\"\",'[1]1 ères chaleurs'!B193)","v":""},{"$f":"IF('[1]1 ères chaleurs'!C193=\"\",\"\",'[1]1 ères chaleurs'!C193)","v":""},null,null,null,"","",null,"","","","","","","",""]
[null,null,null,{"$f":"IF('[1]1 ères chaleurs'!A194=\"\",\"\",IF('[1]1 ères chaleurs'!A194=\"total général\",\"\",'[1]1 ères chaleurs'!A194))","v":""},{"$f":"IF('[1]1 ères chaleurs'!B194=\"\",\"\",'[1]1 ères chaleurs'!B194)","v":""},{"$f":"IF('[1]1 ères chaleurs'!C194=\"\",\"\",'[1]1 ères chaleurs'!C194)","v":""},null,null,null,"","",null,"","","","","","","",""]
[null,null,null,{"$f":"IF('[1]1 ères chaleurs'!A195=\"\",\"\",IF('[1]1 ères chaleurs'!A195=\"total général\",\"\",'[1]1 ères chaleurs'!A195))","v":""},{"$f":"IF('[1]1 ères chaleurs'!B195=\"\",\"\",'[1]1 ères chaleurs'!B195)","v":""},{"$f":"IF('[1]1 ères chaleurs'!C195=\"\",\"\",'[1]1 ères chaleurs'!C195)","v":""},null,null,null,"","",null,"","","","","","","",""]
[null,null,null,{"$f":"IF('[1]1 ères chaleurs'!A196=\"\",\"\",IF('[1]1 ères chaleurs'!A196=\"total général\",\"\",'[1]1 ères chaleurs'!A196))","v":""},{"$f":"IF('[1]1 ères chaleurs'!B196=\"\",\"\",'[1]1 ères chaleurs'!B196)","v":""},{"$f":"IF('[1]1 ères chaleurs'!C196=\"\",\"\",'[1]1 ères chaleurs'!C196)","v":""},null,null,null,"","",null,"","","","","","","",""]
[null,null,null,{"$f":"IF('[1]1 ères chaleurs'!A197=\"\",\"\",IF('[1]1 ères chaleurs'!A197=\"total général\",\"\",'[1]1 ères chaleurs'!A197))","v":""},{"$f":"IF('[1]1 ères chaleurs'!B197=\"\",\"\",'[1]1 ères chaleurs'!B197)","v":""},{"$f":"IF('[1]1 ères chaleurs'!C197=\"\",\"\",'[1]1 ères chaleurs'!C197)","v":""},null,null,null,"","",null,"","","","","","","",""]
[null,null,null,{"$f":"IF('[1]1 ères chaleurs'!A198=\"\",\"\",IF('[1]1 ères chaleurs'!A198=\"total général\",\"\",'[1]1 ères chaleurs'!A198))","v":""},{"$f":"IF('[1]1 ères chaleurs'!B198=\"\",\"\",'[1]1 ères chaleurs'!B198)","v":""},{"$f":"IF('[1]1 ères chaleurs'!C198=\"\",\"\",'[1]1 ères chaleurs'!C198)","v":""},null,null,null,"","",null,"","","","","","","",""]
[null,null,null,{"$f":"IF('[1]1 ères chaleurs'!A199=\"\",\"\",IF('[1]1 ères chaleurs'!A199=\"total général\",\"\",'[1]1 ères chaleurs'!A199))","v":""},{"$f":"IF('[1]1 ères chaleurs'!B199=\"\",\"\",'[1]1 ères chaleurs'!B199)","v":""},{"$f":"IF('[1]1 ères chaleurs'!C199=\"\",\"\",'[1]1 ères chaleurs'!C199)","v":""},null,null,null,"","",null,"","","","","","","",""]
[null,null,null,{"$f":"IF('[1]1 ères chaleurs'!A200=\"\",\"\",IF('[1]1 ères chaleurs'!A200=\"total général\",\"\",'[1]1 ères chaleurs'!A200))","v":""},{"$f":"IF('[1]1 ères chaleurs'!B200=\"\",\"\",'[1]1 ères chaleurs'!B200)","v":""},{"$f":"IF('[1]1 ères chaleurs'!C200=\"\",\"\",'[1]1 ères chaleurs'!C200)","v":""},null,null,null,"","",null,"","","","","","","",""]
[null,null,null,{"$f":"IF('[1]1 ères chaleurs'!A201=\"\",\"\",IF('[1]1 ères chaleurs'!A201=\"total général\",\"\",'[1]1 ères chaleurs'!A201))","v":""},{"$f":"IF('[1]1 ères chaleurs'!B201=\"\",\"\",'[1]1 ères chaleurs'!B201)","v":""},{"$f":"IF('[1]1 ères chaleurs'!C201=\"\",\"\",'[1]1 ères chaleurs'!C201)","v":""},null,null,null,"","",null,"","","","","","","",""]
[null,null,null,{"$f":"IF('[1]1 ères chaleurs'!A202=\"\",\"\",IF('[1]1 ères chaleurs'!A202=\"total général\",\"\",'[1]1 ères chaleurs'!A202))","v":""},{"$f":"IF('[1]1 ères chaleurs'!B202=\"\",\"\",'[1]1 ères chaleurs'!B202)","v":""},{"$f":"IF('[1]1 ères chaleurs'!C202=\"\",\"\",'[1]1 ères chaleurs'!C202)","v":""},null,null,null,"","",null,"","","","","","","",""]
[null,null,null,{"$f":"IF('[1]1 ères chaleurs'!A203=\"\",\"\",IF('[1]1 ères chaleurs'!A203=\"total général\",\"\",'[1]1 ères chaleurs'!A203))","v":""},{"$f":"IF('[1]1 ères chaleurs'!B203=\"\",\"\",'[1]1 ères chaleurs'!B203)","v":""},{"$f":"IF('[1]1 ères chaleurs'!C203=\"\",\"\",'[1]1 ères chaleurs'!C203)","v":""},null,null,null,"","",null,"","",{"$f":"IF(N200=\"\",\"\",IF(N200=1,IF(G200=\"\",\"\",\"XXX\"),\"XXX\"))","v":""},"",{"$f":"IF(P200=\"\",\"\",IF(P200=1,IF(G200=\"\",\"\",\"XXX\"),\"XXX\"))","v":""},{"$f":"IF(P200=\"\",\"\",IF(P200=1,IF(G200=\"\",\"\",\"XXX\"),\"XXX\"))","v":""},{"$f":"IF(R200=\"\",\"\",IF(R200=1,IF(G200=\"\",\"\",\"XXX\"),\"XXX\"))","v":""},""]
[null,null,null,{"$f":"IF('[1]1 ères chaleurs'!A204=\"\",\"\",IF('[1]1 ères chaleurs'!A204=\"total général\",\"\",'[1]1 ères chaleurs'!A204))","v":""},{"$f":"IF('[1]1 ères chaleurs'!B204=\"\",\"\",'[1]1 ères chaleurs'!B204)","v":""},{"$f":"IF('[1]1 ères chaleurs'!C204=\"\",\"\",'[1]1 ères chaleurs'!C204)","v":""},null,null,null,{"$f":"IF(G201=\"\",\"\",\"XXX\")","v":""},{"$f":"IF(G201=\"\",\"\",\"XXX\")","v":""},null,{"$f":"IF(K201=\"\",\"\",IF(K201=1,IF(G201=\"\",\"\",\"XXX\"),\"XXX\"))","v":""},{"$f":"IF(K201=\"\",\"\",IF(K201=1,IF(G201=\"\",\"\",\"XXX\"),\"XXX\"))","v":""},"",{"$f":"IF(N201=\"\",\"\",IF(N201=1,IF(G201=\"\",\"\",\"XXX\"),\"XXX\"))","v":""},"","","",{"$f":"IF(R201=\"\",\"\",IF(R201=1,IF(G201=\"\",\"\",\"XXX\"),\"XXX\"))","v":""}]

{"sheet":"intensité chaleurs","index":2,"n_rows":347,"n_cols":30,"rows_kept":347,"cut":false,"hidden":false,"merged":[[4,28,5,28],[4,26,5,26],[4,27,5,27],[4,15,5,15],[4,17,5,17],[4,20,5,20],[4,22,5,22],[4,25,5,25],[4,16,5,16],[4,18,5,18],[4,19,5,19],[4,21,5,21],[4,23,5,23],[4,24,5,24],[4,12,5,12],[1,2,1,28],[3,2,4,2],[3,4,3,8],[3,9,3,13],[3,14,3,18],[3,19,3,23],[3,24,3,28],[4,4,5,4],[4,6,5,6],[4,8,5,8],[4,9,5,9],[4,11,5,11],[4,13,5,13],[4,5,5,5],[4,14,5,14],[1,0,2,1],[4,0,5,1],[4,7,5,7],[3,3,5,3],[4,10,5,10]]}
[]
["retour à la page d'accueil",null,"Intensité des chaleurs pour les vaches (dès le vêlage) et les génisses (de 1 mois avant la période de repro--> fécondation)"]
[]
[null,null,"N° 4 chiffres ","Nom de l'animal","chaleur N°1",null,null,null,null,"chaleur N°2",null,null,null,null,"chaleur N°3",null,null,null,null,"chaleur N°4",null,null,null,null,"chaleur N°5"]
[{"$f":"'[1]IC Vaches et génisses'!$B$2","v":"54474307"},null,null,null," Date ","type","Intensité ","flusching","Lieu"," Date ","type","Intensité ","flusching","Lieu"," Date ","type","Intensité ","flusching","Lieu"," Date ","type","Intensité ","flusching","Lieu"," Date ","type","Intensité ","flusching","Lieu"]
[null,null,null,null,null,null,null,null,null,null,null,null,null,null,null,null,null,null,null,null,null,null,null,null,null,null,null,null,null,"Remarques particulières sur l'animal"]
[null,null,{"$f":"IF('[1]IC Vaches et génisses'!A8=\"\",\"\",IF('[1]IC Vaches et génisses'!A8=\"Total général\",\"\",'[1]IC Vaches et génisses'!A8))","v":"0052"},{"$f":"IF('[1]IC Vaches et génisses'!B8=\"\",\"\",'[1]IC Vaches et génisses'!B8)","v":"UDINE"}]
[null,null,{"$f":"IF('[1]IC Vaches et génisses'!A9=\"\",\"\",IF('[1]IC Vaches et génisses'!A9=\"Total général\",\"\",'[1]IC Vaches et génisses'!A9))","v":"2974"},{"$f":"IF('[1]IC Vaches et génisses'!B9=\"\",\"\",'[1]IC Vaches et génisses'!B9)","v":"ASTONIA"}]
[null,null,{"$f":"IF('[1]IC Vaches et génisses'!A10=\"\",\"\",IF('[1]IC Vaches et génisses'!A10=\"Total général\",\"\",'[1]IC Vaches et génisses'!A10))","v":"3266"},{"$f":"IF('[1]IC Vaches et génisses'!B10=\"\",\"\",'[1]IC Vaches et génisses'!B10)","v":"DECADE"}]
[null,null,{"$f":"IF('[1]IC Vaches et génisses'!A11=\"\",\"\",IF('[1]IC Vaches et génisses'!A11=\"Total général\",\"\",'[1]IC Vaches et génisses'!A11))","v":"3271"},{"$f":"IF('[1]IC Vaches et génisses'!B11=\"\",\"\",'[1]IC Vaches et génisses'!B11)","v":"DOUCETTE"}]
[null,null,{"$f":"IF('[1]IC Vaches et génisses'!A12=\"\",\"\",IF('[1]IC Vaches et génisses'!A12=\"Total général\",\"\",'[1]IC Vaches et génisses'!A12))","v":"3272"},{"$f":"IF('[1]IC Vaches et génisses'!B12=\"\",\"\",'[1]IC Vaches et génisses'!B12)","v":"DANETTE"}]
[null,null,{"$f":"IF('[1]IC Vaches et génisses'!A13=\"\",\"\",IF('[1]IC Vaches et génisses'!A13=\"Total général\",\"\",'[1]IC Vaches et génisses'!A13))","v":"3276"},{"$f":"IF('[1]IC Vaches et génisses'!B13=\"\",\"\",'[1]IC Vaches et génisses'!B13)","v":"DYNAMITE"}]
[null,null,{"$f":"IF('[1]IC Vaches et génisses'!A14=\"\",\"\",IF('[1]IC Vaches et génisses'!A14=\"Total général\",\"\",'[1]IC Vaches et génisses'!A14))","v":"3279"},{"$f":"IF('[1]IC Vaches et génisses'!B14=\"\",\"\",'[1]IC Vaches et génisses'!B14)","v":"DORA"}]
[null,null,{"$f":"IF('[1]IC Vaches et génisses'!A15=\"\",\"\",IF('[1]IC Vaches et génisses'!A15=\"Total général\",\"\",'[1]IC Vaches et génisses'!A15))","v":"3280"},{"$f":"IF('[1]IC Vaches et génisses'!B15=\"\",\"\",'[1]IC Vaches et génisses'!B15)","v":"DOLLY"}]
[null,null,{"$f":"IF('[1]IC Vaches et génisses'!A16=\"\",\"\",IF('[1]IC Vaches et génisses'!A16=\"Total général\",\"\",'[1]IC Vaches et génisses'!A16))","v":"3285"},{"$f":"IF('[1]IC Vaches et génisses'!B16=\"\",\"\",'[1]IC Vaches et génisses'!B16)","v":"DORINE"}]
[null,null,{"$f":"IF('[1]IC Vaches et génisses'!A17=\"\",\"\",IF('[1]IC Vaches et génisses'!A17=\"Total général\",\"\",'[1]IC Vaches et génisses'!A17))","v":"3292"},{"$f":"IF('[1]IC Vaches et génisses'!B17=\"\",\"\",'[1]IC Vaches et génisses'!B17)","v":"DIGITALE"}]
[null,null,{"$f":"IF('[1]IC Vaches et génisses'!A18=\"\",\"\",IF('[1]IC Vaches et génisses'!A18=\"Total général\",\"\",'[1]IC Vaches et génisses'!A18))","v":"3294"},{"$f":"IF('[1]IC Vaches et génisses'!B18=\"\",\"\",'[1]IC Vaches et génisses'!B18)","v":"EXTRA"}]
[null,null,{"$f":"IF('[1]IC Vaches et génisses'!A19=\"\",\"\",IF('[1]IC Vaches et génisses'!A19=\"Total général\",\"\",'[1]IC Vaches et génisses'!A19))","v":"3568"},{"$f":"IF('[1]IC Vaches et génisses'!B19=\"\",\"\",'[1]IC Vaches et génisses'!B19)","v":"BUVEE"}]
[null,null,{"$f":"IF('[1]IC Vaches et génisses'!A20=\"\",\"\",IF('[1]IC Vaches et génisses'!A20=\"Total général\",\"\",'[1]IC Vaches et génisses'!A20))","v":"4211"},{"$f":"IF('[1]IC Vaches et génisses'!B20=\"\",\"\",'[1]IC Vaches et génisses'!B20)","v":"FANTA"}]
[null,null,{"$f":"IF('[1]IC Vaches et génisses'!A21=\"\",\"\",IF('[1]IC Vaches et génisses'!A21=\"Total général\",\"\",'[1]IC Vaches et génisses'!A21))","v":"4212"},{"$f":"IF('[1]IC Vaches et génisses'!B21=\"\",\"\",'[1]IC Vaches et génisses'!B21)","v":"FLORA"}]
[null,null,{"$f":"IF('[1]IC Vaches et génisses'!A22=\"\",\"\",IF('[1]IC Vaches et génisses'!A22=\"Total général\",\"\",'[1]IC Vaches et génisses'!A22))","v":"4213"},{"$f":"IF('[1]IC Vaches et génisses'!B22=\"\",\"\",'[1]IC Vaches et génisses'!B22)","v":"FIDELIA"}]
[null,null,{"$f":"IF('[1]IC Vaches et génisses'!A23=\"\",\"\",IF('[1]IC Vaches et génisses'!A23=\"Total général\",\"\",'[1]IC Vaches et génisses'!A23))","v":"4214"},{"$f":"IF('[1]IC Vaches et génisses'!B23=\"\",\"\",'[1]IC Vaches et génisses'!B23)","v":"FIESTA"}]
[null,null,{"$f":"IF('[1]IC Vaches et génisses'!A24=\"\",\"\",IF('[1]IC Vaches et génisses'!A24=\"Total général\",\"\",'[1]IC Vaches et génisses'!A24))","v":"4215"},{"$f":"IF('[1]IC Vaches et génisses'!B24=\"\",\"\",'[1]IC Vaches et génisses'!B24)","v":"FIFI"}]
[null,null,{"$f":"IF('[1]IC Vaches et génisses'!A25=\"\",\"\",IF('[1]IC Vaches et génisses'!A25=\"Total général\",\"\",'[1]IC Vaches et génisses'!A25))","v":"4216"},{"$f":"IF('[1]IC Vaches et génisses'!B25=\"\",\"\",'[1]IC Vaches et génisses'!B25)","v":"FARCE"}]
[null,null,{"$f":"IF('[1]IC Vaches et génisses'!A26=\"\",\"\",IF('[1]IC Vaches et génisses'!A26=\"Total général\",\"\",'[1]IC Vaches et génisses'!A26))","v":"4217"},{"$f":"IF('[1]IC Vaches et génisses'!B26=\"\",\"\",'[1]IC Vaches et génisses'!B26)","v":"FAUVETTE"}]
[null,null,{"$f":"IF('[1]IC Vaches et génisses'!A27=\"\",\"\",IF('[1]IC Vaches et génisses'!A27=\"Total général\",\"\",'[1]IC Vaches et génisses'!A27))","v":"4223"},{"$f":"IF('[1]IC Vaches et génisses'!B27=\"\",\"\",'[1]IC Vaches et génisses'!B27)","v":"FEA"}]
[null,null,{"$f":"IF('[1]IC Vaches et génisses'!A28=\"\",\"\",IF('[1]IC Vaches et génisses'!A28=\"Total général\",\"\",'[1]IC Vaches et génisses'!A28))","v":"4226"},{"$f":"IF('[1]IC Vaches et génisses'!B28=\"\",\"\",'[1]IC Vaches et génisses'!B28)","v":"FIONA"}]
[null,null,{"$f":"IF('[1]IC Vaches et génisses'!A29=\"\",\"\",IF('[1]IC Vaches et génisses'!A29=\"Total général\",\"\",'[1]IC Vaches et génisses'!A29))","v":"4232"},{"$f":"IF('[1]IC Vaches et génisses'!B29=\"\",\"\",'[1]IC Vaches et génisses'!B29)","v":"FARIBOLE"}]
[null,null,{"$f":"IF('[1]IC Vaches et génisses'!A30=\"\",\"\",IF('[1]IC Vaches et génisses'!A30=\"Total général\",\"\",'[1]IC Vaches et génisses'!A30))","v":"4236"},{"$f":"IF('[1]IC Vaches et génisses'!B30=\"\",\"\",'[1]IC Vaches et génisses'!B30)","v":"FELLA"}]
[null,null,{"$f":"IF('[1]IC Vaches et génisses'!A31=\"\",\"\",IF('[1]IC Vaches et génisses'!A31=\"Total général\",\"\",'[1]IC Vaches et génisses'!A31))","v":"4506"},{"$f":"IF('[1]IC Vaches et génisses'!B31=\"\",\"\",'[1]IC Vaches et génisses'!B31)","v":"ILONA"}]
[null,null,{"$f":"IF('[1]IC Vaches et génisses'!A32=\"\",\"\",IF('[1]IC Vaches et génisses'!A32=\"Total général\",\"\",'[1]IC Vaches et génisses'!A32))","v":"4619"},{"$f":"IF('[1]IC Vaches et génisses'!B32=\"\",\"\",'[1]IC Vaches et génisses'!B32)","v":"HERITIERE"}]
[null,null,{"$f":"IF('[1]IC Vaches et génisses'!A33=\"\",\"\",IF('[1]IC Vaches et génisses'!A33=\"Total général\",\"\",'[1]IC Vaches et génisses'!A33))","v":"4886"},{"$f":"IF('[1]IC Vaches et génisses'!B33=\"\",\"\",'[1]IC Vaches et génisses'!B33)","v":"JELLY"}]
[null,null,{"$f":"IF('[1]IC Vaches et génisses'!A34=\"\",\"\",IF('[1]IC Vaches et génisses'!A34=\"Total général\",\"\",'[1]IC Vaches et génisses'!A34))","v":"4887"},{"$f":"IF('[1]IC Vaches et génisses'!B34=\"\",\"\",'[1]IC Vaches et génisses'!B34)","v":"JACYNTHE"}]
[null,null,{"$f":"IF('[1]IC Vaches et génisses'!A35=\"\",\"\",IF('[1]IC Vaches et génisses'!A35=\"Total général\",\"\",'[1]IC Vaches et génisses'!A35))","v":"4888"},{"$f":"IF('[1]IC Vaches et génisses'!B35=\"\",\"\",'[1]IC Vaches et génisses'!B35)","v":"JASMINE"}]
[null,null,{"$f":"IF('[1]IC Vaches et génisses'!A36=\"\",\"\",IF('[1]IC Vaches et génisses'!A36=\"Total général\",\"\",'[1]IC Vaches et génisses'!A36))","v":"4889"},{"$f":"IF('[1]IC Vaches et génisses'!B36=\"\",\"\",'[1]IC Vaches et génisses'!B36)","v":"JALA"}]
[null,null,{"$f":"IF('[1]IC Vaches et génisses'!A37=\"\",\"\",IF('[1]IC Vaches et génisses'!A37=\"Total général\",\"\",'[1]IC Vaches et génisses'!A37))","v":"4890"},{"$f":"IF('[1]IC Vaches et génisses'!B37=\"\",\"\",'[1]IC Vaches et génisses'!B37)","v":"JENNA"}]
[null,null,{"$f":"IF('[1]IC Vaches et génisses'!A38=\"\",\"\",IF('[1]IC Vaches et génisses'!A38=\"Total général\",\"\",'[1]IC Vaches et génisses'!A38))","v":"4891"},{"$f":"IF('[1]IC Vaches et génisses'!B38=\"\",\"\",'[1]IC Vaches et génisses'!B38)","v":"JIXIE"}]
[null,null,{"$f":"IF('[1]IC Vaches et génisses'!A39=\"\",\"\",IF('[1]IC Vaches et génisses'!A39=\"Total général\",\"\",'[1]IC Vaches et génisses'!A39))","v":"4892"},{"$f":"IF('[1]IC Vaches et génisses'!B39=\"\",\"\",'[1]IC Vaches et génisses'!B39)","v":"JAMAIQUE"}]
[null,null,{"$f":"IF('[1]IC Vaches et génisses'!A40=\"\",\"\",IF('[1]IC Vaches et génisses'!A40=\"Total général\",\"\",'[1]IC Vaches et génisses'!A40))","v":"4893"},{"$f":"IF('[1]IC Vaches et génisses'!B40=\"\",\"\",'[1]IC Vaches et génisses'!B40)","v":"JACOTTE"}]
[null,null,{"$f":"IF('[1]IC Vaches et génisses'!A41=\"\",\"\",IF('[1]IC Vaches et génisses'!A41=\"Total général\",\"\",'[1]IC Vaches et génisses'!A41))","v":"4894"},{"$f":"IF('[1]IC Vaches et génisses'!B41=\"\",\"\",'[1]IC Vaches et génisses'!B41)","v":"JOCONDE"}]
[null,null,{"$f":"IF('[1]IC Vaches et génisses'!A42=\"\",\"\",IF('[1]IC Vaches et génisses'!A42=\"Total général\",\"\",'[1]IC Vaches et génisses'!A42))","v":"4895"},{"$f":"IF('[1]IC Vaches et génisses'!B42=\"\",\"\",'[1]IC Vaches et génisses'!B42)","v":"JETSET"}]
[null,null,{"$f":"IF('[1]IC Vaches et génisses'!A43=\"\",\"\",IF('[1]IC Vaches et génisses'!A43=\"Total général\",\"\",'[1]IC Vaches et génisses'!A43))","v":"4896"},{"$f":"IF('[1]IC Vaches et génisses'!B43=\"\",\"\",'[1]IC Vaches et génisses'!B43)","v":"JOY"}]
[null,null,{"$f":"IF('[1]IC Vaches et génisses'!A44=\"\",\"\",IF('[1]IC Vaches et génisses'!A44=\"Total général\",\"\",'[1]IC Vaches et génisses'!A44))","v":"4897"},{"$f":"IF('[1]IC Vaches et génisses'!B44=\"\",\"\",'[1]IC Vaches et génisses'!B44)","v":"JASMA"}]
[null,null,{"$f":"IF('[1]IC Vaches et génisses'!A45=\"\",\"\",IF('[1]IC Vaches et génisses'!A45=\"Total général\",\"\",'[1]IC Vaches et génisses'!A45))","v":"4898"},{"$f":"IF('[1]IC Vaches et génisses'!B45=\"\",\"\",'[1]IC Vaches et génisses'!B45)","v":"JAMIE"}]
[null,null,{"$f":"IF('[1]IC Vaches et génisses'!A46=\"\",\"\",IF('[1]IC Vaches et génisses'!A46=\"Total général\",\"\",'[1]IC Vaches et génisses'!A46))","v":"4899"},{"$f":"IF('[1]IC Vaches et génisses'!B46=\"\",\"\",'[1]IC Vaches et génisses'!B46)","v":"JALNA"}]
[null,null,{"$f":"IF('[1]IC Vaches et génisses'!A47=\"\",\"\",IF('[1]IC Vaches et génisses'!A47=\"Total général\",\"\",'[1]IC Vaches et génisses'!A47))","v":"4901"},{"$f":"IF('[1]IC Vaches et génisses'!B47=\"\",\"\",'[1]IC Vaches et génisses'!B47)","v":"JODIE"}]
[null,null,{"$f":"IF('[1]IC Vaches et génisses'!A48=\"\",\"\",IF('[1]IC Vaches et génisses'!A48=\"Total général\",\"\",'[1]IC Vaches et génisses'!A48))","v":"4902"},{"$f":"IF('[1]IC Vaches et génisses'!B48=\"\",\"\",'[1]IC Vaches et génisses'!B48)","v":"JUNGLE"}]
[null,null,{"$f":"IF('[1]IC Vaches et génisses'!A49=\"\",\"\",IF('[1]IC Vaches et génisses'!A49=\"Total général\",\"\",'[1]IC Vaches et génisses'!A49))","v":"4903"},{"$f":"IF('[1]IC Vaches et génisses'!B49=\"\",\"\",'[1]IC Vaches et génisses'!B49)","v":"JELENE"}]
[null,null,{"$f":"IF('[1]IC Vaches et génisses'!A50=\"\",\"\",IF('[1]IC Vaches et génisses'!A50=\"Total général\",\"\",'[1]IC Vaches et génisses'!A50))","v":"4904"},{"$f":"IF('[1]IC Vaches et génisses'!B50=\"\",\"\",'[1]IC Vaches et génisses'!B50)","v":"JAMBETTE"}]
[null,null,{"$f":"IF('[1]IC Vaches et génisses'!A51=\"\",\"\",IF('[1]IC Vaches et génisses'!A51=\"Total général\",\"\",'[1]IC Vaches et génisses'!A51))","v":"4905"},{"$f":"IF('[1]IC Vaches et génisses'!B51=\"\",\"\",'[1]IC Vaches et génisses'!B51)","v":"JOLIE"}]
[null,null,{"$f":"IF('[1]IC Vaches et génisses'!A52=\"\",\"\",IF('[1]IC Vaches et génisses'!A52=\"Total général\",\"\",'[1]IC Vaches et génisses'!A52))","v":"4906"},{"$f":"IF('[1]IC Vaches et génisses'!B52=\"\",\"\",'[1]IC Vaches et génisses'!B52)","v":"JOYEUSE"}]
[null,null,{"$f":"IF('[1]IC Vaches et génisses'!A53=\"\",\"\",IF('[1]IC Vaches et génisses'!A53=\"Total général\",\"\",'[1]IC Vaches et génisses'!A53))","v":"4907"},{"$f":"IF('[1]IC Vaches et génisses'!B53=\"\",\"\",'[1]IC Vaches et génisses'!B53)","v":"JORDANIE"}]
[null,null,{"$f":"IF('[1]IC Vaches et génisses'!A54=\"\",\"\",IF('[1]IC Vaches et génisses'!A54=\"Total général\",\"\",'[1]IC Vaches et génisses'!A54))","v":"4908"},{"$f":"IF('[1]IC Vaches et génisses'!B54=\"\",\"\",'[1]IC Vaches et génisses'!B54)","v":"LACUNE"}]
[null,null,{"$f":"IF('[1]IC Vaches et génisses'!A55=\"\",\"\",IF('[1]IC Vaches et génisses'!A55=\"Total général\",\"\",'[1]IC Vaches et génisses'!A55))","v":"4909"},{"$f":"IF('[1]IC Vaches et génisses'!B55=\"\",\"\",'[1]IC Vaches et génisses'!B55)","v":"LIQUEUR"}]
[null,null,{"$f":"IF('[1]IC Vaches et génisses'!A56=\"\",\"\",IF('[1]IC Vaches et génisses'!A56=\"Total général\",\"\",'[1]IC Vaches et génisses'!A56))","v":"4910"},{"$f":"IF('[1]IC Vaches et génisses'!B56=\"\",\"\",'[1]IC Vaches et génisses'!B56)","v":"LITURGIE"}]
[null,null,{"$f":"IF('[1]IC Vaches et génisses'!A57=\"\",\"\",IF('[1]IC Vaches et génisses'!A57=\"Total général\",\"\",'[1]IC Vaches et génisses'!A57))","v":"4911"},{"$f":"IF('[1]IC Vaches et génisses'!B57=\"\",\"\",'[1]IC Vaches et génisses'!B57)","v":"LAINE"}]
[null,null,{"$f":"IF('[1]IC Vaches et génisses'!A58=\"\",\"\",IF('[1]IC Vaches et génisses'!A58=\"Total général\",\"\",'[1]IC Vaches et génisses'!A58))","v":"5200"},{"$f":"IF('[1]IC Vaches et génisses'!B58=\"\",\"\",'[1]IC Vaches et génisses'!B58)","v":"CENDRILLON"}]
[null,null,{"$f":"IF('[1]IC Vaches et génisses'!A59=\"\",\"\",IF('[1]IC Vaches et génisses'!A59=\"Total général\",\"\",'[1]IC Vaches et génisses'!A59))","v":"5321"},{"$f":"IF('[1]IC Vaches et génisses'!B59=\"\",\"\",'[1]IC Vaches et génisses'!B59)","v":"ACTION"}]
[null,null,{"$f":"IF('[1]IC Vaches et génisses'!A60=\"\",\"\",IF('[1]IC Vaches et génisses'!A60=\"Total général\",\"\",'[1]IC Vaches et génisses'!A60))","v":"5327"},{"$f":"IF('[1]IC Vaches et génisses'!B60=\"\",\"\",'[1]IC Vaches et génisses'!B60)","v":"AUTRUCHE"}]
[null,null,{"$f":"IF('[1]IC Vaches et génisses'!A61=\"\",\"\",IF('[1]IC Vaches et génisses'!A61=\"Total général\",\"\",'[1]IC Vaches et génisses'!A61))","v":"5567"},{"$f":"IF('[1]IC Vaches et génisses'!B61=\"\",\"\",'[1]IC Vaches et génisses'!B61)","v":"ETOILE"}]
[null,null,{"$f":"IF('[1]IC Vaches et génisses'!A62=\"\",\"\",IF('[1]IC Vaches et génisses'!A62=\"Total général\",\"\",'[1]IC Vaches et génisses'!A62))","v":"5571"},{"$f":"IF('[1]IC Vaches et génisses'!B62=\"\",\"\",'[1]IC Vaches et génisses'!B62)","v":"EBENE"}]
[null,null,{"$f":"IF('[1]IC Vaches et génisses'!A63=\"\",\"\",IF('[1]IC Vaches et génisses'!A63=\"Total général\",\"\",'[1]IC Vaches et génisses'!A63))","v":"5572"},{"$f":"IF('[1]IC Vaches et génisses'!B63=\"\",\"\",'[1]IC Vaches et génisses'!B63)","v":"EDINA"}]
[null,null,{"$f":"IF('[1]IC Vaches et génisses'!A64=\"\",\"\",IF('[1]IC Vaches et génisses'!A64=\"Total général\",\"\",'[1]IC Vaches et génisses'!A64))","v":"5573"},{"$f":"IF('[1]IC Vaches et génisses'!B64=\"\",\"\",'[1]IC Vaches et génisses'!B64)","v":"ELAURA"}]
[null,null,{"$f":"IF('[1]IC Vaches et génisses'!A65=\"\",\"\",IF('[1]IC Vaches et génisses'!A65=\"Total général\",\"\",'[1]IC Vaches et génisses'!A65))","v":"5574"},{"$f":"IF('[1]IC Vaches et génisses'!B65=\"\",\"\",'[1]IC Vaches et génisses'!B65)","v":"EUROPA"}]
[null,null,{"$f":"IF('[1]IC Vaches et génisses'!A66=\"\",\"\",IF('[1]IC Vaches et génisses'!A66=\"Total général\",\"\",'[1]IC Vaches et génisses'!A66))","v":"5575"},{"$f":"IF('[1]IC Vaches et génisses'!B66=\"\",\"\",'[1]IC Vaches et génisses'!B66)","v":"ELSA"}]
[null,null,{"$f":"IF('[1]IC Vaches et génisses'!A67=\"\",\"\",IF('[1]IC Vaches et génisses'!A67=\"Total général\",\"\",'[1]IC Vaches et génisses'!A67))","v":"5579"},{"$f":"IF('[1]IC Vaches et génisses'!B67=\"\",\"\",'[1]IC Vaches et génisses'!B67)","v":"ENJY"}]
[null,null,{"$f":"IF('[1]IC Vaches et génisses'!A68=\"\",\"\",IF('[1]IC Vaches et génisses'!A68=\"Total général\",\"\",'[1]IC Vaches et génisses'!A68))","v":"5583"},{"$f":"IF('[1]IC Vaches et génisses'!B68=\"\",\"\",'[1]IC Vaches et génisses'!B68)","v":"ELODIE"}]
[null,null,{"$f":"IF('[1]IC Vaches et génisses'!A69=\"\",\"\",IF('[1]IC Vaches et génisses'!A69=\"Total général\",\"\",'[1]IC Vaches et génisses'!A69))","v":"5588"},{"$f":"IF('[1]IC Vaches et génisses'!B69=\"\",\"\",'[1]IC Vaches et génisses'!B69)","v":"FABULEUSE"}]
[null,null,{"$f":"IF('[1]IC Vaches et génisses'!A70=\"\",\"\",IF('[1]IC Vaches et génisses'!A70=\"Total général\",\"\",'[1]IC Vaches et génisses'!A70))","v":"5914"},{"$f":"IF('[1]IC Vaches et génisses'!B70=\"\",\"\",'[1]IC Vaches et génisses'!B70)","v":"IRIS"}]
[null,null,{"$f":"IF('[1]IC Vaches et génisses'!A71=\"\",\"\",IF('[1]IC Vaches et génisses'!A71=\"Total général\",\"\",'[1]IC Vaches et génisses'!A71))","v":"5916"},{"$f":"IF('[1]IC Vaches et génisses'!B71=\"\",\"\",'[1]IC Vaches et génisses'!B71)","v":"IMAGE"}]
[null,null,{"$f":"IF('[1]IC Vaches et génisses'!A72=\"\",\"\",IF('[1]IC Vaches et génisses'!A72=\"Total général\",\"\",'[1]IC Vaches et génisses'!A72))","v":"5917"},{"$f":"IF('[1]IC Vaches et génisses'!B72=\"\",\"\",'[1]IC Vaches et génisses'!B72)","v":"ITALIE"}]
[null,null,{"$f":"IF('[1]IC Vaches et génisses'!A73=\"\",\"\",IF('[1]IC Vaches et génisses'!A73=\"Total général\",\"\",'[1]IC Vaches et génisses'!A73))","v":"5918"},{"$f":"IF('[1]IC Vaches et génisses'!B73=\"\",\"\",'[1]IC Vaches et génisses'!B73)","v":"ISIS"}]
[null,null,{"$f":"IF('[1]IC Vaches et génisses'!A74=\"\",\"\",IF('[1]IC Vaches et génisses'!A74=\"Total général\",\"\",'[1]IC Vaches et génisses'!A74))","v":"5919"},{"$f":"IF('[1]IC Vaches et génisses'!B74=\"\",\"\",'[1]IC Vaches et génisses'!B74)","v":"ISAURE"}]
[null,null,{"$f":"IF('[1]IC Vaches et génisses'!A75=\"\",\"\",IF('[1]IC Vaches et génisses'!A75=\"Total général\",\"\",'[1]IC Vaches et génisses'!A75))","v":"5920"},{"$f":"IF('[1]IC Vaches et génisses'!B75=\"\",\"\",'[1]IC Vaches et génisses'!B75)","v":"ILDA"}]
[null,null,{"$f":"IF('[1]IC Vaches et génisses'!A76=\"\",\"\",IF('[1]IC Vaches et génisses'!A76=\"Total général\",\"\",'[1]IC Vaches et génisses'!A76))","v":"5921"},{"$f":"IF('[1]IC Vaches et génisses'!B76=\"\",\"\",'[1]IC Vaches et génisses'!B76)","v":"INDIA"}]
[null,null,{"$f":"IF('[1]IC Vaches et génisses'!A77=\"\",\"\",IF('[1]IC Vaches et génisses'!A77=\"Total général\",\"\",'[1]IC Vaches et génisses'!A77))","v":"5922"},{"$f":"IF('[1]IC Vaches et génisses'!B77=\"\",\"\",'[1]IC Vaches et génisses'!B77)","v":"ICONE"}]
[null,null,{"$f":"IF('[1]IC Vaches et génisses'!A78=\"\",\"\",IF('[1]IC Vaches et génisses'!A78=\"Total général\",\"\",'[1]IC Vaches et génisses'!A78))","v":"5924"},{"$f":"IF('[1]IC Vaches et génisses'!B78=\"\",\"\",'[1]IC Vaches et génisses'!B78)","v":"INES"}]
[null,null,{"$f":"IF('[1]IC Vaches et génisses'!A79=\"\",\"\",IF('[1]IC Vaches et génisses'!A79=\"Total général\",\"\",'[1]IC Vaches et génisses'!A79))","v":"5925"},{"$f":"IF('[1]IC Vaches et génisses'!B79=\"\",\"\",'[1]IC Vaches et génisses'!B79)","v":"INDIANA"}]
[null,null,{"$f":"IF('[1]IC Vaches et génisses'!A80=\"\",\"\",IF('[1]IC Vaches et génisses'!A80=\"Total général\",\"\",'[1]IC Vaches et génisses'!A80))","v":"5927"},{"$f":"IF('[1]IC Vaches et génisses'!B80=\"\",\"\",'[1]IC Vaches et génisses'!B80)","v":"IDOLE"}]
[null,null,{"$f":"IF('[1]IC Vaches et génisses'!A81=\"\",\"\",IF('[1]IC Vaches et génisses'!A81=\"Total général\",\"\",'[1]IC Vaches et génisses'!A81))","v":"5928"},{"$f":"IF('[1]IC Vaches et génisses'!B81=\"\",\"\",'[1]IC Vaches et génisses'!B81)","v":"ILONA"}]
[null,null,{"$f":"IF('[1]IC Vaches et génisses'!A82=\"\",\"\",IF('[1]IC Vaches et génisses'!A82=\"Total général\",\"\",'[1]IC Vaches et génisses'!A82))","v":"5929"},{"$f":"IF('[1]IC Vaches et génisses'!B82=\"\",\"\",'[1]IC Vaches et génisses'!B82)","v":"IOLA"}]
[null,null,{"$f":"IF('[1]IC Vaches et génisses'!A83=\"\",\"\",IF('[1]IC Vaches et génisses'!A83=\"Total général\",\"\",'[1]IC Vaches et génisses'!A83))","v":"5930"},{"$f":"IF('[1]IC Vaches et génisses'!B83=\"\",\"\",'[1]IC Vaches et génisses'!B83)","v":"ILANA"}]
[null,null,{"$f":"IF('[1]IC Vaches et génisses'!A84=\"\",\"\",IF('[1]IC Vaches et génisses'!A84=\"Total général\",\"\",'[1]IC Vaches et génisses'!A84))","v":"5931"},{"$f":"IF('[1]IC Vaches et génisses'!B84=\"\",\"\",'[1]IC Vaches et génisses'!B84)","v":"INOVA"}]
[null,null,{"$f":"IF('[1]IC Vaches et génisses'!A85=\"\",\"\",IF('[1]IC Vaches et génisses'!A85=\"Total général\",\"\",'[1]IC Vaches et génisses'!A85))","v":"5932"},{"$f":"IF('[1]IC Vaches et génisses'!B85=\"\",\"\",'[1]IC Vaches et génisses'!B85)","v":"IDA"}]
[null,null,{"$f":"IF('[1]IC Vaches et génisses'!A86=\"\",\"\",IF('[1]IC Vaches et génisses'!A86=\"Total général\",\"\",'[1]IC Vaches et génisses'!A86))","v":"5934"},{"$f":"IF('[1]IC Vaches et génisses'!B86=\"\",\"\",'[1]IC Vaches et génisses'!B86)","v":"ISERE"}]
[null,null,{"$f":"IF('[1]IC Vaches et génisses'!A87=\"\",\"\",IF('[1]IC Vaches et génisses'!A87=\"Total général\",\"\",'[1]IC Vaches et génisses'!A87))","v":"5935"},{"$f":"IF('[1]IC Vaches et génisses'!B87=\"\",\"\",'[1]IC Vaches et génisses'!B87)","v":"INFUSION"}]
[null,null,{"$f":"IF('[1]IC Vaches et génisses'!A88=\"\",\"\",IF('[1]IC Vaches et génisses'!A88=\"Total général\",\"\",'[1]IC Vaches et génisses'!A88))","v":"5936"},{"$f":"IF('[1]IC Vaches et génisses'!B88=\"\",\"\",'[1]IC Vaches et génisses'!B88)","v":"IRINA"}]
[null,null,{"$f":"IF('[1]IC Vaches et génisses'!A89=\"\",\"\",IF('[1]IC Vaches et génisses'!A89=\"Total général\",\"\",'[1]IC Vaches et génisses'!A89))","v":"5937"},{"$f":"IF('[1]IC Vaches et génisses'!B89=\"\",\"\",'[1]IC Vaches et génisses'!B89)","v":"IMPERIALE"}]
[null,null,{"$f":"IF('[1]IC Vaches et génisses'!A90=\"\",\"\",IF('[1]IC Vaches et génisses'!A90=\"Total général\",\"\",'[1]IC Vaches et génisses'!A90))","v":"5946"},{"$f":"IF('[1]IC Vaches et génisses'!B90=\"\",\"\",'[1]IC Vaches et génisses'!B90)","v":"JARDINE"}]
[null,null,{"$f":"IF('[1]IC Vaches et génisses'!A91=\"\",\"\",IF('[1]IC Vaches et génisses'!A91=\"Total général\",\"\",'[1]IC Vaches et génisses'!A91))","v":"5948"},{"$f":"IF('[1]IC Vaches et génisses'!B91=\"\",\"\",'[1]IC Vaches et génisses'!B91)","v":"JUPETTE"}]
[null,null,{"$f":"IF('[1]IC Vaches et génisses'!A92=\"\",\"\",IF('[1]IC Vaches et génisses'!A92=\"Total général\",\"\",'[1]IC Vaches et génisses'!A92))","v":"5949"},{"$f":"IF('[1]IC Vaches et génisses'!B92=\"\",\"\",'[1]IC Vaches et génisses'!B92)","v":"JALIE"}]
[null,null,{"$f":"IF('[1]IC Vaches et génisses'!A93=\"\",\"\",IF('[1]IC Vaches et génisses'!A93=\"Total général\",\"\",'[1]IC Vaches et génisses'!A93))","v":"6456"},{"$f":"IF('[1]IC Vaches et génisses'!B93=\"\",\"\",'[1]IC Vaches et génisses'!B93)","v":"BATAVIA"}]
[null,null,{"$f":"IF('[1]IC Vaches et génisses'!A94=\"\",\"\",IF('[1]IC Vaches et génisses'!A94=\"Total général\",\"\",'[1]IC Vaches et génisses'!A94))","v":"6461"},{"$f":"IF('[1]IC Vaches et génisses'!B94=\"\",\"\",'[1]IC Vaches et génisses'!B94)","v":"BABOUCHE"}]
[null,null,{"$f":"IF('[1]IC Vaches et génisses'!A95=\"\",\"\",IF('[1]IC Vaches et génisses'!A95=\"Total général\",\"\",'[1]IC Vaches et génisses'!A95))","v":"6462"},{"$f":"IF('[1]IC Vaches et génisses'!B95=\"\",\"\",'[1]IC Vaches et génisses'!B95)","v":"BLANCHETTE"}]
[null,null,{"$f":"IF('[1]IC Vaches et génisses'!A96=\"\",\"\",IF('[1]IC Vaches et génisses'!A96=\"Total général\",\"\",'[1]IC Vaches et génisses'!A96))","v":"6665"},{"$f":"IF('[1]IC Vaches et génisses'!B96=\"\",\"\",'[1]IC Vaches et génisses'!B96)","v":"GALINETTE"}]
[null,null,{"$f":"IF('[1]IC Vaches et génisses'!A97=\"\",\"\",IF('[1]IC Vaches et génisses'!A97=\"Total général\",\"\",'[1]IC Vaches et génisses'!A97))","v":"6666"},{"$f":"IF('[1]IC Vaches et génisses'!B97=\"\",\"\",'[1]IC Vaches et génisses'!B97)","v":"GALIPETTE"}]
[null,null,{"$f":"IF('[1]IC Vaches et génisses'!A98=\"\",\"\",IF('[1]IC Vaches et génisses'!A98=\"Total général\",\"\",'[1]IC Vaches et génisses'!A98))","v":"6667"},{"$f":"IF('[1]IC Vaches et génisses'!B98=\"\",\"\",'[1]IC Vaches et génisses'!B98)","v":"GIPSY"}]
[null,null,{"$f":"IF('[1]IC Vaches et génisses'!A99=\"\",\"\",IF('[1]IC Vaches et génisses'!A99=\"Total général\",\"\",'[1]IC Vaches et génisses'!A99))","v":"6668"},{"$f":"IF('[1]IC Vaches et génisses'!B99=\"\",\"\",'[1]IC Vaches et génisses'!B99)","v":"GRACE"}]
[null,null,{"$f":"IF('[1]IC Vaches et génisses'!A100=\"\",\"\",IF('[1]IC Vaches et génisses'!A100=\"Total général\",\"\",'[1]IC Vaches et génisses'!A100))","v":"6669"},{"$f":"IF('[1]IC Vaches et génisses'!B100=\"\",\"\",'[1]IC Vaches et génisses'!B100)","v":"GAMINE"}]
[null,null,{"$f":"IF('[1]IC Vaches et génisses'!A101=\"\",\"\",IF('[1]IC Vaches et génisses'!A101=\"Total général\",\"\",'[1]IC Vaches et génisses'!A101))","v":"6670"},{"$f":"IF('[1]IC Vaches et génisses'!B101=\"\",\"\",'[1]IC Vaches et génisses'!B101)","v":"GEORGIE"}]
[null,null,{"$f":"IF('[1]IC Vaches et génisses'!A102=\"\",\"\",IF('[1]IC Vaches et génisses'!A102=\"Total général\",\"\",'[1]IC Vaches et génisses'!A102))","v":"6672"},{"$f":"IF('[1]IC Vaches et génisses'!B102=\"\",\"\",'[1]IC Vaches et génisses'!B102)","v":"GALAXIE"}]
[null,null,{"$f":"IF('[1]IC Vaches et génisses'!A103=\"\",\"\",IF('[1]IC Vaches et génisses'!A103=\"Total général\",\"\",'[1]IC Vaches et génisses'!A103))","v":"6675"},{"$f":"IF('[1]IC Vaches et génisses'!B103=\"\",\"\",'[1]IC Vaches et génisses'!B103)","v":"GLORIA"}]
[null,null,{"$f":"IF('[1]IC Vaches et génisses'!A104=\"\",\"\",IF('[1]IC Vaches et génisses'!A104=\"Total général\",\"\",'[1]IC Vaches et génisses'!A104))","v":"6676"},{"$f":"IF('[1]IC Vaches et génisses'!B104=\"\",\"\",'[1]IC Vaches et génisses'!B104)","v":"GINA"}]
[null,null,{"$f":"IF('[1]IC Vaches et génisses'!A105=\"\",\"\",IF('[1]IC Vaches et génisses'!A105=\"Total général\",\"\",'[1]IC Vaches et génisses'!A105))","v":"6677"},{"$f":"IF('[1]IC Vaches et génisses'!B105=\"\",\"\",'[1]IC Vaches et génisses'!B105)","v":"GERANIUM"}]
[null,null,{"$f":"IF('[1]IC Vaches et génisses'!A106=\"\",\"\",IF('[1]IC Vaches et génisses'!A106=\"Total général\",\"\",'[1]IC Vaches et génisses'!A106))","v":"6678"},{"$f":"IF('[1]IC Vaches et génisses'!B106=\"\",\"\",'[1]IC Vaches et génisses'!B106)","v":"GITANE"}]
[null,null,{"$f":"IF('[1]IC Vaches et génisses'!A107=\"\",\"\",IF('[1]IC Vaches et génisses'!A107=\"Total général\",\"\",'[1]IC Vaches et génisses'!A107))","v":"6680"},{"$f":"IF('[1]IC Vaches et génisses'!B107=\"\",\"\",'[1]IC Vaches et génisses'!B107)","v":"GIGI"}]
[null,null,{"$f":"IF('[1]IC Vaches et génisses'!A108=\"\",\"\",IF('[1]IC Vaches et génisses'!A108=\"Total général\",\"\",'[1]IC Vaches et génisses'!A108))","v":"6684"},{"$f":"IF('[1]IC Vaches et génisses'!B108=\"\",\"\",'[1]IC Vaches et génisses'!B108)","v":"GAZOLINE"}]
[null,null,{"$f":"IF('[1]IC Vaches et génisses'!A109=\"\",\"\",IF('[1]IC Vaches et génisses'!A109=\"Total général\",\"\",'[1]IC Vaches et génisses'!A109))","v":"6685"},{"$f":"IF('[1]IC Vaches et génisses'!B109=\"\",\"\",'[1]IC Vaches et génisses'!B109)","v":"GINETTE"}]
[null,null,{"$f":"IF('[1]IC Vaches et génisses'!A110=\"\",\"\",IF('[1]IC Vaches et génisses'!A110=\"Total général\",\"\",'[1]IC Vaches et génisses'!A110))","v":"6686"},{"$f":"IF('[1]IC Vaches et génisses'!B110=\"\",\"\",'[1]IC Vaches et génisses'!B110)","v":"GLACE"}]
[null,null,{"$f":"IF('[1]IC Vaches et génisses'!A111=\"\",\"\",IF('[1]IC Vaches et génisses'!A111=\"Total général\",\"\",'[1]IC Vaches et génisses'!A111))","v":"6687"},{"$f":"IF('[1]IC Vaches et génisses'!B111=\"\",\"\",'[1]IC Vaches et génisses'!B111)","v":"GUESS"}]
[null,null,{"$f":"IF('[1]IC Vaches et génisses'!A112=\"\",\"\",IF('[1]IC Vaches et génisses'!A112=\"Total général\",\"\",'[1]IC Vaches et génisses'!A112))","v":"6690"},{"$f":"IF('[1]IC Vaches et génisses'!B112=\"\",\"\",'[1]IC Vaches et génisses'!B112)","v":"(vide)"}]
[null,null,{"$f":"IF('[1]IC Vaches et génisses'!A113=\"\",\"\",IF('[1]IC Vaches et génisses'!A113=\"Total général\",\"\",'[1]IC Vaches et génisses'!A113))","v":"6691"},{"$f":"IF('[1]IC Vaches et génisses'!B113=\"\",\"\",'[1]IC Vaches et génisses'!B113)","v":"GIORGIA"}]
[null,null,{"$f":"IF('[1]IC Vaches et génisses'!A114=\"\",\"\",IF('[1]IC Vaches et génisses'!A114=\"Total général\",\"\",'[1]IC Vaches et génisses'!A114))","v":"6694"},{"$f":"IF('[1]IC Vaches et génisses'!B114=\"\",\"\",'[1]IC Vaches et génisses'!B114)","v":"GOMETTE"}]
[null,null,{"$f":"IF('[1]IC Vaches et génisses'!A115=\"\",\"\",IF('[1]IC Vaches et génisses'!A115=\"Total général\",\"\",'[1]IC Vaches et génisses'!A115))","v":"9693"},{"$f":"IF('[1]IC Vaches et génisses'!B115=\"\",\"\",'[1]IC Vaches et génisses'!B115)","v":"HONDA"}]
[null,null,{"$f":"IF('[1]IC Vaches et génisses'!A116=\"\",\"\",IF('[1]IC Vaches et génisses'!A116=\"Total général\",\"\",'[1]IC Vaches et génisses'!A116))","v":"9694"},{"$f":"IF('[1]IC Vaches et génisses'!B116=\"\",\"\",'[1]IC Vaches et génisses'!B116)","v":"HASTONIA"}]
[null,null,{"$f":"IF('[1]IC Vaches et génisses'!A117=\"\",\"\",IF('[1]IC Vaches et génisses'!A117=\"Total général\",\"\",'[1]IC Vaches et génisses'!A117))","v":"9695"},{"$f":"IF('[1]IC Vaches et génisses'!B117=\"\",\"\",'[1]IC Vaches et génisses'!B117)","v":"HAMELIA"}]
[null,null,{"$f":"IF('[1]IC Vaches et génisses'!A118=\"\",\"\",IF('[1]IC Vaches et génisses'!A118=\"Total général\",\"\",'[1]IC Vaches et génisses'!A118))","v":"9696"},{"$f":"IF('[1]IC Vaches et génisses'!B118=\"\",\"\",'[1]IC Vaches et génisses'!B118)","v":"HIRANA"}]
[null,null,{"$f":"IF('[1]IC Vaches et génisses'!A119=\"\",\"\",IF('[1]IC Vaches et génisses'!A119=\"Total général\",\"\",'[1]IC Vaches et génisses'!A119))","v":"9697"},{"$f":"IF('[1]IC Vaches et génisses'!B119=\"\",\"\",'[1]IC Vaches et génisses'!B119)","v":"HALPHA"}]
[null,null,{"$f":"IF('[1]IC Vaches et génisses'!A120=\"\",\"\",IF('[1]IC Vaches et génisses'!A120=\"Total général\",\"\",'[1]IC Vaches et génisses'!A120))","v":"9698"},{"$f":"IF('[1]IC Vaches et génisses'!B120=\"\",\"\",'[1]IC Vaches et génisses'!B120)","v":"HAJAX"}]
[null,null,{"$f":"IF('[1]IC Vaches et génisses'!A121=\"\",\"\",IF('[1]IC Vaches et génisses'!A121=\"Total général\",\"\",'[1]IC Vaches et génisses'!A121))","v":"9699"},{"$f":"IF('[1]IC Vaches et génisses'!B121=\"\",\"\",'[1]IC Vaches et génisses'!B121)","v":"HORTENCE"}]
[null,null,{"$f":"IF('[1]IC Vaches et génisses'!A122=\"\",\"\",IF('[1]IC Vaches et génisses'!A122=\"Total général\",\"\",'[1]IC Vaches et génisses'!A122))","v":"9700"},{"$f":"IF('[1]IC Vaches et génisses'!B122=\"\",\"\",'[1]IC Vaches et génisses'!B122)","v":"HAVANA"}]
[null,null,{"$f":"IF('[1]IC Vaches et génisses'!A123=\"\",\"\",IF('[1]IC Vaches et génisses'!A123=\"Total général\",\"\",'[1]IC Vaches et génisses'!A123))","v":"9701"},{"$f":"IF('[1]IC Vaches et génisses'!B123=\"\",\"\",'[1]IC Vaches et génisses'!B123)","v":"HIMALAYA"}]
[null,null,{"$f":"IF('[1]IC Vaches et génisses'!A124=\"\",\"\",IF('[1]IC Vaches et génisses'!A124=\"Total général\",\"\",'[1]IC Vaches et génisses'!A124))","v":"9704"},{"$f":"IF('[1]IC Vaches et génisses'!B124=\"\",\"\",'[1]IC Vaches et génisses'!B124)","v":"HIRIS"}]
[null,null,{"$f":"IF('[1]IC Vaches et génisses'!A125=\"\",\"\",IF('[1]IC Vaches et génisses'!A125=\"Total général\",\"\",'[1]IC Vaches et génisses'!A125))","v":"9705"},{"$f":"IF('[1]IC Vaches et génisses'!B125=\"\",\"\",'[1]IC Vaches et génisses'!B125)","v":"HUGNY"}]
[null,null,{"$f":"IF('[1]IC Vaches et génisses'!A126=\"\",\"\",IF('[1]IC Vaches et génisses'!A126=\"Total général\",\"\",'[1]IC Vaches et génisses'!A126))","v":"9706"},{"$f":"IF('[1]IC Vaches et génisses'!B126=\"\",\"\",'[1]IC Vaches et génisses'!B126)","v":"HADDITION"}]
[null,null,{"$f":"IF('[1]IC Vaches et génisses'!A127=\"\",\"\",IF('[1]IC Vaches et génisses'!A127=\"Total général\",\"\",'[1]IC Vaches et génisses'!A127))","v":"9707"},{"$f":"IF('[1]IC Vaches et génisses'!B127=\"\",\"\",'[1]IC Vaches et génisses'!B127)","v":"HACHETTE"}]
[null,null,{"$f":"IF('[1]IC Vaches et génisses'!A128=\"\",\"\",IF('[1]IC Vaches et génisses'!A128=\"Total général\",\"\",'[1]IC Vaches et génisses'!A128))","v":"9709"},{"$f":"IF('[1]IC Vaches et génisses'!B128=\"\",\"\",'[1]IC Vaches et génisses'!B128)","v":"HANASTASIA"}]
[null,null,{"$f":"IF('[1]IC Vaches et génisses'!A129=\"\",\"\",IF('[1]IC Vaches et génisses'!A129=\"Total général\",\"\",'[1]IC Vaches et génisses'!A129))","v":"9710"},{"$f":"IF('[1]IC Vaches et génisses'!B129=\"\",\"\",'[1]IC Vaches et génisses'!B129)","v":"HINDRA"}]
[null,null,{"$f":"IF('[1]IC Vaches et génisses'!A130=\"\",\"\",IF('[1]IC Vaches et génisses'!A130=\"Total général\",\"\",'[1]IC Vaches et génisses'!A130))","v":"9711"},{"$f":"IF('[1]IC Vaches et génisses'!B130=\"\",\"\",'[1]IC Vaches et génisses'!B130)","v":"HAUTAINE"}]
[null,null,{"$f":"IF('[1]IC Vaches et génisses'!A131=\"\",\"\",IF('[1]IC Vaches et génisses'!A131=\"Total général\",\"\",'[1]IC Vaches et génisses'!A131))","v":"9713"},{"$f":"IF('[1]IC Vaches et génisses'!B131=\"\",\"\",'[1]IC Vaches et génisses'!B131)","v":"HANEMONE"}]
[null,null,{"$f":"IF('[1]IC Vaches et génisses'!A132=\"\",\"\",IF('[1]IC Vaches et génisses'!A132=\"Total général\",\"\",'[1]IC Vaches et génisses'!A132))","v":"9714"},{"$f":"IF('[1]IC Vaches et génisses'!B132=\"\",\"\",'[1]IC Vaches et génisses'!B132)","v":"HALTESSE"}]
[null,null,{"$f":"IF('[1]IC Vaches et génisses'!A133=\"\",\"\",IF('[1]IC Vaches et génisses'!A133=\"Total général\",\"\",'[1]IC Vaches et génisses'!A133))","v":"9715"},{"$f":"IF('[1]IC Vaches et génisses'!B133=\"\",\"\",'[1]IC Vaches et génisses'!B133)","v":"HACALINE"}]
[null,null,{"$f":"IF('[1]IC Vaches et génisses'!A134=\"\",\"\",IF('[1]IC Vaches et génisses'!A134=\"Total général\",\"\",'[1]IC Vaches et génisses'!A134))","v":"9834"},{"$f":"IF('[1]IC Vaches et génisses'!B134=\"\",\"\",'[1]IC Vaches et génisses'!B134)","v":"CALINE"}]
[null,null,{"$f":"IF('[1]IC Vaches et génisses'!A135=\"\",\"\",IF('[1]IC Vaches et génisses'!A135=\"Total général\",\"\",'[1]IC Vaches et génisses'!A135))","v":"9836"},{"$f":"IF('[1]IC Vaches et génisses'!B135=\"\",\"\",'[1]IC Vaches et génisses'!B135)","v":"CABINE"}]
[null,null,{"$f":"IF('[1]IC Vaches et génisses'!A136=\"\",\"\",IF('[1]IC Vaches et génisses'!A136=\"Total général\",\"\",'[1]IC Vaches et génisses'!A136))","v":"9839"},{"$f":"IF('[1]IC Vaches et génisses'!B136=\"\",\"\",'[1]IC Vaches et génisses'!B136)","v":"CERISE"}]
[null,null,{"$f":"IF('[1]IC Vaches et génisses'!A137=\"\",\"\",IF('[1]IC Vaches et génisses'!A137=\"Total général\",\"\",'[1]IC Vaches et génisses'!A137))","v":"9840"},{"$f":"IF('[1]IC Vaches et génisses'!B137=\"\",\"\",'[1]IC Vaches et génisses'!B137)","v":"CHATAIGNE"}]
[null,null,{"$f":"IF('[1]IC Vaches et génisses'!A138=\"\",\"\",IF('[1]IC Vaches et génisses'!A138=\"Total général\",\"\",'[1]IC Vaches et génisses'!A138))","v":"9846"},{"$f":"IF('[1]IC Vaches et génisses'!B138=\"\",\"\",'[1]IC Vaches et génisses'!B138)","v":"CONCORDE"}]
[null,null,{"$f":"IF('[1]IC Vaches et génisses'!A139=\"\",\"\",IF('[1]IC Vaches et génisses'!A139=\"Total général\",\"\",'[1]IC Vaches et génisses'!A139))","v":"9852"},{"$f":"IF('[1]IC Vaches et génisses'!B139=\"\",\"\",'[1]IC Vaches et génisses'!B139)","v":"CATALANE"}]
[null,null,{"$f":"IF('[1]IC Vaches et génisses'!A140=\"\",\"\",IF('[1]IC Vaches et génisses'!A140=\"Total général\",\"\",'[1]IC Vaches et génisses'!A140))","v":"9853"},{"$f":"IF('[1]IC Vaches et génisses'!B140=\"\",\"\",'[1]IC Vaches et génisses'!B140)","v":"CLEMENTINE"}]
[null,null,{"$f":"IF('[1]IC Vaches et génisses'!A141=\"\",\"\",IF('[1]IC Vaches et génisses'!A141=\"Total général\",\"\",'[1]IC Vaches et génisses'!A141))","v":"9857"},{"$f":"IF('[1]IC Vaches et génisses'!B141=\"\",\"\",'[1]IC Vaches et génisses'!B141)","v":"DIABLESSE"}]
[null,null,{"$f":"IF('[1]IC Vaches et génisses'!A142=\"\",\"\",IF('[1]IC Vaches et génisses'!A142=\"Total général\",\"\",'[1]IC Vaches et génisses'!A142))","v":""},{"$f":"IF('[1]IC Vaches et génisses'!B142=\"\",\"\",'[1]IC Vaches et génisses'!B142)","v":""}]
[null,null,{"$f":"IF('[1]IC Vaches et génisses'!A143=\"\",\"\",IF('[1]IC Vaches et génisses'!A143=\"Total général\",\"\",'[1]IC Vaches et génisses'!A143))","v":""},{"$f":"IF('[1]IC Vaches et génisses'!B143=\"\",\"\",'[1]IC Vaches et génisses'!B143)","v":""}]
[null,null,{"$f":"IF('[1]IC Vaches et génisses'!A144=\"\",\"\",IF('[1]IC Vaches et génisses'!A144=\"Total général\",\"\",'[1]IC Vaches et génisses'!A144))","v":""},{"$f":"IF('[1]IC Vaches et génisses'!B144=\"\",\"\",'[1]IC Vaches et génisses'!B144)","v":""}]
[null,null,{"$f":"IF('[1]IC Vaches et génisses'!A145=\"\",\"\",IF('[1]IC Vaches et génisses'!A145=\"Total général\",\"\",'[1]IC Vaches et génisses'!A145))","v":""},{"$f":"IF('[1]IC Vaches et génisses'!B145=\"\",\"\",'[1]IC Vaches et génisses'!B145)","v":""}]
[null,null,{"$f":"IF('[1]IC Vaches et génisses'!A146=\"\",\"\",IF('[1]IC Vaches et génisses'!A146=\"Total général\",\"\",'[1]IC Vaches et génisses'!A146))","v":""},{"$f":"IF('[1]IC Vaches et génisses'!B146=\"\",\"\",'[1]IC Vaches et génisses'!B146)","v":""}]
[null,null,{"$f":"IF('[1]IC Vaches et génisses'!A147=\"\",\"\",IF('[1]IC Vaches et génisses'!A147=\"Total général\",\"\",'[1]IC Vaches et génisses'!A147))","v":""},{"$f":"IF('[1]IC Vaches et génisses'!B147=\"\",\"\",'[1]IC Vaches et génisses'!B147)","v":""}]
[null,null,{"$f":"IF('[1]IC Vaches et génisses'!A148=\"\",\"\",IF('[1]IC Vaches et génisses'!A148=\"Total général\",\"\",'[1]IC Vaches et génisses'!A148))","v":""},{"$f":"IF('[1]IC Vaches et génisses'!B148=\"\",\"\",'[1]IC Vaches et génisses'!B148)","v":""}]
[null,null,{"$f":"IF('[1]IC Vaches et génisses'!A149=\"\",\"\",IF('[1]IC Vaches et génisses'!A149=\"Total général\",\"\",'[1]IC Vaches et génisses'!A149))","v":""},{"$f":"IF('[1]IC Vaches et génisses'!B149=\"\",\"\",'[1]IC Vaches et génisses'!B149)","v":""}]
[null,null,{"$f":"IF('[1]IC Vaches et génisses'!A150=\"\",\"\",IF('[1]IC Vaches et génisses'!A150=\"Total général\",\"\",'[1]IC Vaches et génisses'!A150))","v":""},{"$f":"IF('[1]IC Vaches et génisses'!B150=\"\",\"\",'[1]IC Vaches et génisses'!B150)","v":""}]
[null,null,{"$f":"IF('[1]IC Vaches et génisses'!A151=\"\",\"\",IF('[1]IC Vaches et génisses'!A151=\"Total général\",\"\",'[1]IC Vaches et génisses'!A151))","v":""},{"$f":"IF('[1]IC Vaches et génisses'!B151=\"\",\"\",'[1]IC Vaches et génisses'!B151)","v":""}]
[null,null,{"$f":"IF('[1]IC Vaches et génisses'!A152=\"\",\"\",IF('[1]IC Vaches et génisses'!A152=\"Total général\",\"\",'[1]IC Vaches et génisses'!A152))","v":""},{"$f":"IF('[1]IC Vaches et génisses'!B152=\"\",\"\",'[1]IC Vaches et génisses'!B152)","v":""}]
[null,null,{"$f":"IF('[1]IC Vaches et génisses'!A153=\"\",\"\",IF('[1]IC Vaches et génisses'!A153=\"Total général\",\"\",'[1]IC Vaches et génisses'!A153))","v":""},{"$f":"IF('[1]IC Vaches et génisses'!B153=\"\",\"\",'[1]IC Vaches et génisses'!B153)","v":""}]
[null,null,{"$f":"IF('[1]IC Vaches et génisses'!A154=\"\",\"\",IF('[1]IC Vaches et génisses'!A154=\"Total général\",\"\",'[1]IC Vaches et génisses'!A154))","v":""},{"$f":"IF('[1]IC Vaches et génisses'!B154=\"\",\"\",'[1]IC Vaches et génisses'!B154)","v":""}]
[null,null,{"$f":"IF('[1]IC Vaches et génisses'!A155=\"\",\"\",IF('[1]IC Vaches et génisses'!A155=\"Total général\",\"\",'[1]IC Vaches et génisses'!A155))","v":""},{"$f":"IF('[1]IC Vaches et génisses'!B155=\"\",\"\",'[1]IC Vaches et génisses'!B155)","v":""}]
[null,null,{"$f":"IF('[1]IC Vaches et génisses'!A156=\"\",\"\",IF('[1]IC Vaches et génisses'!A156=\"Total général\",\"\",'[1]IC Vaches et génisses'!A156))","v":""},{"$f":"IF('[1]IC Vaches et génisses'!B156=\"\",\"\",'[1]IC Vaches et génisses'!B156)","v":""}]
[null,null,{"$f":"IF('[1]IC Vaches et génisses'!A157=\"\",\"\",IF('[1]IC Vaches et génisses'!A157=\"Total général\",\"\",'[1]IC Vaches et génisses'!A157))","v":""},{"$f":"IF('[1]IC Vaches et génisses'!B157=\"\",\"\",'[1]IC Vaches et génisses'!B157)","v":""}]
[null,null,{"$f":"IF('[1]IC Vaches et génisses'!A158=\"\",\"\",IF('[1]IC Vaches et génisses'!A158=\"Total général\",\"\",'[1]IC Vaches et génisses'!A158))","v":""},{"$f":"IF('[1]IC Vaches et génisses'!B158=\"\",\"\",'[1]IC Vaches et génisses'!B158)","v":""}]
[null,null,{"$f":"IF('[1]IC Vaches et génisses'!A159=\"\",\"\",IF('[1]IC Vaches et génisses'!A159=\"Total général\",\"\",'[1]IC Vaches et génisses'!A159))","v":""},{"$f":"IF('[1]IC Vaches et génisses'!B159=\"\",\"\",'[1]IC Vaches et génisses'!B159)","v":""}]
[null,null,{"$f":"IF('[1]IC Vaches et génisses'!A160=\"\",\"\",IF('[1]IC Vaches et génisses'!A160=\"Total général\",\"\",'[1]IC Vaches et génisses'!A160))","v":""},{"$f":"IF('[1]IC Vaches et génisses'!B160=\"\",\"\",'[1]IC Vaches et génisses'!B160)","v":""}]
[null,null,{"$f":"IF('[1]IC Vaches et génisses'!A161=\"\",\"\",IF('[1]IC Vaches et génisses'!A161=\"Total général\",\"\",'[1]IC Vaches et génisses'!A161))","v":""},{"$f":"IF('[1]IC Vaches et génisses'!B161=\"\",\"\",'[1]IC Vaches et génisses'!B161)","v":""}]
[null,null,{"$f":"IF('[1]IC Vaches et génisses'!A162=\"\",\"\",IF('[1]IC Vaches et génisses'!A162=\"Total général\",\"\",'[1]IC Vaches et génisses'!A162))","v":""},{"$f":"IF('[1]IC Vaches et génisses'!B162=\"\",\"\",'[1]IC Vaches et génisses'!B162)","v":""}]
[null,null,{"$f":"IF('[1]IC Vaches et génisses'!A163=\"\",\"\",IF('[1]IC Vaches et génisses'!A163=\"Total général\",\"\",'[1]IC Vaches et génisses'!A163))","v":""},{"$f":"IF('[1]IC Vaches et génisses'!B163=\"\",\"\",'[1]IC Vaches et génisses'!B163)","v":""}]
[null,null,{"$f":"IF('[1]IC Vaches et génisses'!A164=\"\",\"\",IF('[1]IC Vaches et génisses'!A164=\"Total général\",\"\",'[1]IC Vaches et génisses'!A164))","v":""},{"$f":"IF('[1]IC Vaches et génisses'!B164=\"\",\"\",'[1]IC Vaches et génisses'!B164)","v":""}]
[null,null,{"$f":"IF('[1]IC Vaches et génisses'!A165=\"\",\"\",IF('[1]IC Vaches et génisses'!A165=\"Total général\",\"\",'[1]IC Vaches et génisses'!A165))","v":""},{"$f":"IF('[1]IC Vaches et génisses'!B165=\"\",\"\",'[1]IC Vaches et génisses'!B165)","v":""}]
[null,null,{"$f":"IF('[1]IC Vaches et génisses'!A166=\"\",\"\",IF('[1]IC Vaches et génisses'!A166=\"Total général\",\"\",'[1]IC Vaches et génisses'!A166))","v":""},{"$f":"IF('[1]IC Vaches et génisses'!B166=\"\",\"\",'[1]IC Vaches et génisses'!B166)","v":""}]
[null,null,{"$f":"IF('[1]IC Vaches et génisses'!A167=\"\",\"\",IF('[1]IC Vaches et génisses'!A167=\"Total général\",\"\",'[1]IC Vaches et génisses'!A167))","v":""},{"$f":"IF('[1]IC Vaches et génisses'!B167=\"\",\"\",'[1]IC Vaches et génisses'!B167)","v":""}]
[null,null,{"$f":"IF('[1]IC Vaches et génisses'!A168=\"\",\"\",IF('[1]IC Vaches et génisses'!A168=\"Total général\",\"\",'[1]IC Vaches et génisses'!A168))","v":""},{"$f":"IF('[1]IC Vaches et génisses'!B168=\"\",\"\",'[1]IC Vaches et génisses'!B168)","v":""}]
[null,null,{"$f":"IF('[1]IC Vaches et génisses'!A169=\"\",\"\",IF('[1]IC Vaches et génisses'!A169=\"Total général\",\"\",'[1]IC Vaches et génisses'!A169))","v":""},{"$f":"IF('[1]IC Vaches et génisses'!B169=\"\",\"\",'[1]IC Vaches et génisses'!B169)","v":""}]
[null,null,{"$f":"IF('[1]IC Vaches et génisses'!A170=\"\",\"\",IF('[1]IC Vaches et génisses'!A170=\"Total général\",\"\",'[1]IC Vaches et génisses'!A170))","v":""},{"$f":"IF('[1]IC Vaches et génisses'!B170=\"\",\"\",'[1]IC Vaches et génisses'!B170)","v":""}]
[null,null,{"$f":"IF('[1]IC Vaches et génisses'!A171=\"\",\"\",IF('[1]IC Vaches et génisses'!A171=\"Total général\",\"\",'[1]IC Vaches et génisses'!A171))","v":""},{"$f":"IF('[1]IC Vaches et génisses'!B171=\"\",\"\",'[1]IC Vaches et génisses'!B171)","v":""}]
[null,null,{"$f":"IF('[1]IC Vaches et génisses'!A172=\"\",\"\",IF('[1]IC Vaches et génisses'!A172=\"Total général\",\"\",'[1]IC Vaches et génisses'!A172))","v":""},{"$f":"IF('[1]IC Vaches et génisses'!B172=\"\",\"\",'[1]IC Vaches et génisses'!B172)","v":""}]
[null,null,{"$f":"IF('[1]IC Vaches et génisses'!A173=\"\",\"\",IF('[1]IC Vaches et génisses'!A173=\"Total général\",\"\",'[1]IC Vaches et génisses'!A173))","v":""},{"$f":"IF('[1]IC Vaches et génisses'!B173=\"\",\"\",'[1]IC Vaches et génisses'!B173)","v":""}]
[null,null,{"$f":"IF('[1]IC Vaches et génisses'!A174=\"\",\"\",IF('[1]IC Vaches et génisses'!A174=\"Total général\",\"\",'[1]IC Vaches et génisses'!A174))","v":""},{"$f":"IF('[1]IC Vaches et génisses'!B174=\"\",\"\",'[1]IC Vaches et génisses'!B174)","v":""}]
[null,null,{"$f":"IF('[1]IC Vaches et génisses'!A175=\"\",\"\",IF('[1]IC Vaches et génisses'!A175=\"Total général\",\"\",'[1]IC Vaches et génisses'!A175))","v":""},{"$f":"IF('[1]IC Vaches et génisses'!B175=\"\",\"\",'[1]IC Vaches et génisses'!B175)","v":""}]
[null,null,{"$f":"IF('[1]IC Vaches et génisses'!A176=\"\",\"\",IF('[1]IC Vaches et génisses'!A176=\"Total général\",\"\",'[1]IC Vaches et génisses'!A176))","v":""},{"$f":"IF('[1]IC Vaches et génisses'!B176=\"\",\"\",'[1]IC Vaches et génisses'!B176)","v":""}]
[null,null,{"$f":"IF('[1]IC Vaches et génisses'!A177=\"\",\"\",IF('[1]IC Vaches et génisses'!A177=\"Total général\",\"\",'[1]IC Vaches et génisses'!A177))","v":""},{"$f":"IF('[1]IC Vaches et génisses'!B177=\"\",\"\",'[1]IC Vaches et génisses'!B177)","v":""}]
[null,null,{"$f":"IF('[1]IC Vaches et génisses'!A178=\"\",\"\",IF('[1]IC Vaches et génisses'!A178=\"Total général\",\"\",'[1]IC Vaches et génisses'!A178))","v":""},{"$f":"IF('[1]IC Vaches et génisses'!B178=\"\",\"\",'[1]IC Vaches et génisses'!B178)","v":""}]
[null,null,{"$f":"IF('[1]IC Vaches et génisses'!A179=\"\",\"\",IF('[1]IC Vaches et génisses'!A179=\"Total général\",\"\",'[1]IC Vaches et génisses'!A179))","v":""},{"$f":"IF('[1]IC Vaches et génisses'!B179=\"\",\"\",'[1]IC Vaches et génisses'!B179)","v":""}]
[null,null,{"$f":"IF('[1]IC Vaches et génisses'!A180=\"\",\"\",IF('[1]IC Vaches et génisses'!A180=\"Total général\",\"\",'[1]IC Vaches et génisses'!A180))","v":""},{"$f":"IF('[1]IC Vaches et génisses'!B180=\"\",\"\",'[1]IC Vaches et génisses'!B180)","v":""}]
[null,null,{"$f":"IF('[1]IC Vaches et génisses'!A181=\"\",\"\",IF('[1]IC Vaches et génisses'!A181=\"Total général\",\"\",'[1]IC Vaches et génisses'!A181))","v":""},{"$f":"IF('[1]IC Vaches et génisses'!B181=\"\",\"\",'[1]IC Vaches et génisses'!B181)","v":""}]
[null,null,{"$f":"IF('[1]IC Vaches et génisses'!A182=\"\",\"\",IF('[1]IC Vaches et génisses'!A182=\"Total général\",\"\",'[1]IC Vaches et génisses'!A182))","v":""},{"$f":"IF('[1]IC Vaches et génisses'!B182=\"\",\"\",'[1]IC Vaches et génisses'!B182)","v":""}]
[null,null,{"$f":"IF('[1]IC Vaches et génisses'!A183=\"\",\"\",IF('[1]IC Vaches et génisses'!A183=\"Total général\",\"\",'[1]IC Vaches et génisses'!A183))","v":""},{"$f":"IF('[1]IC Vaches et génisses'!B183=\"\",\"\",'[1]IC Vaches et génisses'!B183)","v":""}]
[null,null,{"$f":"IF('[1]IC Vaches et génisses'!A184=\"\",\"\",IF('[1]IC Vaches et génisses'!A184=\"Total général\",\"\",'[1]IC Vaches et génisses'!A184))","v":""},{"$f":"IF('[1]IC Vaches et génisses'!B184=\"\",\"\",'[1]IC Vaches et génisses'!B184)","v":""}]
[null,null,{"$f":"IF('[1]IC Vaches et génisses'!A185=\"\",\"\",IF('[1]IC Vaches et génisses'!A185=\"Total général\",\"\",'[1]IC Vaches et génisses'!A185))","v":""},{"$f":"IF('[1]IC Vaches et génisses'!B185=\"\",\"\",'[1]IC Vaches et génisses'!B185)","v":""}]
[null,null,{"$f":"IF('[1]IC Vaches et génisses'!A186=\"\",\"\",IF('[1]IC Vaches et génisses'!A186=\"Total général\",\"\",'[1]IC Vaches et génisses'!A186))","v":""},{"$f":"IF('[1]IC Vaches et génisses'!B186=\"\",\"\",'[1]IC Vaches et génisses'!B186)","v":""}]
[null,null,{"$f":"IF('[1]IC Vaches et génisses'!A187=\"\",\"\",IF('[1]IC Vaches et génisses'!A187=\"Total général\",\"\",'[1]IC Vaches et génisses'!A187))","v":""},{"$f":"IF('[1]IC Vaches et génisses'!B187=\"\",\"\",'[1]IC Vaches et génisses'!B187)","v":""}]
[null,null,{"$f":"IF('[1]IC Vaches et génisses'!A188=\"\",\"\",IF('[1]IC Vaches et génisses'!A188=\"Total général\",\"\",'[1]IC Vaches et génisses'!A188))","v":""},{"$f":"IF('[1]IC Vaches et génisses'!B188=\"\",\"\",'[1]IC Vaches et génisses'!B188)","v":""}]
[null,null,{"$f":"IF('[1]IC Vaches et génisses'!A189=\"\",\"\",IF('[1]IC Vaches et génisses'!A189=\"Total général\",\"\",'[1]IC Vaches et génisses'!A189))","v":""},{"$f":"IF('[1]IC Vaches et génisses'!B189=\"\",\"\",'[1]IC Vaches et génisses'!B189)","v":""}]
[null,null,{"$f":"IF('[1]IC Vaches et génisses'!A190=\"\",\"\",IF('[1]IC Vaches et génisses'!A190=\"Total général\",\"\",'[1]IC Vaches et génisses'!A190))","v":""},{"$f":"IF('[1]IC Vaches et génisses'!B190=\"\",\"\",'[1]IC Vaches et génisses'!B190)","v":""}]
[null,null,{"$f":"IF('[1]IC Vaches et génisses'!A191=\"\",\"\",IF('[1]IC Vaches et génisses'!A191=\"Total général\",\"\",'[1]IC Vaches et génisses'!A191))","v":""},{"$f":"IF('[1]IC Vaches et génisses'!B191=\"\",\"\",'[1]IC Vaches et génisses'!B191)","v":""}]
[null,null,{"$f":"IF('[1]IC Vaches et génisses'!A192=\"\",\"\",IF('[1]IC Vaches et génisses'!A192=\"Total général\",\"\",'[1]IC Vaches et génisses'!A192))","v":""},{"$f":"IF('[1]IC Vaches et génisses'!B192=\"\",\"\",'[1]IC Vaches et génisses'!B192)","v":""}]
[null,null,{"$f":"IF('[1]IC Vaches et génisses'!A193=\"\",\"\",IF('[1]IC Vaches et génisses'!A193=\"Total général\",\"\",'[1]IC Vaches et génisses'!A193))","v":""},{"$f":"IF('[1]IC Vaches et génisses'!B193=\"\",\"\",'[1]IC Vaches et génisses'!B193)","v":""}]
[null,null,{"$f":"IF('[1]IC Vaches et génisses'!A194=\"\",\"\",IF('[1]IC Vaches et génisses'!A194=\"Total général\",\"\",'[1]IC Vaches et génisses'!A194))","v":""},{"$f":"IF('[1]IC Vaches et génisses'!B194=\"\",\"\",'[1]IC Vaches et génisses'!B194)","v":""}]
[null,null,{"$f":"IF('[1]IC Vaches et génisses'!A195=\"\",\"\",IF('[1]IC Vaches et génisses'!A195=\"Total général\",\"\",'[1]IC Vaches et génisses'!A195))","v":""},{"$f":"IF('[1]IC Vaches et génisses'!B195=\"\",\"\",'[1]IC Vaches et génisses'!B195)","v":""}]
[null,null,{"$f":"IF('[1]IC Vaches et génisses'!A196=\"\",\"\",IF('[1]IC Vaches et génisses'!A196=\"Total général\",\"\",'[1]IC Vaches et génisses'!A196))","v":""},{"$f":"IF('[1]IC Vaches et génisses'!B196=\"\",\"\",'[1]IC Vaches et génisses'!B196)","v":""}]
[null,null,{"$f":"IF('[1]IC Vaches et génisses'!A197=\"\",\"\",IF('[1]IC Vaches et génisses'!A197=\"Total général\",\"\",'[1]IC Vaches et génisses'!A197))","v":""},{"$f":"IF('[1]IC Vaches et génisses'!B197=\"\",\"\",'[1]IC Vaches et génisses'!B197)","v":""}]
[null,null,{"$f":"IF('[1]IC Vaches et génisses'!A198=\"\",\"\",IF('[1]IC Vaches et génisses'!A198=\"Total général\",\"\",'[1]IC Vaches et génisses'!A198))","v":""},{"$f":"IF('[1]IC Vaches et génisses'!B198=\"\",\"\",'[1]IC Vaches et génisses'!B198)","v":""}]
[null,null,{"$f":"IF('[1]IC Vaches et génisses'!A199=\"\",\"\",IF('[1]IC Vaches et génisses'!A199=\"Total général\",\"\",'[1]IC Vaches et génisses'!A199))","v":""},{"$f":"IF('[1]IC Vaches et génisses'!B199=\"\",\"\",'[1]IC Vaches et génisses'!B199)","v":""}]
[null,null,{"$f":"IF('[1]IC Vaches et génisses'!A200=\"\",\"\",IF('[1]IC Vaches et génisses'!A200=\"Total général\",\"\",'[1]IC Vaches et génisses'!A200))","v":""},{"$f":"IF('[1]IC Vaches et génisses'!B200=\"\",\"\",'[1]IC Vaches et génisses'!B200)","v":""}]
[null,null,{"$f":"IF('[1]IC Vaches et génisses'!A201=\"\",\"\",IF('[1]IC Vaches et génisses'!A201=\"Total général\",\"\",'[1]IC Vaches et génisses'!A201))","v":""},{"$f":"IF('[1]IC Vaches et génisses'!B201=\"\",\"\",'[1]IC Vaches et génisses'!B201)","v":""}]
[null,null,{"$f":"IF('[1]IC Vaches et génisses'!A202=\"\",\"\",IF('[1]IC Vaches et génisses'!A202=\"Total général\",\"\",'[1]IC Vaches et génisses'!A202))","v":""},{"$f":"IF('[1]IC Vaches et génisses'!B202=\"\",\"\",'[1]IC Vaches et génisses'!B202)","v":""}]
[null,null,{"$f":"IF('[1]IC Vaches et génisses'!A203=\"\",\"\",IF('[1]IC Vaches et génisses'!A203=\"Total général\",\"\",'[1]IC Vaches et génisses'!A203))","v":""},{"$f":"IF('[1]IC Vaches et génisses'!B203=\"\",\"\",'[1]IC Vaches et génisses'!B203)","v":""}]
[null,null,{"$f":"IF('[1]IC Vaches et génisses'!A204=\"\",\"\",IF('[1]IC Vaches et génisses'!A204=\"Total général\",\"\",'[1]IC Vaches et génisses'!A204))","v":""},{"$f":"IF('[1]IC Vaches et génisses'!B204=\"\",\"\",'[1]IC Vaches et génisses'!B204)","v":""}]
[null,null,{"$f":"IF('[1]IC Vaches et génisses'!A205=\"\",\"\",IF('[1]IC Vaches et génisses'!A205=\"Total général\",\"\",'[1]IC Vaches et génisses'!A205))","v":""},{"$f":"IF('[1]IC Vaches et génisses'!B205=\"\",\"\",'[1]IC Vaches et génisses'!B205)","v":""}]
[null,null,{"$f":"IF('[1]IC Vaches et génisses'!A206=\"\",\"\",IF('[1]IC Vaches et génisses'!A206=\"Total général\",\"\",'[1]IC Vaches et génisses'!A206))","v":""},{"$f":"IF('[1]IC Vaches et génisses'!B206=\"\",\"\",'[1]IC Vaches et génisses'!B206)","v":""}]
[null,null,{"$f":"IF('[1]IC Vaches et génisses'!A207=\"\",\"\",IF('[1]IC Vaches et génisses'!A207=\"Total général\",\"\",'[1]IC Vaches et génisses'!A207))","v":""},{"$f":"IF('[1]IC Vaches et génisses'!B207=\"\",\"\",'[1]IC Vaches et génisses'!B207)","v":""}]
[null,null,{"$f":"IF('[1]IC Vaches et génisses'!A208=\"\",\"\",IF('[1]IC Vaches et génisses'!A208=\"Total général\",\"\",'[1]IC Vaches et génisses'!A208))","v":""},{"$f":"IF('[1]IC Vaches et génisses'!B208=\"\",\"\",'[1]IC Vaches et génisses'!B208)","v":""}]
[null,null,{"$f":"IF('[1]IC Vaches et génisses'!A209=\"\",\"\",IF('[1]IC Vaches et génisses'!A209=\"Total général\",\"\",'[1]IC Vaches et génisses'!A209))","v":""},{"$f":"IF('[1]IC Vaches et génisses'!B209=\"\",\"\",'[1]IC Vaches et génisses'!B209)","v":""}]
[null,null,{"$f":"IF('[1]IC Vaches et génisses'!A210=\"\",\"\",IF('[1]IC Vaches et génisses'!A210=\"Total général\",\"\",'[1]IC Vaches et génisses'!A210))","v":""},{"$f":"IF('[1]IC Vaches et génisses'!B210=\"\",\"\",'[1]IC Vaches et génisses'!B210)","v":""}]
[null,null,{"$f":"IF('[1]IC Vaches et génisses'!A211=\"\",\"\",IF('[1]IC Vaches et génisses'!A211=\"Total général\",\"\",'[1]IC Vaches et génisses'!A211))","v":""},{"$f":"IF('[1]IC Vaches et génisses'!B211=\"\",\"\",'[1]IC Vaches et génisses'!B211)","v":""}]
[null,null,{"$f":"IF('[1]IC Vaches et génisses'!A212=\"\",\"\",IF('[1]IC Vaches et génisses'!A212=\"Total général\",\"\",'[1]IC Vaches et génisses'!A212))","v":""},{"$f":"IF('[1]IC Vaches et génisses'!B212=\"\",\"\",'[1]IC Vaches et génisses'!B212)","v":""}]
[null,null,{"$f":"IF('[1]IC Vaches et génisses'!A213=\"\",\"\",IF('[1]IC Vaches et génisses'!A213=\"Total général\",\"\",'[1]IC Vaches et génisses'!A213))","v":""},{"$f":"IF('[1]IC Vaches et génisses'!B213=\"\",\"\",'[1]IC Vaches et génisses'!B213)","v":""}]
[null,null,{"$f":"IF('[1]IC Vaches et génisses'!A214=\"\",\"\",IF('[1]IC Vaches et génisses'!A214=\"Total général\",\"\",'[1]IC Vaches et génisses'!A214))","v":""},{"$f":"IF('[1]IC Vaches et génisses'!B214=\"\",\"\",'[1]IC Vaches et génisses'!B214)","v":""}]
[null,null,{"$f":"IF('[1]IC Vaches et génisses'!A215=\"\",\"\",IF('[1]IC Vaches et génisses'!A215=\"Total général\",\"\",'[1]IC Vaches et génisses'!A215))","v":""},{"$f":"IF('[1]IC Vaches et génisses'!B215=\"\",\"\",'[1]IC Vaches et génisses'!B215)","v":""}]
[null,null,{"$f":"IF('[1]IC Vaches et génisses'!A216=\"\",\"\",IF('[1]IC Vaches et génisses'!A216=\"Total général\",\"\",'[1]IC Vaches et génisses'!A216))","v":""},{"$f":"IF('[1]IC Vaches et génisses'!B216=\"\",\"\",'[1]IC Vaches et génisses'!B216)","v":""}]
[null,null,{"$f":"IF('[1]IC Vaches et génisses'!A217=\"\",\"\",IF('[1]IC Vaches et génisses'!A217=\"Total général\",\"\",'[1]IC Vaches et génisses'!A217))","v":""},{"$f":"IF('[1]IC Vaches et génisses'!B217=\"\",\"\",'[1]IC Vaches et génisses'!B217)","v":""}]
[null,null,{"$f":"IF('[1]IC Vaches et génisses'!A218=\"\",\"\",IF('[1]IC Vaches et génisses'!A218=\"Total général\",\"\",'[1]IC Vaches et génisses'!A218))","v":""},{"$f":"IF('[1]IC Vaches et génisses'!B218=\"\",\"\",'[1]IC Vaches et génisses'!B218)","v":""}]
[null,null,{"$f":"IF('[1]IC Vaches et génisses'!A219=\"\",\"\",IF('[1]IC Vaches et génisses'!A219=\"Total général\",\"\",'[1]IC Vaches et génisses'!A219))","v":""},{"$f":"IF('[1]IC Vaches et génisses'!B219=\"\",\"\",'[1]IC Vaches et génisses'!B219)","v":""}]
[null,null,{"$f":"IF('[1]IC Vaches et génisses'!A220=\"\",\"\",IF('[1]IC Vaches et génisses'!A220=\"Total général\",\"\",'[1]IC Vaches et génisses'!A220))","v":""},{"$f":"IF('[1]IC Vaches et génisses'!B220=\"\",\"\",'[1]IC Vaches et génisses'!B220)","v":""}]
[null,null,{"$f":"IF('[1]IC Vaches et génisses'!A221=\"\",\"\",IF('[1]IC Vaches et génisses'!A221=\"Total général\",\"\",'[1]IC Vaches et génisses'!A221))","v":""},{"$f":"IF('[1]IC Vaches et génisses'!B221=\"\",\"\",'[1]IC Vaches et génisses'!B221)","v":""}]
[null,null,{"$f":"IF('[1]IC Vaches et génisses'!A222=\"\",\"\",IF('[1]IC Vaches et génisses'!A222=\"Total général\",\"\",'[1]IC Vaches et génisses'!A222))","v":""},{"$f":"IF('[1]IC Vaches et génisses'!B222=\"\",\"\",'[1]IC Vaches et génisses'!B222)","v":""}]
[null,null,{"$f":"IF('[1]IC Vaches et génisses'!A223=\"\",\"\",IF('[1]IC Vaches et génisses'!A223=\"Total général\",\"\",'[1]IC Vaches et génisses'!A223))","v":""},{"$f":"IF('[1]IC Vaches et génisses'!B223=\"\",\"\",'[1]IC Vaches et génisses'!B223)","v":""}]
[null,null,{"$f":"IF('[1]IC Vaches et génisses'!A224=\"\",\"\",IF('[1]IC Vaches et génisses'!A224=\"Total général\",\"\",'[1]IC Vaches et génisses'!A224))","v":""},{"$f":"IF('[1]IC Vaches et génisses'!B224=\"\",\"\",'[1]IC Vaches et génisses'!B224)","v":""}]
[null,null,{"$f":"IF('[1]IC Vaches et génisses'!A225=\"\",\"\",IF('[1]IC Vaches et génisses'!A225=\"Total général\",\"\",'[1]IC Vaches et génisses'!A225))","v":""},{"$f":"IF('[1]IC Vaches et génisses'!B225=\"\",\"\",'[1]IC Vaches et génisses'!B225)","v":""}]
[null,null,{"$f":"IF('[1]IC Vaches et génisses'!A226=\"\",\"\",IF('[1]IC Vaches et génisses'!A226=\"Total général\",\"\",'[1]IC Vaches et génisses'!A226))","v":""},{"$f":"IF('[1]IC Vaches et génisses'!B226=\"\",\"\",'[1]IC Vaches et génisses'!B226)","v":""}]
[null,null,{"$f":"IF('[1]IC Vaches et génisses'!A227=\"\",\"\",IF('[1]IC Vaches et génisses'!A227=\"Total général\",\"\",'[1]IC Vaches et génisses'!A227))","v":""},{"$f":"IF('[1]IC Vaches et génisses'!B227=\"\",\"\",'[1]IC Vaches et génisses'!B227)","v":""}]
[null,null,{"$f":"IF('[1]IC Vaches et génisses'!A228=\"\",\"\",IF('[1]IC Vaches et génisses'!A228=\"Total général\",\"\",'[1]IC Vaches et génisses'!A228))","v":""},{"$f":"IF('[1]IC Vaches et génisses'!B228=\"\",\"\",'[1]IC Vaches et génisses'!B228)","v":""}]
[null,null,{"$f":"IF('[1]IC Vaches et génisses'!A229=\"\",\"\",IF('[1]IC Vaches et génisses'!A229=\"Total général\",\"\",'[1]IC Vaches et génisses'!A229))","v":""},{"$f":"IF('[1]IC Vaches et génisses'!B229=\"\",\"\",'[1]IC Vaches et génisses'!B229)","v":""}]
[null,null,{"$f":"IF('[1]IC Vaches et génisses'!A230=\"\",\"\",IF('[1]IC Vaches et génisses'!A230=\"Total général\",\"\",'[1]IC Vaches et génisses'!A230))","v":""},{"$f":"IF('[1]IC Vaches et génisses'!B230=\"\",\"\",'[1]IC Vaches et génisses'!B230)","v":""}]
[null,null,{"$f":"IF('[1]IC Vaches et génisses'!A231=\"\",\"\",IF('[1]IC Vaches et génisses'!A231=\"Total général\",\"\",'[1]IC Vaches et génisses'!A231))","v":""},{"$f":"IF('[1]IC Vaches et génisses'!B231=\"\",\"\",'[1]IC Vaches et génisses'!B231)","v":""}]
[null,null,{"$f":"IF('[1]IC Vaches et génisses'!A232=\"\",\"\",IF('[1]IC Vaches et génisses'!A232=\"Total général\",\"\",'[1]IC Vaches et génisses'!A232))","v":""},{"$f":"IF('[1]IC Vaches et génisses'!B232=\"\",\"\",'[1]IC Vaches et génisses'!B232)","v":""}]
[null,null,{"$f":"IF('[1]IC Vaches et génisses'!A233=\"\",\"\",IF('[1]IC Vaches et génisses'!A233=\"Total général\",\"\",'[1]IC Vaches et génisses'!A233))","v":""},{"$f":"IF('[1]IC Vaches et génisses'!B233=\"\",\"\",'[1]IC Vaches et génisses'!B233)","v":""}]
[null,null,{"$f":"IF('[1]IC Vaches et génisses'!A234=\"\",\"\",IF('[1]IC Vaches et génisses'!A234=\"Total général\",\"\",'[1]IC Vaches et génisses'!A234))","v":""},{"$f":"IF('[1]IC Vaches et génisses'!B234=\"\",\"\",'[1]IC Vaches et génisses'!B234)","v":""}]
[null,null,{"$f":"IF('[1]IC Vaches et génisses'!A235=\"\",\"\",IF('[1]IC Vaches et génisses'!A235=\"Total général\",\"\",'[1]IC Vaches et génisses'!A235))","v":""},{"$f":"IF('[1]IC Vaches et génisses'!B235=\"\",\"\",'[1]IC Vaches et génisses'!B235)","v":""}]
[null,null,{"$f":"IF('[1]IC Vaches et génisses'!A236=\"\",\"\",IF('[1]IC Vaches et génisses'!A236=\"Total général\",\"\",'[1]IC Vaches et génisses'!A236))","v":""},{"$f":"IF('[1]IC Vaches et génisses'!B236=\"\",\"\",'[1]IC Vaches et génisses'!B236)","v":""}]
[null,null,{"$f":"IF('[1]IC Vaches et génisses'!A237=\"\",\"\",IF('[1]IC Vaches et génisses'!A237=\"Total général\",\"\",'[1]IC Vaches et génisses'!A237))","v":""},{"$f":"IF('[1]IC Vaches et génisses'!B237=\"\",\"\",'[1]IC Vaches et génisses'!B237)","v":""}]
[null,null,{"$f":"IF('[1]IC Vaches et génisses'!A238=\"\",\"\",IF('[1]IC Vaches et génisses'!A238=\"Total général\",\"\",'[1]IC Vaches et génisses'!A238))","v":""},{"$f":"IF('[1]IC Vaches et génisses'!B238=\"\",\"\",'[1]IC Vaches et génisses'!B238)","v":""}]
[null,null,{"$f":"IF('[1]IC Vaches et génisses'!A239=\"\",\"\",IF('[1]IC Vaches et génisses'!A239=\"Total général\",\"\",'[1]IC Vaches et génisses'!A239))","v":""},{"$f":"IF('[1]IC Vaches et génisses'!B239=\"\",\"\",'[1]IC Vaches et génisses'!B239)","v":""}]
[null,null,{"$f":"IF('[1]IC Vaches et génisses'!A240=\"\",\"\",IF('[1]IC Vaches et génisses'!A240=\"Total général\",\"\",'[1]IC Vaches et génisses'!A240))","v":""},{"$f":"IF('[1]IC Vaches et génisses'!B240=\"\",\"\",'[1]IC Vaches et génisses'!B240)","v":""}]
[null,null,{"$f":"IF('[1]IC Vaches et génisses'!A241=\"\",\"\",IF('[1]IC Vaches et génisses'!A241=\"Total général\",\"\",'[1]IC Vaches et génisses'!A241))","v":""},{"$f":"IF('[1]IC Vaches et génisses'!B241=\"\",\"\",'[1]IC Vaches et génisses'!B241)","v":""}]
[null,null,{"$f":"IF('[1]IC Vaches et génisses'!A242=\"\",\"\",IF('[1]IC Vaches et génisses'!A242=\"Total général\",\"\",'[1]IC Vaches et génisses'!A242))","v":""},{"$f":"IF('[1]IC Vaches et génisses'!B242=\"\",\"\",'[1]IC Vaches et génisses'!B242)","v":""}]
[null,null,{"$f":"IF('[1]IC Vaches et génisses'!A243=\"\",\"\",IF('[1]IC Vaches et génisses'!A243=\"Total général\",\"\",'[1]IC Vaches et génisses'!A243))","v":""},{"$f":"IF('[1]IC Vaches et génisses'!B243=\"\",\"\",'[1]IC Vaches et génisses'!B243)","v":""}]
[null,null,{"$f":"IF('[1]IC Vaches et génisses'!A244=\"\",\"\",IF('[1]IC Vaches et génisses'!A244=\"Total général\",\"\",'[1]IC Vaches et génisses'!A244))","v":""},{"$f":"IF('[1]IC Vaches et génisses'!B244=\"\",\"\",'[1]IC Vaches et génisses'!B244)","v":""}]
[null,null,{"$f":"IF('[1]IC Vaches et génisses'!A245=\"\",\"\",IF('[1]IC Vaches et génisses'!A245=\"Total général\",\"\",'[1]IC Vaches et génisses'!A245))","v":""},{"$f":"IF('[1]IC Vaches et génisses'!B245=\"\",\"\",'[1]IC Vaches et génisses'!B245)","v":""}]
[null,null,{"$f":"IF('[1]IC Vaches et génisses'!A246=\"\",\"\",IF('[1]IC Vaches et génisses'!A246=\"Total général\",\"\",'[1]IC Vaches et génisses'!A246))","v":""},{"$f":"IF('[1]IC Vaches et génisses'!B246=\"\",\"\",'[1]IC Vaches et génisses'!B246)","v":""}]
[null,null,{"$f":"IF('[1]IC Vaches et génisses'!A247=\"\",\"\",IF('[1]IC Vaches et génisses'!A247=\"Total général\",\"\",'[1]IC Vaches et génisses'!A247))","v":""},{"$f":"IF('[1]IC Vaches et génisses'!B247=\"\",\"\",'[1]IC Vaches et génisses'!B247)","v":""}]
[null,null,{"$f":"IF('[1]IC Vaches et génisses'!A248=\"\",\"\",IF('[1]IC Vaches et génisses'!A248=\"Total général\",\"\",'[1]IC Vaches et génisses'!A248))","v":""},{"$f":"IF('[1]IC Vaches et génisses'!B248=\"\",\"\",'[1]IC Vaches et génisses'!B248)","v":""}]
[null,null,{"$f":"IF('[1]IC Vaches et génisses'!A249=\"\",\"\",IF('[1]IC Vaches et génisses'!A249=\"Total général\",\"\",'[1]IC Vaches et génisses'!A249))","v":""},{"$f":"IF('[1]IC Vaches et génisses'!B249=\"\",\"\",'[1]IC Vaches et génisses'!B249)","v":""}]
[null,null,{"$f":"IF('[1]IC Vaches et génisses'!A250=\"\",\"\",IF('[1]IC Vaches et génisses'!A250=\"Total général\",\"\",'[1]IC Vaches et génisses'!A250))","v":""},{"$f":"IF('[1]IC Vaches et génisses'!B250=\"\",\"\",'[1]IC Vaches et génisses'!B250)","v":""}]
[null,null,{"$f":"IF('[1]IC Vaches et génisses'!A251=\"\",\"\",IF('[1]IC Vaches et génisses'!A251=\"Total général\",\"\",'[1]IC Vaches et génisses'!A251))","v":""},{"$f":"IF('[1]IC Vaches et génisses'!B251=\"\",\"\",'[1]IC Vaches et génisses'!B251)","v":""}]
[null,null,{"$f":"IF('[1]IC Vaches et génisses'!A252=\"\",\"\",IF('[1]IC Vaches et génisses'!A252=\"Total général\",\"\",'[1]IC Vaches et génisses'!A252))","v":""},{"$f":"IF('[1]IC Vaches et génisses'!B252=\"\",\"\",'[1]IC Vaches et génisses'!B252)","v":""}]
[null,null,{"$f":"IF('[1]IC Vaches et génisses'!A253=\"\",\"\",IF('[1]IC Vaches et génisses'!A253=\"Total général\",\"\",'[1]IC Vaches et génisses'!A253))","v":""},{"$f":"IF('[1]IC Vaches et génisses'!B253=\"\",\"\",'[1]IC Vaches et génisses'!B253)","v":""}]
[null,null,{"$f":"IF('[1]IC Vaches et génisses'!A254=\"\",\"\",IF('[1]IC Vaches et génisses'!A254=\"Total général\",\"\",'[1]IC Vaches et génisses'!A254))","v":""},{"$f":"IF('[1]IC Vaches et génisses'!B254=\"\",\"\",'[1]IC Vaches et génisses'!B254)","v":""}]
[null,null,{"$f":"IF('[1]IC Vaches et génisses'!A255=\"\",\"\",IF('[1]IC Vaches et génisses'!A255=\"Total général\",\"\",'[1]IC Vaches et génisses'!A255))","v":""},{"$f":"IF('[1]IC Vaches et génisses'!B255=\"\",\"\",'[1]IC Vaches et génisses'!B255)","v":""}]
[null,null,{"$f":"IF('[1]IC Vaches et génisses'!A256=\"\",\"\",IF('[1]IC Vaches et génisses'!A256=\"Total général\",\"\",'[1]IC Vaches et génisses'!A256))","v":""},{"$f":"IF('[1]IC Vaches et génisses'!B256=\"\",\"\",'[1]IC Vaches et génisses'!B256)","v":""}]
[null,null,{"$f":"IF('[1]IC Vaches et génisses'!A257=\"\",\"\",IF('[1]IC Vaches et génisses'!A257=\"Total général\",\"\",'[1]IC Vaches et génisses'!A257))","v":""},{"$f":"IF('[1]IC Vaches et génisses'!B257=\"\",\"\",'[1]IC Vaches et génisses'!B257)","v":""}]
[null,null,{"$f":"IF('[1]IC Vaches et génisses'!A258=\"\",\"\",IF('[1]IC Vaches et génisses'!A258=\"Total général\",\"\",'[1]IC Vaches et génisses'!A258))","v":""},{"$f":"IF('[1]IC Vaches et génisses'!B258=\"\",\"\",'[1]IC Vaches et génisses'!B258)","v":""}]
[null,null,{"$f":"IF('[1]IC Vaches et génisses'!A259=\"\",\"\",IF('[1]IC Vaches et génisses'!A259=\"Total général\",\"\",'[1]IC Vaches et génisses'!A259))","v":""},{"$f":"IF('[1]IC Vaches et génisses'!B259=\"\",\"\",'[1]IC Vaches et génisses'!B259)","v":""}]
[null,null,{"$f":"IF('[1]IC Vaches et génisses'!A260=\"\",\"\",IF('[1]IC Vaches et génisses'!A260=\"Total général\",\"\",'[1]IC Vaches et génisses'!A260))","v":""},{"$f":"IF('[1]IC Vaches et génisses'!B260=\"\",\"\",'[1]IC Vaches et génisses'!B260)","v":""}]
[null,null,{"$f":"IF('[1]IC Vaches et génisses'!A261=\"\",\"\",IF('[1]IC Vaches et génisses'!A261=\"Total général\",\"\",'[1]IC Vaches et génisses'!A261))","v":""},{"$f":"IF('[1]IC Vaches et génisses'!B261=\"\",\"\",'[1]IC Vaches et génisses'!B261)","v":""}]
[null,null,{"$f":"IF('[1]IC Vaches et génisses'!A262=\"\",\"\",IF('[1]IC Vaches et génisses'!A262=\"Total général\",\"\",'[1]IC Vaches et génisses'!A262))","v":""},{"$f":"IF('[1]IC Vaches et génisses'!B262=\"\",\"\",'[1]IC Vaches et génisses'!B262)","v":""}]
[null,null,{"$f":"IF('[1]IC Vaches et génisses'!A263=\"\",\"\",IF('[1]IC Vaches et génisses'!A263=\"Total général\",\"\",'[1]IC Vaches et génisses'!A263))","v":""},{"$f":"IF('[1]IC Vaches et génisses'!B263=\"\",\"\",'[1]IC Vaches et génisses'!B263)","v":""}]
[null,null,{"$f":"IF('[1]IC Vaches et génisses'!A264=\"\",\"\",IF('[1]IC Vaches et génisses'!A264=\"Total général\",\"\",'[1]IC Vaches et génisses'!A264))","v":""},{"$f":"IF('[1]IC Vaches et génisses'!B264=\"\",\"\",'[1]IC Vaches et génisses'!B264)","v":""}]
[null,null,{"$f":"IF('[1]IC Vaches et génisses'!A265=\"\",\"\",IF('[1]IC Vaches et génisses'!A265=\"Total général\",\"\",'[1]IC Vaches et génisses'!A265))","v":""},{"$f":"IF('[1]IC Vaches et génisses'!B265=\"\",\"\",'[1]IC Vaches et génisses'!B265)","v":""}]
[null,null,{"$f":"IF('[1]IC Vaches et génisses'!A266=\"\",\"\",IF('[1]IC Vaches et génisses'!A266=\"Total général\",\"\",'[1]IC Vaches et génisses'!A266))","v":""},{"$f":"IF('[1]IC Vaches et génisses'!B266=\"\",\"\",'[1]IC Vaches et génisses'!B266)","v":""}]
[null,null,{"$f":"IF('[1]IC Vaches et génisses'!A267=\"\",\"\",IF('[1]IC Vaches et génisses'!A267=\"Total général\",\"\",'[1]IC Vaches et génisses'!A267))","v":""},{"$f":"IF('[1]IC Vaches et génisses'!B267=\"\",\"\",'[1]IC Vaches et génisses'!B267)","v":""}]
[null,null,{"$f":"IF('[1]IC Vaches et génisses'!A268=\"\",\"\",IF('[1]IC Vaches et génisses'!A268=\"Total général\",\"\",'[1]IC Vaches et génisses'!A268))","v":""},{"$f":"IF('[1]IC Vaches et génisses'!B268=\"\",\"\",'[1]IC Vaches et génisses'!B268)","v":""}]
[null,null,{"$f":"IF('[1]IC Vaches et génisses'!A269=\"\",\"\",IF('[1]IC Vaches et génisses'!A269=\"Total général\",\"\",'[1]IC Vaches et génisses'!A269))","v":""},{"$f":"IF('[1]IC Vaches et génisses'!B269=\"\",\"\",'[1]IC Vaches et génisses'!B269)","v":""}]
[null,null,{"$f":"IF('[1]IC Vaches et génisses'!A270=\"\",\"\",IF('[1]IC Vaches et génisses'!A270=\"Total général\",\"\",'[1]IC Vaches et génisses'!A270))","v":""},{"$f":"IF('[1]IC Vaches et génisses'!B270=\"\",\"\",'[1]IC Vaches et génisses'!B270)","v":""}]
[null,null,{"$f":"IF('[1]IC Vaches et génisses'!A271=\"\",\"\",IF('[1]IC Vaches et génisses'!A271=\"Total général\",\"\",'[1]IC Vaches et génisses'!A271))","v":""},{"$f":"IF('[1]IC Vaches et génisses'!B271=\"\",\"\",'[1]IC Vaches et génisses'!B271)","v":""}]
[null,null,{"$f":"IF('[1]IC Vaches et génisses'!A272=\"\",\"\",IF('[1]IC Vaches et génisses'!A272=\"Total général\",\"\",'[1]IC Vaches et génisses'!A272))","v":""},{"$f":"IF('[1]IC Vaches et génisses'!B272=\"\",\"\",'[1]IC Vaches et génisses'!B272)","v":""}]
[null,null,{"$f":"IF('[1]IC Vaches et génisses'!A273=\"\",\"\",IF('[1]IC Vaches et génisses'!A273=\"Total général\",\"\",'[1]IC Vaches et génisses'!A273))","v":""},{"$f":"IF('[1]IC Vaches et génisses'!B273=\"\",\"\",'[1]IC Vaches et génisses'!B273)","v":""}]
[null,null,{"$f":"IF('[1]IC Vaches et génisses'!A274=\"\",\"\",IF('[1]IC Vaches et génisses'!A274=\"Total général\",\"\",'[1]IC Vaches et génisses'!A274))","v":""},{"$f":"IF('[1]IC Vaches et génisses'!B274=\"\",\"\",'[1]IC Vaches et génisses'!B274)","v":""}]
[null,null,{"$f":"IF('[1]IC Vaches et génisses'!A275=\"\",\"\",IF('[1]IC Vaches et génisses'!A275=\"Total général\",\"\",'[1]IC Vaches et génisses'!A275))","v":""},{"$f":"IF('[1]IC Vaches et génisses'!B275=\"\",\"\",'[1]IC Vaches et génisses'!B275)","v":""}]
[null,null,{"$f":"IF('[1]IC Vaches et génisses'!A276=\"\",\"\",IF('[1]IC Vaches et génisses'!A276=\"Total général\",\"\",'[1]IC Vaches et génisses'!A276))","v":""},{"$f":"IF('[1]IC Vaches et génisses'!B276=\"\",\"\",'[1]IC Vaches et génisses'!B276)","v":""}]
[null,null,{"$f":"IF('[1]IC Vaches et génisses'!A277=\"\",\"\",IF('[1]IC Vaches et génisses'!A277=\"Total général\",\"\",'[1]IC Vaches et génisses'!A277))","v":""},{"$f":"IF('[1]IC Vaches et génisses'!B277=\"\",\"\",'[1]IC Vaches et génisses'!B277)","v":""}]
[null,null,{"$f":"IF('[1]IC Vaches et génisses'!A278=\"\",\"\",IF('[1]IC Vaches et génisses'!A278=\"Total général\",\"\",'[1]IC Vaches et génisses'!A278))","v":""},{"$f":"IF('[1]IC Vaches et génisses'!B278=\"\",\"\",'[1]IC Vaches et génisses'!B278)","v":""}]
[null,null,{"$f":"IF('[1]IC Vaches et génisses'!A279=\"\",\"\",IF('[1]IC Vaches et génisses'!A279=\"Total général\",\"\",'[1]IC Vaches et génisses'!A279))","v":""},{"$f":"IF('[1]IC Vaches et génisses'!B279=\"\",\"\",'[1]IC Vaches et génisses'!B279)","v":""}]
[null,null,{"$f":"IF('[1]IC Vaches et génisses'!A280=\"\",\"\",IF('[1]IC Vaches et génisses'!A280=\"Total général\",\"\",'[1]IC Vaches et génisses'!A280))","v":""},{"$f":"IF('[1]IC Vaches et génisses'!B280=\"\",\"\",'[1]IC Vaches et génisses'!B280)","v":""}]
[null,null,{"$f":"IF('[1]IC Vaches et génisses'!A281=\"\",\"\",IF('[1]IC Vaches et génisses'!A281=\"Total général\",\"\",'[1]IC Vaches et génisses'!A281))","v":""},{"$f":"IF('[1]IC Vaches et génisses'!B281=\"\",\"\",'[1]IC Vaches et génisses'!B281)","v":""}]
[null,null,{"$f":"IF('[1]IC Vaches et génisses'!A282=\"\",\"\",IF('[1]IC Vaches et génisses'!A282=\"Total général\",\"\",'[1]IC Vaches et génisses'!A282))","v":""},{"$f":"IF('[1]IC Vaches et génisses'!B282=\"\",\"\",'[1]IC Vaches et génisses'!B282)","v":""}]
[null,null,{"$f":"IF('[1]IC Vaches et génisses'!A283=\"\",\"\",IF('[1]IC Vaches et génisses'!A283=\"Total général\",\"\",'[1]IC Vaches et génisses'!A283))","v":""},{"$f":"IF('[1]IC Vaches et génisses'!B283=\"\",\"\",'[1]IC Vaches et génisses'!B283)","v":""}]
[null,null,{"$f":"IF('[1]IC Vaches et génisses'!A284=\"\",\"\",IF('[1]IC Vaches et génisses'!A284=\"Total général\",\"\",'[1]IC Vaches et génisses'!A284))","v":""},{"$f":"IF('[1]IC Vaches et génisses'!B284=\"\",\"\",'[1]IC Vaches et génisses'!B284)","v":""}]
[null,null,{"$f":"IF('[1]IC Vaches et génisses'!A285=\"\",\"\",IF('[1]IC Vaches et génisses'!A285=\"Total général\",\"\",'[1]IC Vaches et génisses'!A285))","v":""},{"$f":"IF('[1]IC Vaches et génisses'!B285=\"\",\"\",'[1]IC Vaches et génisses'!B285)","v":""}]
[null,null,{"$f":"IF('[1]IC Vaches et génisses'!A286=\"\",\"\",IF('[1]IC Vaches et génisses'!A286=\"Total général\",\"\",'[1]IC Vaches et génisses'!A286))","v":""},{"$f":"IF('[1]IC Vaches et génisses'!B286=\"\",\"\",'[1]IC Vaches et génisses'!B286)","v":""}]
[null,null,{"$f":"IF('[1]IC Vaches et génisses'!A287=\"\",\"\",IF('[1]IC Vaches et génisses'!A287=\"Total général\",\"\",'[1]IC Vaches et génisses'!A287))","v":""},{"$f":"IF('[1]IC Vaches et génisses'!B287=\"\",\"\",'[1]IC Vaches et génisses'!B287)","v":""}]
[null,null,{"$f":"IF('[1]IC Vaches et génisses'!A288=\"\",\"\",IF('[1]IC Vaches et génisses'!A288=\"Total général\",\"\",'[1]IC Vaches et génisses'!A288))","v":""},{"$f":"IF('[1]IC Vaches et génisses'!B288=\"\",\"\",'[1]IC Vaches et génisses'!B288)","v":""}]
[null,null,{"$f":"IF('[1]IC Vaches et génisses'!A289=\"\",\"\",IF('[1]IC Vaches et génisses'!A289=\"Total général\",\"\",'[1]IC Vaches et génisses'!A289))","v":""},{"$f":"IF('[1]IC Vaches et génisses'!B289=\"\",\"\",'[1]IC Vaches et génisses'!B289)","v":""}]
[null,null,{"$f":"IF('[1]IC Vaches et génisses'!A290=\"\",\"\",IF('[1]IC Vaches et génisses'!A290=\"Total général\",\"\",'[1]IC Vaches et génisses'!A290))","v":""},{"$f":"IF('[1]IC Vaches et génisses'!B290=\"\",\"\",'[1]IC Vaches et génisses'!B290)","v":""}]
[null,null,{"$f":"IF('[1]IC Vaches et génisses'!A291=\"\",\"\",IF('[1]IC Vaches et génisses'!A291=\"Total général\",\"\",'[1]IC Vaches et génisses'!A291))","v":""},{"$f":"IF('[1]IC Vaches et génisses'!B291=\"\",\"\",'[1]IC Vaches et génisses'!B291)","v":""}]
[null,null,{"$f":"IF('[1]IC Vaches et génisses'!A292=\"\",\"\",IF('[1]IC Vaches et génisses'!A292=\"Total général\",\"\",'[1]IC Vaches et génisses'!A292))","v":""},{"$f":"IF('[1]IC Vaches et génisses'!B292=\"\",\"\",'[1]IC Vaches et génisses'!B292)","v":""}]
[null,null,{"$f":"IF('[1]IC Vaches et génisses'!A293=\"\",\"\",IF('[1]IC Vaches et génisses'!A293=\"Total général\",\"\",'[1]IC Vaches et génisses'!A293))","v":""},{"$f":"IF('[1]IC Vaches et génisses'!B293=\"\",\"\",'[1]IC Vaches et génisses'!B293)","v":""}]
[null,null,{"$f":"IF('[1]IC Vaches et génisses'!A294=\"\",\"\",IF('[1]IC Vaches et génisses'!A294=\"Total général\",\"\",'[1]IC Vaches et génisses'!A294))","v":""},{"$f":"IF('[1]IC Vaches et génisses'!B294=\"\",\"\",'[1]IC Vaches et génisses'!B294)","v":""}]
[null,null,{"$f":"IF('[1]IC Vaches et génisses'!A295=\"\",\"\",IF('[1]IC Vaches et génisses'!A295=\"Total général\",\"\",'[1]IC Vaches et génisses'!A295))","v":""},{"$f":"IF('[1]IC Vaches et génisses'!B295=\"\",\"\",'[1]IC Vaches et génisses'!B295)","v":""}]
[null,null,{"$f":"IF('[1]IC Vaches et génisses'!A296=\"\",\"\",IF('[1]IC Vaches et génisses'!A296=\"Total général\",\"\",'[1]IC Vaches et génisses'!A296))","v":""},{"$f":"IF('[1]IC Vaches et génisses'!B296=\"\",\"\",'[1]IC Vaches et génisses'!B296)","v":""}]
[null,null,{"$f":"IF('[1]IC Vaches et génisses'!A297=\"\",\"\",IF('[1]IC Vaches et génisses'!A297=\"Total général\",\"\",'[1]IC Vaches et génisses'!A297))","v":""},{"$f":"IF('[1]IC Vaches et génisses'!B297=\"\",\"\",'[1]IC Vaches et génisses'!B297)","v":""}]
[null,null,{"$f":"IF('[1]IC Vaches et génisses'!A298=\"\",\"\",IF('[1]IC Vaches et génisses'!A298=\"Total général\",\"\",'[1]IC Vaches et génisses'!A298))","v":""},{"$f":"IF('[1]IC Vaches et génisses'!B298=\"\",\"\",'[1]IC Vaches et génisses'!B298)","v":""}]
[null,null,{"$f":"IF('[1]IC Vaches et génisses'!A299=\"\",\"\",IF('[1]IC Vaches et génisses'!A299=\"Total général\",\"\",'[1]IC Vaches et génisses'!A299))","v":""},{"$f":"IF('[1]IC Vaches et génisses'!B299=\"\",\"\",'[1]IC Vaches et génisses'!B299)","v":""}]
[null,null,{"$f":"IF('[1]IC Vaches et génisses'!A300=\"\",\"\",IF('[1]IC Vaches et génisses'!A300=\"Total général\",\"\",'[1]IC Vaches et génisses'!A300))","v":""},{"$f":"IF('[1]IC Vaches et génisses'!B300=\"\",\"\",'[1]IC Vaches et génisses'!B300)","v":""}]
[null,null,{"$f":"IF('[1]IC Vaches et génisses'!A301=\"\",\"\",IF('[1]IC Vaches et génisses'!A301=\"Total général\",\"\",'[1]IC Vaches et génisses'!A301))","v":""},{"$f":"IF('[1]IC Vaches et génisses'!B301=\"\",\"\",'[1]IC Vaches et génisses'!B301)","v":""}]
[null,null,{"$f":"IF('[1]IC Vaches et génisses'!A302=\"\",\"\",IF('[1]IC Vaches et génisses'!A302=\"Total général\",\"\",'[1]IC Vaches et génisses'!A302))","v":""},{"$f":"IF('[1]IC Vaches et génisses'!B302=\"\",\"\",'[1]IC Vaches et génisses'!B302)","v":""}]
[null,null,{"$f":"IF('[1]IC Vaches et génisses'!A303=\"\",\"\",IF('[1]IC Vaches et génisses'!A303=\"Total général\",\"\",'[1]IC Vaches et génisses'!A303))","v":""},{"$f":"IF('[1]IC Vaches et génisses'!B303=\"\",\"\",'[1]IC Vaches et génisses'!B303)","v":""}]
[null,null,{"$f":"IF('[1]IC Vaches et génisses'!A304=\"\",\"\",IF('[1]IC Vaches et génisses'!A304=\"Total général\",\"\",'[1]IC Vaches et génisses'!A304))","v":""},{"$f":"IF('[1]IC Vaches et génisses'!B304=\"\",\"\",'[1]IC Vaches et génisses'!B304)","v":""}]
[null,null,{"$f":"IF('[1]IC Vaches et génisses'!A305=\"\",\"\",IF('[1]IC Vaches et génisses'!A305=\"Total général\",\"\",'[1]IC Vaches et génisses'!A305))","v":""},{"$f":"IF('[1]IC Vaches et génisses'!B305=\"\",\"\",'[1]IC Vaches et génisses'!B305)","v":""}]
[null,null,{"$f":"IF('[1]IC Vaches et génisses'!A306=\"\",\"\",IF('[1]IC Vaches et génisses'!A306=\"Total général\",\"\",'[1]IC Vaches et génisses'!A306))","v":""},{"$f":"IF('[1]IC Vaches et génisses'!B306=\"\",\"\",'[1]IC Vaches et génisses'!B306)","v":""}]
[null,null,{"$f":"IF('[1]IC Vaches et génisses'!A307=\"\",\"\",IF('[1]IC Vaches et génisses'!A307=\"Total général\",\"\",'[1]IC Vaches et génisses'!A307))","v":""},{"$f":"IF('[1]IC Vaches et génisses'!B307=\"\",\"\",'[1]IC Vaches et génisses'!B307)","v":""}]
[null,null,{"$f":"IF('[1]IC Vaches et génisses'!A308=\"\",\"\",IF('[1]IC Vaches et génisses'!A308=\"Total général\",\"\",'[1]IC Vaches et génisses'!A308))","v":""},{"$f":"IF('[1]IC Vaches et génisses'!B308=\"\",\"\",'[1]IC Vaches et génisses'!B308)","v":""}]
[null,null,{"$f":"IF('[1]IC Vaches et génisses'!A309=\"\",\"\",IF('[1]IC Vaches et génisses'!A309=\"Total général\",\"\",'[1]IC Vaches et génisses'!A309))","v":""},{"$f":"IF('[1]IC Vaches et génisses'!B309=\"\",\"\",'[1]IC Vaches et génisses'!B309)","v":""}]
[null,null,{"$f":"IF('[1]IC Vaches et génisses'!A310=\"\",\"\",IF('[1]IC Vaches et génisses'!A310=\"Total général\",\"\",'[1]IC Vaches et génisses'!A310))","v":""},{"$f":"IF('[1]IC Vaches et génisses'!B310=\"\",\"\",'[1]IC Vaches et génisses'!B310)","v":""}]
[null,null,{"$f":"IF('[1]IC Vaches et génisses'!A311=\"\",\"\",IF('[1]IC Vaches et génisses'!A311=\"Total général\",\"\",'[1]IC Vaches et génisses'!A311))","v":""},{"$f":"IF('[1]IC Vaches et génisses'!B311=\"\",\"\",'[1]IC Vaches et génisses'!B311)","v":""}]
[null,null,{"$f":"IF('[1]IC Vaches et génisses'!A312=\"\",\"\",IF('[1]IC Vaches et génisses'!A312=\"Total général\",\"\",'[1]IC Vaches et génisses'!A312))","v":""},{"$f":"IF('[1]IC Vaches et génisses'!B312=\"\",\"\",'[1]IC Vaches et génisses'!B312)","v":""}]
[null,null,{"$f":"IF('[1]IC Vaches et génisses'!A313=\"\",\"\",IF('[1]IC Vaches et génisses'!A313=\"Total général\",\"\",'[1]IC Vaches et génisses'!A313))","v":""},{"$f":"IF('[1]IC Vaches et génisses'!B313=\"\",\"\",'[1]IC Vaches et génisses'!B313)","v":""}]
[null,null,{"$f":"IF('[1]IC Vaches et génisses'!A314=\"\",\"\",IF('[1]IC Vaches et génisses'!A314=\"Total général\",\"\",'[1]IC Vaches et génisses'!A314))","v":""},{"$f":"IF('[1]IC Vaches et génisses'!B314=\"\",\"\",'[1]IC Vaches et génisses'!B314)","v":""}]
[null,null,{"$f":"IF('[1]IC Vaches et génisses'!A315=\"\",\"\",IF('[1]IC Vaches et génisses'!A315=\"Total général\",\"\",'[1]IC Vaches et génisses'!A315))","v":""},{"$f":"IF('[1]IC Vaches et génisses'!B315=\"\",\"\",'[1]IC Vaches et génisses'!B315)","v":""}]
[null,null,{"$f":"IF('[1]IC Vaches et génisses'!A316=\"\",\"\",IF('[1]IC Vaches et génisses'!A316=\"Total général\",\"\",'[1]IC Vaches et génisses'!A316))","v":""},{"$f":"IF('[1]IC Vaches et génisses'!B316=\"\",\"\",'[1]IC Vaches et génisses'!B316)","v":""}]
[null,null,{"$f":"IF('[1]IC Vaches et génisses'!A317=\"\",\"\",IF('[1]IC Vaches et génisses'!A317=\"Total général\",\"\",'[1]IC Vaches et génisses'!A317))","v":""},{"$f":"IF('[1]IC Vaches et génisses'!B317=\"\",\"\",'[1]IC Vaches et génisses'!B317)","v":""}]
[null,null,{"$f":"IF('[1]IC Vaches et génisses'!A318=\"\",\"\",IF('[1]IC Vaches et génisses'!A318=\"Total général\",\"\",'[1]IC Vaches et génisses'!A318))","v":""},{"$f":"IF('[1]IC Vaches et génisses'!B318=\"\",\"\",'[1]IC Vaches et génisses'!B318)","v":""}]
[null,null,{"$f":"IF('[1]IC Vaches et génisses'!A319=\"\",\"\",IF('[1]IC Vaches et génisses'!A319=\"Total général\",\"\",'[1]IC Vaches et génisses'!A319))","v":""},{"$f":"IF('[1]IC Vaches et génisses'!B319=\"\",\"\",'[1]IC Vaches et génisses'!B319)","v":""}]
[null,null,{"$f":"IF('[1]IC Vaches et génisses'!A320=\"\",\"\",IF('[1]IC Vaches et génisses'!A320=\"Total général\",\"\",'[1]IC Vaches et génisses'!A320))","v":""},{"$f":"IF('[1]IC Vaches et génisses'!B320=\"\",\"\",'[1]IC Vaches et génisses'!B320)","v":""}]
[null,null,{"$f":"IF('[1]IC Vaches et génisses'!A321=\"\",\"\",IF('[1]IC Vaches et génisses'!A321=\"Total général\",\"\",'[1]IC Vaches et génisses'!A321))","v":""},{"$f":"IF('[1]IC Vaches et génisses'!B321=\"\",\"\",'[1]IC Vaches et génisses'!B321)","v":""}]
[null,null,{"$f":"IF('[1]IC Vaches et génisses'!A322=\"\",\"\",IF('[1]IC Vaches et génisses'!A322=\"Total général\",\"\",'[1]IC Vaches et génisses'!A322))","v":""},{"$f":"IF('[1]IC Vaches et génisses'!B322=\"\",\"\",'[1]IC Vaches et génisses'!B322)","v":""}]
[null,null,{"$f":"IF('[1]IC Vaches et génisses'!A323=\"\",\"\",IF('[1]IC Vaches et génisses'!A323=\"Total général\",\"\",'[1]IC Vaches et génisses'!A323))","v":""},{"$f":"IF('[1]IC Vaches et génisses'!B323=\"\",\"\",'[1]IC Vaches et génisses'!B323)","v":""}]
[null,null,{"$f":"IF('[1]IC Vaches et génisses'!A324=\"\",\"\",IF('[1]IC Vaches et génisses'!A324=\"Total général\",\"\",'[1]IC Vaches et génisses'!A324))","v":""},{"$f":"IF('[1]IC Vaches et génisses'!B324=\"\",\"\",'[1]IC Vaches et génisses'!B324)","v":""}]
[null,null,{"$f":"IF('[1]IC Vaches et génisses'!A325=\"\",\"\",IF('[1]IC Vaches et génisses'!A325=\"Total général\",\"\",'[1]IC Vaches et génisses'!A325))","v":""},{"$f":"IF('[1]IC Vaches et génisses'!B325=\"\",\"\",'[1]IC Vaches et génisses'!B325)","v":""}]
[null,null,{"$f":"IF('[1]IC Vaches et génisses'!A326=\"\",\"\",IF('[1]IC Vaches et génisses'!A326=\"Total général\",\"\",'[1]IC Vaches et génisses'!A326))","v":""},{"$f":"IF('[1]IC Vaches et génisses'!B326=\"\",\"\",'[1]IC Vaches et génisses'!B326)","v":""}]
[null,null,{"$f":"IF('[1]IC Vaches et génisses'!A327=\"\",\"\",IF('[1]IC Vaches et génisses'!A327=\"Total général\",\"\",'[1]IC Vaches et génisses'!A327))","v":""},{"$f":"IF('[1]IC Vaches et génisses'!B327=\"\",\"\",'[1]IC Vaches et génisses'!B327)","v":""}]
[null,null,{"$f":"IF('[1]IC Vaches et génisses'!A328=\"\",\"\",IF('[1]IC Vaches et génisses'!A328=\"Total général\",\"\",'[1]IC Vaches et génisses'!A328))","v":""},{"$f":"IF('[1]IC Vaches et génisses'!B328=\"\",\"\",'[1]IC Vaches et génisses'!B328)","v":""}]
[null,null,{"$f":"IF('[1]IC Vaches et génisses'!A329=\"\",\"\",IF('[1]IC Vaches et génisses'!A329=\"Total général\",\"\",'[1]IC Vaches et génisses'!A329))","v":""},{"$f":"IF('[1]IC Vaches et génisses'!B329=\"\",\"\",'[1]IC Vaches et génisses'!B329)","v":""}]
[null,null,{"$f":"IF('[1]IC Vaches et génisses'!A330=\"\",\"\",IF('[1]IC Vaches et génisses'!A330=\"Total général\",\"\",'[1]IC Vaches et génisses'!A330))","v":""},{"$f":"IF('[1]IC Vaches et génisses'!B330=\"\",\"\",'[1]IC Vaches et génisses'!B330)","v":""}]
[null,null,{"$f":"IF('[1]IC Vaches et génisses'!A331=\"\",\"\",IF('[1]IC Vaches et génisses'!A331=\"Total général\",\"\",'[1]IC Vaches et génisses'!A331))","v":""},{"$f":"IF('[1]IC Vaches et génisses'!B331=\"\",\"\",'[1]IC Vaches et génisses'!B331)","v":""}]
[null,null,{"$f":"IF('[1]IC Vaches et génisses'!A332=\"\",\"\",IF('[1]IC Vaches et génisses'!A332=\"Total général\",\"\",'[1]IC Vaches et génisses'!A332))","v":""},{"$f":"IF('[1]IC Vaches et génisses'!B332=\"\",\"\",'[1]IC Vaches et génisses'!B332)","v":""}]
[null,null,{"$f":"IF('[1]IC Vaches et génisses'!A333=\"\",\"\",IF('[1]IC Vaches et génisses'!A333=\"Total général\",\"\",'[1]IC Vaches et génisses'!A333))","v":""},{"$f":"IF('[1]IC Vaches et génisses'!B333=\"\",\"\",'[1]IC Vaches et génisses'!B333)","v":""}]
[null,null,{"$f":"IF('[1]IC Vaches et génisses'!A334=\"\",\"\",IF('[1]IC Vaches et génisses'!A334=\"Total général\",\"\",'[1]IC Vaches et génisses'!A334))","v":""},{"$f":"IF('[1]IC Vaches et génisses'!B334=\"\",\"\",'[1]IC Vaches et génisses'!B334)","v":""}]
[null,null,{"$f":"IF('[1]IC Vaches et génisses'!A335=\"\",\"\",IF('[1]IC Vaches et génisses'!A335=\"Total général\",\"\",'[1]IC Vaches et génisses'!A335))","v":""},{"$f":"IF('[1]IC Vaches et génisses'!B335=\"\",\"\",'[1]IC Vaches et génisses'!B335)","v":""}]
[null,null,{"$f":"IF('[1]IC Vaches et génisses'!A336=\"\",\"\",IF('[1]IC Vaches et génisses'!A336=\"Total général\",\"\",'[1]IC Vaches et génisses'!A336))","v":""},{"$f":"IF('[1]IC Vaches et génisses'!B336=\"\",\"\",'[1]IC Vaches et génisses'!B336)","v":""}]
[null,null,{"$f":"IF('[1]IC Vaches et génisses'!A337=\"\",\"\",IF('[1]IC Vaches et génisses'!A337=\"Total général\",\"\",'[1]IC Vaches et génisses'!A337))","v":""},{"$f":"IF('[1]IC Vaches et génisses'!B337=\"\",\"\",'[1]IC Vaches et génisses'!B337)","v":""}]
[null,null,{"$f":"IF('[1]IC Vaches et génisses'!A338=\"\",\"\",IF('[1]IC Vaches et génisses'!A338=\"Total général\",\"\",'[1]IC Vaches et génisses'!A338))","v":""},{"$f":"IF('[1]IC Vaches et génisses'!B338=\"\",\"\",'[1]IC Vaches et génisses'!B338)","v":""}]
[null,null,{"$f":"IF('[1]IC Vaches et génisses'!A339=\"\",\"\",IF('[1]IC Vaches et génisses'!A339=\"Total général\",\"\",'[1]IC Vaches et génisses'!A339))","v":""},{"$f":"IF('[1]IC Vaches et génisses'!B339=\"\",\"\",'[1]IC Vaches et génisses'!B339)","v":""}]
[null,null,{"$f":"IF('[1]IC Vaches et génisses'!A340=\"\",\"\",IF('[1]IC Vaches et génisses'!A340=\"Total général\",\"\",'[1]IC Vaches et génisses'!A340))","v":""},{"$f":"IF('[1]IC Vaches et génisses'!B340=\"\",\"\",'[1]IC Vaches et génisses'!B340)","v":""}]
[null,null,{"$f":"IF('[1]IC Vaches et génisses'!A341=\"\",\"\",IF('[1]IC Vaches et génisses'!A341=\"Total général\",\"\",'[1]IC Vaches et génisses'!A341))","v":""},{"$f":"IF('[1]IC Vaches et génisses'!B341=\"\",\"\",'[1]IC Vaches et génisses'!B341)","v":""}]
[null,null,{"$f":"IF('[1]IC Vaches et génisses'!A342=\"\",\"\",IF('[1]IC Vaches et génisses'!A342=\"Total général\",\"\",'[1]IC Vaches et génisses'!A342))","v":""},{"$f":"IF('[1]IC Vaches et génisses'!B342=\"\",\"\",'[1]IC Vaches et génisses'!B342)","v":""}]
[null,null,{"$f":"IF('[1]IC Vaches et génisses'!A343=\"\",\"\",IF('[1]IC Vaches et génisses'!A343=\"Total général\",\"\",'[1]IC Vaches et génisses'!A343))","v":""},{"$f":"IF('[1]IC Vaches et génisses'!B343=\"\",\"\",'[1]IC Vaches et génisses'!B343)","v":""}]
[null,null,{"$f":"IF('[1]IC Vaches et génisses'!A364=\"\",\"\",IF('[1]IC Vaches et génisses'!A364=\"Total général\",\"\",'[1]IC Vaches et génisses'!A364))","v":""},{"$f":"IF('[1]IC Vaches et génisses'!B344=\"\",\"\",'[1]IC Vaches et génisses'!B344)","v":""}]
[null,null,{"$f":"IF('[1]IC Vaches et génisses'!A365=\"\",\"\",IF('[1]IC Vaches et génisses'!A365=\"Total général\",\"\",'[1]IC Vaches et génisses'!A365))","v":""},{"$f":"IF('[1]IC Vaches et génisses'!B345=\"\",\"\",'[1]IC Vaches et génisses'!B345)","v":""}]
[null,null,{"$f":"IF('[1]IC Vaches et génisses'!A366=\"\",\"\",IF('[1]IC Vaches et génisses'!A366=\"Total général\",\"\",'[1]IC Vaches et génisses'!A366))","v":""},{"$f":"IF('[1]IC Vaches et génisses'!B346=\"\",\"\",'[1]IC Vaches et génisses'!B346)","v":""}]
[null,null,{"$f":"IF('[1]IC Vaches et génisses'!A367=\"\",\"\",IF('[1]IC Vaches et génisses'!A367=\"Total général\",\"\",'[1]IC Vaches et génisses'!A367))","v":""},{"$f":"IF('[1]IC Vaches et génisses'!B347=\"\",\"\",'[1]IC Vaches et génisses'!B347)","v":""}]
[null,null,{"$f":"IF('[1]IC Vaches et génisses'!A368=\"\",\"\",IF('[1]IC Vaches et génisses'!A368=\"Total général\",\"\",'[1]IC Vaches et génisses'!A368))","v":""},{"$f":"IF('[1]IC Vaches et génisses'!B348=\"\",\"\",'[1]IC Vaches et génisses'!B348)","v":""}]

{"sheet":"saillies naturelles","index":3,"n_rows":6,"n_cols":15,"rows_kept":6,"cut":false,"hidden":false,"merged":[[1,2,1,13],[3,2,4,2],[1,0,2,1],[3,4,5,4],[3,11,5,11],[3,10,5,10],[3,12,5,12],[3,13,5,13],[4,0,5,1],[3,6,5,6],[3,8,5,8],[3,5,5,5],[3,7,5,7],[3,9,5,9],[3,3,5,3]]}
[]
["retour à la page d'accueil",null,"Enregistrement des saillies naturelles"]
[]
[null,null,"N° 4 chiffres ","Nom facultatif sauf si n° 4 chiffres identiques "," Date de la saillie naturelle N°1","N° du taureau"," Date de la saillie naturelle N°2","N° du taureau"," Date de la saillie naturelle N°3","N° du taureau"," Date de la saillie naturelle N°4","N° du taureau"," Date de la saillie naturelle N°5","N° du taureau"]
[{"$f":"[1]SN!$B$1","v":"54474307"}]
[null,null,null,null,null,null,null,null,null,null,null,null,null,null,"Remarques particulières sur l'animal"]

{"sheet":"syncros","index":4,"n_rows":7,"n_cols":60,"rows_kept":7,"cut":false,"hidden":false,"merged":[[13,19,13,20],[13,24,13,25],[13,29,13,30],[13,34,13,35],[13,39,13,40],[13,44,13,45],[13,49,13,50],[13,54,13,55],[13,59,13,60],[12,19,12,20],[12,24,12,25],[12,29,12,30],[12,34,12,35],[12,39,12,40],[12,44,12,45],[12,49,12,50],[12,54,12,55],[12,59,12,60],[9,4,9,5],[9,9,9,10],[9,14,9,15],[8,4,8,5],[8,9,8,10],[8,14,8,15],[2,2,2,15],[4,4,4,6],[4,9,4,10],[6,2,7,2],[6,3,7,3],[6,4,7,5],[6,7,7,7],[6,8,7,8],[6,9,7,10],[6,12,7,12],[6,13,7,13],[6,14,7,15],[4,0,4,2],[18,14,18,15],[10,4,10,5],[10,9,10,10],[10,14,10,15],[16,4,16,5],[16,9,16,10],[16,14,16,15],[11,4,11,5],[14,4,14,5],[15,4,15,5],[11,9,11,10],[14,9,14,10],[15,9,15,10],[11,14,11,15],[14,14,14,15],[15,14,15,15],[12,4,12,5],[12,9,12,10],[12,14,12,15],[13,4,13,5],[13,9,13,10],[13,14,13,15],[0,0,0,2],[21,4,21,5],[21,9,21,10],[21,14,21,15],[24,4,24,5],[24,9,24,10],[24,14,24,15],[22,4,22,5],[22,9,22,10],[22,14,22,15],[23,4,23,5],[23,9,23,10],[23,14,23,15],[19,4,19,5],[19,9,19,10],[19,14,19,15],[20,4,20,5],[20,9,20,10],[20,14,20,15],[17,4,17,5],[17,9,17,10],[17,14,17,15],[18,4,18,5],[18,9,18,10],[2,17,2,30],[4,19,4,21],[4,24,4,25],[6,17,7,17],[6,18,7,18],[6,19,7,20],[6,22,7,22],[6,23,7,23],[6,24,7,25],[6,27,7,27],[6,28,7,28],[6,29,7,30],[10,19,10,20],[10,24,10,25],[10,29,10,30],[11,19,11,20],[11,24,11,25],[11,29,11,30],[8,19,8,20],[8,24,8,25],[8,29,8,30],[9,19,9,20],[9,24,9,25],[9,29,9,30],[16,29,16,30],[17,19,17,20],[17,24,17,25],[17,29,17,30],[14,19,14,20],[14,24,14,25],[14,29,14,30],[15,19,15,20],[15,24,15,25],[15,29,15,30],[10,34,10,35],[24,19,24,20],[24,24,24,25],[24,29,24,30],[22,19,22,20],[22,24,22,25],[22,29,22,30],[23,19,23,20],[23,24,23,25],[23,29,23,30],[20,19,20,20],[20,24,20,25],[20,29,20,30],[21,19,21,20],[21,24,21,25],[21,29,21,30],[18,19,18,20],[18,24,18,25],[18,29,18,30],[19,19,19,20],[19,24,19,25],[19,29,19,30],[16,19,16,20],[16,24,16,25],[2,47,2,60],[4,34,4,36],[4,39,4,40],[4,49,4,51],[4,54,4,55],[2,32,2,45],[6,32,7,32],[6,33,7,33],[6,34,7,35],[6,37,7,37],[6,38,7,38],[6,39,7,40],[6,42,7,42],[6,43,7,43],[6,44,7,45],[9,34,9,35],[9,39,9,40],[9,44,9,45],[9,49,9,50],[9,54,9,55],[9,59,9,60],[6,54,7,55],[6,57,7,57],[6,58,7,58],[6,59,7,60],[6,47,7,47],[6,48,7,48],[6,49,7,50],[6,52,7,52],[6,53,7,53],[8,34,8,35],[8,39,8,40],[10,39,10,40],[10,44,10,45],[10,49,10,50],[10,54,10,55],[10,59,10,60],[8,44,8,45],[8,49,8,50],[8,54,8,55],[8,59,8,60],[11,59,11,60],[14,34,14,35],[14,39,14,40],[14,44,14,45],[14,49,14,50],[14,54,14,55],[14,59,14,60],[11,34,11,35],[11,39,11,40],[11,44,11,45],[11,49,11,50],[11,54,11,55],[15,59,15,60],[16,34,16,35],[16,39,16,40],[16,44,16,45],[16,49,16,50],[16,54,16,55],[16,59,16,60],[15,34,15,35],[15,39,15,40],[15,44,15,45],[15,49,15,50],[15,54,15,55],[17,59,17,60],[18,34,18,35],[18,39,18,40],[18,44,18,45],[18,49,18,50],[18,54,18,55],[18,59,18,60],[17,34,17,35],[17,39,17,40],[17,44,17,45],[17,49,17,50],[17,54,17,55],[19,59,19,60],[20,34,20,35],[20,39,20,40],[20,44,20,45],[20,49,20,50],[20,54,20,55],[20,59,20,60],[19,34,19,35],[19,39,19,40],[19,44,19,45],[19,49,19,50],[19,54,19,55],[21,59,21,60],[22,34,22,35],[22,39,22,40],[22,44,22,45],[22,49,22,50],[22,54,22,55],[22,59,22,60],[21,34,21,35],[21,39,21,40],[21,44,21,45],[21,49,21,50],[21,54,21,55],[23,59,23,60],[24,34,24,35],[24,39,24,40],[24,44,24,45],[24,49,24,50],[24,54,24,55],[24,59,24,60],[23,34,23,35],[23,39,23,40],[23,44,23,45],[23,49,23,50],[23,54,23,55]]}
["retour à la page d'accueil"]
[]
[null,null,"Enregistrements de la synchro N°1",null,null,null,null,null,null,null,null,null,null,null,null,null,null,"Enregistrements de la synchro N°2",null,null,null,null,null,null,null,null,null,null,null,null,null,null,"Enregistrements de la synchro N°3",null,null,null,null,null,null,null,null,null,null,null,null,null,null,"Enregistrements de la synchro N°4"]
[]
[{"$f":"[1]synchros!$B$1","v":"54474307"},null,null,"Date de la synchro N°1",null,null,null,null,"type de synchro N°1",null,null,null,null,null,null,null,null,null,"Date de la synchro N°2",null,null,null,null,"type de synchro N°2",null,null,null,null,null,null,null,null,null,"Date de la synchro  N°3",null,null,null,null,"type de synchro N°3",null,null,null,null,null,null,null,null,null,"Date de la synchro N°4",null,null,null,null,"type de synchro N°4"]
[]
[null,null,"N° 4 chiffres ","Nom facultatif sauf si n° 4 chiffres identiques ","raison de la synchro N°1",null,null,"N° 4 chiffres ","Nom facultatif sauf si n° 4 chiffres identiques ","raison de la synchro N°1",null,null,"N° 4 chiffres ","Nom facultatif sauf si n° 4 chiffres identiques ","raison de la synchro N°1",null,null,"N° 4 chiffres ","Nom facultatif sauf si n° 4 chiffres identiques ","raison de la synchro N°2",null,null,"N° 4 chiffres ","Nom facultatif sauf si n° 4 chiffres identiques ","raison de la synchro N°2",null,null,"N° 4 chiffres ","Nom facultatif sauf si n° 4 chiffres identiques ","raison de la synchro N°2",null,null,"N° 4 chiffres ","Nom facultatif sauf si n° 4 chiffres identiques ","raison de la synchro N°3",null,null,"N° 4 chiffres ","Nom facultatif sauf si n° 4 chiffres identiques ","raison de la synchro N°3",null,null,"N° 4 chiffres ","Nom facultatif sauf si n° 4 chiffres identiques ","raison de la synchro N°3",null,null,"N° 4 chiffres ","Nom facultatif sauf si n° 4 chiffres identiques ","raison de la synchro N°4",null,null,"N° 4 chiffres ","Nom facultatif sauf si n° 4 chiffres identiques ","raison de la synchro N°4",null,null,"N° 4 chiffres ","Nom facultatif sauf si n° 4 chiffres identiques ","raison de la synchro N°4"]

{"sheet":"échos","index":5,"n_rows":298,"n_cols":17,"rows_kept":298,"cut":false,"hidden":false,"merged":[[1,0,2,1],[3,0,4,1],[3,3,5,3],[4,4,5,4],[4,5,5,5],[1,2,1,15],[3,4,3,6],[3,7,3,9],[3,10,3,12],[3,13,3,15],[3,2,4,2],[4,6,5,6],[4,7,5,7],[4,8,5,8],[4,14,5,14],[4,15,5,15],[4,9,5,9],[4,10,5,10],[4,11,5,11],[4,12,5,12],[4,13,5,13]]}
[]
["retour à la page d'accueil",null,"Echographies sur vaches et génisses (après IA/SN)"]
[]
[{"$f":"'[1]échos VL et génisses'!$B$2","v":"54474307"},null,"N° 4 chiffres ","Nom de l'animal","échographie N°1",null,null,"échographie N°2",null,null,"échographie N°3",null,null,"échographie N°4"]
[null,null,null,null,"Date de l'échographie N°1","résultat ","nombre de fœtus","Date de l'échographie N°2","résultat ","nombre de fœtus","Date de l'échographie N°3","résultat ","nombre de fœtus","Date de l'échographie N°4","résultat ","nombre de fœtus"]
[null,null,null,null,null,null,null,null,null,null,null,null,null,null,null,null,"Remarques particulières sur l'animal"]
[null,null,{"$f":"IF('[1]échos VL et génisses'!A9=\"\",\"\",IF('[1]échos VL et génisses'!A9=\"Total général\",\"\",'[1]échos VL et génisses'!A9))","v":"0052"},{"$f":"IF('[1]échos VL et génisses'!B9=\"\",\"\",'[1]échos VL et génisses'!B9)","v":"UDINE"},null,null,{"$f":"IF(F7=3,0,\"\")","v":""},null,null,{"$f":"IF(I7=3,0,\"\")","v":""},null,null,{"$f":"IF(L7=3,0,\"\")","v":""},null,null,{"$f":"IF(O7=3,0,\"\")","v":""}]
[null,null,{"$f":"IF('[1]échos VL et génisses'!A10=\"\",\"\",IF('[1]échos VL et génisses'!A10=\"Total général\",\"\",'[1]échos VL et génisses'!A10))","v":"2974"},{"$f":"IF('[1]échos VL et génisses'!B10=\"\",\"\",'[1]échos VL et génisses'!B10)","v":"ASTONIA"},null,null,{"$f":"IF(F8=3,0,\"\")","v":""},null,null,{"$f":"IF(I8=3,0,\"\")","v":""},null,null,{"$f":"IF(L8=3,0,\"\")","v":""},null,null,{"$f":"IF(O8=3,0,\"\")","v":""}]
[null,null,{"$f":"IF('[1]échos VL et génisses'!A11=\"\",\"\",IF('[1]échos VL et génisses'!A11=\"Total général\",\"\",'[1]échos VL et génisses'!A11))","v":"3266"},{"$f":"IF('[1]échos VL et génisses'!B11=\"\",\"\",'[1]échos VL et génisses'!B11)","v":"DECADE"},null,null,"",null,null,"",null,null,"",null,null,""]
[null,null,{"$f":"IF('[1]échos VL et génisses'!A12=\"\",\"\",IF('[1]échos VL et génisses'!A12=\"Total général\",\"\",'[1]échos VL et génisses'!A12))","v":"3271"},{"$f":"IF('[1]échos VL et génisses'!B12=\"\",\"\",'[1]échos VL et génisses'!B12)","v":"DOUCETTE"},null,null,"",null,null,"",null,null,"",null,null,""]
[null,null,{"$f":"IF('[1]échos VL et génisses'!A13=\"\",\"\",IF('[1]échos VL et génisses'!A13=\"Total général\",\"\",'[1]échos VL et génisses'!A13))","v":"3272"},{"$f":"IF('[1]échos VL et génisses'!B13=\"\",\"\",'[1]échos VL et génisses'!B13)","v":"DANETTE"},null,null,"",null,null,"",null,null,"",null,null,""]
[null,null,{"$f":"IF('[1]échos VL et génisses'!A14=\"\",\"\",IF('[1]échos VL et génisses'!A14=\"Total général\",\"\",'[1]échos VL et génisses'!A14))","v":"3276"},{"$f":"IF('[1]échos VL et génisses'!B14=\"\",\"\",'[1]échos VL et génisses'!B14)","v":"DYNAMITE"},null,null,"",null,null,"",null,null,"",null,null,""]
[null,null,{"$f":"IF('[1]échos VL et génisses'!A15=\"\",\"\",IF('[1]échos VL et génisses'!A15=\"Total général\",\"\",'[1]échos VL et génisses'!A15))","v":"3279"},{"$f":"IF('[1]échos VL et génisses'!B15=\"\",\"\",'[1]échos VL et génisses'!B15)","v":"DORA"},null,null,"",null,null,"",null,null,"",null,null,""]
[null,null,{"$f":"IF('[1]échos VL et génisses'!A16=\"\",\"\",IF('[1]échos VL et génisses'!A16=\"Total général\",\"\",'[1]échos VL et génisses'!A16))","v":"3280"},{"$f":"IF('[1]échos VL et génisses'!B16=\"\",\"\",'[1]échos VL et génisses'!B16)","v":"DOLLY"},null,null,"",null,null,"",null,null,"",null,null,""]
[null,null,{"$f":"IF('[1]échos VL et génisses'!A17=\"\",\"\",IF('[1]échos VL et génisses'!A17=\"Total général\",\"\",'[1]échos VL et génisses'!A17))","v":"3285"},{"$f":"IF('[1]échos VL et génisses'!B17=\"\",\"\",'[1]échos VL et génisses'!B17)","v":"DORINE"},null,null,"",null,null,"",null,null,"",null,null,""]
[null,null,{"$f":"IF('[1]échos VL et génisses'!A18=\"\",\"\",IF('[1]échos VL et génisses'!A18=\"Total général\",\"\",'[1]échos VL et génisses'!A18))","v":"3292"},{"$f":"IF('[1]échos VL et génisses'!B18=\"\",\"\",'[1]échos VL et génisses'!B18)","v":"DIGITALE"},null,null,"",null,null,"",null,null,"",null,null,""]
[null,null,{"$f":"IF('[1]échos VL et génisses'!A19=\"\",\"\",IF('[1]échos VL et génisses'!A19=\"Total général\",\"\",'[1]échos VL et génisses'!A19))","v":"3294"},{"$f":"IF('[1]échos VL et génisses'!B19=\"\",\"\",'[1]échos VL et génisses'!B19)","v":"EXTRA"},null,null,"",null,null,"",null,null,"",null,null,""]
[null,null,{"$f":"IF('[1]échos VL et génisses'!A20=\"\",\"\",IF('[1]échos VL et génisses'!A20=\"Total général\",\"\",'[1]échos VL et génisses'!A20))","v":"3568"},{"$f":"IF('[1]échos VL et génisses'!B20=\"\",\"\",'[1]échos VL et génisses'!B20)","v":"BUVEE"},null,null,"",null,null,"",null,null,"",null,null,""]
[null,null,{"$f":"IF('[1]échos VL et génisses'!A21=\"\",\"\",IF('[1]échos VL et génisses'!A21=\"Total général\",\"\",'[1]échos VL et génisses'!A21))","v":"4211"},{"$f":"IF('[1]échos VL et génisses'!B21=\"\",\"\",'[1]échos VL et génisses'!B21)","v":"FANTA"},null,null,"",null,null,"",null,null,"",null,null,""]
[null,null,{"$f":"IF('[1]échos VL et génisses'!A22=\"\",\"\",IF('[1]échos VL et génisses'!A22=\"Total général\",\"\",'[1]échos VL et génisses'!A22))","v":"4212"},{"$f":"IF('[1]échos VL et génisses'!B22=\"\",\"\",'[1]échos VL et génisses'!B22)","v":"FLORA"},null,null,"",null,null,"",null,null,"",null,null,""]
[null,null,{"$f":"IF('[1]échos VL et génisses'!A23=\"\",\"\",IF('[1]échos VL et génisses'!A23=\"Total général\",\"\",'[1]échos VL et génisses'!A23))","v":"4213"},{"$f":"IF('[1]échos VL et génisses'!B23=\"\",\"\",'[1]échos VL et génisses'!B23)","v":"FIDELIA"},null,null,"",null,null,"",null,null,"",null,null,""]
[null,null,{"$f":"IF('[1]échos VL et génisses'!A24=\"\",\"\",IF('[1]échos VL et génisses'!A24=\"Total général\",\"\",'[1]échos VL et génisses'!A24))","v":"4214"},{"$f":"IF('[1]échos VL et génisses'!B24=\"\",\"\",'[1]échos VL et génisses'!B24)","v":"FIESTA"},null,null,"",null,null,"",null,null,"",null,null,""]
[null,null,{"$f":"IF('[1]échos VL et génisses'!A25=\"\",\"\",IF('[1]échos VL et génisses'!A25=\"Total général\",\"\",'[1]échos VL et génisses'!A25))","v":"4215"},{"$f":"IF('[1]échos VL et génisses'!B25=\"\",\"\",'[1]échos VL et génisses'!B25)","v":"FIFI"},null,null,"",null,null,"",null,null,"",null,null,""]
[null,null,{"$f":"IF('[1]échos VL et génisses'!A26=\"\",\"\",IF('[1]échos VL et génisses'!A26=\"Total général\",\"\",'[1]échos VL et génisses'!A26))","v":"4216"},{"$f":"IF('[1]échos VL et génisses'!B26=\"\",\"\",'[1]échos VL et génisses'!B26)","v":"FARCE"},null,null,"",null,null,"",null,null,"",null,null,""]
[null,null,{"$f":"IF('[1]échos VL et génisses'!A27=\"\",\"\",IF('[1]échos VL et génisses'!A27=\"Total général\",\"\",'[1]échos VL et génisses'!A27))","v":"4217"},{"$f":"IF('[1]échos VL et génisses'!B27=\"\",\"\",'[1]échos VL et génisses'!B27)","v":"FAUVETTE"},null,null,"",null,null,"",null,null,"",null,null,""]
[null,null,{"$f":"IF('[1]échos VL et génisses'!A28=\"\",\"\",IF('[1]échos VL et génisses'!A28=\"Total général\",\"\",'[1]échos VL et génisses'!A28))","v":"4223"},{"$f":"IF('[1]échos VL et génisses'!B28=\"\",\"\",'[1]échos VL et génisses'!B28)","v":"FEA"},null,null,"",null,null,"",null,null,"",null,null,""]
[null,null,{"$f":"IF('[1]échos VL et génisses'!A29=\"\",\"\",IF('[1]échos VL et génisses'!A29=\"Total général\",\"\",'[1]échos VL et génisses'!A29))","v":"4226"},{"$f":"IF('[1]échos VL et génisses'!B29=\"\",\"\",'[1]échos VL et génisses'!B29)","v":"FIONA"},null,null,"",null,null,"",null,null,"",null,null,""]
[null,null,{"$f":"IF('[1]échos VL et génisses'!A30=\"\",\"\",IF('[1]échos VL et génisses'!A30=\"Total général\",\"\",'[1]échos VL et génisses'!A30))","v":"4232"},{"$f":"IF('[1]échos VL et génisses'!B30=\"\",\"\",'[1]échos VL et génisses'!B30)","v":"FARIBOLE"},null,null,"",null,null,"",null,null,"",null,null,""]
[null,null,{"$f":"IF('[1]échos VL et génisses'!A31=\"\",\"\",IF('[1]échos VL et génisses'!A31=\"Total général\",\"\",'[1]échos VL et génisses'!A31))","v":"4236"},{"$f":"IF('[1]échos VL et génisses'!B31=\"\",\"\",'[1]échos VL et génisses'!B31)","v":"FELLA"},null,null,"",null,null,"",null,null,"",null,null,""]
[null,null,{"$f":"IF('[1]échos VL et génisses'!A32=\"\",\"\",IF('[1]échos VL et génisses'!A32=\"Total général\",\"\",'[1]échos VL et génisses'!A32))","v":"4506"},{"$f":"IF('[1]échos VL et génisses'!B32=\"\",\"\",'[1]échos VL et génisses'!B32)","v":"ILONA"},null,null,"",null,null,"",null,null,"",null,null,""]
[null,null,{"$f":"IF('[1]échos VL et génisses'!A33=\"\",\"\",IF('[1]échos VL et génisses'!A33=\"Total général\",\"\",'[1]échos VL et génisses'!A33))","v":"4524"},{"$f":"IF('[1]échos VL et génisses'!B33=\"\",\"\",'[1]échos VL et génisses'!B33)","v":"IMPER"},null,null,"",null,null,"",null,null,"",null,null,""]
[null,null,{"$f":"IF('[1]échos VL et génisses'!A34=\"\",\"\",IF('[1]échos VL et génisses'!A34=\"Total général\",\"\",'[1]échos VL et génisses'!A34))","v":"4619"},{"$f":"IF('[1]échos VL et génisses'!B34=\"\",\"\",'[1]échos VL et génisses'!B34)","v":"HERITIERE"},null,null,"",null,null,"",null,null,"",null,null,""]
[null,null,{"$f":"IF('[1]échos VL et génisses'!A35=\"\",\"\",IF('[1]échos VL et génisses'!A35=\"Total général\",\"\",'[1]échos VL et génisses'!A35))","v":"5200"},{"$f":"IF('[1]échos VL et génisses'!B35=\"\",\"\",'[1]échos VL et génisses'!B35)","v":"CENDRILLON"},null,null,"",null,null,"",null,null,"",null,null,""]
[null,null,{"$f":"IF('[1]échos VL et génisses'!A36=\"\",\"\",IF('[1]échos VL et génisses'!A36=\"Total général\",\"\",'[1]échos VL et génisses'!A36))","v":"5321"},{"$f":"IF('[1]échos VL et génisses'!B36=\"\",\"\",'[1]échos VL et génisses'!B36)","v":"ACTION"},null,null,"",null,null,"",null,null,"",null,null,""]
[null,null,{"$f":"IF('[1]échos VL et génisses'!A37=\"\",\"\",IF('[1]échos VL et génisses'!A37=\"Total général\",\"\",'[1]échos VL et génisses'!A37))","v":"5327"},{"$f":"IF('[1]échos VL et génisses'!B37=\"\",\"\",'[1]échos VL et génisses'!B37)","v":"AUTRUCHE"},null,null,"",null,null,"",null,null,"",null,null,""]
[null,null,{"$f":"IF('[1]échos VL et génisses'!A38=\"\",\"\",IF('[1]échos VL et génisses'!A38=\"Total général\",\"\",'[1]échos VL et génisses'!A38))","v":"5567"},{"$f":"IF('[1]échos VL et génisses'!B38=\"\",\"\",'[1]échos VL et génisses'!B38)","v":"ETOILE"},null,null,"",null,null,"",null,null,"",null,null,""]
[null,null,{"$f":"IF('[1]échos VL et génisses'!A39=\"\",\"\",IF('[1]échos VL et génisses'!A39=\"Total général\",\"\",'[1]échos VL et génisses'!A39))","v":"5571"},{"$f":"IF('[1]échos VL et génisses'!B39=\"\",\"\",'[1]échos VL et génisses'!B39)","v":"EBENE"},null,null,"",null,null,"",null,null,"",null,null,""]
[null,null,{"$f":"IF('[1]échos VL et génisses'!A40=\"\",\"\",IF('[1]échos VL et génisses'!A40=\"Total général\",\"\",'[1]échos VL et génisses'!A40))","v":"5572"},{"$f":"IF('[1]échos VL et génisses'!B40=\"\",\"\",'[1]échos VL et génisses'!B40)","v":"EDINA"},null,null,"",null,null,"",null,null,"",null,null,""]
[null,null,{"$f":"IF('[1]échos VL et génisses'!A41=\"\",\"\",IF('[1]échos VL et génisses'!A41=\"Total général\",\"\",'[1]échos VL et génisses'!A41))","v":"5573"},{"$f":"IF('[1]échos VL et génisses'!B41=\"\",\"\",'[1]échos VL et génisses'!B41)","v":"ELAURA"},null,null,"",null,null,"",null,null,"",null,null,""]
[null,null,{"$f":"IF('[1]échos VL et génisses'!A42=\"\",\"\",IF('[1]échos VL et génisses'!A42=\"Total général\",\"\",'[1]échos VL et génisses'!A42))","v":"5574"},{"$f":"IF('[1]échos VL et génisses'!B42=\"\",\"\",'[1]échos VL et génisses'!B42)","v":"EUROPA"},null,null,"",null,null,"",null,null,"",null,null,""]
[null,null,{"$f":"IF('[1]échos VL et génisses'!A43=\"\",\"\",IF('[1]échos VL et génisses'!A43=\"Total général\",\"\",'[1]échos VL et génisses'!A43))","v":"5575"},{"$f":"IF('[1]échos VL et génisses'!B43=\"\",\"\",'[1]échos VL et génisses'!B43)","v":"ELSA"},null,null,"",null,null,"",null,null,"",null,null,""]
[null,null,{"$f":"IF('[1]échos VL et génisses'!A44=\"\",\"\",IF('[1]échos VL et génisses'!A44=\"Total général\",\"\",'[1]échos VL et génisses'!A44))","v":"5579"},{"$f":"IF('[1]échos VL et génisses'!B44=\"\",\"\",'[1]échos VL et génisses'!B44)","v":"ENJY"},null,null,"",null,null,"",null,null,"",null,null,""]
[null,null,{"$f":"IF('[1]échos VL et génisses'!A45=\"\",\"\",IF('[1]échos VL et génisses'!A45=\"Total général\",\"\",'[1]échos VL et génisses'!A45))","v":"5583"},{"$f":"IF('[1]échos VL et génisses'!B45=\"\",\"\",'[1]échos VL et génisses'!B45)","v":"ELODIE"},null,null,"",null,null,"",null,null,"",null,null,""]
[null,null,{"$f":"IF('[1]échos VL et génisses'!A46=\"\",\"\",IF('[1]échos VL et génisses'!A46=\"Total général\",\"\",'[1]échos VL et génisses'!A46))","v":"5588"},{"$f":"IF('[1]échos VL et génisses'!B46=\"\",\"\",'[1]échos VL et génisses'!B46)","v":"FABULEUSE"},null,null,"",null,null,"",null,null,"",null,null,""]
[null,null,{"$f":"IF('[1]échos VL et génisses'!A47=\"\",\"\",IF('[1]échos VL et génisses'!A47=\"Total général\",\"\",'[1]échos VL et génisses'!A47))","v":"5914"},{"$f":"IF('[1]échos VL et génisses'!B47=\"\",\"\",'[1]échos VL et génisses'!B47)","v":"IRIS"},null,null,"",null,null,"",null,null,"",null,null,""]
[null,null,{"$f":"IF('[1]échos VL et génisses'!A48=\"\",\"\",IF('[1]échos VL et génisses'!A48=\"Total général\",\"\",'[1]échos VL et génisses'!A48))","v":"5916"},{"$f":"IF('[1]échos VL et génisses'!B48=\"\",\"\",'[1]échos VL et génisses'!B48)","v":"IMAGE"},null,null,"",null,null,"",null,null,"",null,null,""]
[null,null,{"$f":"IF('[1]échos VL et génisses'!A49=\"\",\"\",IF('[1]échos VL et génisses'!A49=\"Total général\",\"\",'[1]échos VL et génisses'!A49))","v":"5917"},{"$f":"IF('[1]échos VL et génisses'!B49=\"\",\"\",'[1]échos VL et génisses'!B49)","v":"ITALIE"},null,null,"",null,null,"",null,null,"",null,null,""]
[null,null,{"$f":"IF('[1]échos VL et génisses'!A50=\"\",\"\",IF('[1]échos VL et génisses'!A50=\"Total général\",\"\",'[1]échos VL et génisses'!A50))","v":"5918"},{"$f":"IF('[1]échos VL et génisses'!B50=\"\",\"\",'[1]échos VL et génisses'!B50)","v":"ISIS"},null,null,"",null,null,"",null,null,"",null,null,""]
[null,null,{"$f":"IF('[1]échos VL et génisses'!A51=\"\",\"\",IF('[1]échos VL et génisses'!A51=\"Total général\",\"\",'[1]échos VL et génisses'!A51))","v":"5919"},{"$f":"IF('[1]échos VL et génisses'!B51=\"\",\"\",'[1]échos VL et génisses'!B51)","v":"ISAURE"},null,null,"",null,null,"",null,null,"",null,null,""]
[null,null,{"$f":"IF('[1]échos VL et génisses'!A52=\"\",\"\",IF('[1]échos VL et génisses'!A52=\"Total général\",\"\",'[1]échos VL et génisses'!A52))","v":"5920"},{"$f":"IF('[1]échos VL et génisses'!B52=\"\",\"\",'[1]échos VL et génisses'!B52)","v":"ILDA"},null,null,"",null,null,"",null,null,"",null,null,""]
[null,null,{"$f":"IF('[1]échos VL et génisses'!A53=\"\",\"\",IF('[1]échos VL et génisses'!A53=\"Total général\",\"\",'[1]échos VL et génisses'!A53))","v":"5921"},{"$f":"IF('[1]échos VL et génisses'!B53=\"\",\"\",'[1]échos VL et génisses'!B53)","v":"INDIA"},null,null,"",null,null,"",null,null,"",null,null,""]
[null,null,{"$f":"IF('[1]échos VL et génisses'!A54=\"\",\"\",IF('[1]échos VL et génisses'!A54=\"Total général\",\"\",'[1]échos VL et génisses'!A54))","v":"5922"},{"$f":"IF('[1]échos VL et génisses'!B54=\"\",\"\",'[1]échos VL et génisses'!B54)","v":"ICONE"},null,null,"",null,null,"",null,null,"",null,null,""]
[null,null,{"$f":"IF('[1]échos VL et génisses'!A55=\"\",\"\",IF('[1]échos VL et génisses'!A55=\"Total général\",\"\",'[1]échos VL et génisses'!A55))","v":"5924"},{"$f":"IF('[1]échos VL et génisses'!B55=\"\",\"\",'[1]échos VL et génisses'!B55)","v":"INES"},null,null,"",null,null,"",null,null,"",null,null,""]
[null,null,{"$f":"IF('[1]échos VL et génisses'!A56=\"\",\"\",IF('[1]échos VL et génisses'!A56=\"Total général\",\"\",'[1]échos VL et génisses'!A56))","v":"5925"},{"$f":"IF('[1]échos VL et génisses'!B56=\"\",\"\",'[1]échos VL et génisses'!B56)","v":"INDIANA"},null,null,"",null,null,"",null,null,"",null,null,""]
[null,null,{"$f":"IF('[1]échos VL et génisses'!A57=\"\",\"\",IF('[1]échos VL et génisses'!A57=\"Total général\",\"\",'[1]échos VL et génisses'!A57))","v":"5927"},{"$f":"IF('[1]échos VL et génisses'!B57=\"\",\"\",'[1]échos VL et génisses'!B57)","v":"IDOLE"},null,null,"",null,null,"",null,null,"",null,null,""]
[null,null,{"$f":"IF('[1]échos VL et génisses'!A58=\"\",\"\",IF('[1]échos VL et génisses'!A58=\"Total général\",\"\",'[1]échos VL et génisses'!A58))","v":"5928"},{"$f":"IF('[1]échos VL et génisses'!B58=\"\",\"\",'[1]échos VL et génisses'!B58)","v":"ILONA"},null,null,"",null,null,"",null,null,"",null,null,""]
[null,null,{"$f":"IF('[1]échos VL et génisses'!A59=\"\",\"\",IF('[1]échos VL et génisses'!A59=\"Total général\",\"\",'[1]échos VL et génisses'!A59))","v":"5929"},{"$f":"IF('[1]échos VL et génisses'!B59=\"\",\"\",'[1]échos VL et génisses'!B59)","v":"IOLA"},null,null,"",null,null,"",null,null,"",null,null,""]
[null,null,{"$f":"IF('[1]échos VL et génisses'!A60=\"\",\"\",IF('[1]échos VL et génisses'!A60=\"Total général\",\"\",'[1]échos VL et génisses'!A60))","v":"5930"},{"$f":"IF('[1]échos VL et génisses'!B60=\"\",\"\",'[1]échos VL et génisses'!B60)","v":"ILANA"},null,null,"",null,null,"",null,null,"",null,null,""]
[null,null,{"$f":"IF('[1]échos VL et génisses'!A61=\"\",\"\",IF('[1]échos VL et génisses'!A61=\"Total général\",\"\",'[1]échos VL et génisses'!A61))","v":"5931"},{"$f":"IF('[1]échos VL et génisses'!B61=\"\",\"\",'[1]échos VL et génisses'!B61)","v":"INOVA"},null,null,"",null,null,"",null,null,"",null,null,""]
[null,null,{"$f":"IF('[1]échos VL et génisses'!A62=\"\",\"\",IF('[1]échos VL et génisses'!A62=\"Total général\",\"\",'[1]échos VL et génisses'!A62))","v":"5932"},{"$f":"IF('[1]échos VL et génisses'!B62=\"\",\"\",'[1]échos VL et génisses'!B62)","v":"IDA"},null,null,"",null,null,"",null,null,"",null,null,""]
[null,null,{"$f":"IF('[1]échos VL et génisses'!A63=\"\",\"\",IF('[1]échos VL et génisses'!A63=\"Total général\",\"\",'[1]échos VL et génisses'!A63))","v":"5934"},{"$f":"IF('[1]échos VL et génisses'!B63=\"\",\"\",'[1]échos VL et génisses'!B63)","v":"ISERE"},null,null,"",null,null,"",null,null,"",null,null,""]
[null,null,{"$f":"IF('[1]échos VL et génisses'!A64=\"\",\"\",IF('[1]échos VL et génisses'!A64=\"Total général\",\"\",'[1]échos VL et génisses'!A64))","v":"5935"},{"$f":"IF('[1]échos VL et génisses'!B64=\"\",\"\",'[1]échos VL et génisses'!B64)","v":"INFUSION"},null,null,"",null,null,"",null,null,"",null,null,""]
[null,null,{"$f":"IF('[1]échos VL et génisses'!A65=\"\",\"\",IF('[1]échos VL et génisses'!A65=\"Total général\",\"\",'[1]échos VL et génisses'!A65))","v":"5936"},{"$f":"IF('[1]échos VL et génisses'!B65=\"\",\"\",'[1]échos VL et génisses'!B65)","v":"IRINA"},null,null,"",null,null,"",null,null,"",null,null,""]
[null,null,{"$f":"IF('[1]échos VL et génisses'!A66=\"\",\"\",IF('[1]échos VL et génisses'!A66=\"Total général\",\"\",'[1]échos VL et génisses'!A66))","v":"5937"},{"$f":"IF('[1]échos VL et génisses'!B66=\"\",\"\",'[1]échos VL et génisses'!B66)","v":"IMPERIALE"},null,null,"",null,null,"",null,null,"",null,null,""]
[null,null,{"$f":"IF('[1]échos VL et génisses'!A67=\"\",\"\",IF('[1]échos VL et génisses'!A67=\"Total général\",\"\",'[1]échos VL et génisses'!A67))","v":"5946"},{"$f":"IF('[1]échos VL et génisses'!B67=\"\",\"\",'[1]échos VL et génisses'!B67)","v":"JARDINE"},null,null,"",null,null,"",null,null,"",null,null,""]
[null,null,{"$f":"IF('[1]échos VL et génisses'!A68=\"\",\"\",IF('[1]échos VL et génisses'!A68=\"Total général\",\"\",'[1]échos VL et génisses'!A68))","v":"6456"},{"$f":"IF('[1]échos VL et génisses'!B68=\"\",\"\",'[1]échos VL et génisses'!B68)","v":"BATAVIA"},null,null,"",null,null,"",null,null,"",null,null,""]
[null,null,{"$f":"IF('[1]échos VL et génisses'!A69=\"\",\"\",IF('[1]échos VL et génisses'!A69=\"Total général\",\"\",'[1]échos VL et génisses'!A69))","v":"6461"},{"$f":"IF('[1]échos VL et génisses'!B69=\"\",\"\",'[1]échos VL et génisses'!B69)","v":"BABOUCHE"},null,null,"",null,null,"",null,null,"",null,null,""]
[null,null,{"$f":"IF('[1]échos VL et génisses'!A70=\"\",\"\",IF('[1]échos VL et génisses'!A70=\"Total général\",\"\",'[1]échos VL et génisses'!A70))","v":"6462"},{"$f":"IF('[1]échos VL et génisses'!B70=\"\",\"\",'[1]échos VL et génisses'!B70)","v":"BLANCHETTE"},null,null,"",null,null,"",null,null,"",null,null,""]
[null,null,{"$f":"IF('[1]échos VL et génisses'!A71=\"\",\"\",IF('[1]échos VL et génisses'!A71=\"Total général\",\"\",'[1]échos VL et génisses'!A71))","v":"6665"},{"$f":"IF('[1]échos VL et génisses'!B71=\"\",\"\",'[1]échos VL et génisses'!B71)","v":"GALINETTE"},null,null,"",null,null,"",null,null,"",null,null,""]
[null,null,{"$f":"IF('[1]échos VL et génisses'!A72=\"\",\"\",IF('[1]échos VL et génisses'!A72=\"Total général\",\"\",'[1]échos VL et génisses'!A72))","v":"6666"},{"$f":"IF('[1]échos VL et génisses'!B72=\"\",\"\",'[1]échos VL et génisses'!B72)","v":"GALIPETTE"},null,null,"",null,null,"",null,null,"",null,null,""]
[null,null,{"$f":"IF('[1]échos VL et génisses'!A73=\"\",\"\",IF('[1]échos VL et génisses'!A73=\"Total général\",\"\",'[1]échos VL et génisses'!A73))","v":"6667"},{"$f":"IF('[1]échos VL et génisses'!B73=\"\",\"\",'[1]échos VL et génisses'!B73)","v":"GIPSY"},null,null,"",null,null,"",null,null,"",null,null,""]
[null,null,{"$f":"IF('[1]échos VL et génisses'!A74=\"\",\"\",IF('[1]échos VL et génisses'!A74=\"Total général\",\"\",'[1]échos VL et génisses'!A74))","v":"6668"},{"$f":"IF('[1]échos VL et génisses'!B74=\"\",\"\",'[1]échos VL et génisses'!B74)","v":"GRACE"},null,null,{"$f":"IF(F72=3,0,\"\")","v":""},null,null,{"$f":"IF(I72=3,0,\"\")","v":""},null,null,{"$f":"IF(L72=3,0,\"\")","v":""},null,null,{"$f":"IF(O72=3,0,\"\")","v":""}]
[null,null,{"$f":"IF('[1]échos VL et génisses'!A75=\"\",\"\",IF('[1]échos VL et génisses'!A75=\"Total général\",\"\",'[1]échos VL et génisses'!A75))","v":"6669"},{"$f":"IF('[1]échos VL et génisses'!B75=\"\",\"\",'[1]échos VL et génisses'!B75)","v":"GAMINE"},null,null,"",null,null,"",null,null,"",null,null,""]
[null,null,{"$f":"IF('[1]échos VL et génisses'!A76=\"\",\"\",IF('[1]échos VL et génisses'!A76=\"Total général\",\"\",'[1]échos VL et génisses'!A76))","v":"6670"},{"$f":"IF('[1]échos VL et génisses'!B76=\"\",\"\",'[1]échos VL et génisses'!B76)","v":"GEORGIE"},null,null,"",null,null,"",null,null,"",null,null,""]
[null,null,{"$f":"IF('[1]échos VL et génisses'!A77=\"\",\"\",IF('[1]échos VL et génisses'!A77=\"Total général\",\"\",'[1]échos VL et génisses'!A77))","v":"6672"},{"$f":"IF('[1]échos VL et génisses'!B77=\"\",\"\",'[1]échos VL et génisses'!B77)","v":"GALAXIE"},null,null,"",null,null,"",null,null,"",null,null,""]
[null,null,{"$f":"IF('[1]échos VL et génisses'!A78=\"\",\"\",IF('[1]échos VL et génisses'!A78=\"Total général\",\"\",'[1]échos VL et génisses'!A78))","v":"6675"},{"$f":"IF('[1]échos VL et génisses'!B78=\"\",\"\",'[1]échos VL et génisses'!B78)","v":"GLORIA"},null,null,"",null,null,"",null,null,"",null,null,""]
[null,null,{"$f":"IF('[1]échos VL et génisses'!A79=\"\",\"\",IF('[1]échos VL et génisses'!A79=\"Total général\",\"\",'[1]échos VL et génisses'!A79))","v":"6676"},{"$f":"IF('[1]échos VL et génisses'!B79=\"\",\"\",'[1]échos VL et génisses'!B79)","v":"GINA"},null,null,"",null,null,"",null,null,"",null,null,""]
[null,null,{"$f":"IF('[1]échos VL et génisses'!A80=\"\",\"\",IF('[1]échos VL et génisses'!A80=\"Total général\",\"\",'[1]échos VL et génisses'!A80))","v":"6677"},{"$f":"IF('[1]échos VL et génisses'!B80=\"\",\"\",'[1]échos VL et génisses'!B80)","v":"GERANIUM"},null,null,"",null,null,"",null,null,"",null,null,""]
[null,null,{"$f":"IF('[1]échos VL et génisses'!A81=\"\",\"\",IF('[1]échos VL et génisses'!A81=\"Total général\",\"\",'[1]échos VL et génisses'!A81))","v":"6678"},{"$f":"IF('[1]échos VL et génisses'!B81=\"\",\"\",'[1]échos VL et génisses'!B81)","v":"GITANE"},null,null,"",null,null,"",null,null,"",null,null,""]
[null,null,{"$f":"IF('[1]échos VL et génisses'!A82=\"\",\"\",IF('[1]échos VL et génisses'!A82=\"Total général\",\"\",'[1]échos VL et génisses'!A82))","v":"6680"},{"$f":"IF('[1]échos VL et génisses'!B82=\"\",\"\",'[1]échos VL et génisses'!B82)","v":"GIGI"},null,null,"",null,null,"",null,null,"",null,null,""]
[null,null,{"$f":"IF('[1]échos VL et génisses'!A83=\"\",\"\",IF('[1]échos VL et génisses'!A83=\"Total général\",\"\",'[1]échos VL et génisses'!A83))","v":"6684"},{"$f":"IF('[1]échos VL et génisses'!B83=\"\",\"\",'[1]échos VL et génisses'!B83)","v":"GAZOLINE"},null,null,"",null,null,"",null,null,"",null,null,""]
[null,null,{"$f":"IF('[1]échos VL et génisses'!A84=\"\",\"\",IF('[1]échos VL et génisses'!A84=\"Total général\",\"\",'[1]échos VL et génisses'!A84))","v":"6685"},{"$f":"IF('[1]échos VL et génisses'!B84=\"\",\"\",'[1]échos VL et génisses'!B84)","v":"GINETTE"},null,null,"",null,null,"",null,null,"",null,null,""]
[null,null,{"$f":"IF('[1]échos VL et génisses'!A85=\"\",\"\",IF('[1]échos VL et génisses'!A85=\"Total général\",\"\",'[1]échos VL et génisses'!A85))","v":"6686"},{"$f":"IF('[1]échos VL et génisses'!B85=\"\",\"\",'[1]échos VL et génisses'!B85)","v":"GLACE"},null,null,"",null,null,"",null,null,"",null,null,""]
[null,null,{"$f":"IF('[1]échos VL et génisses'!A86=\"\",\"\",IF('[1]échos VL et génisses'!A86=\"Total général\",\"\",'[1]échos VL et génisses'!A86))","v":"6687"},{"$f":"IF('[1]échos VL et génisses'!B86=\"\",\"\",'[1]échos VL et génisses'!B86)","v":"GUESS"},null,null,"",null,null,"",null,null,"",null,null,""]
[null,null,{"$f":"IF('[1]échos VL et génisses'!A87=\"\",\"\",IF('[1]échos VL et génisses'!A87=\"Total général\",\"\",'[1]échos VL et génisses'!A87))","v":"6690"},{"$f":"IF('[1]échos VL et génisses'!B87=\"\",\"\",'[1]échos VL et génisses'!B87)","v":"(vide)"},null,null,"",null,null,"",null,null,"",null,null,""]
[null,null,{"$f":"IF('[1]échos VL et génisses'!A88=\"\",\"\",IF('[1]échos VL et génisses'!A88=\"Total général\",\"\",'[1]échos VL et génisses'!A88))","v":"6691"},{"$f":"IF('[1]échos VL et génisses'!B88=\"\",\"\",'[1]échos VL et génisses'!B88)","v":"GIORGIA"},null,null,"",null,null,"",null,null,"",null,null,""]
[null,null,{"$f":"IF('[1]échos VL et génisses'!A89=\"\",\"\",IF('[1]échos VL et génisses'!A89=\"Total général\",\"\",'[1]échos VL et génisses'!A89))","v":"6694"},{"$f":"IF('[1]échos VL et génisses'!B89=\"\",\"\",'[1]échos VL et génisses'!B89)","v":"GOMETTE"},null,null,"",null,null,"",null,null,"",null,null,""]
[null,null,{"$f":"IF('[1]échos VL et génisses'!A90=\"\",\"\",IF('[1]échos VL et génisses'!A90=\"Total général\",\"\",'[1]échos VL et génisses'!A90))","v":"9693"},{"$f":"IF('[1]échos VL et génisses'!B90=\"\",\"\",'[1]échos VL et génisses'!B90)","v":"HONDA"},null,null,"",null,null,"",null,null,"",null,null,""]
[null,null,{"$f":"IF('[1]échos VL et génisses'!A91=\"\",\"\",IF('[1]échos VL et génisses'!A91=\"Total général\",\"\",'[1]échos VL et génisses'!A91))","v":"9694"},{"$f":"IF('[1]échos VL et génisses'!B91=\"\",\"\",'[1]échos VL et génisses'!B91)","v":"HASTONIA"},null,null,"",null,null,"",null,null,"",null,null,""]
[null,null,{"$f":"IF('[1]échos VL et génisses'!A92=\"\",\"\",IF('[1]échos VL et génisses'!A92=\"Total général\",\"\",'[1]échos VL et génisses'!A92))","v":"9695"},{"$f":"IF('[1]échos VL et génisses'!B92=\"\",\"\",'[1]échos VL et génisses'!B92)","v":"HAMELIA"},null,null,"",null,null,"",null,null,"",null,null,""]
[null,null,{"$f":"IF('[1]échos VL et génisses'!A93=\"\",\"\",IF('[1]échos VL et génisses'!A93=\"Total général\",\"\",'[1]échos VL et génisses'!A93))","v":"9696"},{"$f":"IF('[1]échos VL et génisses'!B93=\"\",\"\",'[1]échos VL et génisses'!B93)","v":"HIRANA"},null,null,"",null,null,"",null,null,"",null,null,""]
[null,null,{"$f":"IF('[1]échos VL et génisses'!A94=\"\",\"\",IF('[1]échos VL et génisses'!A94=\"Total général\",\"\",'[1]échos VL et génisses'!A94))","v":"9697"},{"$f":"IF('[1]échos VL et génisses'!B94=\"\",\"\",'[1]échos VL et génisses'!B94)","v":"HALPHA"},null,null,"",null,null,"",null,null,"",null,null,""]
[null,null,{"$f":"IF('[1]échos VL et génisses'!A95=\"\",\"\",IF('[1]échos VL et génisses'!A95=\"Total général\",\"\",'[1]échos VL et génisses'!A95))","v":"9698"},{"$f":"IF('[1]échos VL et génisses'!B95=\"\",\"\",'[1]échos VL et génisses'!B95)","v":"HAJAX"},null,null,"",null,null,"",null,null,"",null,null,""]
[null,null,{"$f":"IF('[1]échos VL et génisses'!A96=\"\",\"\",IF('[1]échos VL et génisses'!A96=\"Total général\",\"\",'[1]échos VL et génisses'!A96))","v":"9699"},{"$f":"IF('[1]échos VL et génisses'!B96=\"\",\"\",'[1]échos VL et génisses'!B96)","v":"HORTENCE"},null,null,"",null,null,"",null,null,"",null,null,""]
[null,null,{"$f":"IF('[1]échos VL et génisses'!A97=\"\",\"\",IF('[1]échos VL et génisses'!A97=\"Total général\",\"\",'[1]échos VL et génisses'!A97))","v":"9700"},{"$f":"IF('[1]échos VL et génisses'!B97=\"\",\"\",'[1]échos VL et génisses'!B97)","v":"HAVANA"},null,null,"",null,null,"",null,null,"",null,null,""]
[null,null,{"$f":"IF('[1]échos VL et génisses'!A98=\"\",\"\",IF('[1]échos VL et génisses'!A98=\"Total général\",\"\",'[1]échos VL et génisses'!A98))","v":"9701"},{"$f":"IF('[1]échos VL et génisses'!B98=\"\",\"\",'[1]échos VL et génisses'!B98)","v":"HIMALAYA"},null,null,"",null,null,"",null,null,"",null,null,""]
[null,null,{"$f":"IF('[1]échos VL et génisses'!A99=\"\",\"\",IF('[1]échos VL et génisses'!A99=\"Total général\",\"\",'[1]échos VL et génisses'!A99))","v":"9704"},{"$f":"IF('[1]échos VL et génisses'!B99=\"\",\"\",'[1]échos VL et génisses'!B99)","v":"HIRIS"},null,null,"",null,null,"",null,null,"",null,null,""]
[null,null,{"$f":"IF('[1]échos VL et génisses'!A100=\"\",\"\",IF('[1]échos VL et génisses'!A100=\"Total général\",\"\",'[1]échos VL et génisses'!A100))","v":"9705"},{"$f":"IF('[1]échos VL et génisses'!B100=\"\",\"\",'[1]échos VL et génisses'!B100)","v":"HUGNY"},null,null,"",null,null,"",null,null,"",null,null,""]
[null,null,{"$f":"IF('[1]échos VL et génisses'!A101=\"\",\"\",IF('[1]échos VL et génisses'!A101=\"Total général\",\"\",'[1]échos VL et génisses'!A101))","v":"9706"},{"$f":"IF('[1]échos VL et génisses'!B101=\"\",\"\",'[1]échos VL et génisses'!B101)","v":"HADDITION"},null,null,"",null,null,"",null,null,"",null,null,""]
[null,null,{"$f":"IF('[1]échos VL et génisses'!A102=\"\",\"\",IF('[1]échos VL et génisses'!A102=\"Total général\",\"\",'[1]échos VL et génisses'!A102))","v":"9707"},{"$f":"IF('[1]échos VL et génisses'!B102=\"\",\"\",'[1]échos VL et génisses'!B102)","v":"HACHETTE"},null,null,"",null,null,"",null,null,"",null,null,""]
[null,null,{"$f":"IF('[1]échos VL et génisses'!A103=\"\",\"\",IF('[1]échos VL et génisses'!A103=\"Total général\",\"\",'[1]échos VL et génisses'!A103))","v":"9709"},{"$f":"IF('[1]échos VL et génisses'!B103=\"\",\"\",'[1]échos VL et génisses'!B103)","v":"HANASTASIA"},null,null,"",null,null,"",null,null,"",null,null,""]
[null,null,{"$f":"IF('[1]échos VL et génisses'!A104=\"\",\"\",IF('[1]échos VL et génisses'!A104=\"Total général\",\"\",'[1]échos VL et génisses'!A104))","v":"9710"},{"$f":"IF('[1]échos VL et génisses'!B104=\"\",\"\",'[1]échos VL et génisses'!B104)","v":"HINDRA"},null,null,"",null,null,"",null,null,"",null,null,""]
[null,null,{"$f":"IF('[1]échos VL et génisses'!A105=\"\",\"\",IF('[1]échos VL et génisses'!A105=\"Total général\",\"\",'[1]échos VL et génisses'!A105))","v":"9711"},{"$f":"IF('[1]échos VL et génisses'!B105=\"\",\"\",'[1]échos VL et génisses'!B105)","v":"HAUTAINE"},null,null,"",null,null,"",null,null,"",null,null,""]
[null,null,{"$f":"IF('[1]échos VL et génisses'!A106=\"\",\"\",IF('[1]échos VL et génisses'!A106=\"Total général\",\"\",'[1]échos VL et génisses'!A106))","v":"9713"},{"$f":"IF('[1]échos VL et génisses'!B106=\"\",\"\",'[1]échos VL et génisses'!B106)","v":"HANEMONE"},null,null,"",null,null,"",null,null,"",null,null,""]
[null,null,{"$f":"IF('[1]échos VL et génisses'!A107=\"\",\"\",IF('[1]échos VL et génisses'!A107=\"Total général\",\"\",'[1]échos VL et génisses'!A107))","v":"9714"},{"$f":"IF('[1]échos VL et génisses'!B107=\"\",\"\",'[1]échos VL et génisses'!B107)","v":"HALTESSE"},null,null,"",null,null,"",null,null,"",null,null,""]
[null,null,{"$f":"IF('[1]échos VL et génisses'!A108=\"\",\"\",IF('[1]échos VL et génisses'!A108=\"Total général\",\"\",'[1]échos VL et génisses'!A108))","v":"9715"},{"$f":"IF('[1]échos VL et génisses'!B108=\"\",\"\",'[1]échos VL et génisses'!B108)","v":"HACALINE"},null,null,"",null,null,"",null,null,"",null,null,""]
[null,null,{"$f":"IF('[1]échos VL et génisses'!A109=\"\",\"\",IF('[1]échos VL et génisses'!A109=\"Total général\",\"\",'[1]échos VL et génisses'!A109))","v":"9834"},{"$f":"IF('[1]échos VL et génisses'!B109=\"\",\"\",'[1]échos VL et génisses'!B109)","v":"CALINE"},null,null,"",null,null,"",null,null,"",null,null,""]
[null,null,{"$f":"IF('[1]échos VL et génisses'!A110=\"\",\"\",IF('[1]échos VL et génisses'!A110=\"Total général\",\"\",'[1]échos VL et génisses'!A110))","v":"9836"},{"$f":"IF('[1]échos VL et génisses'!B110=\"\",\"\",'[1]échos VL et génisses'!B110)","v":"CABINE"},null,null,"",null,null,"",null,null,"",null,null,""]
[null,null,{"$f":"IF('[1]échos VL et génisses'!A111=\"\",\"\",IF('[1]échos VL et génisses'!A111=\"Total général\",\"\",'[1]échos VL et génisses'!A111))","v":"9839"},{"$f":"IF('[1]échos VL et génisses'!B111=\"\",\"\",'[1]échos VL et génisses'!B111)","v":"CERISE"},null,null,"",null,null,"",null,null,"",null,null,""]
[null,null,{"$f":"IF('[1]échos VL et génisses'!A112=\"\",\"\",IF('[1]échos VL et génisses'!A112=\"Total général\",\"\",'[1]échos VL et génisses'!A112))","v":"9840"},{"$f":"IF('[1]échos VL et génisses'!B112=\"\",\"\",'[1]échos VL et génisses'!B112)","v":"CHATAIGNE"},null,null,"",null,null,"",null,null,"",null,null,""]
[null,null,{"$f":"IF('[1]échos VL et génisses'!A113=\"\",\"\",IF('[1]échos VL et génisses'!A113=\"Total général\",\"\",'[1]échos VL et génisses'!A113))","v":"9846"},{"$f":"IF('[1]échos VL et génisses'!B113=\"\",\"\",'[1]échos VL et génisses'!B113)","v":"CONCORDE"},null,null,"",null,null,"",null,null,"",null,null,""]
[null,null,{"$f":"IF('[1]échos VL et génisses'!A114=\"\",\"\",IF('[1]échos VL et génisses'!A114=\"Total général\",\"\",'[1]échos VL et génisses'!A114))","v":"9852"},{"$f":"IF('[1]échos VL et génisses'!B114=\"\",\"\",'[1]échos VL et génisses'!B114)","v":"CATALANE"},null,null,"",null,null,"",null,null,"",null,null,""]
[null,null,{"$f":"IF('[1]échos VL et génisses'!A115=\"\",\"\",IF('[1]échos VL et génisses'!A115=\"Total général\",\"\",'[1]échos VL et génisses'!A115))","v":"9853"},{"$f":"IF('[1]échos VL et génisses'!B115=\"\",\"\",'[1]échos VL et génisses'!B115)","v":"CLEMENTINE"},null,null,"",null,null,"",null,null,"",null,null,""]
[null,null,{"$f":"IF('[1]échos VL et génisses'!A116=\"\",\"\",IF('[1]échos VL et génisses'!A116=\"Total général\",\"\",'[1]échos VL et génisses'!A116))","v":"9857"},{"$f":"IF('[1]échos VL et génisses'!B116=\"\",\"\",'[1]échos VL et génisses'!B116)","v":"DIABLESSE"},null,null,"",null,null,"",null,null,"",null,null,""]
[null,null,{"$f":"IF('[1]échos VL et génisses'!A117=\"\",\"\",IF('[1]échos VL et génisses'!A117=\"Total général\",\"\",'[1]échos VL et génisses'!A117))","v":""},{"$f":"IF('[1]échos VL et génisses'!B117=\"\",\"\",'[1]échos VL et génisses'!B117)","v":""},null,null,"",null,null,"",null,null,"",null,null,""]
[null,null,{"$f":"IF('[1]échos VL et génisses'!A118=\"\",\"\",IF('[1]échos VL et génisses'!A118=\"Total général\",\"\",'[1]échos VL et génisses'!A118))","v":""},{"$f":"IF('[1]échos VL et génisses'!B118=\"\",\"\",'[1]échos VL et génisses'!B118)","v":""},null,null,"",null,null,"",null,null,"",null,null,""]
[null,null,{"$f":"IF('[1]échos VL et génisses'!A119=\"\",\"\",IF('[1]échos VL et génisses'!A119=\"Total général\",\"\",'[1]échos VL et génisses'!A119))","v":""},{"$f":"IF('[1]échos VL et génisses'!B119=\"\",\"\",'[1]échos VL et génisses'!B119)","v":""},null,null,"",null,null,"",null,null,"",null,null,""]
[null,null,{"$f":"IF('[1]échos VL et génisses'!A120=\"\",\"\",IF('[1]échos VL et génisses'!A120=\"Total général\",\"\",'[1]échos VL et génisses'!A120))","v":""},{"$f":"IF('[1]échos VL et génisses'!B120=\"\",\"\",'[1]échos VL et génisses'!B120)","v":""},null,null,"",null,null,"",null,null,"",null,null,""]
[null,null,{"$f":"IF('[1]échos VL et génisses'!A121=\"\",\"\",IF('[1]échos VL et génisses'!A121=\"Total général\",\"\",'[1]échos VL et génisses'!A121))","v":""},{"$f":"IF('[1]échos VL et génisses'!B121=\"\",\"\",'[1]échos VL et génisses'!B121)","v":""},null,null,"",null,null,"",null,null,"",null,null,""]
[null,null,{"$f":"IF('[1]échos VL et génisses'!A122=\"\",\"\",IF('[1]échos VL et génisses'!A122=\"Total général\",\"\",'[1]échos VL et génisses'!A122))","v":""},{"$f":"IF('[1]échos VL et génisses'!B122=\"\",\"\",'[1]échos VL et génisses'!B122)","v":""},null,null,"",null,null,"",null,null,"",null,null,""]
[null,null,{"$f":"IF('[1]échos VL et génisses'!A123=\"\",\"\",IF('[1]échos VL et génisses'!A123=\"Total général\",\"\",'[1]échos VL et génisses'!A123))","v":""},{"$f":"IF('[1]échos VL et génisses'!B123=\"\",\"\",'[1]échos VL et génisses'!B123)","v":""},null,null,"",null,null,"",null,null,"",null,null,""]
[null,null,{"$f":"IF('[1]échos VL et génisses'!A124=\"\",\"\",IF('[1]échos VL et génisses'!A124=\"Total général\",\"\",'[1]échos VL et génisses'!A124))","v":""},{"$f":"IF('[1]échos VL et génisses'!B124=\"\",\"\",'[1]échos VL et génisses'!B124)","v":""},null,null,"",null,null,"",null,null,"",null,null,""]
[null,null,{"$f":"IF('[1]échos VL et génisses'!A125=\"\",\"\",IF('[1]échos VL et génisses'!A125=\"Total général\",\"\",'[1]échos VL et génisses'!A125))","v":""},{"$f":"IF('[1]échos VL et génisses'!B125=\"\",\"\",'[1]échos VL et génisses'!B125)","v":""},null,null,"",null,null,"",null,null,"",null,null,""]
[null,null,{"$f":"IF('[1]échos VL et génisses'!A126=\"\",\"\",IF('[1]échos VL et génisses'!A126=\"Total général\",\"\",'[1]échos VL et génisses'!A126))","v":""},{"$f":"IF('[1]échos VL et génisses'!B126=\"\",\"\",'[1]échos VL et génisses'!B126)","v":""},null,null,"",null,null,"",null,null,"",null,null,""]
[null,null,{"$f":"IF('[1]échos VL et génisses'!A127=\"\",\"\",IF('[1]échos VL et génisses'!A127=\"Total général\",\"\",'[1]échos VL et génisses'!A127))","v":""},{"$f":"IF('[1]échos VL et génisses'!B127=\"\",\"\",'[1]échos VL et génisses'!B127)","v":""},null,null,"",null,null,"",null,null,"",null,null,""]
[null,null,{"$f":"IF('[1]échos VL et génisses'!A128=\"\",\"\",IF('[1]échos VL et génisses'!A128=\"Total général\",\"\",'[1]échos VL et génisses'!A128))","v":""},{"$f":"IF('[1]échos VL et génisses'!B128=\"\",\"\",'[1]échos VL et génisses'!B128)","v":""},null,null,"",null,null,"",null,null,"",null,null,""]
[null,null,{"$f":"IF('[1]échos VL et génisses'!A129=\"\",\"\",IF('[1]échos VL et génisses'!A129=\"Total général\",\"\",'[1]échos VL et génisses'!A129))","v":""},{"$f":"IF('[1]échos VL et génisses'!B129=\"\",\"\",'[1]échos VL et génisses'!B129)","v":""},null,null,"",null,null,"",null,null,"",null,null,""]
[null,null,{"$f":"IF('[1]échos VL et génisses'!A130=\"\",\"\",IF('[1]échos VL et génisses'!A130=\"Total général\",\"\",'[1]échos VL et génisses'!A130))","v":""},{"$f":"IF('[1]échos VL et génisses'!B130=\"\",\"\",'[1]échos VL et génisses'!B130)","v":""},null,null,"",null,null,"",null,null,"",null,null,""]
[null,null,{"$f":"IF('[1]échos VL et génisses'!A131=\"\",\"\",IF('[1]échos VL et génisses'!A131=\"Total général\",\"\",'[1]échos VL et génisses'!A131))","v":""},{"$f":"IF('[1]échos VL et génisses'!B131=\"\",\"\",'[1]échos VL et génisses'!B131)","v":""},null,null,"",null,null,"",null,null,"",null,null,""]
[null,null,{"$f":"IF('[1]échos VL et génisses'!A132=\"\",\"\",IF('[1]échos VL et génisses'!A132=\"Total général\",\"\",'[1]échos VL et génisses'!A132))","v":""},{"$f":"IF('[1]échos VL et génisses'!B132=\"\",\"\",'[1]échos VL et génisses'!B132)","v":""},null,null,"",null,null,"",null,null,"",null,null,""]
[null,null,{"$f":"IF('[1]échos VL et génisses'!A133=\"\",\"\",IF('[1]échos VL et génisses'!A133=\"Total général\",\"\",'[1]échos VL et génisses'!A133))","v":""},{"$f":"IF('[1]échos VL et génisses'!B133=\"\",\"\",'[1]échos VL et génisses'!B133)","v":""},null,null,{"$f":"IF(F131=3,0,\"\")","v":""},null,null,{"$f":"IF(I131=3,0,\"\")","v":""},null,null,{"$f":"IF(L131=3,0,\"\")","v":""},null,null,{"$f":"IF(O131=3,0,\"\")","v":""}]
[null,null,{"$f":"IF('[1]échos VL et génisses'!A134=\"\",\"\",IF('[1]échos VL et génisses'!A134=\"Total général\",\"\",'[1]échos VL et génisses'!A134))","v":""},{"$f":"IF('[1]échos VL et génisses'!B134=\"\",\"\",'[1]échos VL et génisses'!B134)","v":""},null,null,"",null,null,"",null,null,"",null,null,""]
[null,null,{"$f":"IF('[1]échos VL et génisses'!A135=\"\",\"\",IF('[1]échos VL et génisses'!A135=\"Total général\",\"\",'[1]échos VL et génisses'!A135))","v":""},{"$f":"IF('[1]échos VL et génisses'!B135=\"\",\"\",'[1]échos VL et génisses'!B135)","v":""},null,null,"",null,null,"",null,null,"",null,null,""]
[null,null,{"$f":"IF('[1]échos VL et génisses'!A136=\"\",\"\",IF('[1]échos VL et génisses'!A136=\"Total général\",\"\",'[1]échos VL et génisses'!A136))","v":""},{"$f":"IF('[1]échos VL et génisses'!B136=\"\",\"\",'[1]échos VL et génisses'!B136)","v":""},null,null,"",null,null,"",null,null,"",null,null,""]
[null,null,{"$f":"IF('[1]échos VL et génisses'!A137=\"\",\"\",IF('[1]échos VL et génisses'!A137=\"Total général\",\"\",'[1]échos VL et génisses'!A137))","v":""},{"$f":"IF('[1]échos VL et génisses'!B137=\"\",\"\",'[1]échos VL et génisses'!B137)","v":""},null,null,"",null,null,"",null,null,"",null,null,""]
[null,null,{"$f":"IF('[1]échos VL et génisses'!A138=\"\",\"\",IF('[1]échos VL et génisses'!A138=\"Total général\",\"\",'[1]échos VL et génisses'!A138))","v":""},{"$f":"IF('[1]échos VL et génisses'!B138=\"\",\"\",'[1]échos VL et génisses'!B138)","v":""},null,null,"",null,null,"",null,null,"",null,null,""]
[null,null,{"$f":"IF('[1]échos VL et génisses'!A139=\"\",\"\",IF('[1]échos VL et génisses'!A139=\"Total général\",\"\",'[1]échos VL et génisses'!A139))","v":""},{"$f":"IF('[1]échos VL et génisses'!B139=\"\",\"\",'[1]échos VL et génisses'!B139)","v":""},null,null,"",null,null,"",null,null,"",null,null,""]
[null,null,{"$f":"IF('[1]échos VL et génisses'!A140=\"\",\"\",IF('[1]échos VL et génisses'!A140=\"Total général\",\"\",'[1]échos VL et génisses'!A140))","v":""},{"$f":"IF('[1]échos VL et génisses'!B140=\"\",\"\",'[1]échos VL et génisses'!B140)","v":""},null,null,"",null,null,"",null,null,"",null,null,""]
[null,null,{"$f":"IF('[1]échos VL et génisses'!A141=\"\",\"\",IF('[1]échos VL et génisses'!A141=\"Total général\",\"\",'[1]échos VL et génisses'!A141))","v":""},{"$f":"IF('[1]échos VL et génisses'!B141=\"\",\"\",'[1]échos VL et génisses'!B141)","v":""},null,null,"",null,null,"",null,null,"",null,null,""]
[null,null,{"$f":"IF('[1]échos VL et génisses'!A142=\"\",\"\",IF('[1]échos VL et génisses'!A142=\"Total général\",\"\",'[1]échos VL et génisses'!A142))","v":""},{"$f":"IF('[1]échos VL et génisses'!B142=\"\",\"\",'[1]échos VL et génisses'!B142)","v":""},null,null,"",null,null,"",null,null,"",null,null,""]
[null,null,{"$f":"IF('[1]échos VL et génisses'!A143=\"\",\"\",IF('[1]échos VL et génisses'!A143=\"Total général\",\"\",'[1]échos VL et génisses'!A143))","v":""},{"$f":"IF('[1]échos VL et génisses'!B143=\"\",\"\",'[1]échos VL et génisses'!B143)","v":""},null,null,"",null,null,"",null,null,"",null,null,""]
[null,null,{"$f":"IF('[1]échos VL et génisses'!A144=\"\",\"\",IF('[1]échos VL et génisses'!A144=\"Total général\",\"\",'[1]échos VL et génisses'!A144))","v":""},{"$f":"IF('[1]échos VL et génisses'!B144=\"\",\"\",'[1]échos VL et génisses'!B144)","v":""},null,null,"",null,null,"",null,null,"",null,null,""]
[null,null,{"$f":"IF('[1]échos VL et génisses'!A145=\"\",\"\",IF('[1]échos VL et génisses'!A145=\"Total général\",\"\",'[1]échos VL et génisses'!A145))","v":""},{"$f":"IF('[1]échos VL et génisses'!B145=\"\",\"\",'[1]échos VL et génisses'!B145)","v":""},null,null,"",null,null,"",null,null,"",null,null,""]
[null,null,{"$f":"IF('[1]échos VL et génisses'!A146=\"\",\"\",IF('[1]échos VL et génisses'!A146=\"Total général\",\"\",'[1]échos VL et génisses'!A146))","v":""},{"$f":"IF('[1]échos VL et génisses'!B146=\"\",\"\",'[1]échos VL et génisses'!B146)","v":""},null,null,"",null,null,"",null,null,"",null,null,""]
[null,null,{"$f":"IF('[1]échos VL et génisses'!A147=\"\",\"\",IF('[1]échos VL et génisses'!A147=\"Total général\",\"\",'[1]échos VL et génisses'!A147))","v":""},{"$f":"IF('[1]échos VL et génisses'!B147=\"\",\"\",'[1]échos VL et génisses'!B147)","v":""},null,null,"",null,null,"",null,null,"",null,null,""]
[null,null,{"$f":"IF('[1]échos VL et génisses'!A148=\"\",\"\",IF('[1]échos VL et génisses'!A148=\"Total général\",\"\",'[1]échos VL et génisses'!A148))","v":""},{"$f":"IF('[1]échos VL et génisses'!B148=\"\",\"\",'[1]échos VL et génisses'!B148)","v":""},null,null,"",null,null,"",null,null,"",null,null,""]
[null,null,{"$f":"IF('[1]échos VL et génisses'!A149=\"\",\"\",IF('[1]échos VL et génisses'!A149=\"Total général\",\"\",'[1]échos VL et génisses'!A149))","v":""},{"$f":"IF('[1]échos VL et génisses'!B149=\"\",\"\",'[1]échos VL et génisses'!B149)","v":""},null,null,"",null,null,"",null,null,"",null,null,""]
[null,null,{"$f":"IF('[1]échos VL et génisses'!A150=\"\",\"\",IF('[1]échos VL et génisses'!A150=\"Total général\",\"\",'[1]échos VL et génisses'!A150))","v":""},{"$f":"IF('[1]échos VL et génisses'!B150=\"\",\"\",'[1]échos VL et génisses'!B150)","v":""},null,null,"",null,null,"",null,null,"",null,null,""]
[null,null,{"$f":"IF('[1]échos VL et génisses'!A151=\"\",\"\",IF('[1]échos VL et génisses'!A151=\"Total général\",\"\",'[1]échos VL et génisses'!A151))","v":""},{"$f":"IF('[1]échos VL et génisses'!B151=\"\",\"\",'[1]échos VL et génisses'!B151)","v":""},null,null,"",null,null,"",null,null,"",null,null,""]
[null,null,{"$f":"IF('[1]échos VL et génisses'!A152=\"\",\"\",IF('[1]échos VL et génisses'!A152=\"Total général\",\"\",'[1]échos VL et génisses'!A152))","v":""},{"$f":"IF('[1]échos VL et génisses'!B152=\"\",\"\",'[1]échos VL et génisses'!B152)","v":""},null,null,"",null,null,"",null,null,"",null,null,""]
[null,null,{"$f":"IF('[1]échos VL et génisses'!A153=\"\",\"\",IF('[1]échos VL et génisses'!A153=\"Total général\",\"\",'[1]échos VL et génisses'!A153))","v":""},{"$f":"IF('[1]échos VL et génisses'!B153=\"\",\"\",'[1]échos VL et génisses'!B153)","v":""},null,null,"",null,null,"",null,null,"",null,null,""]
[null,null,{"$f":"IF('[1]échos VL et génisses'!A154=\"\",\"\",IF('[1]échos VL et génisses'!A154=\"Total général\",\"\",'[1]échos VL et génisses'!A154))","v":""},{"$f":"IF('[1]échos VL et génisses'!B154=\"\",\"\",'[1]échos VL et génisses'!B154)","v":""},null,null,"",null,null,"",null,null,"",null,null,""]
[null,null,{"$f":"IF('[1]échos VL et génisses'!A155=\"\",\"\",IF('[1]échos VL et génisses'!A155=\"Total général\",\"\",'[1]échos VL et génisses'!A155))","v":""},{"$f":"IF('[1]échos VL et génisses'!B155=\"\",\"\",'[1]échos VL et génisses'!B155)","v":""},null,null,"",null,null,"",null,null,"",null,null,""]
[null,null,{"$f":"IF('[1]échos VL et génisses'!A156=\"\",\"\",IF('[1]échos VL et génisses'!A156=\"Total général\",\"\",'[1]échos VL et génisses'!A156))","v":""},{"$f":"IF('[1]échos VL et génisses'!B156=\"\",\"\",'[1]échos VL et génisses'!B156)","v":""},null,null,"",null,null,"",null,null,"",null,null,""]
[null,null,{"$f":"IF('[1]échos VL et génisses'!A157=\"\",\"\",IF('[1]échos VL et génisses'!A157=\"Total général\",\"\",'[1]échos VL et génisses'!A157))","v":""},{"$f":"IF('[1]échos VL et génisses'!B157=\"\",\"\",'[1]échos VL et génisses'!B157)","v":""},null,null,"",null,null,"",null,null,"",null,null,""]
[null,null,{"$f":"IF('[1]échos VL et génisses'!A158=\"\",\"\",IF('[1]échos VL et génisses'!A158=\"Total général\",\"\",'[1]échos VL et génisses'!A158))","v":""},{"$f":"IF('[1]échos VL et génisses'!B158=\"\",\"\",'[1]échos VL et génisses'!B158)","v":""},null,null,"",null,null,"",null,null,"",null,null,""]
[null,null,{"$f":"IF('[1]échos VL et génisses'!A159=\"\",\"\",IF('[1]échos VL et génisses'!A159=\"Total général\",\"\",'[1]échos VL et génisses'!A159))","v":""},{"$f":"IF('[1]échos VL et génisses'!B159=\"\",\"\",'[1]échos VL et génisses'!B159)","v":""},null,null,"",null,null,"",null,null,"",null,null,""]
[null,null,{"$f":"IF('[1]échos VL et génisses'!A160=\"\",\"\",IF('[1]échos VL et génisses'!A160=\"Total général\",\"\",'[1]échos VL et génisses'!A160))","v":""},{"$f":"IF('[1]échos VL et génisses'!B160=\"\",\"\",'[1]échos VL et génisses'!B160)","v":""},null,null,"",null,null,"",null,null,"",null,null,""]
[null,null,{"$f":"IF('[1]échos VL et génisses'!A161=\"\",\"\",IF('[1]échos VL et génisses'!A161=\"Total général\",\"\",'[1]échos VL et génisses'!A161))","v":""},{"$f":"IF('[1]échos VL et génisses'!B161=\"\",\"\",'[1]échos VL et génisses'!B161)","v":""},null,null,"",null,null,"",null,null,"",null,null,""]
[null,null,{"$f":"IF('[1]échos VL et génisses'!A162=\"\",\"\",IF('[1]échos VL et génisses'!A162=\"Total général\",\"\",'[1]échos VL et génisses'!A162))","v":""},{"$f":"IF('[1]échos VL et génisses'!B162=\"\",\"\",'[1]échos VL et génisses'!B162)","v":""},null,null,"",null,null,"",null,null,"",null,null,""]
[null,null,{"$f":"IF('[1]échos VL et génisses'!A163=\"\",\"\",IF('[1]échos VL et génisses'!A163=\"Total général\",\"\",'[1]échos VL et génisses'!A163))","v":""},{"$f":"IF('[1]échos VL et génisses'!B163=\"\",\"\",'[1]échos VL et génisses'!B163)","v":""},null,null,"",null,null,"",null,null,"",null,null,""]
[null,null,{"$f":"IF('[1]échos VL et génisses'!A164=\"\",\"\",IF('[1]échos VL et génisses'!A164=\"Total général\",\"\",'[1]échos VL et génisses'!A164))","v":""},{"$f":"IF('[1]échos VL et génisses'!B164=\"\",\"\",'[1]échos VL et génisses'!B164)","v":""},null,null,"",null,null,"",null,null,"",null,null,""]
[null,null,{"$f":"IF('[1]échos VL et génisses'!A165=\"\",\"\",IF('[1]échos VL et génisses'!A165=\"Total général\",\"\",'[1]échos VL et génisses'!A165))","v":""},{"$f":"IF('[1]échos VL et génisses'!B165=\"\",\"\",'[1]échos VL et génisses'!B165)","v":""},null,null,"",null,null,"",null,null,"",null,null,""]
[null,null,{"$f":"IF('[1]échos VL et génisses'!A166=\"\",\"\",IF('[1]échos VL et génisses'!A166=\"Total général\",\"\",'[1]échos VL et génisses'!A166))","v":""},{"$f":"IF('[1]échos VL et génisses'!B166=\"\",\"\",'[1]échos VL et génisses'!B166)","v":""},null,null,"",null,null,"",null,null,"",null,null,""]
[null,null,{"$f":"IF('[1]échos VL et génisses'!A167=\"\",\"\",IF('[1]échos VL et génisses'!A167=\"Total général\",\"\",'[1]échos VL et génisses'!A167))","v":""},{"$f":"IF('[1]échos VL et génisses'!B167=\"\",\"\",'[1]échos VL et génisses'!B167)","v":""},null,null,"",null,null,"",null,null,"",null,null,""]
[null,null,{"$f":"IF('[1]échos VL et génisses'!A168=\"\",\"\",IF('[1]échos VL et génisses'!A168=\"Total général\",\"\",'[1]échos VL et génisses'!A168))","v":""},{"$f":"IF('[1]échos VL et génisses'!B168=\"\",\"\",'[1]échos VL et génisses'!B168)","v":""},null,null,"",null,null,"",null,null,"",null,null,""]
[null,null,{"$f":"IF('[1]échos VL et génisses'!A169=\"\",\"\",IF('[1]échos VL et génisses'!A169=\"Total général\",\"\",'[1]échos VL et génisses'!A169))","v":""},{"$f":"IF('[1]échos VL et génisses'!B169=\"\",\"\",'[1]échos VL et génisses'!B169)","v":""},null,null,"",null,null,"",null,null,"",null,null,""]
[null,null,{"$f":"IF('[1]échos VL et génisses'!A170=\"\",\"\",IF('[1]échos VL et génisses'!A170=\"Total général\",\"\",'[1]échos VL et génisses'!A170))","v":""},{"$f":"IF('[1]échos VL et génisses'!B170=\"\",\"\",'[1]échos VL et génisses'!B170)","v":""},null,null,{"$f":"IF(F168=3,0,\"\")","v":""},null,null,{"$f":"IF(I168=3,0,\"\")","v":""},null,null,{"$f":"IF(L168=3,0,\"\")","v":""},null,null,{"$f":"IF(O168=3,0,\"\")","v":""}]
[null,null,{"$f":"IF('[1]échos VL et génisses'!A171=\"\",\"\",IF('[1]échos VL et génisses'!A171=\"Total général\",\"\",'[1]échos VL et génisses'!A171))","v":""},{"$f":"IF('[1]échos VL et génisses'!B171=\"\",\"\",'[1]échos VL et génisses'!B171)","v":""},null,null,"",null,null,"",null,null,"",null,null,""]
[null,null,{"$f":"IF('[1]échos VL et génisses'!A172=\"\",\"\",IF('[1]échos VL et génisses'!A172=\"Total général\",\"\",'[1]échos VL et génisses'!A172))","v":""},{"$f":"IF('[1]échos VL et génisses'!B172=\"\",\"\",'[1]échos VL et génisses'!B172)","v":""},null,null,"",null,null,"",null,null,"",null,null,""]
[null,null,{"$f":"IF('[1]échos VL et génisses'!A173=\"\",\"\",IF('[1]échos VL et génisses'!A173=\"Total général\",\"\",'[1]échos VL et génisses'!A173))","v":""},{"$f":"IF('[1]échos VL et génisses'!B173=\"\",\"\",'[1]échos VL et génisses'!B173)","v":""},null,null,"",null,null,"",null,null,"",null,null,""]
[null,null,{"$f":"IF('[1]échos VL et génisses'!A174=\"\",\"\",IF('[1]échos VL et génisses'!A174=\"Total général\",\"\",'[1]échos VL et génisses'!A174))","v":""},{"$f":"IF('[1]échos VL et génisses'!B174=\"\",\"\",'[1]échos VL et génisses'!B174)","v":""},null,null,"",null,null,"",null,null,"",null,null,""]
[null,null,{"$f":"IF('[1]échos VL et génisses'!A175=\"\",\"\",IF('[1]échos VL et génisses'!A175=\"Total général\",\"\",'[1]échos VL et génisses'!A175))","v":""},{"$f":"IF('[1]échos VL et génisses'!B175=\"\",\"\",'[1]échos VL et génisses'!B175)","v":""},null,null,"",null,null,"",null,null,"",null,null,""]
[null,null,{"$f":"IF('[1]échos VL et génisses'!A176=\"\",\"\",IF('[1]échos VL et génisses'!A176=\"Total général\",\"\",'[1]échos VL et génisses'!A176))","v":""},{"$f":"IF('[1]échos VL et génisses'!B176=\"\",\"\",'[1]échos VL et génisses'!B176)","v":""},null,null,"",null,null,"",null,null,"",null,null,""]
[null,null,{"$f":"IF('[1]échos VL et génisses'!A177=\"\",\"\",IF('[1]échos VL et génisses'!A177=\"Total général\",\"\",'[1]échos VL et génisses'!A177))","v":""},{"$f":"IF('[1]échos VL et génisses'!B177=\"\",\"\",'[1]échos VL et génisses'!B177)","v":""},null,null,"",null,null,"",null,null,"",null,null,""]
[null,null,{"$f":"IF('[1]échos VL et génisses'!A178=\"\",\"\",IF('[1]échos VL et génisses'!A178=\"Total général\",\"\",'[1]échos VL et génisses'!A178))","v":""},{"$f":"IF('[1]échos VL et génisses'!B178=\"\",\"\",'[1]échos VL et génisses'!B178)","v":""},null,null,"",null,null,"",null,null,"",null,null,""]
[null,null,{"$f":"IF('[1]échos VL et génisses'!A179=\"\",\"\",IF('[1]échos VL et génisses'!A179=\"Total général\",\"\",'[1]échos VL et génisses'!A179))","v":""},{"$f":"IF('[1]échos VL et génisses'!B179=\"\",\"\",'[1]échos VL et génisses'!B179)","v":""},null,null,"",null,null,"",null,null,"",null,null,""]
[null,null,{"$f":"IF('[1]échos VL et génisses'!A180=\"\",\"\",IF('[1]échos VL et génisses'!A180=\"Total général\",\"\",'[1]échos VL et génisses'!A180))","v":""},{"$f":"IF('[1]échos VL et génisses'!B180=\"\",\"\",'[1]échos VL et génisses'!B180)","v":""},null,null,"",null,null,"",null,null,"",null,null,""]
[null,null,{"$f":"IF('[1]échos VL et génisses'!A181=\"\",\"\",IF('[1]échos VL et génisses'!A181=\"Total général\",\"\",'[1]échos VL et génisses'!A181))","v":""},{"$f":"IF('[1]échos VL et génisses'!B181=\"\",\"\",'[1]échos VL et génisses'!B181)","v":""},null,null,"",null,null,"",null,null,"",null,null,""]
[null,null,{"$f":"IF('[1]échos VL et génisses'!A182=\"\",\"\",IF('[1]échos VL et génisses'!A182=\"Total général\",\"\",'[1]échos VL et génisses'!A182))","v":""},{"$f":"IF('[1]échos VL et génisses'!B182=\"\",\"\",'[1]échos VL et génisses'!B182)","v":""},null,null,"",null,null,"",null,null,"",null,null,""]
[null,null,{"$f":"IF('[1]échos VL et génisses'!A183=\"\",\"\",IF('[1]échos VL et génisses'!A183=\"Total général\",\"\",'[1]échos VL et génisses'!A183))","v":""},{"$f":"IF('[1]échos VL et génisses'!B183=\"\",\"\",'[1]échos VL et génisses'!B183)","v":""},null,null,"",null,null,"",null,null,"",null,null,""]
[null,null,{"$f":"IF('[1]échos VL et génisses'!A184=\"\",\"\",IF('[1]échos VL et génisses'!A184=\"Total général\",\"\",'[1]échos VL et génisses'!A184))","v":""},{"$f":"IF('[1]échos VL et génisses'!B184=\"\",\"\",'[1]échos VL et génisses'!B184)","v":""},null,null,"",null,null,"",null,null,"",null,null,""]
[null,null,{"$f":"IF('[1]échos VL et génisses'!A185=\"\",\"\",IF('[1]échos VL et génisses'!A185=\"Total général\",\"\",'[1]échos VL et génisses'!A185))","v":""},{"$f":"IF('[1]échos VL et génisses'!B185=\"\",\"\",'[1]échos VL et génisses'!B185)","v":""},null,null,"",null,null,"",null,null,"",null,null,""]
[null,null,{"$f":"IF('[1]échos VL et génisses'!A186=\"\",\"\",IF('[1]échos VL et génisses'!A186=\"Total général\",\"\",'[1]échos VL et génisses'!A186))","v":""},{"$f":"IF('[1]échos VL et génisses'!B186=\"\",\"\",'[1]échos VL et génisses'!B186)","v":""},null,null,"",null,null,"",null,null,"",null,null,""]
[null,null,{"$f":"IF('[1]échos VL et génisses'!A187=\"\",\"\",IF('[1]échos VL et génisses'!A187=\"Total général\",\"\",'[1]échos VL et génisses'!A187))","v":""},{"$f":"IF('[1]échos VL et génisses'!B187=\"\",\"\",'[1]échos VL et génisses'!B187)","v":""},null,null,"",null,null,"",null,null,"",null,null,""]
[null,null,{"$f":"IF('[1]échos VL et génisses'!A188=\"\",\"\",IF('[1]échos VL et génisses'!A188=\"Total général\",\"\",'[1]échos VL et génisses'!A188))","v":""},{"$f":"IF('[1]échos VL et génisses'!B188=\"\",\"\",'[1]échos VL et génisses'!B188)","v":""},null,null,"",null,null,"",null,null,"",null,null,""]
[null,null,{"$f":"IF('[1]échos VL et génisses'!A189=\"\",\"\",IF('[1]échos VL et génisses'!A189=\"Total général\",\"\",'[1]échos VL et génisses'!A189))","v":""},{"$f":"IF('[1]échos VL et génisses'!B189=\"\",\"\",'[1]échos VL et génisses'!B189)","v":""},null,null,"",null,null,"",null,null,"",null,null,""]
[null,null,{"$f":"IF('[1]échos VL et génisses'!A190=\"\",\"\",IF('[1]échos VL et génisses'!A190=\"Total général\",\"\",'[1]échos VL et génisses'!A190))","v":""},{"$f":"IF('[1]échos VL et génisses'!B190=\"\",\"\",'[1]échos VL et génisses'!B190)","v":""},null,null,"",null,null,"",null,null,"",null,null,""]
[null,null,{"$f":"IF('[1]échos VL et génisses'!A191=\"\",\"\",IF('[1]échos VL et génisses'!A191=\"Total général\",\"\",'[1]échos VL et génisses'!A191))","v":""},{"$f":"IF('[1]échos VL et génisses'!B191=\"\",\"\",'[1]échos VL et génisses'!B191)","v":""},null,null,"",null,null,"",null,null,"",null,null,""]
[null,null,{"$f":"IF('[1]échos VL et génisses'!A192=\"\",\"\",IF('[1]échos VL et génisses'!A192=\"Total général\",\"\",'[1]échos VL et génisses'!A192))","v":""},{"$f":"IF('[1]échos VL et génisses'!B192=\"\",\"\",'[1]échos VL et génisses'!B192)","v":""},null,null,"",null,null,"",null,null,"",null,null,""]
[null,null,{"$f":"IF('[1]échos VL et génisses'!A193=\"\",\"\",IF('[1]échos VL et génisses'!A193=\"Total général\",\"\",'[1]échos VL et génisses'!A193))","v":""},{"$f":"IF('[1]échos VL et génisses'!B193=\"\",\"\",'[1]échos VL et génisses'!B193)","v":""},null,null,"",null,null,"",null,null,"",null,null,""]
[null,null,{"$f":"IF('[1]échos VL et génisses'!A194=\"\",\"\",IF('[1]échos VL et génisses'!A194=\"Total général\",\"\",'[1]échos VL et génisses'!A194))","v":""},{"$f":"IF('[1]échos VL et génisses'!B194=\"\",\"\",'[1]échos VL et génisses'!B194)","v":""},null,null,"",null,null,"",null,null,"",null,null,""]
[null,null,{"$f":"IF('[1]échos VL et génisses'!A195=\"\",\"\",IF('[1]échos VL et génisses'!A195=\"Total général\",\"\",'[1]échos VL et génisses'!A195))","v":""},{"$f":"IF('[1]échos VL et génisses'!B195=\"\",\"\",'[1]échos VL et génisses'!B195)","v":""},null,null,"",null,null,"",null,null,"",null,null,""]
[null,null,{"$f":"IF('[1]échos VL et génisses'!A196=\"\",\"\",IF('[1]échos VL et génisses'!A196=\"Total général\",\"\",'[1]échos VL et génisses'!A196))","v":""},{"$f":"IF('[1]échos VL et génisses'!B196=\"\",\"\",'[1]échos VL et génisses'!B196)","v":""},null,null,"",null,null,"",null,null,"",null,null,""]
[null,null,{"$f":"IF('[1]échos VL et génisses'!A197=\"\",\"\",IF('[1]échos VL et génisses'!A197=\"Total général\",\"\",'[1]échos VL et génisses'!A197))","v":""},{"$f":"IF('[1]échos VL et génisses'!B197=\"\",\"\",'[1]échos VL et génisses'!B197)","v":""},null,null,"",null,null,"",null,null,"",null,null,""]
[null,null,{"$f":"IF('[1]échos VL et génisses'!A198=\"\",\"\",IF('[1]échos VL et génisses'!A198=\"Total général\",\"\",'[1]échos VL et génisses'!A198))","v":""},{"$f":"IF('[1]échos VL et génisses'!B198=\"\",\"\",'[1]échos VL et génisses'!B198)","v":""},null,null,"",null,null,"",null,null,"",null,null,""]
[null,null,{"$f":"IF('[1]échos VL et génisses'!A199=\"\",\"\",IF('[1]échos VL et génisses'!A199=\"Total général\",\"\",'[1]échos VL et génisses'!A199))","v":""},{"$f":"IF('[1]échos VL et génisses'!B199=\"\",\"\",'[1]échos VL et génisses'!B199)","v":""},null,null,"",null,null,"",null,null,"",null,null,""]
[null,null,{"$f":"IF('[1]échos VL et génisses'!A200=\"\",\"\",IF('[1]échos VL et génisses'!A200=\"Total général\",\"\",'[1]échos VL et génisses'!A200))","v":""},{"$f":"IF('[1]échos VL et génisses'!B200=\"\",\"\",'[1]échos VL et génisses'!B200)","v":""},null,null,"",null,null,"",null,null,"",null,null,""]
[null,null,{"$f":"IF('[1]échos VL et génisses'!A201=\"\",\"\",IF('[1]échos VL et génisses'!A201=\"Total général\",\"\",'[1]échos VL et génisses'!A201))","v":""},{"$f":"IF('[1]échos VL et génisses'!B201=\"\",\"\",'[1]échos VL et génisses'!B201)","v":""},null,null,"",null,null,"",null,null,"",null,null,""]
[null,null,{"$f":"IF('[1]échos VL et génisses'!A202=\"\",\"\",IF('[1]échos VL et génisses'!A202=\"Total général\",\"\",'[1]échos VL et génisses'!A202))","v":""},{"$f":"IF('[1]échos VL et génisses'!B202=\"\",\"\",'[1]échos VL et génisses'!B202)","v":""},null,null,"",null,null,"",null,null,"",null,null,""]
[null,null,{"$f":"IF('[1]échos VL et génisses'!A203=\"\",\"\",IF('[1]échos VL et génisses'!A203=\"Total général\",\"\",'[1]échos VL et génisses'!A203))","v":""},{"$f":"IF('[1]échos VL et génisses'!B203=\"\",\"\",'[1]échos VL et génisses'!B203)","v":""},null,null,"",null,null,"",null,null,"",null,null,""]
[null,null,{"$f":"IF('[1]échos VL et génisses'!A204=\"\",\"\",IF('[1]échos VL et génisses'!A204=\"Total général\",\"\",'[1]échos VL et génisses'!A204))","v":""},{"$f":"IF('[1]échos VL et génisses'!B204=\"\",\"\",'[1]échos VL et génisses'!B204)","v":""},null,null,"",null,null,"",null,null,"",null,null,""]
[null,null,{"$f":"IF('[1]échos VL et génisses'!A205=\"\",\"\",IF('[1]échos VL et génisses'!A205=\"Total général\",\"\",'[1]échos VL et génisses'!A205))","v":""},{"$f":"IF('[1]échos VL et génisses'!B205=\"\",\"\",'[1]échos VL et génisses'!B205)","v":""},null,null,"",null,null,"",null,null,"",null,null,""]
[null,null,{"$f":"IF('[1]échos VL et génisses'!A206=\"\",\"\",IF('[1]échos VL et génisses'!A206=\"Total général\",\"\",'[1]échos VL et génisses'!A206))","v":""},{"$f":"IF('[1]échos VL et génisses'!B206=\"\",\"\",'[1]échos VL et génisses'!B206)","v":""},null,null,"",null,null,"",null,null,"",null,null,""]
[null,null,{"$f":"IF('[1]échos VL et génisses'!A207=\"\",\"\",IF('[1]échos VL et génisses'!A207=\"Total général\",\"\",'[1]échos VL et génisses'!A207))","v":""},{"$f":"IF('[1]échos VL et génisses'!B207=\"\",\"\",'[1]échos VL et génisses'!B207)","v":""},null,null,"",null,null,"",null,null,"",null,null,""]
[null,null,{"$f":"IF('[1]échos VL et génisses'!A208=\"\",\"\",IF('[1]échos VL et génisses'!A208=\"Total général\",\"\",'[1]échos VL et génisses'!A208))","v":""},{"$f":"IF('[1]échos VL et génisses'!B208=\"\",\"\",'[1]échos VL et génisses'!B208)","v":""},null,null,"",null,null,"",null,null,"",null,null,""]
[null,null,{"$f":"IF('[1]échos VL et génisses'!A209=\"\",\"\",IF('[1]échos VL et génisses'!A209=\"Total général\",\"\",'[1]échos VL et génisses'!A209))","v":""},{"$f":"IF('[1]échos VL et génisses'!B209=\"\",\"\",'[1]échos VL et génisses'!B209)","v":""},null,null,"",null,null,"",null,null,"",null,null,""]
[null,null,{"$f":"IF('[1]échos VL et génisses'!A210=\"\",\"\",IF('[1]échos VL et génisses'!A210=\"Total général\",\"\",'[1]échos VL et génisses'!A210))","v":""},{"$f":"IF('[1]échos VL et génisses'!B210=\"\",\"\",'[1]échos VL et génisses'!B210)","v":""},null,null,"",null,null,"",null,null,"",null,null,""]
[null,null,{"$f":"IF('[1]échos VL et génisses'!A211=\"\",\"\",IF('[1]échos VL et génisses'!A211=\"Total général\",\"\",'[1]échos VL et génisses'!A211))","v":""},{"$f":"IF('[1]échos VL et génisses'!B211=\"\",\"\",'[1]échos VL et génisses'!B211)","v":""},null,null,"",null,null,"",null,null,"",null,null,""]
[null,null,{"$f":"IF('[1]échos VL et génisses'!A212=\"\",\"\",IF('[1]échos VL et génisses'!A212=\"Total général\",\"\",'[1]échos VL et génisses'!A212))","v":""},{"$f":"IF('[1]échos VL et génisses'!B212=\"\",\"\",'[1]échos VL et génisses'!B212)","v":""},null,null,"",null,null,"",null,null,"",null,null,""]
[null,null,{"$f":"IF('[1]échos VL et génisses'!A213=\"\",\"\",IF('[1]échos VL et génisses'!A213=\"Total général\",\"\",'[1]échos VL et génisses'!A213))","v":""},{"$f":"IF('[1]échos VL et génisses'!B213=\"\",\"\",'[1]échos VL et génisses'!B213)","v":""},null,null,"",null,null,"",null,null,"",null,null,""]
[null,null,{"$f":"IF('[1]échos VL et génisses'!A214=\"\",\"\",IF('[1]échos VL et génisses'!A214=\"Total général\",\"\",'[1]échos VL et génisses'!A214))","v":""},{"$f":"IF('[1]échos VL et génisses'!B214=\"\",\"\",'[1]échos VL et génisses'!B214)","v":""},null,null,"",null,null,"",null,null,"",null,null,""]
[null,null,{"$f":"IF('[1]échos VL et génisses'!A215=\"\",\"\",IF('[1]échos VL et génisses'!A215=\"Total général\",\"\",'[1]échos VL et génisses'!A215))","v":""},{"$f":"IF('[1]échos VL et génisses'!B215=\"\",\"\",'[1]échos VL et génisses'!B215)","v":""},null,null,{"$f":"IF(F213=3,0,\"\")","v":""},null,null,{"$f":"IF(I213=3,0,\"\")","v":""},null,null,{"$f":"IF(L213=3,0,\"\")","v":""},null,null,{"$f":"IF(O213=3,0,\"\")","v":""}]
[null,null,{"$f":"IF('[1]échos VL et génisses'!A216=\"\",\"\",IF('[1]échos VL et génisses'!A216=\"Total général\",\"\",'[1]échos VL et génisses'!A216))","v":""},{"$f":"IF('[1]échos VL et génisses'!B216=\"\",\"\",'[1]échos VL et génisses'!B216)","v":""},null,null,"",null,null,"",null,null,"",null,null,""]
[null,null,{"$f":"IF('[1]échos VL et génisses'!A217=\"\",\"\",IF('[1]échos VL et génisses'!A217=\"Total général\",\"\",'[1]échos VL et génisses'!A217))","v":""},{"$f":"IF('[1]échos VL et génisses'!B217=\"\",\"\",'[1]échos VL et génisses'!B217)","v":""},null,null,"",null,null,"",null,null,"",null,null,""]
[null,null,{"$f":"IF('[1]échos VL et génisses'!A218=\"\",\"\",IF('[1]échos VL et génisses'!A218=\"Total général\",\"\",'[1]échos VL et génisses'!A218))","v":""},{"$f":"IF('[1]échos VL et génisses'!B218=\"\",\"\",'[1]échos VL et génisses'!B218)","v":""},null,null,"",null,null,"",null,null,"",null,null,""]
[null,null,{"$f":"IF('[1]échos VL et génisses'!A219=\"\",\"\",IF('[1]échos VL et génisses'!A219=\"Total général\",\"\",'[1]échos VL et génisses'!A219))","v":""},{"$f":"IF('[1]échos VL et génisses'!B219=\"\",\"\",'[1]échos VL et génisses'!B219)","v":""},null,null,"",null,null,"",null,null,"",null,null,""]
[null,null,{"$f":"IF('[1]échos VL et génisses'!A220=\"\",\"\",IF('[1]échos VL et génisses'!A220=\"Total général\",\"\",'[1]échos VL et génisses'!A220))","v":""},{"$f":"IF('[1]échos VL et génisses'!B220=\"\",\"\",'[1]échos VL et génisses'!B220)","v":""},null,null,"",null,null,"",null,null,"",null,null,""]
[null,null,{"$f":"IF('[1]échos VL et génisses'!A221=\"\",\"\",IF('[1]échos VL et génisses'!A221=\"Total général\",\"\",'[1]échos VL et génisses'!A221))","v":""},{"$f":"IF('[1]échos VL et génisses'!B221=\"\",\"\",'[1]échos VL et génisses'!B221)","v":""},null,null,"",null,null,"",null,null,"",null,null,""]
[null,null,{"$f":"IF('[1]échos VL et génisses'!A222=\"\",\"\",IF('[1]échos VL et génisses'!A222=\"Total général\",\"\",'[1]échos VL et génisses'!A222))","v":""},{"$f":"IF('[1]échos VL et génisses'!B222=\"\",\"\",'[1]échos VL et génisses'!B222)","v":""},null,null,"",null,null,"",null,null,"",null,null,""]
[null,null,{"$f":"IF('[1]échos VL et génisses'!A223=\"\",\"\",IF('[1]échos VL et génisses'!A223=\"Total général\",\"\",'[1]échos VL et génisses'!A223))","v":""},{"$f":"IF('[1]échos VL et génisses'!B223=\"\",\"\",'[1]échos VL et génisses'!B223)","v":""},null,null,"",null,null,"",null,null,"",null,null,""]
[null,null,{"$f":"IF('[1]échos VL et génisses'!A224=\"\",\"\",IF('[1]échos VL et génisses'!A224=\"Total général\",\"\",'[1]échos VL et génisses'!A224))","v":""},{"$f":"IF('[1]échos VL et génisses'!B224=\"\",\"\",'[1]échos VL et génisses'!B224)","v":""},null,null,"",null,null,"",null,null,"",null,null,""]
[null,null,{"$f":"IF('[1]échos VL et génisses'!A225=\"\",\"\",IF('[1]échos VL et génisses'!A225=\"Total général\",\"\",'[1]échos VL et génisses'!A225))","v":""},{"$f":"IF('[1]échos VL et génisses'!B225=\"\",\"\",'[1]échos VL et génisses'!B225)","v":""},null,null,{"$f":"IF(F223=3,0,\"\")","v":""},null,null,{"$f":"IF(I223=3,0,\"\")","v":""},null,null,{"$f":"IF(L223=3,0,\"\")","v":""},null,null,{"$f":"IF(O223=3,0,\"\")","v":""}]
[null,null,{"$f":"IF('[1]échos VL et génisses'!A226=\"\",\"\",IF('[1]échos VL et génisses'!A226=\"Total général\",\"\",'[1]échos VL et génisses'!A226))","v":""},{"$f":"IF('[1]échos VL et génisses'!B226=\"\",\"\",'[1]échos VL et génisses'!B226)","v":""},null,null,{"$f":"IF(F224=3,0,\"\")","v":""},null,null,{"$f":"IF(I224=3,0,\"\")","v":""},null,null,{"$f":"IF(L224=3,0,\"\")","v":""},null,null,{"$f":"IF(O224=3,0,\"\")","v":""}]
[null,null,{"$f":"IF('[1]échos VL et génisses'!A227=\"\",\"\",IF('[1]échos VL et génisses'!A227=\"Total général\",\"\",'[1]échos VL et génisses'!A227))","v":""},{"$f":"IF('[1]échos VL et génisses'!B227=\"\",\"\",'[1]échos VL et génisses'!B227)","v":""},null,null,{"$f":"IF(F225=3,0,\"\")","v":""},null,null,{"$f":"IF(I225=3,0,\"\")","v":""},null,null,{"$f":"IF(L225=3,0,\"\")","v":""},null,null,{"$f":"IF(O225=3,0,\"\")","v":""}]
[null,null,{"$f":"IF('[1]échos VL et génisses'!A228=\"\",\"\",IF('[1]échos VL et génisses'!A228=\"Total général\",\"\",'[1]échos VL et génisses'!A228))","v":""},{"$f":"IF('[1]échos VL et génisses'!B228=\"\",\"\",'[1]échos VL et génisses'!B228)","v":""},null,null,{"$f":"IF(F226=3,0,\"\")","v":""},null,null,{"$f":"IF(I226=3,0,\"\")","v":""},null,null,{"$f":"IF(L226=3,0,\"\")","v":""},null,null,{"$f":"IF(O226=3,0,\"\")","v":""}]
[null,null,{"$f":"IF('[1]échos VL et génisses'!A229=\"\",\"\",IF('[1]échos VL et génisses'!A229=\"Total général\",\"\",'[1]échos VL et génisses'!A229))","v":""},{"$f":"IF('[1]échos VL et génisses'!B229=\"\",\"\",'[1]échos VL et génisses'!B229)","v":""},null,null,{"$f":"IF(F227=3,0,\"\")","v":""},null,null,{"$f":"IF(I227=3,0,\"\")","v":""},null,null,{"$f":"IF(L227=3,0,\"\")","v":""},null,null,{"$f":"IF(O227=3,0,\"\")","v":""}]
[null,null,{"$f":"IF('[1]échos VL et génisses'!A230=\"\",\"\",IF('[1]échos VL et génisses'!A230=\"Total général\",\"\",'[1]échos VL et génisses'!A230))","v":""},{"$f":"IF('[1]échos VL et génisses'!B230=\"\",\"\",'[1]échos VL et génisses'!B230)","v":""},null,null,"",null,null,"",null,null,"",null,null,""]
[null,null,{"$f":"IF('[1]échos VL et génisses'!A231=\"\",\"\",IF('[1]échos VL et génisses'!A231=\"Total général\",\"\",'[1]échos VL et génisses'!A231))","v":""},{"$f":"IF('[1]échos VL et génisses'!B231=\"\",\"\",'[1]échos VL et génisses'!B231)","v":""},null,null,"",null,null,"",null,null,"",null,null,""]
[null,null,{"$f":"IF('[1]échos VL et génisses'!A232=\"\",\"\",IF('[1]échos VL et génisses'!A232=\"Total général\",\"\",'[1]échos VL et génisses'!A232))","v":""},{"$f":"IF('[1]échos VL et génisses'!B232=\"\",\"\",'[1]échos VL et génisses'!B232)","v":""},null,null,"",null,null,"",null,null,"",null,null,""]
[null,null,{"$f":"IF('[1]échos VL et génisses'!A233=\"\",\"\",IF('[1]échos VL et génisses'!A233=\"Total général\",\"\",'[1]échos VL et génisses'!A233))","v":""},{"$f":"IF('[1]échos VL et génisses'!B233=\"\",\"\",'[1]échos VL et génisses'!B233)","v":""},null,null,"",null,null,"",null,null,"",null,null,""]
[null,null,{"$f":"IF('[1]échos VL et génisses'!A234=\"\",\"\",IF('[1]échos VL et génisses'!A234=\"Total général\",\"\",'[1]échos VL et génisses'!A234))","v":""},{"$f":"IF('[1]échos VL et génisses'!B234=\"\",\"\",'[1]échos VL et génisses'!B234)","v":""},null,null,"",null,null,"",null,null,"",null,null,""]
[null,null,{"$f":"IF('[1]échos VL et génisses'!A235=\"\",\"\",IF('[1]échos VL et génisses'!A235=\"Total général\",\"\",'[1]échos VL et génisses'!A235))","v":""},{"$f":"IF('[1]échos VL et génisses'!B235=\"\",\"\",'[1]échos VL et génisses'!B235)","v":""},null,null,"",null,null,"",null,null,"",null,null,""]
[null,null,{"$f":"IF('[1]échos VL et génisses'!A236=\"\",\"\",IF('[1]échos VL et génisses'!A236=\"Total général\",\"\",'[1]échos VL et génisses'!A236))","v":""},{"$f":"IF('[1]échos VL et génisses'!B236=\"\",\"\",'[1]échos VL et génisses'!B236)","v":""},null,null,"",null,null,"",null,null,"",null,null,""]
[null,null,{"$f":"IF('[1]échos VL et génisses'!A237=\"\",\"\",IF('[1]échos VL et génisses'!A237=\"Total général\",\"\",'[1]échos VL et génisses'!A237))","v":""},{"$f":"IF('[1]échos VL et génisses'!B237=\"\",\"\",'[1]échos VL et génisses'!B237)","v":""},null,null,"",null,null,"",null,null,"",null,null,""]
[null,null,{"$f":"IF('[1]échos VL et génisses'!A238=\"\",\"\",IF('[1]échos VL et génisses'!A238=\"Total général\",\"\",'[1]échos VL et génisses'!A238))","v":""},{"$f":"IF('[1]échos VL et génisses'!B238=\"\",\"\",'[1]échos VL et génisses'!B238)","v":""},null,null,"",null,null,"",null,null,"",null,null,""]
[null,null,{"$f":"IF('[1]échos VL et génisses'!A239=\"\",\"\",IF('[1]échos VL et génisses'!A239=\"Total général\",\"\",'[1]échos VL et génisses'!A239))","v":""},{"$f":"IF('[1]échos VL et génisses'!B239=\"\",\"\",'[1]échos VL et génisses'!B239)","v":""},null,null,"",null,null,"",null,null,"",null,null,""]
[null,null,{"$f":"IF('[1]échos VL et génisses'!A240=\"\",\"\",IF('[1]échos VL et génisses'!A240=\"Total général\",\"\",'[1]échos VL et génisses'!A240))","v":""},{"$f":"IF('[1]échos VL et génisses'!B240=\"\",\"\",'[1]échos VL et génisses'!B240)","v":""},null,null,"",null,null,"",null,null,"",null,null,""]
[null,null,{"$f":"IF('[1]échos VL et génisses'!A241=\"\",\"\",IF('[1]échos VL et génisses'!A241=\"Total général\",\"\",'[1]échos VL et génisses'!A241))","v":""},{"$f":"IF('[1]échos VL et génisses'!B241=\"\",\"\",'[1]échos VL et génisses'!B241)","v":""},null,null,"",null,null,"",null,null,"",null,null,""]
[null,null,{"$f":"IF('[1]échos VL et génisses'!A242=\"\",\"\",IF('[1]échos VL et génisses'!A242=\"Total général\",\"\",'[1]échos VL et génisses'!A242))","v":""},{"$f":"IF('[1]échos VL et génisses'!B242=\"\",\"\",'[1]échos VL et génisses'!B242)","v":""},null,null,"",null,null,"",null,null,"",null,null,""]
[null,null,{"$f":"IF('[1]échos VL et génisses'!A243=\"\",\"\",IF('[1]échos VL et génisses'!A243=\"Total général\",\"\",'[1]échos VL et génisses'!A243))","v":""},{"$f":"IF('[1]échos VL et génisses'!B243=\"\",\"\",'[1]échos VL et génisses'!B243)","v":""},null,null,"",null,null,"",null,null,"",null,null,""]
[null,null,{"$f":"IF('[1]échos VL et génisses'!A244=\"\",\"\",IF('[1]échos VL et génisses'!A244=\"Total général\",\"\",'[1]échos VL et génisses'!A244))","v":""},{"$f":"IF('[1]échos VL et génisses'!B244=\"\",\"\",'[1]échos VL et génisses'!B244)","v":""},null,null,"",null,null,"",null,null,"",null,null,""]
[null,null,{"$f":"IF('[1]échos VL et génisses'!A245=\"\",\"\",IF('[1]échos VL et génisses'!A245=\"Total général\",\"\",'[1]échos VL et génisses'!A245))","v":""},{"$f":"IF('[1]échos VL et génisses'!B245=\"\",\"\",'[1]échos VL et génisses'!B245)","v":""},null,null,"",null,null,"",null,null,"",null,null,""]
[null,null,{"$f":"IF('[1]échos VL et génisses'!A246=\"\",\"\",IF('[1]échos VL et génisses'!A246=\"Total général\",\"\",'[1]échos VL et génisses'!A246))","v":""},{"$f":"IF('[1]échos VL et génisses'!B246=\"\",\"\",'[1]échos VL et génisses'!B246)","v":""},null,null,"",null,null,"",null,null,"",null,null,""]
[null,null,{"$f":"IF('[1]échos VL et génisses'!A247=\"\",\"\",IF('[1]échos VL et génisses'!A247=\"Total général\",\"\",'[1]échos VL et génisses'!A247))","v":""},{"$f":"IF('[1]échos VL et génisses'!B247=\"\",\"\",'[1]échos VL et génisses'!B247)","v":""},null,null,"",null,null,"",null,null,"",null,null,""]
[null,null,{"$f":"IF('[1]échos VL et génisses'!A248=\"\",\"\",IF('[1]échos VL et génisses'!A248=\"Total général\",\"\",'[1]échos VL et génisses'!A248))","v":""},{"$f":"IF('[1]échos VL et génisses'!B248=\"\",\"\",'[1]échos VL et génisses'!B248)","v":""},null,null,"",null,null,"",null,null,"",null,null,""]
[null,null,{"$f":"IF('[1]échos VL et génisses'!A249=\"\",\"\",IF('[1]échos VL et génisses'!A249=\"Total général\",\"\",'[1]échos VL et génisses'!A249))","v":""},{"$f":"IF('[1]échos VL et génisses'!B249=\"\",\"\",'[1]échos VL et génisses'!B249)","v":""},null,null,"",null,null,"",null,null,"",null,null,""]
[null,null,{"$f":"IF('[1]échos VL et génisses'!A250=\"\",\"\",IF('[1]échos VL et génisses'!A250=\"Total général\",\"\",'[1]échos VL et génisses'!A250))","v":""},{"$f":"IF('[1]échos VL et génisses'!B250=\"\",\"\",'[1]échos VL et génisses'!B250)","v":""},null,null,"",null,null,"",null,null,"",null,null,""]
[null,null,{"$f":"IF('[1]échos VL et génisses'!A251=\"\",\"\",IF('[1]échos VL et génisses'!A251=\"Total général\",\"\",'[1]échos VL et génisses'!A251))","v":""},{"$f":"IF('[1]échos VL et génisses'!B251=\"\",\"\",'[1]échos VL et génisses'!B251)","v":""},null,null,"",null,null,"",null,null,"",null,null,""]
[null,null,{"$f":"IF('[1]échos VL et génisses'!A252=\"\",\"\",IF('[1]échos VL et génisses'!A252=\"Total général\",\"\",'[1]échos VL et génisses'!A252))","v":""},{"$f":"IF('[1]échos VL et génisses'!B252=\"\",\"\",'[1]échos VL et génisses'!B252)","v":""},null,null,"",null,null,"",null,null,"",null,null,""]
[null,null,{"$f":"IF('[1]échos VL et génisses'!A253=\"\",\"\",IF('[1]échos VL et génisses'!A253=\"Total général\",\"\",'[1]échos VL et génisses'!A253))","v":""},{"$f":"IF('[1]échos VL et génisses'!B253=\"\",\"\",'[1]échos VL et génisses'!B253)","v":""},null,null,"",null,null,"",null,null,"",null,null,""]
[null,null,{"$f":"IF('[1]échos VL et génisses'!A254=\"\",\"\",IF('[1]échos VL et génisses'!A254=\"Total général\",\"\",'[1]échos VL et génisses'!A254))","v":""},{"$f":"IF('[1]échos VL et génisses'!B254=\"\",\"\",'[1]échos VL et génisses'!B254)","v":""},null,null,"",null,null,"",null,null,"",null,null,""]
[null,null,{"$f":"IF('[1]échos VL et génisses'!A255=\"\",\"\",IF('[1]échos VL et génisses'!A255=\"Total général\",\"\",'[1]échos VL et génisses'!A255))","v":""},{"$f":"IF('[1]échos VL et génisses'!B255=\"\",\"\",'[1]échos VL et génisses'!B255)","v":""},null,null,"",null,null,"",null,null,"",null,null,""]
[null,null,{"$f":"IF('[1]échos VL et génisses'!A256=\"\",\"\",IF('[1]échos VL et génisses'!A256=\"Total général\",\"\",'[1]échos VL et génisses'!A256))","v":""},{"$f":"IF('[1]échos VL et génisses'!B256=\"\",\"\",'[1]échos VL et génisses'!B256)","v":""},null,null,"",null,null,"",null,null,"",null,null,""]
[null,null,{"$f":"IF('[1]échos VL et génisses'!A257=\"\",\"\",IF('[1]échos VL et génisses'!A257=\"Total général\",\"\",'[1]échos VL et génisses'!A257))","v":""},{"$f":"IF('[1]échos VL et génisses'!B257=\"\",\"\",'[1]échos VL et génisses'!B257)","v":""},null,null,"",null,null,"",null,null,"",null,null,""]
[null,null,{"$f":"IF('[1]échos VL et génisses'!A258=\"\",\"\",IF('[1]échos VL et génisses'!A258=\"Total général\",\"\",'[1]échos VL et génisses'!A258))","v":""},{"$f":"IF('[1]échos VL et génisses'!B258=\"\",\"\",'[1]échos VL et génisses'!B258)","v":""},null,null,"",null,null,"",null,null,"",null,null,""]
[null,null,{"$f":"IF('[1]échos VL et génisses'!A259=\"\",\"\",IF('[1]échos VL et génisses'!A259=\"Total général\",\"\",'[1]échos VL et génisses'!A259))","v":""},{"$f":"IF('[1]échos VL et génisses'!B259=\"\",\"\",'[1]échos VL et génisses'!B259)","v":""},null,null,"",null,null,"",null,null,"",null,null,""]
[null,null,{"$f":"IF('[1]échos VL et génisses'!A260=\"\",\"\",IF('[1]échos VL et génisses'!A260=\"Total général\",\"\",'[1]échos VL et génisses'!A260))","v":""},{"$f":"IF('[1]échos VL et génisses'!B260=\"\",\"\",'[1]échos VL et génisses'!B260)","v":""},null,null,"",null,null,"",null,null,"",null,null,""]
[null,null,{"$f":"IF('[1]échos VL et génisses'!A261=\"\",\"\",IF('[1]échos VL et génisses'!A261=\"Total général\",\"\",'[1]échos VL et génisses'!A261))","v":""},{"$f":"IF('[1]échos VL et génisses'!B261=\"\",\"\",'[1]échos VL et génisses'!B261)","v":""},null,null,{"$f":"IF(F259=3,0,\"\")","v":""},null,null,{"$f":"IF(I259=3,0,\"\")","v":""},null,null,{"$f":"IF(L259=3,0,\"\")","v":""},null,null,{"$f":"IF(O259=3,0,\"\")","v":""}]
[null,null,{"$f":"IF('[1]échos VL et génisses'!A262=\"\",\"\",IF('[1]échos VL et génisses'!A262=\"Total général\",\"\",'[1]échos VL et génisses'!A262))","v":""},{"$f":"IF('[1]échos VL et génisses'!B262=\"\",\"\",'[1]échos VL et génisses'!B262)","v":""},null,null,{"$f":"IF(F260=3,0,\"\")","v":""},null,null,{"$f":"IF(I260=3,0,\"\")","v":""},null,null,{"$f":"IF(L260=3,0,\"\")","v":""},null,null,{"$f":"IF(O260=3,0,\"\")","v":""}]
[null,null,{"$f":"IF('[1]échos VL et génisses'!A263=\"\",\"\",IF('[1]échos VL et génisses'!A263=\"Total général\",\"\",'[1]échos VL et génisses'!A263))","v":""},{"$f":"IF('[1]échos VL et génisses'!B263=\"\",\"\",'[1]échos VL et génisses'!B263)","v":""},null,null,{"$f":"IF(F261=3,0,\"\")","v":""},null,null,{"$f":"IF(I261=3,0,\"\")","v":""},null,null,{"$f":"IF(L261=3,0,\"\")","v":""},null,null,{"$f":"IF(O261=3,0,\"\")","v":""}]
[null,null,{"$f":"IF('[1]échos VL et génisses'!A264=\"\",\"\",IF('[1]échos VL et génisses'!A264=\"Total général\",\"\",'[1]échos VL et génisses'!A264))","v":""},{"$f":"IF('[1]échos VL et génisses'!B264=\"\",\"\",'[1]échos VL et génisses'!B264)","v":""},null,null,{"$f":"IF(F262=3,0,\"\")","v":""},null,null,{"$f":"IF(I262=3,0,\"\")","v":""},null,null,{"$f":"IF(L262=3,0,\"\")","v":""},null,null,{"$f":"IF(O262=3,0,\"\")","v":""}]
[null,null,{"$f":"IF('[1]échos VL et génisses'!A265=\"\",\"\",IF('[1]échos VL et génisses'!A265=\"Total général\",\"\",'[1]échos VL et génisses'!A265))","v":""},{"$f":"IF('[1]échos VL et génisses'!B265=\"\",\"\",'[1]échos VL et génisses'!B265)","v":""},null,null,{"$f":"IF(F263=3,0,\"\")","v":""},null,null,{"$f":"IF(I263=3,0,\"\")","v":""},null,null,{"$f":"IF(L263=3,0,\"\")","v":""},null,null,{"$f":"IF(O263=3,0,\"\")","v":""}]
[null,null,{"$f":"IF('[1]échos VL et génisses'!A266=\"\",\"\",IF('[1]échos VL et génisses'!A266=\"Total général\",\"\",'[1]échos VL et génisses'!A266))","v":""},{"$f":"IF('[1]échos VL et génisses'!B266=\"\",\"\",'[1]échos VL et génisses'!B266)","v":""},null,null,"",null,null,"",null,null,"",null,null,""]
[null,null,{"$f":"IF('[1]échos VL et génisses'!A267=\"\",\"\",IF('[1]échos VL et génisses'!A267=\"Total général\",\"\",'[1]échos VL et génisses'!A267))","v":""},{"$f":"IF('[1]échos VL et génisses'!B267=\"\",\"\",'[1]échos VL et génisses'!B267)","v":""},null,null,"",null,null,"",null,null,"",null,null,""]
[null,null,{"$f":"IF('[1]échos VL et génisses'!A268=\"\",\"\",IF('[1]échos VL et génisses'!A268=\"Total général\",\"\",'[1]échos VL et génisses'!A268))","v":""},{"$f":"IF('[1]échos VL et génisses'!B268=\"\",\"\",'[1]échos VL et génisses'!B268)","v":""},null,null,"",null,null,"",null,null,"",null,null,""]
[null,null,{"$f":"IF('[1]échos VL et génisses'!A269=\"\",\"\",IF('[1]échos VL et génisses'!A269=\"Total général\",\"\",'[1]échos VL et génisses'!A269))","v":""},{"$f":"IF('[1]échos VL et génisses'!B269=\"\",\"\",'[1]échos VL et génisses'!B269)","v":""},null,null,"",null,null,"",null,null,"",null,null,""]
[null,null,{"$f":"IF('[1]échos VL et génisses'!A270=\"\",\"\",IF('[1]échos VL et génisses'!A270=\"Total général\",\"\",'[1]échos VL et génisses'!A270))","v":""},{"$f":"IF('[1]échos VL et génisses'!B270=\"\",\"\",'[1]échos VL et génisses'!B270)","v":""},null,null,"",null,null,"",null,null,"",null,null,""]
[null,null,{"$f":"IF('[1]échos VL et génisses'!A271=\"\",\"\",IF('[1]échos VL et génisses'!A271=\"Total général\",\"\",'[1]échos VL et génisses'!A271))","v":""},{"$f":"IF('[1]échos VL et génisses'!B271=\"\",\"\",'[1]échos VL et génisses'!B271)","v":""},null,null,"",null,null,"",null,null,"",null,null,""]
[null,null,{"$f":"IF('[1]échos VL et génisses'!A272=\"\",\"\",IF('[1]échos VL et génisses'!A272=\"Total général\",\"\",'[1]échos VL et génisses'!A272))","v":""},{"$f":"IF('[1]échos VL et génisses'!B272=\"\",\"\",'[1]échos VL et génisses'!B272)","v":""},null,null,"",null,null,"",null,null,"",null,null,""]
[null,null,{"$f":"IF('[1]échos VL et génisses'!A273=\"\",\"\",IF('[1]échos VL et génisses'!A273=\"Total général\",\"\",'[1]échos VL et génisses'!A273))","v":""},{"$f":"IF('[1]échos VL et génisses'!B273=\"\",\"\",'[1]échos VL et génisses'!B273)","v":""},null,null,"",null,null,"",null,null,"",null,null,""]
[null,null,{"$f":"IF('[1]échos VL et génisses'!A274=\"\",\"\",IF('[1]échos VL et génisses'!A274=\"Total général\",\"\",'[1]échos VL et génisses'!A274))","v":""},{"$f":"IF('[1]échos VL et génisses'!B274=\"\",\"\",'[1]échos VL et génisses'!B274)","v":""},null,null,"",null,null,"",null,null,"",null,null,""]
[null,null,{"$f":"IF('[1]échos VL et génisses'!A275=\"\",\"\",IF('[1]échos VL et génisses'!A275=\"Total général\",\"\",'[1]échos VL et génisses'!A275))","v":""},{"$f":"IF('[1]échos VL et génisses'!B275=\"\",\"\",'[1]échos VL et génisses'!B275)","v":""},null,null,"",null,null,"",null,null,"",null,null,""]
[null,null,{"$f":"IF('[1]échos VL et génisses'!A276=\"\",\"\",IF('[1]échos VL et génisses'!A276=\"Total général\",\"\",'[1]échos VL et génisses'!A276))","v":""},{"$f":"IF('[1]échos VL et génisses'!B276=\"\",\"\",'[1]échos VL et génisses'!B276)","v":""},null,null,"",null,null,"",null,null,"",null,null,""]
[null,null,{"$f":"IF('[1]échos VL et génisses'!A277=\"\",\"\",IF('[1]échos VL et génisses'!A277=\"Total général\",\"\",'[1]échos VL et génisses'!A277))","v":""},{"$f":"IF('[1]échos VL et génisses'!B277=\"\",\"\",'[1]échos VL et génisses'!B277)","v":""},null,null,"",null,null,"",null,null,"",null,null,""]
[null,null,{"$f":"IF('[1]échos VL et génisses'!A278=\"\",\"\",IF('[1]échos VL et génisses'!A278=\"Total général\",\"\",'[1]échos VL et génisses'!A278))","v":""},{"$f":"IF('[1]échos VL et génisses'!B278=\"\",\"\",'[1]échos VL et génisses'!B278)","v":""},null,null,"",null,null,"",null,null,"",null,null,""]
[null,null,{"$f":"IF('[1]échos VL et génisses'!A279=\"\",\"\",IF('[1]échos VL et génisses'!A279=\"Total général\",\"\",'[1]échos VL et génisses'!A279))","v":""},{"$f":"IF('[1]échos VL et génisses'!B279=\"\",\"\",'[1]échos VL et génisses'!B279)","v":""},null,null,"",null,null,"",null,null,"",null,null,""]
[null,null,{"$f":"IF('[1]échos VL et génisses'!A280=\"\",\"\",IF('[1]échos VL et génisses'!A280=\"Total général\",\"\",'[1]échos VL et génisses'!A280))","v":""},{"$f":"IF('[1]échos VL et génisses'!B280=\"\",\"\",'[1]échos VL et génisses'!B280)","v":""},null,null,"",null,null,"",null,null,"",null,null,""]
[null,null,{"$f":"IF('[1]échos VL et génisses'!A281=\"\",\"\",IF('[1]échos VL et génisses'!A281=\"Total général\",\"\",'[1]échos VL et génisses'!A281))","v":""},{"$f":"IF('[1]échos VL et génisses'!B281=\"\",\"\",'[1]échos VL et génisses'!B281)","v":""},null,null,"",null,null,"",null,null,"",null,null,""]
[null,null,{"$f":"IF('[1]échos VL et génisses'!A282=\"\",\"\",IF('[1]échos VL et génisses'!A282=\"Total général\",\"\",'[1]échos VL et génisses'!A282))","v":""},{"$f":"IF('[1]échos VL et génisses'!B282=\"\",\"\",'[1]échos VL et génisses'!B282)","v":""},null,null,"",null,null,"",null,null,"",null,null,""]
[null,null,{"$f":"IF('[1]échos VL et génisses'!A283=\"\",\"\",IF('[1]échos VL et génisses'!A283=\"Total général\",\"\",'[1]échos VL et génisses'!A283))","v":""},{"$f":"IF('[1]échos VL et génisses'!B283=\"\",\"\",'[1]échos VL et génisses'!B283)","v":""},null,null,"",null,null,"",null,null,"",null,null,""]
[null,null,{"$f":"IF('[1]échos VL et génisses'!A284=\"\",\"\",IF('[1]échos VL et génisses'!A284=\"Total général\",\"\",'[1]échos VL et génisses'!A284))","v":""},{"$f":"IF('[1]échos VL et génisses'!B284=\"\",\"\",'[1]échos VL et génisses'!B284)","v":""},null,null,"",null,null,"",null,null,"",null,null,""]
[null,null,{"$f":"IF('[1]échos VL et génisses'!A285=\"\",\"\",IF('[1]échos VL et génisses'!A285=\"Total général\",\"\",'[1]échos VL et génisses'!A285))","v":""},{"$f":"IF('[1]échos VL et génisses'!B285=\"\",\"\",'[1]échos VL et génisses'!B285)","v":""},null,null,"",null,null,"",null,null,"",null,null,""]
[null,null,{"$f":"IF('[1]échos VL et génisses'!A286=\"\",\"\",IF('[1]échos VL et génisses'!A286=\"Total général\",\"\",'[1]échos VL et génisses'!A286))","v":""},{"$f":"IF('[1]échos VL et génisses'!B286=\"\",\"\",'[1]échos VL et génisses'!B286)","v":""},null,null,"",null,null,"",null,null,"",null,null,""]
[null,null,{"$f":"IF('[1]échos VL et génisses'!A287=\"\",\"\",IF('[1]échos VL et génisses'!A287=\"Total général\",\"\",'[1]échos VL et génisses'!A287))","v":""},{"$f":"IF('[1]échos VL et génisses'!B287=\"\",\"\",'[1]échos VL et génisses'!B287)","v":""},null,null,"",null,null,"",null,null,"",null,null,""]
[null,null,{"$f":"IF('[1]échos VL et génisses'!A288=\"\",\"\",IF('[1]échos VL et génisses'!A288=\"Total général\",\"\",'[1]échos VL et génisses'!A288))","v":""},{"$f":"IF('[1]échos VL et génisses'!B288=\"\",\"\",'[1]échos VL et génisses'!B288)","v":""},null,null,"",null,null,"",null,null,"",null,null,""]
[null,null,{"$f":"IF('[1]échos VL et génisses'!A289=\"\",\"\",IF('[1]échos VL et génisses'!A289=\"Total général\",\"\",'[1]échos VL et génisses'!A289))","v":""},{"$f":"IF('[1]échos VL et génisses'!B289=\"\",\"\",'[1]échos VL et génisses'!B289)","v":""},null,null,"",null,null,"",null,null,"",null,null,""]
[null,null,{"$f":"IF('[1]échos VL et génisses'!A290=\"\",\"\",IF('[1]échos VL et génisses'!A290=\"Total général\",\"\",'[1]échos VL et génisses'!A290))","v":""},{"$f":"IF('[1]échos VL et génisses'!B290=\"\",\"\",'[1]échos VL et génisses'!B290)","v":""},null,null,"",null,null,"",null,null,"",null,null,""]
[null,null,{"$f":"IF('[1]échos VL et génisses'!A291=\"\",\"\",IF('[1]échos VL et génisses'!A291=\"Total général\",\"\",'[1]échos VL et génisses'!A291))","v":""},{"$f":"IF('[1]échos VL et génisses'!B291=\"\",\"\",'[1]échos VL et génisses'!B291)","v":""},null,null,"",null,null,"",null,null,"",null,null,""]
[null,null,{"$f":"IF('[1]échos VL et génisses'!A292=\"\",\"\",IF('[1]échos VL et génisses'!A292=\"Total général\",\"\",'[1]échos VL et génisses'!A292))","v":""},{"$f":"IF('[1]échos VL et génisses'!B292=\"\",\"\",'[1]échos VL et génisses'!B292)","v":""},null,null,"",null,null,"",null,null,"",null,null,""]
[null,null,{"$f":"IF('[1]échos VL et génisses'!A293=\"\",\"\",IF('[1]échos VL et génisses'!A293=\"Total général\",\"\",'[1]échos VL et génisses'!A293))","v":""},{"$f":"IF('[1]échos VL et génisses'!B293=\"\",\"\",'[1]échos VL et génisses'!B293)","v":""},null,null,"",null,null,"",null,null,"",null,null,""]
[null,null,{"$f":"IF('[1]échos VL et génisses'!A294=\"\",\"\",IF('[1]échos VL et génisses'!A294=\"Total général\",\"\",'[1]échos VL et génisses'!A294))","v":""},{"$f":"IF('[1]échos VL et génisses'!B294=\"\",\"\",'[1]échos VL et génisses'!B294)","v":""},null,null,"",null,null,"",null,null,"",null,null,""]
[null,null,{"$f":"IF('[1]échos VL et génisses'!A295=\"\",\"\",IF('[1]échos VL et génisses'!A295=\"Total général\",\"\",'[1]échos VL et génisses'!A295))","v":""},{"$f":"IF('[1]échos VL et génisses'!B295=\"\",\"\",'[1]échos VL et génisses'!B295)","v":""},null,null,"",null,null,"",null,null,"",null,null,""]
[null,null,{"$f":"IF('[1]échos VL et génisses'!A296=\"\",\"\",IF('[1]échos VL et génisses'!A296=\"Total général\",\"\",'[1]échos VL et génisses'!A296))","v":""},{"$f":"IF('[1]échos VL et génisses'!B296=\"\",\"\",'[1]échos VL et génisses'!B296)","v":""},null,null,"",null,null,"",null,null,"",null,null,""]
[null,null,{"$f":"IF('[1]échos VL et génisses'!A297=\"\",\"\",IF('[1]échos VL et génisses'!A297=\"Total général\",\"\",'[1]échos VL et génisses'!A297))","v":""},{"$f":"IF('[1]échos VL et génisses'!B297=\"\",\"\",'[1]échos VL et génisses'!B297)","v":""},null,null,{"$f":"IF(F295=3,0,\"\")","v":""},null,null,{"$f":"IF(I295=3,0,\"\")","v":""},null,null,{"$f":"IF(L295=3,0,\"\")","v":""},null,null,{"$f":"IF(O295=3,0,\"\")","v":""}]
[null,null,{"$f":"IF('[1]échos VL et génisses'!A298=\"\",\"\",IF('[1]échos VL et génisses'!A298=\"Total général\",\"\",'[1]échos VL et génisses'!A298))","v":""},{"$f":"IF('[1]échos VL et génisses'!B298=\"\",\"\",'[1]échos VL et génisses'!B298)","v":""},null,null,{"$f":"IF(F296=3,0,\"\")","v":""},null,null,{"$f":"IF(I296=3,0,\"\")","v":""},null,null,{"$f":"IF(L296=3,0,\"\")","v":""},null,null,{"$f":"IF(O296=3,0,\"\")","v":""}]
[null,null,{"$f":"IF('[1]échos VL et génisses'!A299=\"\",\"\",IF('[1]échos VL et génisses'!A299=\"Total général\",\"\",'[1]échos VL et génisses'!A299))","v":""},{"$f":"IF('[1]échos VL et génisses'!B299=\"\",\"\",'[1]échos VL et génisses'!B299)","v":""},null,null,{"$f":"IF(F297=3,0,\"\")","v":""},null,null,{"$f":"IF(I297=3,0,\"\")","v":""},null,null,{"$f":"IF(L297=3,0,\"\")","v":""},null,null,{"$f":"IF(O297=3,0,\"\")","v":""}]
[null,null,{"$f":"IF('[1]échos VL et génisses'!A300=\"\",\"\",IF('[1]échos VL et génisses'!A300=\"Total général\",\"\",'[1]échos VL et génisses'!A300))","v":""},{"$f":"IF('[1]échos VL et génisses'!B300=\"\",\"\",'[1]échos VL et génisses'!B300)","v":""},null,null,{"$f":"IF(F298=3,0,\"\")","v":""},null,null,{"$f":"IF(I298=3,0,\"\")","v":""},null,null,{"$f":"IF(L298=3,0,\"\")","v":""},null,null,{"$f":"IF(O298=3,0,\"\")","v":""}]

{"sheet":"vêlage","index":6,"n_rows":315,"n_cols":21,"rows_kept":315,"cut":false,"hidden":false,"merged":[[3,18,6,18],[1,2,1,19],[3,4,3,5],[3,3,6,3],[3,19,6,19],[3,6,6,6],[3,9,6,9],[5,10,6,10],[3,13,6,13],[3,14,6,14],[3,15,6,15],[3,16,6,16],[3,17,6,17],[3,7,5,8],[3,10,4,12],[5,11,5,12],[1,0,2,1],[3,2,5,2],[3,0,6,1],[4,4,6,4],[4,5,6,5]]}
[]
["retour à la page d'accueil",null,"Evénements autour du vêlage"]
[]
[{"$f":"'[1]au vêlage et infos vache et NEC'!$B$3","v":"54474307"},null,"N° 4 chiffres de la mère","Nom de la mère","comportement de la vache à l'approche de l'éleveur",null,"réaction de la vache avec son veau dans les jours qui suivent le vêlage","heure du vêlage",null,"indicateur de l'imminence du vêlage","baisse de température  avant vêlage supérieure à 0,5°C",null,null,"lieu de vêlage","présentation du veau ","mode de délivrance","résistance du veau au vêlage","résistance de la mère au vêlage","problème de l'utérus","aptitude du veau à téter  dans les 24 h après naissance"]
[null,null,null,null,"hors de la période de vêlage","dans les jours qui suivent le vêlage"]
[null,null,null,null,null,null,null,null,null,null,"date ","heure"]
[null,null,null,null,null,null,null,"h","mn",null,null,"H","mn",null,null,null,null,null,null,null,"Remarques particulières sur l'animal"]
[null,null,{"$f":"IF('[1]au vêlage et infos vache et NEC'!A9=\"\",\"\",IF('[1]au vêlage et infos vache et NEC'!A9=\"Total général\",\"\",'[1]au vêlage et infos vache et NEC'!A9))","v":"0052"},{"$f":"IF('[1]au vêlage et infos vache et NEC'!B9=\"\",\"\",IF('[1]au vêlage et infos vache et NEC'!B9=\"Total général\",\"\",'[1]au vêlage et infos vache et NEC'!B9))","v":"UDINE"},null,null,null,null,null,null,null,null,null,null,{"$f":"IF(N8=\"\",\"\",IF(N8=0,0,\"\"))","v":""}]
[null,null,{"$f":"IF('[1]au vêlage et infos vache et NEC'!A10=\"\",\"\",IF('[1]au vêlage et infos vache et NEC'!A10=\"Total général\",\"\",'[1]au vêlage et infos vache et NEC'!A10))","v":"2974"},{"$f":"IF('[1]au vêlage et infos vache et NEC'!B10=\"\",\"\",IF('[1]au vêlage et infos vache et NEC'!B10=\"Total général\",\"\",'[1]au vêlage et infos vache et NEC'!B10))","v":"ASTONIA"},null,null,null,null,null,null,null,null,null,null,{"$f":"IF(N9=\"\",\"\",IF(N9=0,0,\"\"))","v":""}]
[null,null,{"$f":"IF('[1]au vêlage et infos vache et NEC'!A11=\"\",\"\",IF('[1]au vêlage et infos vache et NEC'!A11=\"Total général\",\"\",'[1]au vêlage et infos vache et NEC'!A11))","v":"3266"},{"$f":"IF('[1]au vêlage et infos vache et NEC'!B11=\"\",\"\",IF('[1]au vêlage et infos vache et NEC'!B11=\"Total général\",\"\",'[1]au vêlage et infos vache et NEC'!B11))","v":"DECADE"},null,null,null,null,null,null,null,null,null,null,""]
[null,null,{"$f":"IF('[1]au vêlage et infos vache et NEC'!A12=\"\",\"\",IF('[1]au vêlage et infos vache et NEC'!A12=\"Total général\",\"\",'[1]au vêlage et infos vache et NEC'!A12))","v":"3271"},{"$f":"IF('[1]au vêlage et infos vache et NEC'!B12=\"\",\"\",IF('[1]au vêlage et infos vache et NEC'!B12=\"Total général\",\"\",'[1]au vêlage et infos vache et NEC'!B12))","v":"DOUCETTE"},null,null,null,null,null,null,null,null,null,null,""]
[null,null,{"$f":"IF('[1]au vêlage et infos vache et NEC'!A13=\"\",\"\",IF('[1]au vêlage et infos vache et NEC'!A13=\"Total général\",\"\",'[1]au vêlage et infos vache et NEC'!A13))","v":"3272"},{"$f":"IF('[1]au vêlage et infos vache et NEC'!B13=\"\",\"\",IF('[1]au vêlage et infos vache et NEC'!B13=\"Total général\",\"\",'[1]au vêlage et infos vache et NEC'!B13))","v":"DANETTE"},null,null,null,null,null,null,null,null,null,null,""]
[null,null,{"$f":"IF('[1]au vêlage et infos vache et NEC'!A14=\"\",\"\",IF('[1]au vêlage et infos vache et NEC'!A14=\"Total général\",\"\",'[1]au vêlage et infos vache et NEC'!A14))","v":"3276"},{"$f":"IF('[1]au vêlage et infos vache et NEC'!B14=\"\",\"\",IF('[1]au vêlage et infos vache et NEC'!B14=\"Total général\",\"\",'[1]au vêlage et infos vache et NEC'!B14))","v":"DYNAMITE"},null,null,null,null,null,null,null,null,null,null,""]
[null,null,{"$f":"IF('[1]au vêlage et infos vache et NEC'!A15=\"\",\"\",IF('[1]au vêlage et infos vache et NEC'!A15=\"Total général\",\"\",'[1]au vêlage et infos vache et NEC'!A15))","v":"3279"},{"$f":"IF('[1]au vêlage et infos vache et NEC'!B15=\"\",\"\",IF('[1]au vêlage et infos vache et NEC'!B15=\"Total général\",\"\",'[1]au vêlage et infos vache et NEC'!B15))","v":"DORA"},null,null,null,null,null,null,null,null,null,null,""]
[null,null,{"$f":"IF('[1]au vêlage et infos vache et NEC'!A16=\"\",\"\",IF('[1]au vêlage et infos vache et NEC'!A16=\"Total général\",\"\",'[1]au vêlage et infos vache et NEC'!A16))","v":"3280"},{"$f":"IF('[1]au vêlage et infos vache et NEC'!B16=\"\",\"\",IF('[1]au vêlage et infos vache et NEC'!B16=\"Total général\",\"\",'[1]au vêlage et infos vache et NEC'!B16))","v":"DOLLY"},null,null,null,null,null,null,null,null,null,null,""]
[null,null,{"$f":"IF('[1]au vêlage et infos vache et NEC'!A17=\"\",\"\",IF('[1]au vêlage et infos vache et NEC'!A17=\"Total général\",\"\",'[1]au vêlage et infos vache et NEC'!A17))","v":"3285"},{"$f":"IF('[1]au vêlage et infos vache et NEC'!B17=\"\",\"\",IF('[1]au vêlage et infos vache et NEC'!B17=\"Total général\",\"\",'[1]au vêlage et infos vache et NEC'!B17))","v":"DORINE"},null,null,null,null,null,null,null,null,null,null,""]
[null,null,{"$f":"IF('[1]au vêlage et infos vache et NEC'!A18=\"\",\"\",IF('[1]au vêlage et infos vache et NEC'!A18=\"Total général\",\"\",'[1]au vêlage et infos vache et NEC'!A18))","v":"3292"},{"$f":"IF('[1]au vêlage et infos vache et NEC'!B18=\"\",\"\",IF('[1]au vêlage et infos vache et NEC'!B18=\"Total général\",\"\",'[1]au vêlage et infos vache et NEC'!B18))","v":"DIGITALE"},null,null,null,null,null,null,null,null,null,null,""]
[null,null,{"$f":"IF('[1]au vêlage et infos vache et NEC'!A19=\"\",\"\",IF('[1]au vêlage et infos vache et NEC'!A19=\"Total général\",\"\",'[1]au vêlage et infos vache et NEC'!A19))","v":"3294"},{"$f":"IF('[1]au vêlage et infos vache et NEC'!B19=\"\",\"\",IF('[1]au vêlage et infos vache et NEC'!B19=\"Total général\",\"\",'[1]au vêlage et infos vache et NEC'!B19))","v":"EXTRA"},null,null,null,null,null,null,null,null,null,null,""]
[null,null,{"$f":"IF('[1]au vêlage et infos vache et NEC'!A20=\"\",\"\",IF('[1]au vêlage et infos vache et NEC'!A20=\"Total général\",\"\",'[1]au vêlage et infos vache et NEC'!A20))","v":"3568"},{"$f":"IF('[1]au vêlage et infos vache et NEC'!B20=\"\",\"\",IF('[1]au vêlage et infos vache et NEC'!B20=\"Total général\",\"\",'[1]au vêlage et infos vache et NEC'!B20))","v":"BUVEE"},null,null,null,null,null,null,null,null,null,null,""]
[null,null,{"$f":"IF('[1]au vêlage et infos vache et NEC'!A21=\"\",\"\",IF('[1]au vêlage et infos vache et NEC'!A21=\"Total général\",\"\",'[1]au vêlage et infos vache et NEC'!A21))","v":"4211"},{"$f":"IF('[1]au vêlage et infos vache et NEC'!B21=\"\",\"\",IF('[1]au vêlage et infos vache et NEC'!B21=\"Total général\",\"\",'[1]au vêlage et infos vache et NEC'!B21))","v":"FANTA"},null,null,null,null,null,null,null,null,null,null,""]
[null,null,{"$f":"IF('[1]au vêlage et infos vache et NEC'!A22=\"\",\"\",IF('[1]au vêlage et infos vache et NEC'!A22=\"Total général\",\"\",'[1]au vêlage et infos vache et NEC'!A22))","v":"4212"},{"$f":"IF('[1]au vêlage et infos vache et NEC'!B22=\"\",\"\",IF('[1]au vêlage et infos vache et NEC'!B22=\"Total général\",\"\",'[1]au vêlage et infos vache et NEC'!B22))","v":"FLORA"},null,null,null,null,null,null,null,null,null,null,""]
[null,null,{"$f":"IF('[1]au vêlage et infos vache et NEC'!A23=\"\",\"\",IF('[1]au vêlage et infos vache et NEC'!A23=\"Total général\",\"\",'[1]au vêlage et infos vache et NEC'!A23))","v":"4213"},{"$f":"IF('[1]au vêlage et infos vache et NEC'!B23=\"\",\"\",IF('[1]au vêlage et infos vache et NEC'!B23=\"Total général\",\"\",'[1]au vêlage et infos vache et NEC'!B23))","v":"FIDELIA"},null,null,null,null,null,null,null,null,null,null,""]
[null,null,{"$f":"IF('[1]au vêlage et infos vache et NEC'!A24=\"\",\"\",IF('[1]au vêlage et infos vache et NEC'!A24=\"Total général\",\"\",'[1]au vêlage et infos vache et NEC'!A24))","v":"4214"},{"$f":"IF('[1]au vêlage et infos vache et NEC'!B24=\"\",\"\",IF('[1]au vêlage et infos vache et NEC'!B24=\"Total général\",\"\",'[1]au vêlage et infos vache et NEC'!B24))","v":"FIESTA"},null,null,null,null,null,null,null,null,null,null,""]
[null,null,{"$f":"IF('[1]au vêlage et infos vache et NEC'!A25=\"\",\"\",IF('[1]au vêlage et infos vache et NEC'!A25=\"Total général\",\"\",'[1]au vêlage et infos vache et NEC'!A25))","v":"4215"},{"$f":"IF('[1]au vêlage et infos vache et NEC'!B25=\"\",\"\",IF('[1]au vêlage et infos vache et NEC'!B25=\"Total général\",\"\",'[1]au vêlage et infos vache et NEC'!B25))","v":"FIFI"},null,null,null,null,null,null,null,null,null,null,""]
[null,null,{"$f":"IF('[1]au vêlage et infos vache et NEC'!A26=\"\",\"\",IF('[1]au vêlage et infos vache et NEC'!A26=\"Total général\",\"\",'[1]au vêlage et infos vache et NEC'!A26))","v":"4216"},{"$f":"IF('[1]au vêlage et infos vache et NEC'!B26=\"\",\"\",IF('[1]au vêlage et infos vache et NEC'!B26=\"Total général\",\"\",'[1]au vêlage et infos vache et NEC'!B26))","v":"FARCE"},null,null,null,null,null,null,null,null,null,null,""]
[null,null,{"$f":"IF('[1]au vêlage et infos vache et NEC'!A27=\"\",\"\",IF('[1]au vêlage et infos vache et NEC'!A27=\"Total général\",\"\",'[1]au vêlage et infos vache et NEC'!A27))","v":"4217"},{"$f":"IF('[1]au vêlage et infos vache et NEC'!B27=\"\",\"\",IF('[1]au vêlage et infos vache et NEC'!B27=\"Total général\",\"\",'[1]au vêlage et infos vache et NEC'!B27))","v":"FAUVETTE"},null,null,null,null,null,null,null,null,null,null,""]
[null,null,{"$f":"IF('[1]au vêlage et infos vache et NEC'!A28=\"\",\"\",IF('[1]au vêlage et infos vache et NEC'!A28=\"Total général\",\"\",'[1]au vêlage et infos vache et NEC'!A28))","v":"4223"},{"$f":"IF('[1]au vêlage et infos vache et NEC'!B28=\"\",\"\",IF('[1]au vêlage et infos vache et NEC'!B28=\"Total général\",\"\",'[1]au vêlage et infos vache et NEC'!B28))","v":"FEA"},null,null,null,null,null,null,null,null,null,null,""]
[null,null,{"$f":"IF('[1]au vêlage et infos vache et NEC'!A29=\"\",\"\",IF('[1]au vêlage et infos vache et NEC'!A29=\"Total général\",\"\",'[1]au vêlage et infos vache et NEC'!A29))","v":"4226"},{"$f":"IF('[1]au vêlage et infos vache et NEC'!B29=\"\",\"\",IF('[1]au vêlage et infos vache et NEC'!B29=\"Total général\",\"\",'[1]au vêlage et infos vache et NEC'!B29))","v":"FIONA"},null,null,null,null,null,null,null,null,null,null,""]
[null,null,{"$f":"IF('[1]au vêlage et infos vache et NEC'!A30=\"\",\"\",IF('[1]au vêlage et infos vache et NEC'!A30=\"Total général\",\"\",'[1]au vêlage et infos vache et NEC'!A30))","v":"4232"},{"$f":"IF('[1]au vêlage et infos vache et NEC'!B30=\"\",\"\",IF('[1]au vêlage et infos vache et NEC'!B30=\"Total général\",\"\",'[1]au vêlage et infos vache et NEC'!B30))","v":"FARIBOLE"},null,null,null,null,null,null,null,null,null,null,""]
[null,null,{"$f":"IF('[1]au vêlage et infos vache et NEC'!A31=\"\",\"\",IF('[1]au vêlage et infos vache et NEC'!A31=\"Total général\",\"\",'[1]au vêlage et infos vache et NEC'!A31))","v":"4236"},{"$f":"IF('[1]au vêlage et infos vache et NEC'!B31=\"\",\"\",IF('[1]au vêlage et infos vache et NEC'!B31=\"Total général\",\"\",'[1]au vêlage et infos vache et NEC'!B31))","v":"FELLA"},null,null,null,null,null,null,null,null,null,null,""]
[null,null,{"$f":"IF('[1]au vêlage et infos vache et NEC'!A32=\"\",\"\",IF('[1]au vêlage et infos vache et NEC'!A32=\"Total général\",\"\",'[1]au vêlage et infos vache et NEC'!A32))","v":"4506"},{"$f":"IF('[1]au vêlage et infos vache et NEC'!B32=\"\",\"\",IF('[1]au vêlage et infos vache et NEC'!B32=\"Total général\",\"\",'[1]au vêlage et infos vache et NEC'!B32))","v":"ILONA"},null,null,null,null,null,null,null,null,null,null,""]
[null,null,{"$f":"IF('[1]au vêlage et infos vache et NEC'!A33=\"\",\"\",IF('[1]au vêlage et infos vache et NEC'!A33=\"Total général\",\"\",'[1]au vêlage et infos vache et NEC'!A33))","v":"4619"},{"$f":"IF('[1]au vêlage et infos vache et NEC'!B33=\"\",\"\",IF('[1]au vêlage et infos vache et NEC'!B33=\"Total général\",\"\",'[1]au vêlage et infos vache et NEC'!B33))","v":"HERITIERE"},null,null,null,null,null,null,null,null,null,null,""]
[null,null,{"$f":"IF('[1]au vêlage et infos vache et NEC'!A34=\"\",\"\",IF('[1]au vêlage et infos vache et NEC'!A34=\"Total général\",\"\",'[1]au vêlage et infos vache et NEC'!A34))","v":"5200"},{"$f":"IF('[1]au vêlage et infos vache et NEC'!B34=\"\",\"\",IF('[1]au vêlage et infos vache et NEC'!B34=\"Total général\",\"\",'[1]au vêlage et infos vache et NEC'!B34))","v":"CENDRILLON"},null,null,null,null,null,null,null,null,null,null,""]
[null,null,{"$f":"IF('[1]au vêlage et infos vache et NEC'!A35=\"\",\"\",IF('[1]au vêlage et infos vache et NEC'!A35=\"Total général\",\"\",'[1]au vêlage et infos vache et NEC'!A35))","v":"5321"},{"$f":"IF('[1]au vêlage et infos vache et NEC'!B35=\"\",\"\",IF('[1]au vêlage et infos vache et NEC'!B35=\"Total général\",\"\",'[1]au vêlage et infos vache et NEC'!B35))","v":"ACTION"},null,null,null,null,null,null,null,null,null,null,""]
[null,null,{"$f":"IF('[1]au vêlage et infos vache et NEC'!A36=\"\",\"\",IF('[1]au vêlage et infos vache et NEC'!A36=\"Total général\",\"\",'[1]au vêlage et infos vache et NEC'!A36))","v":"5327"},{"$f":"IF('[1]au vêlage et infos vache et NEC'!B36=\"\",\"\",IF('[1]au vêlage et infos vache et NEC'!B36=\"Total général\",\"\",'[1]au vêlage et infos vache et NEC'!B36))","v":"AUTRUCHE"},null,null,null,null,null,null,null,null,null,null,""]
[null,null,{"$f":"IF('[1]au vêlage et infos vache et NEC'!A37=\"\",\"\",IF('[1]au vêlage et infos vache et NEC'!A37=\"Total général\",\"\",'[1]au vêlage et infos vache et NEC'!A37))","v":"5567"},{"$f":"IF('[1]au vêlage et infos vache et NEC'!B37=\"\",\"\",IF('[1]au vêlage et infos vache et NEC'!B37=\"Total général\",\"\",'[1]au vêlage et infos vache et NEC'!B37))","v":"ETOILE"},null,null,null,null,null,null,null,null,null,null,""]
[null,null,{"$f":"IF('[1]au vêlage et infos vache et NEC'!A38=\"\",\"\",IF('[1]au vêlage et infos vache et NEC'!A38=\"Total général\",\"\",'[1]au vêlage et infos vache et NEC'!A38))","v":"5571"},{"$f":"IF('[1]au vêlage et infos vache et NEC'!B38=\"\",\"\",IF('[1]au vêlage et infos vache et NEC'!B38=\"Total général\",\"\",'[1]au vêlage et infos vache et NEC'!B38))","v":"EBENE"},null,null,null,null,null,null,null,null,null,null,""]
[null,null,{"$f":"IF('[1]au vêlage et infos vache et NEC'!A39=\"\",\"\",IF('[1]au vêlage et infos vache et NEC'!A39=\"Total général\",\"\",'[1]au vêlage et infos vache et NEC'!A39))","v":"5572"},{"$f":"IF('[1]au vêlage et infos vache et NEC'!B39=\"\",\"\",IF('[1]au vêlage et infos vache et NEC'!B39=\"Total général\",\"\",'[1]au vêlage et infos vache et NEC'!B39))","v":"EDINA"},null,null,null,null,null,null,null,null,null,null,""]
[null,null,{"$f":"IF('[1]au vêlage et infos vache et NEC'!A40=\"\",\"\",IF('[1]au vêlage et infos vache et NEC'!A40=\"Total général\",\"\",'[1]au vêlage et infos vache et NEC'!A40))","v":"5573"},{"$f":"IF('[1]au vêlage et infos vache et NEC'!B40=\"\",\"\",IF('[1]au vêlage et infos vache et NEC'!B40=\"Total général\",\"\",'[1]au vêlage et infos vache et NEC'!B40))","v":"ELAURA"},null,null,null,null,null,null,null,null,null,null,""]
[null,null,{"$f":"IF('[1]au vêlage et infos vache et NEC'!A41=\"\",\"\",IF('[1]au vêlage et infos vache et NEC'!A41=\"Total général\",\"\",'[1]au vêlage et infos vache et NEC'!A41))","v":"5574"},{"$f":"IF('[1]au vêlage et infos vache et NEC'!B41=\"\",\"\",IF('[1]au vêlage et infos vache et NEC'!B41=\"Total général\",\"\",'[1]au vêlage et infos vache et NEC'!B41))","v":"EUROPA"},null,null,null,null,null,null,null,null,null,null,""]
[null,null,{"$f":"IF('[1]au vêlage et infos vache et NEC'!A42=\"\",\"\",IF('[1]au vêlage et infos vache et NEC'!A42=\"Total général\",\"\",'[1]au vêlage et infos vache et NEC'!A42))","v":"5575"},{"$f":"IF('[1]au vêlage et infos vache et NEC'!B42=\"\",\"\",IF('[1]au vêlage et infos vache et NEC'!B42=\"Total général\",\"\",'[1]au vêlage et infos vache et NEC'!B42))","v":"ELSA"},null,null,null,null,null,null,null,null,null,null,""]
[null,null,{"$f":"IF('[1]au vêlage et infos vache et NEC'!A43=\"\",\"\",IF('[1]au vêlage et infos vache et NEC'!A43=\"Total général\",\"\",'[1]au vêlage et infos vache et NEC'!A43))","v":"5579"},{"$f":"IF('[1]au vêlage et infos vache et NEC'!B43=\"\",\"\",IF('[1]au vêlage et infos vache et NEC'!B43=\"Total général\",\"\",'[1]au vêlage et infos vache et NEC'!B43))","v":"ENJY"},null,null,null,null,null,null,null,null,null,null,""]
[null,null,{"$f":"IF('[1]au vêlage et infos vache et NEC'!A44=\"\",\"\",IF('[1]au vêlage et infos vache et NEC'!A44=\"Total général\",\"\",'[1]au vêlage et infos vache et NEC'!A44))","v":"5583"},{"$f":"IF('[1]au vêlage et infos vache et NEC'!B44=\"\",\"\",IF('[1]au vêlage et infos vache et NEC'!B44=\"Total général\",\"\",'[1]au vêlage et infos vache et NEC'!B44))","v":"ELODIE"},null,null,null,null,null,null,null,null,null,null,""]
[null,null,{"$f":"IF('[1]au vêlage et infos vache et NEC'!A45=\"\",\"\",IF('[1]au vêlage et infos vache et NEC'!A45=\"Total général\",\"\",'[1]au vêlage et infos vache et NEC'!A45))","v":"5588"},{"$f":"IF('[1]au vêlage et infos vache et NEC'!B45=\"\",\"\",IF('[1]au vêlage et infos vache et NEC'!B45=\"Total général\",\"\",'[1]au vêlage et infos vache et NEC'!B45))","v":"FABULEUSE"},null,null,null,null,null,null,null,null,null,null,""]
[null,null,{"$f":"IF('[1]au vêlage et infos vache et NEC'!A46=\"\",\"\",IF('[1]au vêlage et infos vache et NEC'!A46=\"Total général\",\"\",'[1]au vêlage et infos vache et NEC'!A46))","v":"5914"},{"$f":"IF('[1]au vêlage et infos vache et NEC'!B46=\"\",\"\",IF('[1]au vêlage et infos vache et NEC'!B46=\"Total général\",\"\",'[1]au vêlage et infos vache et NEC'!B46))","v":"IRIS"},null,null,null,null,null,null,null,null,null,null,""]
[null,null,{"$f":"IF('[1]au vêlage et infos vache et NEC'!A47=\"\",\"\",IF('[1]au vêlage et infos vache et NEC'!A47=\"Total général\",\"\",'[1]au vêlage et infos vache et NEC'!A47))","v":"5916"},{"$f":"IF('[1]au vêlage et infos vache et NEC'!B47=\"\",\"\",IF('[1]au vêlage et infos vache et NEC'!B47=\"Total général\",\"\",'[1]au vêlage et infos vache et NEC'!B47))","v":"IMAGE"},null,null,null,null,null,null,null,null,null,null,""]
[null,null,{"$f":"IF('[1]au vêlage et infos vache et NEC'!A48=\"\",\"\",IF('[1]au vêlage et infos vache et NEC'!A48=\"Total général\",\"\",'[1]au vêlage et infos vache et NEC'!A48))","v":"5917"},{"$f":"IF('[1]au vêlage et infos vache et NEC'!B48=\"\",\"\",IF('[1]au vêlage et infos vache et NEC'!B48=\"Total général\",\"\",'[1]au vêlage et infos vache et NEC'!B48))","v":"ITALIE"},null,null,null,null,null,null,null,null,null,null,""]
[null,null,{"$f":"IF('[1]au vêlage et infos vache et NEC'!A49=\"\",\"\",IF('[1]au vêlage et infos vache et NEC'!A49=\"Total général\",\"\",'[1]au vêlage et infos vache et NEC'!A49))","v":"5918"},{"$f":"IF('[1]au vêlage et infos vache et NEC'!B49=\"\",\"\",IF('[1]au vêlage et infos vache et NEC'!B49=\"Total général\",\"\",'[1]au vêlage et infos vache et NEC'!B49))","v":"ISIS"},null,null,null,null,null,null,null,null,null,null,""]
[null,null,{"$f":"IF('[1]au vêlage et infos vache et NEC'!A50=\"\",\"\",IF('[1]au vêlage et infos vache et NEC'!A50=\"Total général\",\"\",'[1]au vêlage et infos vache et NEC'!A50))","v":"5919"},{"$f":"IF('[1]au vêlage et infos vache et NEC'!B50=\"\",\"\",IF('[1]au vêlage et infos vache et NEC'!B50=\"Total général\",\"\",'[1]au vêlage et infos vache et NEC'!B50))","v":"ISAURE"},null,null,null,null,null,null,null,null,null,null,""]
[null,null,{"$f":"IF('[1]au vêlage et infos vache et NEC'!A51=\"\",\"\",IF('[1]au vêlage et infos vache et NEC'!A51=\"Total général\",\"\",'[1]au vêlage et infos vache et NEC'!A51))","v":"5920"},{"$f":"IF('[1]au vêlage et infos vache et NEC'!B51=\"\",\"\",IF('[1]au vêlage et infos vache et NEC'!B51=\"Total général\",\"\",'[1]au vêlage et infos vache et NEC'!B51))","v":"ILDA"},null,null,null,null,null,null,null,null,null,null,""]
[null,null,{"$f":"IF('[1]au vêlage et infos vache et NEC'!A52=\"\",\"\",IF('[1]au vêlage et infos vache et NEC'!A52=\"Total général\",\"\",'[1]au vêlage et infos vache et NEC'!A52))","v":"5921"},{"$f":"IF('[1]au vêlage et infos vache et NEC'!B52=\"\",\"\",IF('[1]au vêlage et infos vache et NEC'!B52=\"Total général\",\"\",'[1]au vêlage et infos vache et NEC'!B52))","v":"INDIA"},null,null,null,null,null,null,null,null,null,null,""]
[null,null,{"$f":"IF('[1]au vêlage et infos vache et NEC'!A53=\"\",\"\",IF('[1]au vêlage et infos vache et NEC'!A53=\"Total général\",\"\",'[1]au vêlage et infos vache et NEC'!A53))","v":"5922"},{"$f":"IF('[1]au vêlage et infos vache et NEC'!B53=\"\",\"\",IF('[1]au vêlage et infos vache et NEC'!B53=\"Total général\",\"\",'[1]au vêlage et infos vache et NEC'!B53))","v":"ICONE"},null,null,null,null,null,null,null,null,null,null,""]
[null,null,{"$f":"IF('[1]au vêlage et infos vache et NEC'!A54=\"\",\"\",IF('[1]au vêlage et infos vache et NEC'!A54=\"Total général\",\"\",'[1]au vêlage et infos vache et NEC'!A54))","v":"5924"},{"$f":"IF('[1]au vêlage et infos vache et NEC'!B54=\"\",\"\",IF('[1]au vêlage et infos vache et NEC'!B54=\"Total général\",\"\",'[1]au vêlage et infos vache et NEC'!B54))","v":"INES"},null,null,null,null,null,null,null,null,null,null,""]
[null,null,{"$f":"IF('[1]au vêlage et infos vache et NEC'!A55=\"\",\"\",IF('[1]au vêlage et infos vache et NEC'!A55=\"Total général\",\"\",'[1]au vêlage et infos vache et NEC'!A55))","v":"5925"},{"$f":"IF('[1]au vêlage et infos vache et NEC'!B55=\"\",\"\",IF('[1]au vêlage et infos vache et NEC'!B55=\"Total général\",\"\",'[1]au vêlage et infos vache et NEC'!B55))","v":"INDIANA"},null,null,null,null,null,null,null,null,null,null,""]
[null,null,{"$f":"IF('[1]au vêlage et infos vache et NEC'!A56=\"\",\"\",IF('[1]au vêlage et infos vache et NEC'!A56=\"Total général\",\"\",'[1]au vêlage et infos vache et NEC'!A56))","v":"5927"},{"$f":"IF('[1]au vêlage et infos vache et NEC'!B56=\"\",\"\",IF('[1]au vêlage et infos vache et NEC'!B56=\"Total général\",\"\",'[1]au vêlage et infos vache et NEC'!B56))","v":"IDOLE"},null,null,null,null,null,null,null,null,null,null,""]
[null,null,{"$f":"IF('[1]au vêlage et infos vache et NEC'!A57=\"\",\"\",IF('[1]au vêlage et infos vache et NEC'!A57=\"Total général\",\"\",'[1]au vêlage et infos vache et NEC'!A57))","v":"5928"},{"$f":"IF('[1]au vêlage et infos vache et NEC'!B57=\"\",\"\",IF('[1]au vêlage et infos vache et NEC'!B57=\"Total général\",\"\",'[1]au vêlage et infos vache et NEC'!B57))","v":"ILONA"},null,null,null,null,null,null,null,null,null,null,""]
[null,null,{"$f":"IF('[1]au vêlage et infos vache et NEC'!A58=\"\",\"\",IF('[1]au vêlage et infos vache et NEC'!A58=\"Total général\",\"\",'[1]au vêlage et infos vache et NEC'!A58))","v":"5929"},{"$f":"IF('[1]au vêlage et infos vache et NEC'!B58=\"\",\"\",IF('[1]au vêlage et infos vache et NEC'!B58=\"Total général\",\"\",'[1]au vêlage et infos vache et NEC'!B58))","v":"IOLA"},null,null,null,null,null,null,null,null,null,null,""]
[null,null,{"$f":"IF('[1]au vêlage et infos vache et NEC'!A59=\"\",\"\",IF('[1]au vêlage et infos vache et NEC'!A59=\"Total général\",\"\",'[1]au vêlage et infos vache et NEC'!A59))","v":"5930"},{"$f":"IF('[1]au vêlage et infos vache et NEC'!B59=\"\",\"\",IF('[1]au vêlage et infos vache et NEC'!B59=\"Total général\",\"\",'[1]au vêlage et infos vache et NEC'!B59))","v":"ILANA"},null,null,null,null,null,null,null,null,null,null,""]
[null,null,{"$f":"IF('[1]au vêlage et infos vache et NEC'!A60=\"\",\"\",IF('[1]au vêlage et infos vache et NEC'!A60=\"Total général\",\"\",'[1]au vêlage et infos vache et NEC'!A60))","v":"5931"},{"$f":"IF('[1]au vêlage et infos vache et NEC'!B60=\"\",\"\",IF('[1]au vêlage et infos vache et NEC'!B60=\"Total général\",\"\",'[1]au vêlage et infos vache et NEC'!B60))","v":"INOVA"},null,null,null,null,null,null,null,null,null,null,""]
[null,null,{"$f":"IF('[1]au vêlage et infos vache et NEC'!A61=\"\",\"\",IF('[1]au vêlage et infos vache et NEC'!A61=\"Total général\",\"\",'[1]au vêlage et infos vache et NEC'!A61))","v":"5932"},{"$f":"IF('[1]au vêlage et infos vache et NEC'!B61=\"\",\"\",IF('[1]au vêlage et infos vache et NEC'!B61=\"Total général\",\"\",'[1]au vêlage et infos vache et NEC'!B61))","v":"IDA"},null,null,null,null,null,null,null,null,null,null,""]
[null,null,{"$f":"IF('[1]au vêlage et infos vache et NEC'!A62=\"\",\"\",IF('[1]au vêlage et infos vache et NEC'!A62=\"Total général\",\"\",'[1]au vêlage et infos vache et NEC'!A62))","v":"5934"},{"$f":"IF('[1]au vêlage et infos vache et NEC'!B62=\"\",\"\",IF('[1]au vêlage et infos vache et NEC'!B62=\"Total général\",\"\",'[1]au vêlage et infos vache et NEC'!B62))","v":"ISERE"},null,null,null,null,null,null,null,null,null,null,""]
[null,null,{"$f":"IF('[1]au vêlage et infos vache et NEC'!A63=\"\",\"\",IF('[1]au vêlage et infos vache et NEC'!A63=\"Total général\",\"\",'[1]au vêlage et infos vache et NEC'!A63))","v":"5935"},{"$f":"IF('[1]au vêlage et infos vache et NEC'!B63=\"\",\"\",IF('[1]au vêlage et infos vache et NEC'!B63=\"Total général\",\"\",'[1]au vêlage et infos vache et NEC'!B63))","v":"INFUSION"},null,null,null,null,null,null,null,null,null,null,""]
[null,null,{"$f":"IF('[1]au vêlage et infos vache et NEC'!A64=\"\",\"\",IF('[1]au vêlage et infos vache et NEC'!A64=\"Total général\",\"\",'[1]au vêlage et infos vache et NEC'!A64))","v":"5936"},{"$f":"IF('[1]au vêlage et infos vache et NEC'!B64=\"\",\"\",IF('[1]au vêlage et infos vache et NEC'!B64=\"Total général\",\"\",'[1]au vêlage et infos vache et NEC'!B64))","v":"IRINA"},null,null,null,null,null,null,null,null,null,null,""]
[null,null,{"$f":"IF('[1]au vêlage et infos vache et NEC'!A65=\"\",\"\",IF('[1]au vêlage et infos vache et NEC'!A65=\"Total général\",\"\",'[1]au vêlage et infos vache et NEC'!A65))","v":"5937"},{"$f":"IF('[1]au vêlage et infos vache et NEC'!B65=\"\",\"\",IF('[1]au vêlage et infos vache et NEC'!B65=\"Total général\",\"\",'[1]au vêlage et infos vache et NEC'!B65))","v":"IMPERIALE"},null,null,null,null,null,null,null,null,null,null,""]
[null,null,{"$f":"IF('[1]au vêlage et infos vache et NEC'!A66=\"\",\"\",IF('[1]au vêlage et infos vache et NEC'!A66=\"Total général\",\"\",'[1]au vêlage et infos vache et NEC'!A66))","v":"5946"},{"$f":"IF('[1]au vêlage et infos vache et NEC'!B66=\"\",\"\",IF('[1]au vêlage et infos vache et NEC'!B66=\"Total général\",\"\",'[1]au vêlage et infos vache et NEC'!B66))","v":"JARDINE"},null,null,null,null,null,null,null,null,null,null,""]
[null,null,{"$f":"IF('[1]au vêlage et infos vache et NEC'!A67=\"\",\"\",IF('[1]au vêlage et infos vache et NEC'!A67=\"Total général\",\"\",'[1]au vêlage et infos vache et NEC'!A67))","v":"5948"},{"$f":"IF('[1]au vêlage et infos vache et NEC'!B67=\"\",\"\",IF('[1]au vêlage et infos vache et NEC'!B67=\"Total général\",\"\",'[1]au vêlage et infos vache et NEC'!B67))","v":"JUPETTE"},null,null,null,null,null,null,null,null,null,null,""]
[null,null,{"$f":"IF('[1]au vêlage et infos vache et NEC'!A68=\"\",\"\",IF('[1]au vêlage et infos vache et NEC'!A68=\"Total général\",\"\",'[1]au vêlage et infos vache et NEC'!A68))","v":"5949"},{"$f":"IF('[1]au vêlage et infos vache et NEC'!B68=\"\",\"\",IF('[1]au vêlage et infos vache et NEC'!B68=\"Total général\",\"\",'[1]au vêlage et infos vache et NEC'!B68))","v":"JALIE"},null,null,null,null,null,null,null,null,null,null,""]
[null,null,{"$f":"IF('[1]au vêlage et infos vache et NEC'!A69=\"\",\"\",IF('[1]au vêlage et infos vache et NEC'!A69=\"Total général\",\"\",'[1]au vêlage et infos vache et NEC'!A69))","v":"6456"},{"$f":"IF('[1]au vêlage et infos vache et NEC'!B69=\"\",\"\",IF('[1]au vêlage et infos vache et NEC'!B69=\"Total général\",\"\",'[1]au vêlage et infos vache et NEC'!B69))","v":"BATAVIA"},null,null,null,null,null,null,null,null,null,null,""]
[null,null,{"$f":"IF('[1]au vêlage et infos vache et NEC'!A70=\"\",\"\",IF('[1]au vêlage et infos vache et NEC'!A70=\"Total général\",\"\",'[1]au vêlage et infos vache et NEC'!A70))","v":"6461"},{"$f":"IF('[1]au vêlage et infos vache et NEC'!B70=\"\",\"\",IF('[1]au vêlage et infos vache et NEC'!B70=\"Total général\",\"\",'[1]au vêlage et infos vache et NEC'!B70))","v":"BABOUCHE"},null,null,null,null,null,null,null,null,null,null,""]
[null,null,{"$f":"IF('[1]au vêlage et infos vache et NEC'!A71=\"\",\"\",IF('[1]au vêlage et infos vache et NEC'!A71=\"Total général\",\"\",'[1]au vêlage et infos vache et NEC'!A71))","v":"6462"},{"$f":"IF('[1]au vêlage et infos vache et NEC'!B71=\"\",\"\",IF('[1]au vêlage et infos vache et NEC'!B71=\"Total général\",\"\",'[1]au vêlage et infos vache et NEC'!B71))","v":"BLANCHETTE"},null,null,null,null,null,null,null,null,null,null,""]
[null,null,{"$f":"IF('[1]au vêlage et infos vache et NEC'!A72=\"\",\"\",IF('[1]au vêlage et infos vache et NEC'!A72=\"Total général\",\"\",'[1]au vêlage et infos vache et NEC'!A72))","v":"6665"},{"$f":"IF('[1]au vêlage et infos vache et NEC'!B72=\"\",\"\",IF('[1]au vêlage et infos vache et NEC'!B72=\"Total général\",\"\",'[1]au vêlage et infos vache et NEC'!B72))","v":"GALINETTE"},null,null,null,null,null,null,null,null,null,null,""]
[null,null,{"$f":"IF('[1]au vêlage et infos vache et NEC'!A73=\"\",\"\",IF('[1]au vêlage et infos vache et NEC'!A73=\"Total général\",\"\",'[1]au vêlage et infos vache et NEC'!A73))","v":"6666"},{"$f":"IF('[1]au vêlage et infos vache et NEC'!B73=\"\",\"\",IF('[1]au vêlage et infos vache et NEC'!B73=\"Total général\",\"\",'[1]au vêlage et infos vache et NEC'!B73))","v":"GALIPETTE"},null,null,null,null,null,null,null,null,null,null,""]
[null,null,{"$f":"IF('[1]au vêlage et infos vache et NEC'!A74=\"\",\"\",IF('[1]au vêlage et infos vache et NEC'!A74=\"Total général\",\"\",'[1]au vêlage et infos vache et NEC'!A74))","v":"6667"},{"$f":"IF('[1]au vêlage et infos vache et NEC'!B74=\"\",\"\",IF('[1]au vêlage et infos vache et NEC'!B74=\"Total général\",\"\",'[1]au vêlage et infos vache et NEC'!B74))","v":"GIPSY"},null,null,null,null,null,null,null,null,null,null,{"$f":"IF(N73=\"\",\"\",IF(N73=0,0,\"\"))","v":""}]
[null,null,{"$f":"IF('[1]au vêlage et infos vache et NEC'!A75=\"\",\"\",IF('[1]au vêlage et infos vache et NEC'!A75=\"Total général\",\"\",'[1]au vêlage et infos vache et NEC'!A75))","v":"6668"},{"$f":"IF('[1]au vêlage et infos vache et NEC'!B75=\"\",\"\",IF('[1]au vêlage et infos vache et NEC'!B75=\"Total général\",\"\",'[1]au vêlage et infos vache et NEC'!B75))","v":"GRACE"},null,null,null,null,null,null,null,null,null,null,""]
[null,null,{"$f":"IF('[1]au vêlage et infos vache et NEC'!A76=\"\",\"\",IF('[1]au vêlage et infos vache et NEC'!A76=\"Total général\",\"\",'[1]au vêlage et infos vache et NEC'!A76))","v":"6669"},{"$f":"IF('[1]au vêlage et infos vache et NEC'!B76=\"\",\"\",IF('[1]au vêlage et infos vache et NEC'!B76=\"Total général\",\"\",'[1]au vêlage et infos vache et NEC'!B76))","v":"GAMINE"},null,null,null,null,null,null,null,null,null,null,""]
[null,null,{"$f":"IF('[1]au vêlage et infos vache et NEC'!A77=\"\",\"\",IF('[1]au vêlage et infos vache et NEC'!A77=\"Total général\",\"\",'[1]au vêlage et infos vache et NEC'!A77))","v":"6670"},{"$f":"IF('[1]au vêlage et infos vache et NEC'!B77=\"\",\"\",IF('[1]au vêlage et infos vache et NEC'!B77=\"Total général\",\"\",'[1]au vêlage et infos vache et NEC'!B77))","v":"GEORGIE"},null,null,null,null,null,null,null,null,null,null,""]
[null,null,{"$f":"IF('[1]au vêlage et infos vache et NEC'!A78=\"\",\"\",IF('[1]au vêlage et infos vache et NEC'!A78=\"Total général\",\"\",'[1]au vêlage et infos vache et NEC'!A78))","v":"6672"},{"$f":"IF('[1]au vêlage et infos vache et NEC'!B78=\"\",\"\",IF('[1]au vêlage et infos vache et NEC'!B78=\"Total général\",\"\",'[1]au vêlage et infos vache et NEC'!B78))","v":"GALAXIE"},null,null,null,null,null,null,null,null,null,null,""]
[null,null,{"$f":"IF('[1]au vêlage et infos vache et NEC'!A79=\"\",\"\",IF('[1]au vêlage et infos vache et NEC'!A79=\"Total général\",\"\",'[1]au vêlage et infos vache et NEC'!A79))","v":"6675"},{"$f":"IF('[1]au vêlage et infos vache et NEC'!B79=\"\",\"\",IF('[1]au vêlage et infos vache et NEC'!B79=\"Total général\",\"\",'[1]au vêlage et infos vache et NEC'!B79))","v":"GLORIA"},null,null,null,null,null,null,null,null,null,null,""]
[null,null,{"$f":"IF('[1]au vêlage et infos vache et NEC'!A80=\"\",\"\",IF('[1]au vêlage et infos vache et NEC'!A80=\"Total général\",\"\",'[1]au vêlage et infos vache et NEC'!A80))","v":"6676"},{"$f":"IF('[1]au vêlage et infos vache et NEC'!B80=\"\",\"\",IF('[1]au vêlage et infos vache et NEC'!B80=\"Total général\",\"\",'[1]au vêlage et infos vache et NEC'!B80))","v":"GINA"},null,null,null,null,null,null,null,null,null,null,""]
[null,null,{"$f":"IF('[1]au vêlage et infos vache et NEC'!A81=\"\",\"\",IF('[1]au vêlage et infos vache et NEC'!A81=\"Total général\",\"\",'[1]au vêlage et infos vache et NEC'!A81))","v":"6677"},{"$f":"IF('[1]au vêlage et infos vache et NEC'!B81=\"\",\"\",IF('[1]au vêlage et infos vache et NEC'!B81=\"Total général\",\"\",'[1]au vêlage et infos vache et NEC'!B81))","v":"GERANIUM"},null,null,null,null,null,null,null,null,null,null,""]
[null,null,{"$f":"IF('[1]au vêlage et infos vache et NEC'!A82=\"\",\"\",IF('[1]au vêlage et infos vache et NEC'!A82=\"Total général\",\"\",'[1]au vêlage et infos vache et NEC'!A82))","v":"6678"},{"$f":"IF('[1]au vêlage et infos vache et NEC'!B82=\"\",\"\",IF('[1]au vêlage et infos vache et NEC'!B82=\"Total général\",\"\",'[1]au vêlage et infos vache et NEC'!B82))","v":"GITANE"},null,null,null,null,null,null,null,null,null,null,""]
[null,null,{"$f":"IF('[1]au vêlage et infos vache et NEC'!A83=\"\",\"\",IF('[1]au vêlage et infos vache et NEC'!A83=\"Total général\",\"\",'[1]au vêlage et infos vache et NEC'!A83))","v":"6680"},{"$f":"IF('[1]au vêlage et infos vache et NEC'!B83=\"\",\"\",IF('[1]au vêlage et infos vache et NEC'!B83=\"Total général\",\"\",'[1]au vêlage et infos vache et NEC'!B83))","v":"GIGI"},null,null,null,null,null,null,null,null,null,null,""]
[null,null,{"$f":"IF('[1]au vêlage et infos vache et NEC'!A84=\"\",\"\",IF('[1]au vêlage et infos vache et NEC'!A84=\"Total général\",\"\",'[1]au vêlage et infos vache et NEC'!A84))","v":"6684"},{"$f":"IF('[1]au vêlage et infos vache et NEC'!B84=\"\",\"\",IF('[1]au vêlage et infos vache et NEC'!B84=\"Total général\",\"\",'[1]au vêlage et infos vache et NEC'!B84))","v":"GAZOLINE"},null,null,null,null,null,null,null,null,null,null,""]
[null,null,{"$f":"IF('[1]au vêlage et infos vache et NEC'!A85=\"\",\"\",IF('[1]au vêlage et infos vache et NEC'!A85=\"Total général\",\"\",'[1]au vêlage et infos vache et NEC'!A85))","v":"6685"},{"$f":"IF('[1]au vêlage et infos vache et NEC'!B85=\"\",\"\",IF('[1]au vêlage et infos vache et NEC'!B85=\"Total général\",\"\",'[1]au vêlage et infos vache et NEC'!B85))","v":"GINETTE"},null,null,null,null,null,null,null,null,null,null,""]
[null,null,{"$f":"IF('[1]au vêlage et infos vache et NEC'!A86=\"\",\"\",IF('[1]au vêlage et infos vache et NEC'!A86=\"Total général\",\"\",'[1]au vêlage et infos vache et NEC'!A86))","v":"6686"},{"$f":"IF('[1]au vêlage et infos vache et NEC'!B86=\"\",\"\",IF('[1]au vêlage et infos vache et NEC'!B86=\"Total général\",\"\",'[1]au vêlage et infos vache et NEC'!B86))","v":"GLACE"},null,null,null,null,null,null,null,null,null,null,""]
[null,null,{"$f":"IF('[1]au vêlage et infos vache et NEC'!A87=\"\",\"\",IF('[1]au vêlage et infos vache et NEC'!A87=\"Total général\",\"\",'[1]au vêlage et infos vache et NEC'!A87))","v":"6687"},{"$f":"IF('[1]au vêlage et infos vache et NEC'!B87=\"\",\"\",IF('[1]au vêlage et infos vache et NEC'!B87=\"Total général\",\"\",'[1]au vêlage et infos vache et NEC'!B87))","v":"GUESS"},null,null,null,null,null,null,null,null,null,null,""]
[null,null,{"$f":"IF('[1]au vêlage et infos vache et NEC'!A88=\"\",\"\",IF('[1]au vêlage et infos vache et NEC'!A88=\"Total général\",\"\",'[1]au vêlage et infos vache et NEC'!A88))","v":"6690"},{"$f":"IF('[1]au vêlage et infos vache et NEC'!B88=\"\",\"\",IF('[1]au vêlage et infos vache et NEC'!B88=\"Total général\",\"\",'[1]au vêlage et infos vache et NEC'!B88))","v":"(vide)"},null,null,null,null,null,null,null,null,null,null,""]
[null,null,{"$f":"IF('[1]au vêlage et infos vache et NEC'!A89=\"\",\"\",IF('[1]au vêlage et infos vache et NEC'!A89=\"Total général\",\"\",'[1]au vêlage et infos vache et NEC'!A89))","v":"6691"},{"$f":"IF('[1]au vêlage et infos vache et NEC'!B89=\"\",\"\",IF('[1]au vêlage et infos vache et NEC'!B89=\"Total général\",\"\",'[1]au vêlage et infos vache et NEC'!B89))","v":"GIORGIA"},null,null,null,null,null,null,null,null,null,null,""]
[null,null,{"$f":"IF('[1]au vêlage et infos vache et NEC'!A90=\"\",\"\",IF('[1]au vêlage et infos vache et NEC'!A90=\"Total général\",\"\",'[1]au vêlage et infos vache et NEC'!A90))","v":"6694"},{"$f":"IF('[1]au vêlage et infos vache et NEC'!B90=\"\",\"\",IF('[1]au vêlage et infos vache et NEC'!B90=\"Total général\",\"\",'[1]au vêlage et infos vache et NEC'!B90))","v":"GOMETTE"},null,null,null,null,null,null,null,null,null,null,""]
[null,null,{"$f":"IF('[1]au vêlage et infos vache et NEC'!A91=\"\",\"\",IF('[1]au vêlage et infos vache et NEC'!A91=\"Total général\",\"\",'[1]au vêlage et infos vache et NEC'!A91))","v":"9693"},{"$f":"IF('[1]au vêlage et infos vache et NEC'!B91=\"\",\"\",IF('[1]au vêlage et infos vache et NEC'!B91=\"Total général\",\"\",'[1]au vêlage et infos vache et NEC'!B91))","v":"HONDA"},null,null,null,null,null,null,null,null,null,null,""]
[null,null,{"$f":"IF('[1]au vêlage et infos vache et NEC'!A92=\"\",\"\",IF('[1]au vêlage et infos vache et NEC'!A92=\"Total général\",\"\",'[1]au vêlage et infos vache et NEC'!A92))","v":"9694"},{"$f":"IF('[1]au vêlage et infos vache et NEC'!B92=\"\",\"\",IF('[1]au vêlage et infos vache et NEC'!B92=\"Total général\",\"\",'[1]au vêlage et infos vache et NEC'!B92))","v":"HASTONIA"},null,null,null,null,null,null,null,null,null,null,""]
[null,null,{"$f":"IF('[1]au vêlage et infos vache et NEC'!A93=\"\",\"\",IF('[1]au vêlage et infos vache et NEC'!A93=\"Total général\",\"\",'[1]au vêlage et infos vache et NEC'!A93))","v":"9695"},{"$f":"IF('[1]au vêlage et infos vache et NEC'!B93=\"\",\"\",IF('[1]au vêlage et infos vache et NEC'!B93=\"Total général\",\"\",'[1]au vêlage et infos vache et NEC'!B93))","v":"HAMELIA"},null,null,null,null,null,null,null,null,null,null,""]
[null,null,{"$f":"IF('[1]au vêlage et infos vache et NEC'!A94=\"\",\"\",IF('[1]au vêlage et infos vache et NEC'!A94=\"Total général\",\"\",'[1]au vêlage et infos vache et NEC'!A94))","v":"9696"},{"$f":"IF('[1]au vêlage et infos vache et NEC'!B94=\"\",\"\",IF('[1]au vêlage et infos vache et NEC'!B94=\"Total général\",\"\",'[1]au vêlage et infos vache et NEC'!B94))","v":"HIRANA"},null,null,null,null,null,null,null,null,null,null,""]
[null,null,{"$f":"IF('[1]au vêlage et infos vache et NEC'!A95=\"\",\"\",IF('[1]au vêlage et infos vache et NEC'!A95=\"Total général\",\"\",'[1]au vêlage et infos vache et NEC'!A95))","v":"9697"},{"$f":"IF('[1]au vêlage et infos vache et NEC'!B95=\"\",\"\",IF('[1]au vêlage et infos vache et NEC'!B95=\"Total général\",\"\",'[1]au vêlage et infos vache et NEC'!B95))","v":"HALPHA"},null,null,null,null,null,null,null,null,null,null,""]
[null,null,{"$f":"IF('[1]au vêlage et infos vache et NEC'!A96=\"\",\"\",IF('[1]au vêlage et infos vache et NEC'!A96=\"Total général\",\"\",'[1]au vêlage et infos vache et NEC'!A96))","v":"9698"},{"$f":"IF('[1]au vêlage et infos vache et NEC'!B96=\"\",\"\",IF('[1]au vêlage et infos vache et NEC'!B96=\"Total général\",\"\",'[1]au vêlage et infos vache et NEC'!B96))","v":"HAJAX"},null,null,null,null,null,null,null,null,null,null,""]
[null,null,{"$f":"IF('[1]au vêlage et infos vache et NEC'!A97=\"\",\"\",IF('[1]au vêlage et infos vache et NEC'!A97=\"Total général\",\"\",'[1]au vêlage et infos vache et NEC'!A97))","v":"9699"},{"$f":"IF('[1]au vêlage et infos vache et NEC'!B97=\"\",\"\",IF('[1]au vêlage et infos vache et NEC'!B97=\"Total général\",\"\",'[1]au vêlage et infos vache et NEC'!B97))","v":"HORTENCE"},null,null,null,null,null,null,null,null,null,null,""]
[null,null,{"$f":"IF('[1]au vêlage et infos vache et NEC'!A98=\"\",\"\",IF('[1]au vêlage et infos vache et NEC'!A98=\"Total général\",\"\",'[1]au vêlage et infos vache et NEC'!A98))","v":"9700"},{"$f":"IF('[1]au vêlage et infos vache et NEC'!B98=\"\",\"\",IF('[1]au vêlage et infos vache et NEC'!B98=\"Total général\",\"\",'[1]au vêlage et infos vache et NEC'!B98))","v":"HAVANA"},null,null,null,null,null,null,null,null,null,null,""]
[null,null,{"$f":"IF('[1]au vêlage et infos vache et NEC'!A99=\"\",\"\",IF('[1]au vêlage et infos vache et NEC'!A99=\"Total général\",\"\",'[1]au vêlage et infos vache et NEC'!A99))","v":"9701"},{"$f":"IF('[1]au vêlage et infos vache et NEC'!B99=\"\",\"\",IF('[1]au vêlage et infos vache et NEC'!B99=\"Total général\",\"\",'[1]au vêlage et infos vache et NEC'!B99))","v":"HIMALAYA"},null,null,null,null,null,null,null,null,null,null,""]
[null,null,{"$f":"IF('[1]au vêlage et infos vache et NEC'!A100=\"\",\"\",IF('[1]au vêlage et infos vache et NEC'!A100=\"Total général\",\"\",'[1]au vêlage et infos vache et NEC'!A100))","v":"9704"},{"$f":"IF('[1]au vêlage et infos vache et NEC'!B100=\"\",\"\",IF('[1]au vêlage et infos vache et NEC'!B100=\"Total général\",\"\",'[1]au vêlage et infos vache et NEC'!B100))","v":"HIRIS"},null,null,null,null,null,null,null,null,null,null,""]
[null,null,{"$f":"IF('[1]au vêlage et infos vache et NEC'!A101=\"\",\"\",IF('[1]au vêlage et infos vache et NEC'!A101=\"Total général\",\"\",'[1]au vêlage et infos vache et NEC'!A101))","v":"9705"},{"$f":"IF('[1]au vêlage et infos vache et NEC'!B101=\"\",\"\",IF('[1]au vêlage et infos vache et NEC'!B101=\"Total général\",\"\",'[1]au vêlage et infos vache et NEC'!B101))","v":"HUGNY"},null,null,null,null,null,null,null,null,null,null,""]
[null,null,{"$f":"IF('[1]au vêlage et infos vache et NEC'!A102=\"\",\"\",IF('[1]au vêlage et infos vache et NEC'!A102=\"Total général\",\"\",'[1]au vêlage et infos vache et NEC'!A102))","v":"9706"},{"$f":"IF('[1]au vêlage et infos vache et NEC'!B102=\"\",\"\",IF('[1]au vêlage et infos vache et NEC'!B102=\"Total général\",\"\",'[1]au vêlage et infos vache et NEC'!B102))","v":"HADDITION"},null,null,null,null,null,null,null,null,null,null,""]
[null,null,{"$f":"IF('[1]au vêlage et infos vache et NEC'!A103=\"\",\"\",IF('[1]au vêlage et infos vache et NEC'!A103=\"Total général\",\"\",'[1]au vêlage et infos vache et NEC'!A103))","v":"9707"},{"$f":"IF('[1]au vêlage et infos vache et NEC'!B103=\"\",\"\",IF('[1]au vêlage et infos vache et NEC'!B103=\"Total général\",\"\",'[1]au vêlage et infos vache et NEC'!B103))","v":"HACHETTE"},null,null,null,null,null,null,null,null,null,null,""]
[null,null,{"$f":"IF('[1]au vêlage et infos vache et NEC'!A104=\"\",\"\",IF('[1]au vêlage et infos vache et NEC'!A104=\"Total général\",\"\",'[1]au vêlage et infos vache et NEC'!A104))","v":"9709"},{"$f":"IF('[1]au vêlage et infos vache et NEC'!B104=\"\",\"\",IF('[1]au vêlage et infos vache et NEC'!B104=\"Total général\",\"\",'[1]au vêlage et infos vache et NEC'!B104))","v":"HANASTASIA"},null,null,null,null,null,null,null,null,null,null,""]
[null,null,{"$f":"IF('[1]au vêlage et infos vache et NEC'!A105=\"\",\"\",IF('[1]au vêlage et infos vache et NEC'!A105=\"Total général\",\"\",'[1]au vêlage et infos vache et NEC'!A105))","v":"9710"},{"$f":"IF('[1]au vêlage et infos vache et NEC'!B105=\"\",\"\",IF('[1]au vêlage et infos vache et NEC'!B105=\"Total général\",\"\",'[1]au vêlage et infos vache et NEC'!B105))","v":"HINDRA"},null,null,null,null,null,null,null,null,null,null,""]
[null,null,{"$f":"IF('[1]au vêlage et infos vache et NEC'!A106=\"\",\"\",IF('[1]au vêlage et infos vache et NEC'!A106=\"Total général\",\"\",'[1]au vêlage et infos vache et NEC'!A106))","v":"9711"},{"$f":"IF('[1]au vêlage et infos vache et NEC'!B106=\"\",\"\",IF('[1]au vêlage et infos vache et NEC'!B106=\"Total général\",\"\",'[1]au vêlage et infos vache et NEC'!B106))","v":"HAUTAINE"},null,null,null,null,null,null,null,null,null,null,""]
[null,null,{"$f":"IF('[1]au vêlage et infos vache et NEC'!A107=\"\",\"\",IF('[1]au vêlage et infos vache et NEC'!A107=\"Total général\",\"\",'[1]au vêlage et infos vache et NEC'!A107))","v":"9713"},{"$f":"IF('[1]au vêlage et infos vache et NEC'!B107=\"\",\"\",IF('[1]au vêlage et infos vache et NEC'!B107=\"Total général\",\"\",'[1]au vêlage et infos vache et NEC'!B107))","v":"HANEMONE"},null,null,null,null,null,null,null,null,null,null,""]
[null,null,{"$f":"IF('[1]au vêlage et infos vache et NEC'!A108=\"\",\"\",IF('[1]au vêlage et infos vache et NEC'!A108=\"Total général\",\"\",'[1]au vêlage et infos vache et NEC'!A108))","v":"9714"},{"$f":"IF('[1]au vêlage et infos vache et NEC'!B108=\"\",\"\",IF('[1]au vêlage et infos vache et NEC'!B108=\"Total général\",\"\",'[1]au vêlage et infos vache et NEC'!B108))","v":"HALTESSE"},null,null,null,null,null,null,null,null,null,null,""]
[null,null,{"$f":"IF('[1]au vêlage et infos vache et NEC'!A109=\"\",\"\",IF('[1]au vêlage et infos vache et NEC'!A109=\"Total général\",\"\",'[1]au vêlage et infos vache et NEC'!A109))","v":"9715"},{"$f":"IF('[1]au vêlage et infos vache et NEC'!B109=\"\",\"\",IF('[1]au vêlage et infos vache et NEC'!B109=\"Total général\",\"\",'[1]au vêlage et infos vache et NEC'!B109))","v":"HACALINE"},null,null,null,null,null,null,null,null,null,null,""]
[null,null,{"$f":"IF('[1]au vêlage et infos vache et NEC'!A110=\"\",\"\",IF('[1]au vêlage et infos vache et NEC'!A110=\"Total général\",\"\",'[1]au vêlage et infos vache et NEC'!A110))","v":"9834"},{"$f":"IF('[1]au vêlage et infos vache et NEC'!B110=\"\",\"\",IF('[1]au vêlage et infos vache et NEC'!B110=\"Total général\",\"\",'[1]au vêlage et infos vache et NEC'!B110))","v":"CALINE"},null,null,null,null,null,null,null,null,null,null,""]
[null,null,{"$f":"IF('[1]au vêlage et infos vache et NEC'!A111=\"\",\"\",IF('[1]au vêlage et infos vache et NEC'!A111=\"Total général\",\"\",'[1]au vêlage et infos vache et NEC'!A111))","v":"9836"},{"$f":"IF('[1]au vêlage et infos vache et NEC'!B111=\"\",\"\",IF('[1]au vêlage et infos vache et NEC'!B111=\"Total général\",\"\",'[1]au vêlage et infos vache et NEC'!B111))","v":"CABINE"},null,null,null,null,null,null,null,null,null,null,""]
[null,null,{"$f":"IF('[1]au vêlage et infos vache et NEC'!A112=\"\",\"\",IF('[1]au vêlage et infos vache et NEC'!A112=\"Total général\",\"\",'[1]au vêlage et infos vache et NEC'!A112))","v":"9839"},{"$f":"IF('[1]au vêlage et infos vache et NEC'!B112=\"\",\"\",IF('[1]au vêlage et infos vache et NEC'!B112=\"Total général\",\"\",'[1]au vêlage et infos vache et NEC'!B112))","v":"CERISE"},null,null,null,null,null,null,null,null,null,null,""]
[null,null,{"$f":"IF('[1]au vêlage et infos vache et NEC'!A113=\"\",\"\",IF('[1]au vêlage et infos vache et NEC'!A113=\"Total général\",\"\",'[1]au vêlage et infos vache et NEC'!A113))","v":"9840"},{"$f":"IF('[1]au vêlage et infos vache et NEC'!B113=\"\",\"\",IF('[1]au vêlage et infos vache et NEC'!B113=\"Total général\",\"\",'[1]au vêlage et infos vache et NEC'!B113))","v":"CHATAIGNE"},null,null,null,null,null,null,null,null,null,null,""]
[null,null,{"$f":"IF('[1]au vêlage et infos vache et NEC'!A114=\"\",\"\",IF('[1]au vêlage et infos vache et NEC'!A114=\"Total général\",\"\",'[1]au vêlage et infos vache et NEC'!A114))","v":"9846"},{"$f":"IF('[1]au vêlage et infos vache et NEC'!B114=\"\",\"\",IF('[1]au vêlage et infos vache et NEC'!B114=\"Total général\",\"\",'[1]au vêlage et infos vache et NEC'!B114))","v":"CONCORDE"},null,null,null,null,null,null,null,null,null,null,""]
[null,null,{"$f":"IF('[1]au vêlage et infos vache et NEC'!A115=\"\",\"\",IF('[1]au vêlage et infos vache et NEC'!A115=\"Total général\",\"\",'[1]au vêlage et infos vache et NEC'!A115))","v":"9852"},{"$f":"IF('[1]au vêlage et infos vache et NEC'!B115=\"\",\"\",IF('[1]au vêlage et infos vache et NEC'!B115=\"Total général\",\"\",'[1]au vêlage et infos vache et NEC'!B115))","v":"CATALANE"},null,null,null,null,null,null,null,null,null,null,""]
[null,null,{"$f":"IF('[1]au vêlage et infos vache et NEC'!A116=\"\",\"\",IF('[1]au vêlage et infos vache et NEC'!A116=\"Total général\",\"\",'[1]au vêlage et infos vache et NEC'!A116))","v":"9853"},{"$f":"IF('[1]au vêlage et infos vache et NEC'!B116=\"\",\"\",IF('[1]au vêlage et infos vache et NEC'!B116=\"Total général\",\"\",'[1]au vêlage et infos vache et NEC'!B116))","v":"CLEMENTINE"},null,null,null,null,null,null,null,null,null,null,""]
[null,null,{"$f":"IF('[1]au vêlage et infos vache et NEC'!A117=\"\",\"\",IF('[1]au vêlage et infos vache et NEC'!A117=\"Total général\",\"\",'[1]au vêlage et infos vache et NEC'!A117))","v":"9857"},{"$f":"IF('[1]au vêlage et infos vache et NEC'!B117=\"\",\"\",IF('[1]au vêlage et infos vache et NEC'!B117=\"Total général\",\"\",'[1]au vêlage et infos vache et NEC'!B117))","v":"DIABLESSE"},null,null,null,null,null,null,null,null,null,null,""]
[null,null,{"$f":"IF('[1]au vêlage et infos vache et NEC'!A118=\"\",\"\",IF('[1]au vêlage et infos vache et NEC'!A118=\"Total général\",\"\",'[1]au vêlage et infos vache et NEC'!A118))","v":""},{"$f":"IF('[1]au vêlage et infos vache et NEC'!B118=\"\",\"\",IF('[1]au vêlage et infos vache et NEC'!B118=\"Total général\",\"\",'[1]au vêlage et infos vache et NEC'!B118))","v":""},null,null,null,null,null,null,null,null,null,null,""]
[null,null,{"$f":"IF('[1]au vêlage et infos vache et NEC'!A119=\"\",\"\",IF('[1]au vêlage et infos vache et NEC'!A119=\"Total général\",\"\",'[1]au vêlage et infos vache et NEC'!A119))","v":""},{"$f":"IF('[1]au vêlage et infos vache et NEC'!B119=\"\",\"\",IF('[1]au vêlage et infos vache et NEC'!B119=\"Total général\",\"\",'[1]au vêlage et infos vache et NEC'!B119))","v":""},null,null,null,null,null,null,null,null,null,null,""]
[null,null,{"$f":"IF('[1]au vêlage et infos vache et NEC'!A120=\"\",\"\",IF('[1]au vêlage et infos vache et NEC'!A120=\"Total général\",\"\",'[1]au vêlage et infos vache et NEC'!A120))","v":""},{"$f":"IF('[1]au vêlage et infos vache et NEC'!B120=\"\",\"\",IF('[1]au vêlage et infos vache et NEC'!B120=\"Total général\",\"\",'[1]au vêlage et infos vache et NEC'!B120))","v":""},null,null,null,null,null,null,null,null,null,null,""]
[null,null,{"$f":"IF('[1]au vêlage et infos vache et NEC'!A121=\"\",\"\",IF('[1]au vêlage et infos vache et NEC'!A121=\"Total général\",\"\",'[1]au vêlage et infos vache et NEC'!A121))","v":""},{"$f":"IF('[1]au vêlage et infos vache et NEC'!B121=\"\",\"\",IF('[1]au vêlage et infos vache et NEC'!B121=\"Total général\",\"\",'[1]au vêlage et infos vache et NEC'!B121))","v":""},null,null,null,null,null,null,null,null,null,null,""]
[null,null,{"$f":"IF('[1]au vêlage et infos vache et NEC'!A122=\"\",\"\",IF('[1]au vêlage et infos vache et NEC'!A122=\"Total général\",\"\",'[1]au vêlage et infos vache et NEC'!A122))","v":""},{"$f":"IF('[1]au vêlage et infos vache et NEC'!B122=\"\",\"\",IF('[1]au vêlage et infos vache et NEC'!B122=\"Total général\",\"\",'[1]au vêlage et infos vache et NEC'!B122))","v":""},null,null,null,null,null,null,null,null,null,null,""]
[null,null,{"$f":"IF('[1]au vêlage et infos vache et NEC'!A123=\"\",\"\",IF('[1]au vêlage et infos vache et NEC'!A123=\"Total général\",\"\",'[1]au vêlage et infos vache et NEC'!A123))","v":""},{"$f":"IF('[1]au vêlage et infos vache et NEC'!B123=\"\",\"\",IF('[1]au vêlage et infos vache et NEC'!B123=\"Total général\",\"\",'[1]au vêlage et infos vache et NEC'!B123))","v":""},null,null,null,null,null,null,null,null,null,null,""]
[null,null,{"$f":"IF('[1]au vêlage et infos vache et NEC'!A124=\"\",\"\",IF('[1]au vêlage et infos vache et NEC'!A124=\"Total général\",\"\",'[1]au vêlage et infos vache et NEC'!A124))","v":""},{"$f":"IF('[1]au vêlage et infos vache et NEC'!B124=\"\",\"\",IF('[1]au vêlage et infos vache et NEC'!B124=\"Total général\",\"\",'[1]au vêlage et infos vache et NEC'!B124))","v":""},null,null,null,null,null,null,null,null,null,null,""]
[null,null,{"$f":"IF('[1]au vêlage et infos vache et NEC'!A125=\"\",\"\",IF('[1]au vêlage et infos vache et NEC'!A125=\"Total général\",\"\",'[1]au vêlage et infos vache et NEC'!A125))","v":""},{"$f":"IF('[1]au vêlage et infos vache et NEC'!B125=\"\",\"\",IF('[1]au vêlage et infos vache et NEC'!B125=\"Total général\",\"\",'[1]au vêlage et infos vache et NEC'!B125))","v":""},null,null,null,null,null,null,null,null,null,null,""]
[null,null,{"$f":"IF('[1]au vêlage et infos vache et NEC'!A126=\"\",\"\",IF('[1]au vêlage et infos vache et NEC'!A126=\"Total général\",\"\",'[1]au vêlage et infos vache et NEC'!A126))","v":""},{"$f":"IF('[1]au vêlage et infos vache et NEC'!B126=\"\",\"\",IF('[1]au vêlage et infos vache et NEC'!B126=\"Total général\",\"\",'[1]au vêlage et infos vache et NEC'!B126))","v":""},null,null,null,null,null,null,null,null,null,null,""]
[null,null,{"$f":"IF('[1]au vêlage et infos vache et NEC'!A127=\"\",\"\",IF('[1]au vêlage et infos vache et NEC'!A127=\"Total général\",\"\",'[1]au vêlage et infos vache et NEC'!A127))","v":""},{"$f":"IF('[1]au vêlage et infos vache et NEC'!B127=\"\",\"\",IF('[1]au vêlage et infos vache et NEC'!B127=\"Total général\",\"\",'[1]au vêlage et infos vache et NEC'!B127))","v":""},null,null,null,null,null,null,null,null,null,null,""]
[null,null,{"$f":"IF('[1]au vêlage et infos vache et NEC'!A128=\"\",\"\",IF('[1]au vêlage et infos vache et NEC'!A128=\"Total général\",\"\",'[1]au vêlage et infos vache et NEC'!A128))","v":""},{"$f":"IF('[1]au vêlage et infos vache et NEC'!B128=\"\",\"\",IF('[1]au vêlage et infos vache et NEC'!B128=\"Total général\",\"\",'[1]au vêlage et infos vache et NEC'!B128))","v":""},null,null,null,null,null,null,null,null,null,null,""]
[null,null,{"$f":"IF('[1]au vêlage et infos vache et NEC'!A129=\"\",\"\",IF('[1]au vêlage et infos vache et NEC'!A129=\"Total général\",\"\",'[1]au vêlage et infos vache et NEC'!A129))","v":""},{"$f":"IF('[1]au vêlage et infos vache et NEC'!B129=\"\",\"\",IF('[1]au vêlage et infos vache et NEC'!B129=\"Total général\",\"\",'[1]au vêlage et infos vache et NEC'!B129))","v":""},null,null,null,null,null,null,null,null,null,null,""]
[null,null,{"$f":"IF('[1]au vêlage et infos vache et NEC'!A130=\"\",\"\",IF('[1]au vêlage et infos vache et NEC'!A130=\"Total général\",\"\",'[1]au vêlage et infos vache et NEC'!A130))","v":""},{"$f":"IF('[1]au vêlage et infos vache et NEC'!B130=\"\",\"\",IF('[1]au vêlage et infos vache et NEC'!B130=\"Total général\",\"\",'[1]au vêlage et infos vache et NEC'!B130))","v":""},null,null,null,null,null,null,null,null,null,null,""]
[null,null,{"$f":"IF('[1]au vêlage et infos vache et NEC'!A131=\"\",\"\",IF('[1]au vêlage et infos vache et NEC'!A131=\"Total général\",\"\",'[1]au vêlage et infos vache et NEC'!A131))","v":""},{"$f":"IF('[1]au vêlage et infos vache et NEC'!B131=\"\",\"\",IF('[1]au vêlage et infos vache et NEC'!B131=\"Total général\",\"\",'[1]au vêlage et infos vache et NEC'!B131))","v":""},null,null,null,null,null,null,null,null,null,null,""]
[null,null,{"$f":"IF('[1]au vêlage et infos vache et NEC'!A132=\"\",\"\",IF('[1]au vêlage et infos vache et NEC'!A132=\"Total général\",\"\",'[1]au vêlage et infos vache et NEC'!A132))","v":""},{"$f":"IF('[1]au vêlage et infos vache et NEC'!B132=\"\",\"\",IF('[1]au vêlage et infos vache et NEC'!B132=\"Total général\",\"\",'[1]au vêlage et infos vache et NEC'!B132))","v":""},null,null,null,null,null,null,null,null,null,null,""]
[null,null,{"$f":"IF('[1]au vêlage et infos vache et NEC'!A133=\"\",\"\",IF('[1]au vêlage et infos vache et NEC'!A133=\"Total général\",\"\",'[1]au vêlage et infos vache et NEC'!A133))","v":""},{"$f":"IF('[1]au vêlage et infos vache et NEC'!B133=\"\",\"\",IF('[1]au vêlage et infos vache et NEC'!B133=\"Total général\",\"\",'[1]au vêlage et infos vache et NEC'!B133))","v":""},null,null,null,null,null,null,null,null,null,null,""]
[null,null,{"$f":"IF('[1]au vêlage et infos vache et NEC'!A134=\"\",\"\",IF('[1]au vêlage et infos vache et NEC'!A134=\"Total général\",\"\",'[1]au vêlage et infos vache et NEC'!A134))","v":""},{"$f":"IF('[1]au vêlage et infos vache et NEC'!B134=\"\",\"\",IF('[1]au vêlage et infos vache et NEC'!B134=\"Total général\",\"\",'[1]au vêlage et infos vache et NEC'!B134))","v":""},null,null,null,null,null,null,null,null,null,null,""]
[null,null,{"$f":"IF('[1]au vêlage et infos vache et NEC'!A135=\"\",\"\",IF('[1]au vêlage et infos vache et NEC'!A135=\"Total général\",\"\",'[1]au vêlage et infos vache et NEC'!A135))","v":""},{"$f":"IF('[1]au vêlage et infos vache et NEC'!B135=\"\",\"\",IF('[1]au vêlage et infos vache et NEC'!B135=\"Total général\",\"\",'[1]au vêlage et infos vache et NEC'!B135))","v":""},null,null,null,null,null,null,null,null,null,null,""]
[null,null,{"$f":"IF('[1]au vêlage et infos vache et NEC'!A136=\"\",\"\",IF('[1]au vêlage et infos vache et NEC'!A136=\"Total général\",\"\",'[1]au vêlage et infos vache et NEC'!A136))","v":""},{"$f":"IF('[1]au vêlage et infos vache et NEC'!B136=\"\",\"\",IF('[1]au vêlage et infos vache et NEC'!B136=\"Total général\",\"\",'[1]au vêlage et infos vache et NEC'!B136))","v":""},null,null,null,null,null,null,null,null,null,null,""]
[null,null,{"$f":"IF('[1]au vêlage et infos vache et NEC'!A137=\"\",\"\",IF('[1]au vêlage et infos vache et NEC'!A137=\"Total général\",\"\",'[1]au vêlage et infos vache et NEC'!A137))","v":""},{"$f":"IF('[1]au vêlage et infos vache et NEC'!B137=\"\",\"\",IF('[1]au vêlage et infos vache et NEC'!B137=\"Total général\",\"\",'[1]au vêlage et infos vache et NEC'!B137))","v":""},null,null,null,null,null,null,null,null,null,null,""]
[null,null,{"$f":"IF('[1]au vêlage et infos vache et NEC'!A138=\"\",\"\",IF('[1]au vêlage et infos vache et NEC'!A138=\"Total général\",\"\",'[1]au vêlage et infos vache et NEC'!A138))","v":""},{"$f":"IF('[1]au vêlage et infos vache et NEC'!B138=\"\",\"\",IF('[1]au vêlage et infos vache et NEC'!B138=\"Total général\",\"\",'[1]au vêlage et infos vache et NEC'!B138))","v":""},null,null,null,null,null,null,null,null,null,null,{"$f":"IF(N137=\"\",\"\",IF(N137=0,0,\"\"))","v":""}]
[null,null,{"$f":"IF('[1]au vêlage et infos vache et NEC'!A139=\"\",\"\",IF('[1]au vêlage et infos vache et NEC'!A139=\"Total général\",\"\",'[1]au vêlage et infos vache et NEC'!A139))","v":""},{"$f":"IF('[1]au vêlage et infos vache et NEC'!B139=\"\",\"\",IF('[1]au vêlage et infos vache et NEC'!B139=\"Total général\",\"\",'[1]au vêlage et infos vache et NEC'!B139))","v":""},null,null,null,null,null,null,null,null,null,null,""]
[null,null,{"$f":"IF('[1]au vêlage et infos vache et NEC'!A140=\"\",\"\",IF('[1]au vêlage et infos vache et NEC'!A140=\"Total général\",\"\",'[1]au vêlage et infos vache et NEC'!A140))","v":""},{"$f":"IF('[1]au vêlage et infos vache et NEC'!B140=\"\",\"\",IF('[1]au vêlage et infos vache et NEC'!B140=\"Total général\",\"\",'[1]au vêlage et infos vache et NEC'!B140))","v":""},null,null,null,null,null,null,null,null,null,null,""]
[null,null,{"$f":"IF('[1]au vêlage et infos vache et NEC'!A141=\"\",\"\",IF('[1]au vêlage et infos vache et NEC'!A141=\"Total général\",\"\",'[1]au vêlage et infos vache et NEC'!A141))","v":""},{"$f":"IF('[1]au vêlage et infos vache et NEC'!B141=\"\",\"\",IF('[1]au vêlage et infos vache et NEC'!B141=\"Total général\",\"\",'[1]au vêlage et infos vache et NEC'!B141))","v":""},null,null,null,null,null,null,null,null,null,null,""]
[null,null,{"$f":"IF('[1]au vêlage et infos vache et NEC'!A142=\"\",\"\",IF('[1]au vêlage et infos vache et NEC'!A142=\"Total général\",\"\",'[1]au vêlage et infos vache et NEC'!A142))","v":""},{"$f":"IF('[1]au vêlage et infos vache et NEC'!B142=\"\",\"\",IF('[1]au vêlage et infos vache et NEC'!B142=\"Total général\",\"\",'[1]au vêlage et infos vache et NEC'!B142))","v":""},null,null,null,null,null,null,null,null,null,null,""]
[null,null,{"$f":"IF('[1]au vêlage et infos vache et NEC'!A143=\"\",\"\",IF('[1]au vêlage et infos vache et NEC'!A143=\"Total général\",\"\",'[1]au vêlage et infos vache et NEC'!A143))","v":""},{"$f":"IF('[1]au vêlage et infos vache et NEC'!B143=\"\",\"\",IF('[1]au vêlage et infos vache et NEC'!B143=\"Total général\",\"\",'[1]au vêlage et infos vache et NEC'!B143))","v":""},null,null,null,null,null,null,null,null,null,null,""]
[null,null,{"$f":"IF('[1]au vêlage et infos vache et NEC'!A144=\"\",\"\",IF('[1]au vêlage et infos vache et NEC'!A144=\"Total général\",\"\",'[1]au vêlage et infos vache et NEC'!A144))","v":""},{"$f":"IF('[1]au vêlage et infos vache et NEC'!B144=\"\",\"\",IF('[1]au vêlage et infos vache et NEC'!B144=\"Total général\",\"\",'[1]au vêlage et infos vache et NEC'!B144))","v":""},null,null,null,null,null,null,null,null,null,null,""]
[null,null,{"$f":"IF('[1]au vêlage et infos vache et NEC'!A145=\"\",\"\",IF('[1]au vêlage et infos vache et NEC'!A145=\"Total général\",\"\",'[1]au vêlage et infos vache et NEC'!A145))","v":""},{"$f":"IF('[1]au vêlage et infos vache et NEC'!B145=\"\",\"\",IF('[1]au vêlage et infos vache et NEC'!B145=\"Total général\",\"\",'[1]au vêlage et infos vache et NEC'!B145))","v":""},null,null,null,null,null,null,null,null,null,null,""]
[null,null,{"$f":"IF('[1]au vêlage et infos vache et NEC'!A146=\"\",\"\",IF('[1]au vêlage et infos vache et NEC'!A146=\"Total général\",\"\",'[1]au vêlage et infos vache et NEC'!A146))","v":""},{"$f":"IF('[1]au vêlage et infos vache et NEC'!B146=\"\",\"\",IF('[1]au vêlage et infos vache et NEC'!B146=\"Total général\",\"\",'[1]au vêlage et infos vache et NEC'!B146))","v":""},null,null,null,null,null,null,null,null,null,null,""]
[null,null,{"$f":"IF('[1]au vêlage et infos vache et NEC'!A147=\"\",\"\",IF('[1]au vêlage et infos vache et NEC'!A147=\"Total général\",\"\",'[1]au vêlage et infos vache et NEC'!A147))","v":""},{"$f":"IF('[1]au vêlage et infos vache et NEC'!B147=\"\",\"\",IF('[1]au vêlage et infos vache et NEC'!B147=\"Total général\",\"\",'[1]au vêlage et infos vache et NEC'!B147))","v":""},null,null,null,null,null,null,null,null,null,null,""]
[null,null,{"$f":"IF('[1]au vêlage et infos vache et NEC'!A148=\"\",\"\",IF('[1]au vêlage et infos vache et NEC'!A148=\"Total général\",\"\",'[1]au vêlage et infos vache et NEC'!A148))","v":""},{"$f":"IF('[1]au vêlage et infos vache et NEC'!B148=\"\",\"\",IF('[1]au vêlage et infos vache et NEC'!B148=\"Total général\",\"\",'[1]au vêlage et infos vache et NEC'!B148))","v":""},null,null,null,null,null,null,null,null,null,null,""]
[null,null,{"$f":"IF('[1]au vêlage et infos vache et NEC'!A149=\"\",\"\",IF('[1]au vêlage et infos vache et NEC'!A149=\"Total général\",\"\",'[1]au vêlage et infos vache et NEC'!A149))","v":""},{"$f":"IF('[1]au vêlage et infos vache et NEC'!B149=\"\",\"\",IF('[1]au vêlage et infos vache et NEC'!B149=\"Total général\",\"\",'[1]au vêlage et infos vache et NEC'!B149))","v":""},null,null,null,null,null,null,null,null,null,null,""]
[null,null,{"$f":"IF('[1]au vêlage et infos vache et NEC'!A150=\"\",\"\",IF('[1]au vêlage et infos vache et NEC'!A150=\"Total général\",\"\",'[1]au vêlage et infos vache et NEC'!A150))","v":""},{"$f":"IF('[1]au vêlage et infos vache et NEC'!B150=\"\",\"\",IF('[1]au vêlage et infos vache et NEC'!B150=\"Total général\",\"\",'[1]au vêlage et infos vache et NEC'!B150))","v":""},null,null,null,null,null,null,null,null,null,null,""]
[null,null,{"$f":"IF('[1]au vêlage et infos vache et NEC'!A151=\"\",\"\",IF('[1]au vêlage et infos vache et NEC'!A151=\"Total général\",\"\",'[1]au vêlage et infos vache et NEC'!A151))","v":""},{"$f":"IF('[1]au vêlage et infos vache et NEC'!B151=\"\",\"\",IF('[1]au vêlage et infos vache et NEC'!B151=\"Total général\",\"\",'[1]au vêlage et infos vache et NEC'!B151))","v":""},null,null,null,null,null,null,null,null,null,null,""]
[null,null,{"$f":"IF('[1]au vêlage et infos vache et NEC'!A152=\"\",\"\",IF('[1]au vêlage et infos vache et NEC'!A152=\"Total général\",\"\",'[1]au vêlage et infos vache et NEC'!A152))","v":""},{"$f":"IF('[1]au vêlage et infos vache et NEC'!B152=\"\",\"\",IF('[1]au vêlage et infos vache et NEC'!B152=\"Total général\",\"\",'[1]au vêlage et infos vache et NEC'!B152))","v":""},null,null,null,null,null,null,null,null,null,null,""]
[null,null,{"$f":"IF('[1]au vêlage et infos vache et NEC'!A153=\"\",\"\",IF('[1]au vêlage et infos vache et NEC'!A153=\"Total général\",\"\",'[1]au vêlage et infos vache et NEC'!A153))","v":""},{"$f":"IF('[1]au vêlage et infos vache et NEC'!B153=\"\",\"\",IF('[1]au vêlage et infos vache et NEC'!B153=\"Total général\",\"\",'[1]au vêlage et infos vache et NEC'!B153))","v":""},null,null,null,null,null,null,null,null,null,null,""]
[null,null,{"$f":"IF('[1]au vêlage et infos vache et NEC'!A154=\"\",\"\",IF('[1]au vêlage et infos vache et NEC'!A154=\"Total général\",\"\",'[1]au vêlage et infos vache et NEC'!A154))","v":""},{"$f":"IF('[1]au vêlage et infos vache et NEC'!B154=\"\",\"\",IF('[1]au vêlage et infos vache et NEC'!B154=\"Total général\",\"\",'[1]au vêlage et infos vache et NEC'!B154))","v":""},null,null,null,null,null,null,null,null,null,null,""]
[null,null,{"$f":"IF('[1]au vêlage et infos vache et NEC'!A155=\"\",\"\",IF('[1]au vêlage et infos vache et NEC'!A155=\"Total général\",\"\",'[1]au vêlage et infos vache et NEC'!A155))","v":""},{"$f":"IF('[1]au vêlage et infos vache et NEC'!B155=\"\",\"\",IF('[1]au vêlage et infos vache et NEC'!B155=\"Total général\",\"\",'[1]au vêlage et infos vache et NEC'!B155))","v":""},null,null,null,null,null,null,null,null,null,null,""]
[null,null,{"$f":"IF('[1]au vêlage et infos vache et NEC'!A156=\"\",\"\",IF('[1]au vêlage et infos vache et NEC'!A156=\"Total général\",\"\",'[1]au vêlage et infos vache et NEC'!A156))","v":""},{"$f":"IF('[1]au vêlage et infos vache et NEC'!B156=\"\",\"\",IF('[1]au vêlage et infos vache et NEC'!B156=\"Total général\",\"\",'[1]au vêlage et infos vache et NEC'!B156))","v":""},null,null,null,null,null,null,null,null,null,null,""]
[null,null,{"$f":"IF('[1]au vêlage et infos vache et NEC'!A157=\"\",\"\",IF('[1]au vêlage et infos vache et NEC'!A157=\"Total général\",\"\",'[1]au vêlage et infos vache et NEC'!A157))","v":""},{"$f":"IF('[1]au vêlage et infos vache et NEC'!B157=\"\",\"\",IF('[1]au vêlage et infos vache et NEC'!B157=\"Total général\",\"\",'[1]au vêlage et infos vache et NEC'!B157))","v":""},null,null,null,null,null,null,null,null,null,null,""]
[null,null,{"$f":"IF('[1]au vêlage et infos vache et NEC'!A158=\"\",\"\",IF('[1]au vêlage et infos vache et NEC'!A158=\"Total général\",\"\",'[1]au vêlage et infos vache et NEC'!A158))","v":""},{"$f":"IF('[1]au vêlage et infos vache et NEC'!B158=\"\",\"\",IF('[1]au vêlage et infos vache et NEC'!B158=\"Total général\",\"\",'[1]au vêlage et infos vache et NEC'!B158))","v":""},null,null,null,null,null,null,null,null,null,null,""]
[null,null,{"$f":"IF('[1]au vêlage et infos vache et NEC'!A159=\"\",\"\",IF('[1]au vêlage et infos vache et NEC'!A159=\"Total général\",\"\",'[1]au vêlage et infos vache et NEC'!A159))","v":""},{"$f":"IF('[1]au vêlage et infos vache et NEC'!B159=\"\",\"\",IF('[1]au vêlage et infos vache et NEC'!B159=\"Total général\",\"\",'[1]au vêlage et infos vache et NEC'!B159))","v":""},null,null,null,null,null,null,null,null,null,null,""]
[null,null,{"$f":"IF('[1]au vêlage et infos vache et NEC'!A160=\"\",\"\",IF('[1]au vêlage et infos vache et NEC'!A160=\"Total général\",\"\",'[1]au vêlage et infos vache et NEC'!A160))","v":""},{"$f":"IF('[1]au vêlage et infos vache et NEC'!B160=\"\",\"\",IF('[1]au vêlage et infos vache et NEC'!B160=\"Total général\",\"\",'[1]au vêlage et infos vache et NEC'!B160))","v":""},null,null,null,null,null,null,null,null,null,null,""]
[null,null,{"$f":"IF('[1]au vêlage et infos vache et NEC'!A161=\"\",\"\",IF('[1]au vêlage et infos vache et NEC'!A161=\"Total général\",\"\",'[1]au vêlage et infos vache et NEC'!A161))","v":""},{"$f":"IF('[1]au vêlage et infos vache et NEC'!B161=\"\",\"\",IF('[1]au vêlage et infos vache et NEC'!B161=\"Total général\",\"\",'[1]au vêlage et infos vache et NEC'!B161))","v":""},null,null,null,null,null,null,null,null,null,null,""]
[null,null,{"$f":"IF('[1]au vêlage et infos vache et NEC'!A162=\"\",\"\",IF('[1]au vêlage et infos vache et NEC'!A162=\"Total général\",\"\",'[1]au vêlage et infos vache et NEC'!A162))","v":""},{"$f":"IF('[1]au vêlage et infos vache et NEC'!B162=\"\",\"\",IF('[1]au vêlage et infos vache et NEC'!B162=\"Total général\",\"\",'[1]au vêlage et infos vache et NEC'!B162))","v":""},null,null,null,null,null,null,null,null,null,null,""]
[null,null,{"$f":"IF('[1]au vêlage et infos vache et NEC'!A163=\"\",\"\",IF('[1]au vêlage et infos vache et NEC'!A163=\"Total général\",\"\",'[1]au vêlage et infos vache et NEC'!A163))","v":""},{"$f":"IF('[1]au vêlage et infos vache et NEC'!B163=\"\",\"\",IF('[1]au vêlage et infos vache et NEC'!B163=\"Total général\",\"\",'[1]au vêlage et infos vache et NEC'!B163))","v":""},null,null,null,null,null,null,null,null,null,null,""]
[null,null,{"$f":"IF('[1]au vêlage et infos vache et NEC'!A164=\"\",\"\",IF('[1]au vêlage et infos vache et NEC'!A164=\"Total général\",\"\",'[1]au vêlage et infos vache et NEC'!A164))","v":""},{"$f":"IF('[1]au vêlage et infos vache et NEC'!B164=\"\",\"\",IF('[1]au vêlage et infos vache et NEC'!B164=\"Total général\",\"\",'[1]au vêlage et infos vache et NEC'!B164))","v":""},null,null,null,null,null,null,null,null,null,null,""]
[null,null,{"$f":"IF('[1]au vêlage et infos vache et NEC'!A165=\"\",\"\",IF('[1]au vêlage et infos vache et NEC'!A165=\"Total général\",\"\",'[1]au vêlage et infos vache et NEC'!A165))","v":""},{"$f":"IF('[1]au vêlage et infos vache et NEC'!B165=\"\",\"\",IF('[1]au vêlage et infos vache et NEC'!B165=\"Total général\",\"\",'[1]au vêlage et infos vache et NEC'!B165))","v":""},null,null,null,null,null,null,null,null,null,null,""]
[null,null,{"$f":"IF('[1]au vêlage et infos vache et NEC'!A166=\"\",\"\",IF('[1]au vêlage et infos vache et NEC'!A166=\"Total général\",\"\",'[1]au vêlage et infos vache et NEC'!A166))","v":""},{"$f":"IF('[1]au vêlage et infos vache et NEC'!B166=\"\",\"\",IF('[1]au vêlage et infos vache et NEC'!B166=\"Total général\",\"\",'[1]au vêlage et infos vache et NEC'!B166))","v":""},null,null,null,null,null,null,null,null,null,null,""]
[null,null,{"$f":"IF('[1]au vêlage et infos vache et NEC'!A167=\"\",\"\",IF('[1]au vêlage et infos vache et NEC'!A167=\"Total général\",\"\",'[1]au vêlage et infos vache et NEC'!A167))","v":""},{"$f":"IF('[1]au vêlage et infos vache et NEC'!B167=\"\",\"\",IF('[1]au vêlage et infos vache et NEC'!B167=\"Total général\",\"\",'[1]au vêlage et infos vache et NEC'!B167))","v":""},null,null,null,null,null,null,null,null,null,null,""]
[null,null,{"$f":"IF('[1]au vêlage et infos vache et NEC'!A168=\"\",\"\",IF('[1]au vêlage et infos vache et NEC'!A168=\"Total général\",\"\",'[1]au vêlage et infos vache et NEC'!A168))","v":""},{"$f":"IF('[1]au vêlage et infos vache et NEC'!B168=\"\",\"\",IF('[1]au vêlage et infos vache et NEC'!B168=\"Total général\",\"\",'[1]au vêlage et infos vache et NEC'!B168))","v":""},null,null,null,null,null,null,null,null,null,null,""]
[null,null,{"$f":"IF('[1]au vêlage et infos vache et NEC'!A169=\"\",\"\",IF('[1]au vêlage et infos vache et NEC'!A169=\"Total général\",\"\",'[1]au vêlage et infos vache et NEC'!A169))","v":""},{"$f":"IF('[1]au vêlage et infos vache et NEC'!B169=\"\",\"\",IF('[1]au vêlage et infos vache et NEC'!B169=\"Total général\",\"\",'[1]au vêlage et infos vache et NEC'!B169))","v":""},null,null,null,null,null,null,null,null,null,null,""]
[null,null,{"$f":"IF('[1]au vêlage et infos vache et NEC'!A170=\"\",\"\",IF('[1]au vêlage et infos vache et NEC'!A170=\"Total général\",\"\",'[1]au vêlage et infos vache et NEC'!A170))","v":""},{"$f":"IF('[1]au vêlage et infos vache et NEC'!B170=\"\",\"\",IF('[1]au vêlage et infos vache et NEC'!B170=\"Total général\",\"\",'[1]au vêlage et infos vache et NEC'!B170))","v":""},null,null,null,null,null,null,null,null,null,null,""]
[null,null,{"$f":"IF('[1]au vêlage et infos vache et NEC'!A171=\"\",\"\",IF('[1]au vêlage et infos vache et NEC'!A171=\"Total général\",\"\",'[1]au vêlage et infos vache et NEC'!A171))","v":""},{"$f":"IF('[1]au vêlage et infos vache et NEC'!B171=\"\",\"\",IF('[1]au vêlage et infos vache et NEC'!B171=\"Total général\",\"\",'[1]au vêlage et infos vache et NEC'!B171))","v":""},null,null,null,null,null,null,null,null,null,null,""]
[null,null,{"$f":"IF('[1]au vêlage et infos vache et NEC'!A172=\"\",\"\",IF('[1]au vêlage et infos vache et NEC'!A172=\"Total général\",\"\",'[1]au vêlage et infos vache et NEC'!A172))","v":""},{"$f":"IF('[1]au vêlage et infos vache et NEC'!B172=\"\",\"\",IF('[1]au vêlage et infos vache et NEC'!B172=\"Total général\",\"\",'[1]au vêlage et infos vache et NEC'!B172))","v":""},null,null,null,null,null,null,null,null,null,null,""]
[null,null,{"$f":"IF('[1]au vêlage et infos vache et NEC'!A173=\"\",\"\",IF('[1]au vêlage et infos vache et NEC'!A173=\"Total général\",\"\",'[1]au vêlage et infos vache et NEC'!A173))","v":""},{"$f":"IF('[1]au vêlage et infos vache et NEC'!B173=\"\",\"\",IF('[1]au vêlage et infos vache et NEC'!B173=\"Total général\",\"\",'[1]au vêlage et infos vache et NEC'!B173))","v":""},null,null,null,null,null,null,null,null,null,null,""]
[null,null,{"$f":"IF('[1]au vêlage et infos vache et NEC'!A174=\"\",\"\",IF('[1]au vêlage et infos vache et NEC'!A174=\"Total général\",\"\",'[1]au vêlage et infos vache et NEC'!A174))","v":""},{"$f":"IF('[1]au vêlage et infos vache et NEC'!B174=\"\",\"\",IF('[1]au vêlage et infos vache et NEC'!B174=\"Total général\",\"\",'[1]au vêlage et infos vache et NEC'!B174))","v":""},null,null,null,null,null,null,null,null,null,null,""]
[null,null,{"$f":"IF('[1]au vêlage et infos vache et NEC'!A175=\"\",\"\",IF('[1]au vêlage et infos vache et NEC'!A175=\"Total général\",\"\",'[1]au vêlage et infos vache et NEC'!A175))","v":""},{"$f":"IF('[1]au vêlage et infos vache et NEC'!B175=\"\",\"\",IF('[1]au vêlage et infos vache et NEC'!B175=\"Total général\",\"\",'[1]au vêlage et infos vache et NEC'!B175))","v":""},null,null,null,null,null,null,null,null,null,null,""]
[null,null,{"$f":"IF('[1]au vêlage et infos vache et NEC'!A176=\"\",\"\",IF('[1]au vêlage et infos vache et NEC'!A176=\"Total général\",\"\",'[1]au vêlage et infos vache et NEC'!A176))","v":""},{"$f":"IF('[1]au vêlage et infos vache et NEC'!B176=\"\",\"\",IF('[1]au vêlage et infos vache et NEC'!B176=\"Total général\",\"\",'[1]au vêlage et infos vache et NEC'!B176))","v":""},null,null,null,null,null,null,null,null,null,null,""]
[null,null,{"$f":"IF('[1]au vêlage et infos vache et NEC'!A177=\"\",\"\",IF('[1]au vêlage et infos vache et NEC'!A177=\"Total général\",\"\",'[1]au vêlage et infos vache et NEC'!A177))","v":""},{"$f":"IF('[1]au vêlage et infos vache et NEC'!B177=\"\",\"\",IF('[1]au vêlage et infos vache et NEC'!B177=\"Total général\",\"\",'[1]au vêlage et infos vache et NEC'!B177))","v":""},null,null,null,null,null,null,null,null,null,null,""]
[null,null,{"$f":"IF('[1]au vêlage et infos vache et NEC'!A178=\"\",\"\",IF('[1]au vêlage et infos vache et NEC'!A178=\"Total général\",\"\",'[1]au vêlage et infos vache et NEC'!A178))","v":""},{"$f":"IF('[1]au vêlage et infos vache et NEC'!B178=\"\",\"\",IF('[1]au vêlage et infos vache et NEC'!B178=\"Total général\",\"\",'[1]au vêlage et infos vache et NEC'!B178))","v":""},null,null,null,null,null,null,null,null,null,null,""]
[null,null,{"$f":"IF('[1]au vêlage et infos vache et NEC'!A179=\"\",\"\",IF('[1]au vêlage et infos vache et NEC'!A179=\"Total général\",\"\",'[1]au vêlage et infos vache et NEC'!A179))","v":""},{"$f":"IF('[1]au vêlage et infos vache et NEC'!B179=\"\",\"\",IF('[1]au vêlage et infos vache et NEC'!B179=\"Total général\",\"\",'[1]au vêlage et infos vache et NEC'!B179))","v":""},null,null,null,null,null,null,null,null,null,null,""]
[null,null,{"$f":"IF('[1]au vêlage et infos vache et NEC'!A180=\"\",\"\",IF('[1]au vêlage et infos vache et NEC'!A180=\"Total général\",\"\",'[1]au vêlage et infos vache et NEC'!A180))","v":""},{"$f":"IF('[1]au vêlage et infos vache et NEC'!B180=\"\",\"\",IF('[1]au vêlage et infos vache et NEC'!B180=\"Total général\",\"\",'[1]au vêlage et infos vache et NEC'!B180))","v":""},null,null,null,null,null,null,null,null,null,null,""]
[null,null,{"$f":"IF('[1]au vêlage et infos vache et NEC'!A181=\"\",\"\",IF('[1]au vêlage et infos vache et NEC'!A181=\"Total général\",\"\",'[1]au vêlage et infos vache et NEC'!A181))","v":""},{"$f":"IF('[1]au vêlage et infos vache et NEC'!B181=\"\",\"\",IF('[1]au vêlage et infos vache et NEC'!B181=\"Total général\",\"\",'[1]au vêlage et infos vache et NEC'!B181))","v":""},null,null,null,null,null,null,null,null,null,null,""]
[null,null,{"$f":"IF('[1]au vêlage et infos vache et NEC'!A182=\"\",\"\",IF('[1]au vêlage et infos vache et NEC'!A182=\"Total général\",\"\",'[1]au vêlage et infos vache et NEC'!A182))","v":""},{"$f":"IF('[1]au vêlage et infos vache et NEC'!B182=\"\",\"\",IF('[1]au vêlage et infos vache et NEC'!B182=\"Total général\",\"\",'[1]au vêlage et infos vache et NEC'!B182))","v":""},null,null,null,null,null,null,null,null,null,null,""]
[null,null,{"$f":"IF('[1]au vêlage et infos vache et NEC'!A183=\"\",\"\",IF('[1]au vêlage et infos vache et NEC'!A183=\"Total général\",\"\",'[1]au vêlage et infos vache et NEC'!A183))","v":""},{"$f":"IF('[1]au vêlage et infos vache et NEC'!B183=\"\",\"\",IF('[1]au vêlage et infos vache et NEC'!B183=\"Total général\",\"\",'[1]au vêlage et infos vache et NEC'!B183))","v":""},null,null,null,null,null,null,null,null,null,null,""]
[null,null,{"$f":"IF('[1]au vêlage et infos vache et NEC'!A184=\"\",\"\",IF('[1]au vêlage et infos vache et NEC'!A184=\"Total général\",\"\",'[1]au vêlage et infos vache et NEC'!A184))","v":""},{"$f":"IF('[1]au vêlage et infos vache et NEC'!B184=\"\",\"\",IF('[1]au vêlage et infos vache et NEC'!B184=\"Total général\",\"\",'[1]au vêlage et infos vache et NEC'!B184))","v":""},null,null,null,null,null,null,null,null,null,null,""]
[null,null,{"$f":"IF('[1]au vêlage et infos vache et NEC'!A185=\"\",\"\",IF('[1]au vêlage et infos vache et NEC'!A185=\"Total général\",\"\",'[1]au vêlage et infos vache et NEC'!A185))","v":""},{"$f":"IF('[1]au vêlage et infos vache et NEC'!B185=\"\",\"\",IF('[1]au vêlage et infos vache et NEC'!B185=\"Total général\",\"\",'[1]au vêlage et infos vache et NEC'!B185))","v":""},null,null,null,null,null,null,null,null,null,null,""]
[null,null,{"$f":"IF('[1]au vêlage et infos vache et NEC'!A186=\"\",\"\",IF('[1]au vêlage et infos vache et NEC'!A186=\"Total général\",\"\",'[1]au vêlage et infos vache et NEC'!A186))","v":""},{"$f":"IF('[1]au vêlage et infos vache et NEC'!B186=\"\",\"\",IF('[1]au vêlage et infos vache et NEC'!B186=\"Total général\",\"\",'[1]au vêlage et infos vache et NEC'!B186))","v":""},null,null,null,null,null,null,null,null,null,null,""]
[null,null,{"$f":"IF('[1]au vêlage et infos vache et NEC'!A187=\"\",\"\",IF('[1]au vêlage et infos vache et NEC'!A187=\"Total général\",\"\",'[1]au vêlage et infos vache et NEC'!A187))","v":""},{"$f":"IF('[1]au vêlage et infos vache et NEC'!B187=\"\",\"\",IF('[1]au vêlage et infos vache et NEC'!B187=\"Total général\",\"\",'[1]au vêlage et infos vache et NEC'!B187))","v":""},null,null,null,null,null,null,null,null,null,null,""]
[null,null,{"$f":"IF('[1]au vêlage et infos vache et NEC'!A188=\"\",\"\",IF('[1]au vêlage et infos vache et NEC'!A188=\"Total général\",\"\",'[1]au vêlage et infos vache et NEC'!A188))","v":""},{"$f":"IF('[1]au vêlage et infos vache et NEC'!B188=\"\",\"\",IF('[1]au vêlage et infos vache et NEC'!B188=\"Total général\",\"\",'[1]au vêlage et infos vache et NEC'!B188))","v":""},null,null,null,null,null,null,null,null,null,null,""]
[null,null,{"$f":"IF('[1]au vêlage et infos vache et NEC'!A189=\"\",\"\",IF('[1]au vêlage et infos vache et NEC'!A189=\"Total général\",\"\",'[1]au vêlage et infos vache et NEC'!A189))","v":""},{"$f":"IF('[1]au vêlage et infos vache et NEC'!B189=\"\",\"\",IF('[1]au vêlage et infos vache et NEC'!B189=\"Total général\",\"\",'[1]au vêlage et infos vache et NEC'!B189))","v":""},null,null,null,null,null,null,null,null,null,null,""]
[null,null,{"$f":"IF('[1]au vêlage et infos vache et NEC'!A190=\"\",\"\",IF('[1]au vêlage et infos vache et NEC'!A190=\"Total général\",\"\",'[1]au vêlage et infos vache et NEC'!A190))","v":""},{"$f":"IF('[1]au vêlage et infos vache et NEC'!B190=\"\",\"\",IF('[1]au vêlage et infos vache et NEC'!B190=\"Total général\",\"\",'[1]au vêlage et infos vache et NEC'!B190))","v":""},null,null,null,null,null,null,null,null,null,null,""]
[null,null,{"$f":"IF('[1]au vêlage et infos vache et NEC'!A191=\"\",\"\",IF('[1]au vêlage et infos vache et NEC'!A191=\"Total général\",\"\",'[1]au vêlage et infos vache et NEC'!A191))","v":""},{"$f":"IF('[1]au vêlage et infos vache et NEC'!B191=\"\",\"\",IF('[1]au vêlage et infos vache et NEC'!B191=\"Total général\",\"\",'[1]au vêlage et infos vache et NEC'!B191))","v":""},null,null,null,null,null,null,null,null,null,null,""]
[null,null,{"$f":"IF('[1]au vêlage et infos vache et NEC'!A192=\"\",\"\",IF('[1]au vêlage et infos vache et NEC'!A192=\"Total général\",\"\",'[1]au vêlage et infos vache et NEC'!A192))","v":""},{"$f":"IF('[1]au vêlage et infos vache et NEC'!B192=\"\",\"\",IF('[1]au vêlage et infos vache et NEC'!B192=\"Total général\",\"\",'[1]au vêlage et infos vache et NEC'!B192))","v":""},null,null,null,null,null,null,null,null,null,null,""]
[null,null,{"$f":"IF('[1]au vêlage et infos vache et NEC'!A193=\"\",\"\",IF('[1]au vêlage et infos vache et NEC'!A193=\"Total général\",\"\",'[1]au vêlage et infos vache et NEC'!A193))","v":""},{"$f":"IF('[1]au vêlage et infos vache et NEC'!B193=\"\",\"\",IF('[1]au vêlage et infos vache et NEC'!B193=\"Total général\",\"\",'[1]au vêlage et infos vache et NEC'!B193))","v":""},null,null,null,null,null,null,null,null,null,null,""]
[null,null,{"$f":"IF('[1]au vêlage et infos vache et NEC'!A194=\"\",\"\",IF('[1]au vêlage et infos vache et NEC'!A194=\"Total général\",\"\",'[1]au vêlage et infos vache et NEC'!A194))","v":""},{"$f":"IF('[1]au vêlage et infos vache et NEC'!B194=\"\",\"\",IF('[1]au vêlage et infos vache et NEC'!B194=\"Total général\",\"\",'[1]au vêlage et infos vache et NEC'!B194))","v":""},null,null,null,null,null,null,null,null,null,null,""]
[null,null,{"$f":"IF('[1]au vêlage et infos vache et NEC'!A195=\"\",\"\",IF('[1]au vêlage et infos vache et NEC'!A195=\"Total général\",\"\",'[1]au vêlage et infos vache et NEC'!A195))","v":""},{"$f":"IF('[1]au vêlage et infos vache et NEC'!B195=\"\",\"\",IF('[1]au vêlage et infos vache et NEC'!B195=\"Total général\",\"\",'[1]au vêlage et infos vache et NEC'!B195))","v":""},null,null,null,null,null,null,null,null,null,null,""]
[null,null,{"$f":"IF('[1]au vêlage et infos vache et NEC'!A196=\"\",\"\",IF('[1]au vêlage et infos vache et NEC'!A196=\"Total général\",\"\",'[1]au vêlage et infos vache et NEC'!A196))","v":""},{"$f":"IF('[1]au vêlage et infos vache et NEC'!B196=\"\",\"\",IF('[1]au vêlage et infos vache et NEC'!B196=\"Total général\",\"\",'[1]au vêlage et infos vache et NEC'!B196))","v":""},null,null,null,null,null,null,null,null,null,null,""]
[null,null,{"$f":"IF('[1]au vêlage et infos vache et NEC'!A197=\"\",\"\",IF('[1]au vêlage et infos vache et NEC'!A197=\"Total général\",\"\",'[1]au vêlage et infos vache et NEC'!A197))","v":""},{"$f":"IF('[1]au vêlage et infos vache et NEC'!B197=\"\",\"\",IF('[1]au vêlage et infos vache et NEC'!B197=\"Total général\",\"\",'[1]au vêlage et infos vache et NEC'!B197))","v":""},null,null,null,null,null,null,null,null,null,null,""]
[null,null,{"$f":"IF('[1]au vêlage et infos vache et NEC'!A198=\"\",\"\",IF('[1]au vêlage et infos vache et NEC'!A198=\"Total général\",\"\",'[1]au vêlage et infos vache et NEC'!A198))","v":""},{"$f":"IF('[1]au vêlage et infos vache et NEC'!B198=\"\",\"\",IF('[1]au vêlage et infos vache et NEC'!B198=\"Total général\",\"\",'[1]au vêlage et infos vache et NEC'!B198))","v":""},null,null,null,null,null,null,null,null,null,null,""]
[null,null,{"$f":"IF('[1]au vêlage et infos vache et NEC'!A199=\"\",\"\",IF('[1]au vêlage et infos vache et NEC'!A199=\"Total général\",\"\",'[1]au vêlage et infos vache et NEC'!A199))","v":""},{"$f":"IF('[1]au vêlage et infos vache et NEC'!B199=\"\",\"\",IF('[1]au vêlage et infos vache et NEC'!B199=\"Total général\",\"\",'[1]au vêlage et infos vache et NEC'!B199))","v":""},null,null,null,null,null,null,null,null,null,null,""]
[null,null,{"$f":"IF('[1]au vêlage et infos vache et NEC'!A200=\"\",\"\",IF('[1]au vêlage et infos vache et NEC'!A200=\"Total général\",\"\",'[1]au vêlage et infos vache et NEC'!A200))","v":""},{"$f":"IF('[1]au vêlage et infos vache et NEC'!B200=\"\",\"\",IF('[1]au vêlage et infos vache et NEC'!B200=\"Total général\",\"\",'[1]au vêlage et infos vache et NEC'!B200))","v":""},null,null,null,null,null,null,null,null,null,null,""]
[null,null,{"$f":"IF('[1]au vêlage et infos vache et NEC'!A201=\"\",\"\",IF('[1]au vêlage et infos vache et NEC'!A201=\"Total général\",\"\",'[1]au vêlage et infos vache et NEC'!A201))","v":""},{"$f":"IF('[1]au vêlage et infos vache et NEC'!B201=\"\",\"\",IF('[1]au vêlage et infos vache et NEC'!B201=\"Total général\",\"\",'[1]au vêlage et infos vache et NEC'!B201))","v":""},null,null,null,null,null,null,null,null,null,null,""]
[null,null,{"$f":"IF('[1]au vêlage et infos vache et NEC'!A202=\"\",\"\",IF('[1]au vêlage et infos vache et NEC'!A202=\"Total général\",\"\",'[1]au vêlage et infos vache et NEC'!A202))","v":""},{"$f":"IF('[1]au vêlage et infos vache et NEC'!B202=\"\",\"\",IF('[1]au vêlage et infos vache et NEC'!B202=\"Total général\",\"\",'[1]au vêlage et infos vache et NEC'!B202))","v":""},null,null,null,null,null,null,null,null,null,null,{"$f":"IF(N201=\"\",\"\",IF(N201=0,0,\"\"))","v":""}]
[null,null,{"$f":"IF('[1]au vêlage et infos vache et NEC'!A203=\"\",\"\",IF('[1]au vêlage et infos vache et NEC'!A203=\"Total général\",\"\",'[1]au vêlage et infos vache et NEC'!A203))","v":""},{"$f":"IF('[1]au vêlage et infos vache et NEC'!B203=\"\",\"\",IF('[1]au vêlage et infos vache et NEC'!B203=\"Total général\",\"\",'[1]au vêlage et infos vache et NEC'!B203))","v":""},null,null,null,null,null,null,null,null,null,null,""]
[null,null,{"$f":"IF('[1]au vêlage et infos vache et NEC'!A204=\"\",\"\",IF('[1]au vêlage et infos vache et NEC'!A204=\"Total général\",\"\",'[1]au vêlage et infos vache et NEC'!A204))","v":""},{"$f":"IF('[1]au vêlage et infos vache et NEC'!B204=\"\",\"\",IF('[1]au vêlage et infos vache et NEC'!B204=\"Total général\",\"\",'[1]au vêlage et infos vache et NEC'!B204))","v":""},null,null,null,null,null,null,null,null,null,null,""]
[null,null,{"$f":"IF('[1]au vêlage et infos vache et NEC'!A205=\"\",\"\",IF('[1]au vêlage et infos vache et NEC'!A205=\"Total général\",\"\",'[1]au vêlage et infos vache et NEC'!A205))","v":""},{"$f":"IF('[1]au vêlage et infos vache et NEC'!B205=\"\",\"\",IF('[1]au vêlage et infos vache et NEC'!B205=\"Total général\",\"\",'[1]au vêlage et infos vache et NEC'!B205))","v":""},null,null,null,null,null,null,null,null,null,null,""]
[null,null,{"$f":"IF('[1]au vêlage et infos vache et NEC'!A206=\"\",\"\",IF('[1]au vêlage et infos vache et NEC'!A206=\"Total général\",\"\",'[1]au vêlage et infos vache et NEC'!A206))","v":""},{"$f":"IF('[1]au vêlage et infos vache et NEC'!B206=\"\",\"\",IF('[1]au vêlage et infos vache et NEC'!B206=\"Total général\",\"\",'[1]au vêlage et infos vache et NEC'!B206))","v":""},null,null,null,null,null,null,null,null,null,null,""]
[null,null,{"$f":"IF('[1]au vêlage et infos vache et NEC'!A207=\"\",\"\",IF('[1]au vêlage et infos vache et NEC'!A207=\"Total général\",\"\",'[1]au vêlage et infos vache et NEC'!A207))","v":""},{"$f":"IF('[1]au vêlage et infos vache et NEC'!B207=\"\",\"\",IF('[1]au vêlage et infos vache et NEC'!B207=\"Total général\",\"\",'[1]au vêlage et infos vache et NEC'!B207))","v":""},null,null,null,null,null,null,null,null,null,null,""]
[null,null,{"$f":"IF('[1]au vêlage et infos vache et NEC'!A208=\"\",\"\",IF('[1]au vêlage et infos vache et NEC'!A208=\"Total général\",\"\",'[1]au vêlage et infos vache et NEC'!A208))","v":""},{"$f":"IF('[1]au vêlage et infos vache et NEC'!B208=\"\",\"\",IF('[1]au vêlage et infos vache et NEC'!B208=\"Total général\",\"\",'[1]au vêlage et infos vache et NEC'!B208))","v":""},null,null,null,null,null,null,null,null,null,null,""]
[null,null,{"$f":"IF('[1]au vêlage et infos vache et NEC'!A209=\"\",\"\",IF('[1]au vêlage et infos vache et NEC'!A209=\"Total général\",\"\",'[1]au vêlage et infos vache et NEC'!A209))","v":""},{"$f":"IF('[1]au vêlage et infos vache et NEC'!B209=\"\",\"\",IF('[1]au vêlage et infos vache et NEC'!B209=\"Total général\",\"\",'[1]au vêlage et infos vache et NEC'!B209))","v":""},null,null,null,null,null,null,null,null,null,null,""]
[null,null,{"$f":"IF('[1]au vêlage et infos vache et NEC'!A210=\"\",\"\",IF('[1]au vêlage et infos vache et NEC'!A210=\"Total général\",\"\",'[1]au vêlage et infos vache et NEC'!A210))","v":""},{"$f":"IF('[1]au vêlage et infos vache et NEC'!B210=\"\",\"\",IF('[1]au vêlage et infos vache et NEC'!B210=\"Total général\",\"\",'[1]au vêlage et infos vache et NEC'!B210))","v":""},null,null,null,null,null,null,null,null,null,null,""]
[null,null,{"$f":"IF('[1]au vêlage et infos vache et NEC'!A211=\"\",\"\",IF('[1]au vêlage et infos vache et NEC'!A211=\"Total général\",\"\",'[1]au vêlage et infos vache et NEC'!A211))","v":""},{"$f":"IF('[1]au vêlage et infos vache et NEC'!B211=\"\",\"\",IF('[1]au vêlage et infos vache et NEC'!B211=\"Total général\",\"\",'[1]au vêlage et infos vache et NEC'!B211))","v":""},null,null,null,null,null,null,null,null,null,null,""]
[null,null,{"$f":"IF('[1]au vêlage et infos vache et NEC'!A212=\"\",\"\",IF('[1]au vêlage et infos vache et NEC'!A212=\"Total général\",\"\",'[1]au vêlage et infos vache et NEC'!A212))","v":""},{"$f":"IF('[1]au vêlage et infos vache et NEC'!B212=\"\",\"\",IF('[1]au vêlage et infos vache et NEC'!B212=\"Total général\",\"\",'[1]au vêlage et infos vache et NEC'!B212))","v":""},null,null,null,null,null,null,null,null,null,null,""]
[null,null,{"$f":"IF('[1]au vêlage et infos vache et NEC'!A213=\"\",\"\",IF('[1]au vêlage et infos vache et NEC'!A213=\"Total général\",\"\",'[1]au vêlage et infos vache et NEC'!A213))","v":""},{"$f":"IF('[1]au vêlage et infos vache et NEC'!B213=\"\",\"\",IF('[1]au vêlage et infos vache et NEC'!B213=\"Total général\",\"\",'[1]au vêlage et infos vache et NEC'!B213))","v":""},null,null,null,null,null,null,null,null,null,null,""]
[null,null,{"$f":"IF('[1]au vêlage et infos vache et NEC'!A214=\"\",\"\",IF('[1]au vêlage et infos vache et NEC'!A214=\"Total général\",\"\",'[1]au vêlage et infos vache et NEC'!A214))","v":""},{"$f":"IF('[1]au vêlage et infos vache et NEC'!B214=\"\",\"\",IF('[1]au vêlage et infos vache et NEC'!B214=\"Total général\",\"\",'[1]au vêlage et infos vache et NEC'!B214))","v":""},null,null,null,null,null,null,null,null,null,null,""]
[null,null,{"$f":"IF('[1]au vêlage et infos vache et NEC'!A215=\"\",\"\",IF('[1]au vêlage et infos vache et NEC'!A215=\"Total général\",\"\",'[1]au vêlage et infos vache et NEC'!A215))","v":""},{"$f":"IF('[1]au vêlage et infos vache et NEC'!B215=\"\",\"\",IF('[1]au vêlage et infos vache et NEC'!B215=\"Total général\",\"\",'[1]au vêlage et infos vache et NEC'!B215))","v":""},null,null,null,null,null,null,null,null,null,null,""]
[null,null,{"$f":"IF('[1]au vêlage et infos vache et NEC'!A216=\"\",\"\",IF('[1]au vêlage et infos vache et NEC'!A216=\"Total général\",\"\",'[1]au vêlage et infos vache et NEC'!A216))","v":""},{"$f":"IF('[1]au vêlage et infos vache et NEC'!B216=\"\",\"\",IF('[1]au vêlage et infos vache et NEC'!B216=\"Total général\",\"\",'[1]au vêlage et infos vache et NEC'!B216))","v":""},null,null,null,null,null,null,null,null,null,null,""]
[null,null,{"$f":"IF('[1]au vêlage et infos vache et NEC'!A217=\"\",\"\",IF('[1]au vêlage et infos vache et NEC'!A217=\"Total général\",\"\",'[1]au vêlage et infos vache et NEC'!A217))","v":""},{"$f":"IF('[1]au vêlage et infos vache et NEC'!B217=\"\",\"\",IF('[1]au vêlage et infos vache et NEC'!B217=\"Total général\",\"\",'[1]au vêlage et infos vache et NEC'!B217))","v":""},null,null,null,null,null,null,null,null,null,null,""]
[null,null,{"$f":"IF('[1]au vêlage et infos vache et NEC'!A218=\"\",\"\",IF('[1]au vêlage et infos vache et NEC'!A218=\"Total général\",\"\",'[1]au vêlage et infos vache et NEC'!A218))","v":""},{"$f":"IF('[1]au vêlage et infos vache et NEC'!B218=\"\",\"\",IF('[1]au vêlage et infos vache et NEC'!B218=\"Total général\",\"\",'[1]au vêlage et infos vache et NEC'!B218))","v":""},null,null,null,null,null,null,null,null,null,null,""]
[null,null,{"$f":"IF('[1]au vêlage et infos vache et NEC'!A219=\"\",\"\",IF('[1]au vêlage et infos vache et NEC'!A219=\"Total général\",\"\",'[1]au vêlage et infos vache et NEC'!A219))","v":""},{"$f":"IF('[1]au vêlage et infos vache et NEC'!B219=\"\",\"\",IF('[1]au vêlage et infos vache et NEC'!B219=\"Total général\",\"\",'[1]au vêlage et infos vache et NEC'!B219))","v":""},null,null,null,null,null,null,null,null,null,null,""]
[null,null,{"$f":"IF('[1]au vêlage et infos vache et NEC'!A220=\"\",\"\",IF('[1]au vêlage et infos vache et NEC'!A220=\"Total général\",\"\",'[1]au vêlage et infos vache et NEC'!A220))","v":""},{"$f":"IF('[1]au vêlage et infos vache et NEC'!B220=\"\",\"\",IF('[1]au vêlage et infos vache et NEC'!B220=\"Total général\",\"\",'[1]au vêlage et infos vache et NEC'!B220))","v":""},null,null,null,null,null,null,null,null,null,null,""]
[null,null,{"$f":"IF('[1]au vêlage et infos vache et NEC'!A221=\"\",\"\",IF('[1]au vêlage et infos vache et NEC'!A221=\"Total général\",\"\",'[1]au vêlage et infos vache et NEC'!A221))","v":""},{"$f":"IF('[1]au vêlage et infos vache et NEC'!B221=\"\",\"\",IF('[1]au vêlage et infos vache et NEC'!B221=\"Total général\",\"\",'[1]au vêlage et infos vache et NEC'!B221))","v":""},null,null,null,null,null,null,null,null,null,null,""]
[null,null,{"$f":"IF('[1]au vêlage et infos vache et NEC'!A222=\"\",\"\",IF('[1]au vêlage et infos vache et NEC'!A222=\"Total général\",\"\",'[1]au vêlage et infos vache et NEC'!A222))","v":""},{"$f":"IF('[1]au vêlage et infos vache et NEC'!B222=\"\",\"\",IF('[1]au vêlage et infos vache et NEC'!B222=\"Total général\",\"\",'[1]au vêlage et infos vache et NEC'!B222))","v":""},null,null,null,null,null,null,null,null,null,null,""]
[null,null,{"$f":"IF('[1]au vêlage et infos vache et NEC'!A223=\"\",\"\",IF('[1]au vêlage et infos vache et NEC'!A223=\"Total général\",\"\",'[1]au vêlage et infos vache et NEC'!A223))","v":""},{"$f":"IF('[1]au vêlage et infos vache et NEC'!B223=\"\",\"\",IF('[1]au vêlage et infos vache et NEC'!B223=\"Total général\",\"\",'[1]au vêlage et infos vache et NEC'!B223))","v":""},null,null,null,null,null,null,null,null,null,null,""]
[null,null,{"$f":"IF('[1]au vêlage et infos vache et NEC'!A224=\"\",\"\",IF('[1]au vêlage et infos vache et NEC'!A224=\"Total général\",\"\",'[1]au vêlage et infos vache et NEC'!A224))","v":""},{"$f":"IF('[1]au vêlage et infos vache et NEC'!B224=\"\",\"\",IF('[1]au vêlage et infos vache et NEC'!B224=\"Total général\",\"\",'[1]au vêlage et infos vache et NEC'!B224))","v":""},null,null,null,null,null,null,null,null,null,null,""]
[null,null,{"$f":"IF('[1]au vêlage et infos vache et NEC'!A225=\"\",\"\",IF('[1]au vêlage et infos vache et NEC'!A225=\"Total général\",\"\",'[1]au vêlage et infos vache et NEC'!A225))","v":""},{"$f":"IF('[1]au vêlage et infos vache et NEC'!B225=\"\",\"\",IF('[1]au vêlage et infos vache et NEC'!B225=\"Total général\",\"\",'[1]au vêlage et infos vache et NEC'!B225))","v":""},null,null,null,null,null,null,null,null,null,null,""]
[null,null,{"$f":"IF('[1]au vêlage et infos vache et NEC'!A226=\"\",\"\",IF('[1]au vêlage et infos vache et NEC'!A226=\"Total général\",\"\",'[1]au vêlage et infos vache et NEC'!A226))","v":""},{"$f":"IF('[1]au vêlage et infos vache et NEC'!B226=\"\",\"\",IF('[1]au vêlage et infos vache et NEC'!B226=\"Total général\",\"\",'[1]au vêlage et infos vache et NEC'!B226))","v":""},null,null,null,null,null,null,null,null,null,null,""]
[null,null,{"$f":"IF('[1]au vêlage et infos vache et NEC'!A227=\"\",\"\",IF('[1]au vêlage et infos vache et NEC'!A227=\"Total général\",\"\",'[1]au vêlage et infos vache et NEC'!A227))","v":""},{"$f":"IF('[1]au vêlage et infos vache et NEC'!B227=\"\",\"\",IF('[1]au vêlage et infos vache et NEC'!B227=\"Total général\",\"\",'[1]au vêlage et infos vache et NEC'!B227))","v":""},null,null,null,null,null,null,null,null,null,null,""]
[null,null,{"$f":"IF('[1]au vêlage et infos vache et NEC'!A228=\"\",\"\",IF('[1]au vêlage et infos vache et NEC'!A228=\"Total général\",\"\",'[1]au vêlage et infos vache et NEC'!A228))","v":""},{"$f":"IF('[1]au vêlage et infos vache et NEC'!B228=\"\",\"\",IF('[1]au vêlage et infos vache et NEC'!B228=\"Total général\",\"\",'[1]au vêlage et infos vache et NEC'!B228))","v":""},null,null,null,null,null,null,null,null,null,null,""]
[null,null,{"$f":"IF('[1]au vêlage et infos vache et NEC'!A229=\"\",\"\",IF('[1]au vêlage et infos vache et NEC'!A229=\"Total général\",\"\",'[1]au vêlage et infos vache et NEC'!A229))","v":""},{"$f":"IF('[1]au vêlage et infos vache et NEC'!B229=\"\",\"\",IF('[1]au vêlage et infos vache et NEC'!B229=\"Total général\",\"\",'[1]au vêlage et infos vache et NEC'!B229))","v":""},null,null,null,null,null,null,null,null,null,null,""]
[null,null,{"$f":"IF('[1]au vêlage et infos vache et NEC'!A230=\"\",\"\",IF('[1]au vêlage et infos vache et NEC'!A230=\"Total général\",\"\",'[1]au vêlage et infos vache et NEC'!A230))","v":""},{"$f":"IF('[1]au vêlage et infos vache et NEC'!B230=\"\",\"\",IF('[1]au vêlage et infos vache et NEC'!B230=\"Total général\",\"\",'[1]au vêlage et infos vache et NEC'!B230))","v":""},null,null,null,null,null,null,null,null,null,null,""]
[null,null,{"$f":"IF('[1]au vêlage et infos vache et NEC'!A231=\"\",\"\",IF('[1]au vêlage et infos vache et NEC'!A231=\"Total général\",\"\",'[1]au vêlage et infos vache et NEC'!A231))","v":""},{"$f":"IF('[1]au vêlage et infos vache et NEC'!B231=\"\",\"\",IF('[1]au vêlage et infos vache et NEC'!B231=\"Total général\",\"\",'[1]au vêlage et infos vache et NEC'!B231))","v":""},null,null,null,null,null,null,null,null,null,null,""]
[null,null,{"$f":"IF('[1]au vêlage et infos vache et NEC'!A232=\"\",\"\",IF('[1]au vêlage et infos vache et NEC'!A232=\"Total général\",\"\",'[1]au vêlage et infos vache et NEC'!A232))","v":""},{"$f":"IF('[1]au vêlage et infos vache et NEC'!B232=\"\",\"\",IF('[1]au vêlage et infos vache et NEC'!B232=\"Total général\",\"\",'[1]au vêlage et infos vache et NEC'!B232))","v":""},null,null,null,null,null,null,null,null,null,null,""]
[null,null,{"$f":"IF('[1]au vêlage et infos vache et NEC'!A233=\"\",\"\",IF('[1]au vêlage et infos vache et NEC'!A233=\"Total général\",\"\",'[1]au vêlage et infos vache et NEC'!A233))","v":""},{"$f":"IF('[1]au vêlage et infos vache et NEC'!B233=\"\",\"\",IF('[1]au vêlage et infos vache et NEC'!B233=\"Total général\",\"\",'[1]au vêlage et infos vache et NEC'!B233))","v":""},null,null,null,null,null,null,null,null,null,null,""]
[null,null,{"$f":"IF('[1]au vêlage et infos vache et NEC'!A234=\"\",\"\",IF('[1]au vêlage et infos vache et NEC'!A234=\"Total général\",\"\",'[1]au vêlage et infos vache et NEC'!A234))","v":""},{"$f":"IF('[1]au vêlage et infos vache et NEC'!B234=\"\",\"\",IF('[1]au vêlage et infos vache et NEC'!B234=\"Total général\",\"\",'[1]au vêlage et infos vache et NEC'!B234))","v":""},null,null,null,null,null,null,null,null,null,null,""]
[null,null,{"$f":"IF('[1]au vêlage et infos vache et NEC'!A235=\"\",\"\",IF('[1]au vêlage et infos vache et NEC'!A235=\"Total général\",\"\",'[1]au vêlage et infos vache et NEC'!A235))","v":""},{"$f":"IF('[1]au vêlage et infos vache et NEC'!B235=\"\",\"\",IF('[1]au vêlage et infos vache et NEC'!B235=\"Total général\",\"\",'[1]au vêlage et infos vache et NEC'!B235))","v":""},null,null,null,null,null,null,null,null,null,null,""]
[null,null,{"$f":"IF('[1]au vêlage et infos vache et NEC'!A236=\"\",\"\",IF('[1]au vêlage et infos vache et NEC'!A236=\"Total général\",\"\",'[1]au vêlage et infos vache et NEC'!A236))","v":""},{"$f":"IF('[1]au vêlage et infos vache et NEC'!B236=\"\",\"\",IF('[1]au vêlage et infos vache et NEC'!B236=\"Total général\",\"\",'[1]au vêlage et infos vache et NEC'!B236))","v":""},null,null,null,null,null,null,null,null,null,null,""]
[null,null,{"$f":"IF('[1]au vêlage et infos vache et NEC'!A237=\"\",\"\",IF('[1]au vêlage et infos vache et NEC'!A237=\"Total général\",\"\",'[1]au vêlage et infos vache et NEC'!A237))","v":""},{"$f":"IF('[1]au vêlage et infos vache et NEC'!B237=\"\",\"\",IF('[1]au vêlage et infos vache et NEC'!B237=\"Total général\",\"\",'[1]au vêlage et infos vache et NEC'!B237))","v":""},null,null,null,null,null,null,null,null,null,null,""]
[null,null,{"$f":"IF('[1]au vêlage et infos vache et NEC'!A238=\"\",\"\",IF('[1]au vêlage et infos vache et NEC'!A238=\"Total général\",\"\",'[1]au vêlage et infos vache et NEC'!A238))","v":""},{"$f":"IF('[1]au vêlage et infos vache et NEC'!B238=\"\",\"\",IF('[1]au vêlage et infos vache et NEC'!B238=\"Total général\",\"\",'[1]au vêlage et infos vache et NEC'!B238))","v":""},null,null,null,null,null,null,null,null,null,null,""]
[null,null,{"$f":"IF('[1]au vêlage et infos vache et NEC'!A239=\"\",\"\",IF('[1]au vêlage et infos vache et NEC'!A239=\"Total général\",\"\",'[1]au vêlage et infos vache et NEC'!A239))","v":""},{"$f":"IF('[1]au vêlage et infos vache et NEC'!B239=\"\",\"\",IF('[1]au vêlage et infos vache et NEC'!B239=\"Total général\",\"\",'[1]au vêlage et infos vache et NEC'!B239))","v":""},null,null,null,null,null,null,null,null,null,null,""]
[null,null,{"$f":"IF('[1]au vêlage et infos vache et NEC'!A240=\"\",\"\",IF('[1]au vêlage et infos vache et NEC'!A240=\"Total général\",\"\",'[1]au vêlage et infos vache et NEC'!A240))","v":""},{"$f":"IF('[1]au vêlage et infos vache et NEC'!B240=\"\",\"\",IF('[1]au vêlage et infos vache et NEC'!B240=\"Total général\",\"\",'[1]au vêlage et infos vache et NEC'!B240))","v":""},null,null,null,null,null,null,null,null,null,null,""]
[null,null,{"$f":"IF('[1]au vêlage et infos vache et NEC'!A241=\"\",\"\",IF('[1]au vêlage et infos vache et NEC'!A241=\"Total général\",\"\",'[1]au vêlage et infos vache et NEC'!A241))","v":""},{"$f":"IF('[1]au vêlage et infos vache et NEC'!B241=\"\",\"\",IF('[1]au vêlage et infos vache et NEC'!B241=\"Total général\",\"\",'[1]au vêlage et infos vache et NEC'!B241))","v":""},null,null,null,null,null,null,null,null,null,null,""]
[null,null,{"$f":"IF('[1]au vêlage et infos vache et NEC'!A242=\"\",\"\",IF('[1]au vêlage et infos vache et NEC'!A242=\"Total général\",\"\",'[1]au vêlage et infos vache et NEC'!A242))","v":""},{"$f":"IF('[1]au vêlage et infos vache et NEC'!B242=\"\",\"\",IF('[1]au vêlage et infos vache et NEC'!B242=\"Total général\",\"\",'[1]au vêlage et infos vache et NEC'!B242))","v":""},null,null,null,null,null,null,null,null,null,null,""]
[null,null,{"$f":"IF('[1]au vêlage et infos vache et NEC'!A243=\"\",\"\",IF('[1]au vêlage et infos vache et NEC'!A243=\"Total général\",\"\",'[1]au vêlage et infos vache et NEC'!A243))","v":""},{"$f":"IF('[1]au vêlage et infos vache et NEC'!B243=\"\",\"\",IF('[1]au vêlage et infos vache et NEC'!B243=\"Total général\",\"\",'[1]au vêlage et infos vache et NEC'!B243))","v":""},null,null,null,null,null,null,null,null,null,null,""]
[null,null,{"$f":"IF('[1]au vêlage et infos vache et NEC'!A244=\"\",\"\",IF('[1]au vêlage et infos vache et NEC'!A244=\"Total général\",\"\",'[1]au vêlage et infos vache et NEC'!A244))","v":""},{"$f":"IF('[1]au vêlage et infos vache et NEC'!B244=\"\",\"\",IF('[1]au vêlage et infos vache et NEC'!B244=\"Total général\",\"\",'[1]au vêlage et infos vache et NEC'!B244))","v":""},null,null,null,null,null,null,null,null,null,null,""]
[null,null,{"$f":"IF('[1]au vêlage et infos vache et NEC'!A245=\"\",\"\",IF('[1]au vêlage et infos vache et NEC'!A245=\"Total général\",\"\",'[1]au vêlage et infos vache et NEC'!A245))","v":""},{"$f":"IF('[1]au vêlage et infos vache et NEC'!B245=\"\",\"\",IF('[1]au vêlage et infos vache et NEC'!B245=\"Total général\",\"\",'[1]au vêlage et infos vache et NEC'!B245))","v":""},null,null,null,null,null,null,null,null,null,null,""]
[null,null,{"$f":"IF('[1]au vêlage et infos vache et NEC'!A246=\"\",\"\",IF('[1]au vêlage et infos vache et NEC'!A246=\"Total général\",\"\",'[1]au vêlage et infos vache et NEC'!A246))","v":""},{"$f":"IF('[1]au vêlage et infos vache et NEC'!B246=\"\",\"\",IF('[1]au vêlage et infos vache et NEC'!B246=\"Total général\",\"\",'[1]au vêlage et infos vache et NEC'!B246))","v":""},null,null,null,null,null,null,null,null,null,null,""]
[null,null,{"$f":"IF('[1]au vêlage et infos vache et NEC'!A247=\"\",\"\",IF('[1]au vêlage et infos vache et NEC'!A247=\"Total général\",\"\",'[1]au vêlage et infos vache et NEC'!A247))","v":""},{"$f":"IF('[1]au vêlage et infos vache et NEC'!B247=\"\",\"\",IF('[1]au vêlage et infos vache et NEC'!B247=\"Total général\",\"\",'[1]au vêlage et infos vache et NEC'!B247))","v":""},null,null,null,null,null,null,null,null,null,null,""]
[null,null,{"$f":"IF('[1]au vêlage et infos vache et NEC'!A248=\"\",\"\",IF('[1]au vêlage et infos vache et NEC'!A248=\"Total général\",\"\",'[1]au vêlage et infos vache et NEC'!A248))","v":""},{"$f":"IF('[1]au vêlage et infos vache et NEC'!B248=\"\",\"\",IF('[1]au vêlage et infos vache et NEC'!B248=\"Total général\",\"\",'[1]au vêlage et infos vache et NEC'!B248))","v":""},null,null,null,null,null,null,null,null,null,null,""]
[null,null,{"$f":"IF('[1]au vêlage et infos vache et NEC'!A249=\"\",\"\",IF('[1]au vêlage et infos vache et NEC'!A249=\"Total général\",\"\",'[1]au vêlage et infos vache et NEC'!A249))","v":""},{"$f":"IF('[1]au vêlage et infos vache et NEC'!B249=\"\",\"\",IF('[1]au vêlage et infos vache et NEC'!B249=\"Total général\",\"\",'[1]au vêlage et infos vache et NEC'!B249))","v":""},null,null,null,null,null,null,null,null,null,null,""]
[null,null,{"$f":"IF('[1]au vêlage et infos vache et NEC'!A250=\"\",\"\",IF('[1]au vêlage et infos vache et NEC'!A250=\"Total général\",\"\",'[1]au vêlage et infos vache et NEC'!A250))","v":""},{"$f":"IF('[1]au vêlage et infos vache et NEC'!B250=\"\",\"\",IF('[1]au vêlage et infos vache et NEC'!B250=\"Total général\",\"\",'[1]au vêlage et infos vache et NEC'!B250))","v":""},null,null,null,null,null,null,null,null,null,null,""]
[null,null,{"$f":"IF('[1]au vêlage et infos vache et NEC'!A251=\"\",\"\",IF('[1]au vêlage et infos vache et NEC'!A251=\"Total général\",\"\",'[1]au vêlage et infos vache et NEC'!A251))","v":""},{"$f":"IF('[1]au vêlage et infos vache et NEC'!B251=\"\",\"\",IF('[1]au vêlage et infos vache et NEC'!B251=\"Total général\",\"\",'[1]au vêlage et infos vache et NEC'!B251))","v":""},null,null,null,null,null,null,null,null,null,null,""]
[null,null,{"$f":"IF('[1]au vêlage et infos vache et NEC'!A252=\"\",\"\",IF('[1]au vêlage et infos vache et NEC'!A252=\"Total général\",\"\",'[1]au vêlage et infos vache et NEC'!A252))","v":""},{"$f":"IF('[1]au vêlage et infos vache et NEC'!B252=\"\",\"\",IF('[1]au vêlage et infos vache et NEC'!B252=\"Total général\",\"\",'[1]au vêlage et infos vache et NEC'!B252))","v":""},null,null,null,null,null,null,null,null,null,null,""]
[null,null,{"$f":"IF('[1]au vêlage et infos vache et NEC'!A253=\"\",\"\",IF('[1]au vêlage et infos vache et NEC'!A253=\"Total général\",\"\",'[1]au vêlage et infos vache et NEC'!A253))","v":""},{"$f":"IF('[1]au vêlage et infos vache et NEC'!B253=\"\",\"\",IF('[1]au vêlage et infos vache et NEC'!B253=\"Total général\",\"\",'[1]au vêlage et infos vache et NEC'!B253))","v":""},null,null,null,null,null,null,null,null,null,null,""]
[null,null,{"$f":"IF('[1]au vêlage et infos vache et NEC'!A254=\"\",\"\",IF('[1]au vêlage et infos vache et NEC'!A254=\"Total général\",\"\",'[1]au vêlage et infos vache et NEC'!A254))","v":""},{"$f":"IF('[1]au vêlage et infos vache et NEC'!B254=\"\",\"\",IF('[1]au vêlage et infos vache et NEC'!B254=\"Total général\",\"\",'[1]au vêlage et infos vache et NEC'!B254))","v":""},null,null,null,null,null,null,null,null,null,null,""]
[null,null,{"$f":"IF('[1]au vêlage et infos vache et NEC'!A255=\"\",\"\",IF('[1]au vêlage et infos vache et NEC'!A255=\"Total général\",\"\",'[1]au vêlage et infos vache et NEC'!A255))","v":""},{"$f":"IF('[1]au vêlage et infos vache et NEC'!B255=\"\",\"\",IF('[1]au vêlage et infos vache et NEC'!B255=\"Total général\",\"\",'[1]au vêlage et infos vache et NEC'!B255))","v":""},null,null,null,null,null,null,null,null,null,null,""]
[null,null,{"$f":"IF('[1]au vêlage et infos vache et NEC'!A256=\"\",\"\",IF('[1]au vêlage et infos vache et NEC'!A256=\"Total général\",\"\",'[1]au vêlage et infos vache et NEC'!A256))","v":""},{"$f":"IF('[1]au vêlage et infos vache et NEC'!B256=\"\",\"\",IF('[1]au vêlage et infos vache et NEC'!B256=\"Total général\",\"\",'[1]au vêlage et infos vache et NEC'!B256))","v":""},null,null,null,null,null,null,null,null,null,null,""]
[null,null,{"$f":"IF('[1]au vêlage et infos vache et NEC'!A257=\"\",\"\",IF('[1]au vêlage et infos vache et NEC'!A257=\"Total général\",\"\",'[1]au vêlage et infos vache et NEC'!A257))","v":""},{"$f":"IF('[1]au vêlage et infos vache et NEC'!B257=\"\",\"\",IF('[1]au vêlage et infos vache et NEC'!B257=\"Total général\",\"\",'[1]au vêlage et infos vache et NEC'!B257))","v":""},null,null,null,null,null,null,null,null,null,null,""]
[null,null,{"$f":"IF('[1]au vêlage et infos vache et NEC'!A258=\"\",\"\",IF('[1]au vêlage et infos vache et NEC'!A258=\"Total général\",\"\",'[1]au vêlage et infos vache et NEC'!A258))","v":""},{"$f":"IF('[1]au vêlage et infos vache et NEC'!B258=\"\",\"\",IF('[1]au vêlage et infos vache et NEC'!B258=\"Total général\",\"\",'[1]au vêlage et infos vache et NEC'!B258))","v":""},null,null,null,null,null,null,null,null,null,null,""]
[null,null,{"$f":"IF('[1]au vêlage et infos vache et NEC'!A259=\"\",\"\",IF('[1]au vêlage et infos vache et NEC'!A259=\"Total général\",\"\",'[1]au vêlage et infos vache et NEC'!A259))","v":""},{"$f":"IF('[1]au vêlage et infos vache et NEC'!B259=\"\",\"\",IF('[1]au vêlage et infos vache et NEC'!B259=\"Total général\",\"\",'[1]au vêlage et infos vache et NEC'!B259))","v":""},null,null,null,null,null,null,null,null,null,null,""]
[null,null,{"$f":"IF('[1]au vêlage et infos vache et NEC'!A260=\"\",\"\",IF('[1]au vêlage et infos vache et NEC'!A260=\"Total général\",\"\",'[1]au vêlage et infos vache et NEC'!A260))","v":""},{"$f":"IF('[1]au vêlage et infos vache et NEC'!B260=\"\",\"\",IF('[1]au vêlage et infos vache et NEC'!B260=\"Total général\",\"\",'[1]au vêlage et infos vache et NEC'!B260))","v":""},null,null,null,null,null,null,null,null,null,null,""]
[null,null,{"$f":"IF('[1]au vêlage et infos vache et NEC'!A261=\"\",\"\",IF('[1]au vêlage et infos vache et NEC'!A261=\"Total général\",\"\",'[1]au vêlage et infos vache et NEC'!A261))","v":""},{"$f":"IF('[1]au vêlage et infos vache et NEC'!B261=\"\",\"\",IF('[1]au vêlage et infos vache et NEC'!B261=\"Total général\",\"\",'[1]au vêlage et infos vache et NEC'!B261))","v":""},null,null,null,null,null,null,null,null,null,null,""]
[null,null,{"$f":"IF('[1]au vêlage et infos vache et NEC'!A262=\"\",\"\",IF('[1]au vêlage et infos vache et NEC'!A262=\"Total général\",\"\",'[1]au vêlage et infos vache et NEC'!A262))","v":""},{"$f":"IF('[1]au vêlage et infos vache et NEC'!B262=\"\",\"\",IF('[1]au vêlage et infos vache et NEC'!B262=\"Total général\",\"\",'[1]au vêlage et infos vache et NEC'!B262))","v":""},null,null,null,null,null,null,null,null,null,null,""]
[null,null,{"$f":"IF('[1]au vêlage et infos vache et NEC'!A263=\"\",\"\",IF('[1]au vêlage et infos vache et NEC'!A263=\"Total général\",\"\",'[1]au vêlage et infos vache et NEC'!A263))","v":""},{"$f":"IF('[1]au vêlage et infos vache et NEC'!B263=\"\",\"\",IF('[1]au vêlage et infos vache et NEC'!B263=\"Total général\",\"\",'[1]au vêlage et infos vache et NEC'!B263))","v":""},null,null,null,null,null,null,null,null,null,null,""]
[null,null,{"$f":"IF('[1]au vêlage et infos vache et NEC'!A264=\"\",\"\",IF('[1]au vêlage et infos vache et NEC'!A264=\"Total général\",\"\",'[1]au vêlage et infos vache et NEC'!A264))","v":""},{"$f":"IF('[1]au vêlage et infos vache et NEC'!B264=\"\",\"\",IF('[1]au vêlage et infos vache et NEC'!B264=\"Total général\",\"\",'[1]au vêlage et infos vache et NEC'!B264))","v":""},null,null,null,null,null,null,null,null,null,null,""]
[null,null,{"$f":"IF('[1]au vêlage et infos vache et NEC'!A265=\"\",\"\",IF('[1]au vêlage et infos vache et NEC'!A265=\"Total général\",\"\",'[1]au vêlage et infos vache et NEC'!A265))","v":""},{"$f":"IF('[1]au vêlage et infos vache et NEC'!B265=\"\",\"\",IF('[1]au vêlage et infos vache et NEC'!B265=\"Total général\",\"\",'[1]au vêlage et infos vache et NEC'!B265))","v":""},null,null,null,null,null,null,null,null,null,null,""]
[null,null,{"$f":"IF('[1]au vêlage et infos vache et NEC'!A266=\"\",\"\",IF('[1]au vêlage et infos vache et NEC'!A266=\"Total général\",\"\",'[1]au vêlage et infos vache et NEC'!A266))","v":""},{"$f":"IF('[1]au vêlage et infos vache et NEC'!B266=\"\",\"\",IF('[1]au vêlage et infos vache et NEC'!B266=\"Total général\",\"\",'[1]au vêlage et infos vache et NEC'!B266))","v":""},null,null,null,null,null,null,null,null,null,null,{"$f":"IF(N265=\"\",\"\",IF(N265=0,0,\"\"))","v":""}]
[null,null,{"$f":"IF('[1]au vêlage et infos vache et NEC'!A267=\"\",\"\",IF('[1]au vêlage et infos vache et NEC'!A267=\"Total général\",\"\",'[1]au vêlage et infos vache et NEC'!A267))","v":""},{"$f":"IF('[1]au vêlage et infos vache et NEC'!B267=\"\",\"\",IF('[1]au vêlage et infos vache et NEC'!B267=\"Total général\",\"\",'[1]au vêlage et infos vache et NEC'!B267))","v":""},null,null,null,null,null,null,null,null,null,null,""]
[null,null,{"$f":"IF('[1]au vêlage et infos vache et NEC'!A268=\"\",\"\",IF('[1]au vêlage et infos vache et NEC'!A268=\"Total général\",\"\",'[1]au vêlage et infos vache et NEC'!A268))","v":""},{"$f":"IF('[1]au vêlage et infos vache et NEC'!B268=\"\",\"\",IF('[1]au vêlage et infos vache et NEC'!B268=\"Total général\",\"\",'[1]au vêlage et infos vache et NEC'!B268))","v":""},null,null,null,null,null,null,null,null,null,null,""]
[null,null,{"$f":"IF('[1]au vêlage et infos vache et NEC'!A269=\"\",\"\",IF('[1]au vêlage et infos vache et NEC'!A269=\"Total général\",\"\",'[1]au vêlage et infos vache et NEC'!A269))","v":""},{"$f":"IF('[1]au vêlage et infos vache et NEC'!B269=\"\",\"\",IF('[1]au vêlage et infos vache et NEC'!B269=\"Total général\",\"\",'[1]au vêlage et infos vache et NEC'!B269))","v":""},null,null,null,null,null,null,null,null,null,null,""]
[null,null,{"$f":"IF('[1]au vêlage et infos vache et NEC'!A270=\"\",\"\",IF('[1]au vêlage et infos vache et NEC'!A270=\"Total général\",\"\",'[1]au vêlage et infos vache et NEC'!A270))","v":""},{"$f":"IF('[1]au vêlage et infos vache et NEC'!B270=\"\",\"\",IF('[1]au vêlage et infos vache et NEC'!B270=\"Total général\",\"\",'[1]au vêlage et infos vache et NEC'!B270))","v":""},null,null,null,null,null,null,null,null,null,null,""]
[null,null,{"$f":"IF('[1]au vêlage et infos vache et NEC'!A271=\"\",\"\",IF('[1]au vêlage et infos vache et NEC'!A271=\"Total général\",\"\",'[1]au vêlage et infos vache et NEC'!A271))","v":""},{"$f":"IF('[1]au vêlage et infos vache et NEC'!B271=\"\",\"\",IF('[1]au vêlage et infos vache et NEC'!B271=\"Total général\",\"\",'[1]au vêlage et infos vache et NEC'!B271))","v":""},null,null,null,null,null,null,null,null,null,null,""]
[null,null,{"$f":"IF('[1]au vêlage et infos vache et NEC'!A272=\"\",\"\",IF('[1]au vêlage et infos vache et NEC'!A272=\"Total général\",\"\",'[1]au vêlage et infos vache et NEC'!A272))","v":""},{"$f":"IF('[1]au vêlage et infos vache et NEC'!B272=\"\",\"\",IF('[1]au vêlage et infos vache et NEC'!B272=\"Total général\",\"\",'[1]au vêlage et infos vache et NEC'!B272))","v":""},null,null,null,null,null,null,null,null,null,null,""]
[null,null,{"$f":"IF('[1]au vêlage et infos vache et NEC'!A273=\"\",\"\",IF('[1]au vêlage et infos vache et NEC'!A273=\"Total général\",\"\",'[1]au vêlage et infos vache et NEC'!A273))","v":""},{"$f":"IF('[1]au vêlage et infos vache et NEC'!B273=\"\",\"\",IF('[1]au vêlage et infos vache et NEC'!B273=\"Total général\",\"\",'[1]au vêlage et infos vache et NEC'!B273))","v":""},null,null,null,null,null,null,null,null,null,null,""]
[null,null,{"$f":"IF('[1]au vêlage et infos vache et NEC'!A274=\"\",\"\",IF('[1]au vêlage et infos vache et NEC'!A274=\"Total général\",\"\",'[1]au vêlage et infos vache et NEC'!A274))","v":""},{"$f":"IF('[1]au vêlage et infos vache et NEC'!B274=\"\",\"\",IF('[1]au vêlage et infos vache et NEC'!B274=\"Total général\",\"\",'[1]au vêlage et infos vache et NEC'!B274))","v":""},null,null,null,null,null,null,null,null,null,null,""]
[null,null,{"$f":"IF('[1]au vêlage et infos vache et NEC'!A275=\"\",\"\",IF('[1]au vêlage et infos vache et NEC'!A275=\"Total général\",\"\",'[1]au vêlage et infos vache et NEC'!A275))","v":""},{"$f":"IF('[1]au vêlage et infos vache et NEC'!B275=\"\",\"\",IF('[1]au vêlage et infos vache et NEC'!B275=\"Total général\",\"\",'[1]au vêlage et infos vache et NEC'!B275))","v":""},null,null,null,null,null,null,null,null,null,null,""]
[null,null,{"$f":"IF('[1]au vêlage et infos vache et NEC'!A276=\"\",\"\",IF('[1]au vêlage et infos vache et NEC'!A276=\"Total général\",\"\",'[1]au vêlage et infos vache et NEC'!A276))","v":""},{"$f":"IF('[1]au vêlage et infos vache et NEC'!B276=\"\",\"\",IF('[1]au vêlage et infos vache et NEC'!B276=\"Total général\",\"\",'[1]au vêlage et infos vache et NEC'!B276))","v":""},null,null,null,null,null,null,null,null,null,null,""]
[null,null,{"$f":"IF('[1]au vêlage et infos vache et NEC'!A277=\"\",\"\",IF('[1]au vêlage et infos vache et NEC'!A277=\"Total général\",\"\",'[1]au vêlage et infos vache et NEC'!A277))","v":""},{"$f":"IF('[1]au vêlage et infos vache et NEC'!B277=\"\",\"\",IF('[1]au vêlage et infos vache et NEC'!B277=\"Total général\",\"\",'[1]au vêlage et infos vache et NEC'!B277))","v":""},null,null,null,null,null,null,null,null,null,null,""]
[null,null,{"$f":"IF('[1]au vêlage et infos vache et NEC'!A278=\"\",\"\",IF('[1]au vêlage et infos vache et NEC'!A278=\"Total général\",\"\",'[1]au vêlage et infos vache et NEC'!A278))","v":""},{"$f":"IF('[1]au vêlage et infos vache et NEC'!B278=\"\",\"\",IF('[1]au vêlage et infos vache et NEC'!B278=\"Total général\",\"\",'[1]au vêlage et infos vache et NEC'!B278))","v":""},null,null,null,null,null,null,null,null,null,null,""]
[null,null,{"$f":"IF('[1]au vêlage et infos vache et NEC'!A279=\"\",\"\",IF('[1]au vêlage et infos vache et NEC'!A279=\"Total général\",\"\",'[1]au vêlage et infos vache et NEC'!A279))","v":""},{"$f":"IF('[1]au vêlage et infos vache et NEC'!B279=\"\",\"\",IF('[1]au vêlage et infos vache et NEC'!B279=\"Total général\",\"\",'[1]au vêlage et infos vache et NEC'!B279))","v":""},null,null,null,null,null,null,null,null,null,null,""]
[null,null,{"$f":"IF('[1]au vêlage et infos vache et NEC'!A280=\"\",\"\",IF('[1]au vêlage et infos vache et NEC'!A280=\"Total général\",\"\",'[1]au vêlage et infos vache et NEC'!A280))","v":""},{"$f":"IF('[1]au vêlage et infos vache et NEC'!B280=\"\",\"\",IF('[1]au vêlage et infos vache et NEC'!B280=\"Total général\",\"\",'[1]au vêlage et infos vache et NEC'!B280))","v":""},null,null,null,null,null,null,null,null,null,null,""]
[null,null,{"$f":"IF('[1]au vêlage et infos vache et NEC'!A281=\"\",\"\",IF('[1]au vêlage et infos vache et NEC'!A281=\"Total général\",\"\",'[1]au vêlage et infos vache et NEC'!A281))","v":""},{"$f":"IF('[1]au vêlage et infos vache et NEC'!B281=\"\",\"\",IF('[1]au vêlage et infos vache et NEC'!B281=\"Total général\",\"\",'[1]au vêlage et infos vache et NEC'!B281))","v":""},null,null,null,null,null,null,null,null,null,null,""]
[null,null,{"$f":"IF('[1]au vêlage et infos vache et NEC'!A282=\"\",\"\",IF('[1]au vêlage et infos vache et NEC'!A282=\"Total général\",\"\",'[1]au vêlage et infos vache et NEC'!A282))","v":""},{"$f":"IF('[1]au vêlage et infos vache et NEC'!B282=\"\",\"\",IF('[1]au vêlage et infos vache et NEC'!B282=\"Total général\",\"\",'[1]au vêlage et infos vache et NEC'!B282))","v":""},null,null,null,null,null,null,null,null,null,null,""]
[null,null,{"$f":"IF('[1]au vêlage et infos vache et NEC'!A283=\"\",\"\",IF('[1]au vêlage et infos vache et NEC'!A283=\"Total général\",\"\",'[1]au vêlage et infos vache et NEC'!A283))","v":""},{"$f":"IF('[1]au vêlage et infos vache et NEC'!B283=\"\",\"\",IF('[1]au vêlage et infos vache et NEC'!B283=\"Total général\",\"\",'[1]au vêlage et infos vache et NEC'!B283))","v":""},null,null,null,null,null,null,null,null,null,null,""]
[null,null,{"$f":"IF('[1]au vêlage et infos vache et NEC'!A284=\"\",\"\",IF('[1]au vêlage et infos vache et NEC'!A284=\"Total général\",\"\",'[1]au vêlage et infos vache et NEC'!A284))","v":""},{"$f":"IF('[1]au vêlage et infos vache et NEC'!B284=\"\",\"\",IF('[1]au vêlage et infos vache et NEC'!B284=\"Total général\",\"\",'[1]au vêlage et infos vache et NEC'!B284))","v":""},null,null,null,null,null,null,null,null,null,null,""]
[null,null,{"$f":"IF('[1]au vêlage et infos vache et NEC'!A285=\"\",\"\",IF('[1]au vêlage et infos vache et NEC'!A285=\"Total général\",\"\",'[1]au vêlage et infos vache et NEC'!A285))","v":""},{"$f":"IF('[1]au vêlage et infos vache et NEC'!B285=\"\",\"\",IF('[1]au vêlage et infos vache et NEC'!B285=\"Total général\",\"\",'[1]au vêlage et infos vache et NEC'!B285))","v":""},null,null,null,null,null,null,null,null,null,null,""]
[null,null,{"$f":"IF('[1]au vêlage et infos vache et NEC'!A286=\"\",\"\",IF('[1]au vêlage et infos vache et NEC'!A286=\"Total général\",\"\",'[1]au vêlage et infos vache et NEC'!A286))","v":""},{"$f":"IF('[1]au vêlage et infos vache et NEC'!B286=\"\",\"\",IF('[1]au vêlage et infos vache et NEC'!B286=\"Total général\",\"\",'[1]au vêlage et infos vache et NEC'!B286))","v":""},null,null,null,null,null,null,null,null,null,null,""]
[null,null,{"$f":"IF('[1]au vêlage et infos vache et NEC'!A287=\"\",\"\",IF('[1]au vêlage et infos vache et NEC'!A287=\"Total général\",\"\",'[1]au vêlage et infos vache et NEC'!A287))","v":""},{"$f":"IF('[1]au vêlage et infos vache et NEC'!B287=\"\",\"\",IF('[1]au vêlage et infos vache et NEC'!B287=\"Total général\",\"\",'[1]au vêlage et infos vache et NEC'!B287))","v":""},null,null,null,null,null,null,null,null,null,null,""]
[null,null,{"$f":"IF('[1]au vêlage et infos vache et NEC'!A288=\"\",\"\",IF('[1]au vêlage et infos vache et NEC'!A288=\"Total général\",\"\",'[1]au vêlage et infos vache et NEC'!A288))","v":""},{"$f":"IF('[1]au vêlage et infos vache et NEC'!B288=\"\",\"\",IF('[1]au vêlage et infos vache et NEC'!B288=\"Total général\",\"\",'[1]au vêlage et infos vache et NEC'!B288))","v":""},null,null,null,null,null,null,null,null,null,null,""]
[null,null,{"$f":"IF('[1]au vêlage et infos vache et NEC'!A289=\"\",\"\",IF('[1]au vêlage et infos vache et NEC'!A289=\"Total général\",\"\",'[1]au vêlage et infos vache et NEC'!A289))","v":""},{"$f":"IF('[1]au vêlage et infos vache et NEC'!B289=\"\",\"\",IF('[1]au vêlage et infos vache et NEC'!B289=\"Total général\",\"\",'[1]au vêlage et infos vache et NEC'!B289))","v":""},null,null,null,null,null,null,null,null,null,null,""]
[null,null,{"$f":"IF('[1]au vêlage et infos vache et NEC'!A290=\"\",\"\",IF('[1]au vêlage et infos vache et NEC'!A290=\"Total général\",\"\",'[1]au vêlage et infos vache et NEC'!A290))","v":""},{"$f":"IF('[1]au vêlage et infos vache et NEC'!B290=\"\",\"\",IF('[1]au vêlage et infos vache et NEC'!B290=\"Total général\",\"\",'[1]au vêlage et infos vache et NEC'!B290))","v":""},null,null,null,null,null,null,null,null,null,null,""]
[null,null,{"$f":"IF('[1]au vêlage et infos vache et NEC'!A291=\"\",\"\",IF('[1]au vêlage et infos vache et NEC'!A291=\"Total général\",\"\",'[1]au vêlage et infos vache et NEC'!A291))","v":""},{"$f":"IF('[1]au vêlage et infos vache et NEC'!B291=\"\",\"\",IF('[1]au vêlage et infos vache et NEC'!B291=\"Total général\",\"\",'[1]au vêlage et infos vache et NEC'!B291))","v":""},null,null,null,null,null,null,null,null,null,null,""]
[null,null,{"$f":"IF('[1]au vêlage et infos vache et NEC'!A292=\"\",\"\",IF('[1]au vêlage et infos vache et NEC'!A292=\"Total général\",\"\",'[1]au vêlage et infos vache et NEC'!A292))","v":""},{"$f":"IF('[1]au vêlage et infos vache et NEC'!B292=\"\",\"\",IF('[1]au vêlage et infos vache et NEC'!B292=\"Total général\",\"\",'[1]au vêlage et infos vache et NEC'!B292))","v":""},null,null,null,null,null,null,null,null,null,null,""]
[null,null,{"$f":"IF('[1]au vêlage et infos vache et NEC'!A293=\"\",\"\",IF('[1]au vêlage et infos vache et NEC'!A293=\"Total général\",\"\",'[1]au vêlage et infos vache et NEC'!A293))","v":""},{"$f":"IF('[1]au vêlage et infos vache et NEC'!B293=\"\",\"\",IF('[1]au vêlage et infos vache et NEC'!B293=\"Total général\",\"\",'[1]au vêlage et infos vache et NEC'!B293))","v":""},null,null,null,null,null,null,null,null,null,null,""]
[null,null,{"$f":"IF('[1]au vêlage et infos vache et NEC'!A294=\"\",\"\",IF('[1]au vêlage et infos vache et NEC'!A294=\"Total général\",\"\",'[1]au vêlage et infos vache et NEC'!A294))","v":""},{"$f":"IF('[1]au vêlage et infos vache et NEC'!B294=\"\",\"\",IF('[1]au vêlage et infos vache et NEC'!B294=\"Total général\",\"\",'[1]au vêlage et infos vache et NEC'!B294))","v":""},null,null,null,null,null,null,null,null,null,null,""]
[null,null,{"$f":"IF('[1]au vêlage et infos vache et NEC'!A295=\"\",\"\",IF('[1]au vêlage et infos vache et NEC'!A295=\"Total général\",\"\",'[1]au vêlage et infos vache et NEC'!A295))","v":""},{"$f":"IF('[1]au vêlage et infos vache et NEC'!B295=\"\",\"\",IF('[1]au vêlage et infos vache et NEC'!B295=\"Total général\",\"\",'[1]au vêlage et infos vache et NEC'!B295))","v":""},null,null,null,null,null,null,null,null,null,null,""]
[null,null,{"$f":"IF('[1]au vêlage et infos vache et NEC'!A296=\"\",\"\",IF('[1]au vêlage et infos vache et NEC'!A296=\"Total général\",\"\",'[1]au vêlage et infos vache et NEC'!A296))","v":""},{"$f":"IF('[1]au vêlage et infos vache et NEC'!B296=\"\",\"\",IF('[1]au vêlage et infos vache et NEC'!B296=\"Total général\",\"\",'[1]au vêlage et infos vache et NEC'!B296))","v":""},null,null,null,null,null,null,null,null,null,null,""]
[null,null,{"$f":"IF('[1]au vêlage et infos vache et NEC'!A297=\"\",\"\",IF('[1]au vêlage et infos vache et NEC'!A297=\"Total général\",\"\",'[1]au vêlage et infos vache et NEC'!A297))","v":""},{"$f":"IF('[1]au vêlage et infos vache et NEC'!B297=\"\",\"\",IF('[1]au vêlage et infos vache et NEC'!B297=\"Total général\",\"\",'[1]au vêlage et infos vache et NEC'!B297))","v":""},null,null,null,null,null,null,null,null,null,null,""]
[null,null,{"$f":"IF('[1]au vêlage et infos vache et NEC'!A298=\"\",\"\",IF('[1]au vêlage et infos vache et NEC'!A298=\"Total général\",\"\",'[1]au vêlage et infos vache et NEC'!A298))","v":""},{"$f":"IF('[1]au vêlage et infos vache et NEC'!B298=\"\",\"\",IF('[1]au vêlage et infos vache et NEC'!B298=\"Total général\",\"\",'[1]au vêlage et infos vache et NEC'!B298))","v":""},null,null,null,null,null,null,null,null,null,null,""]
[null,null,{"$f":"IF('[1]au vêlage et infos vache et NEC'!A299=\"\",\"\",IF('[1]au vêlage et infos vache et NEC'!A299=\"Total général\",\"\",'[1]au vêlage et infos vache et NEC'!A299))","v":""},{"$f":"IF('[1]au vêlage et infos vache et NEC'!B299=\"\",\"\",IF('[1]au vêlage et infos vache et NEC'!B299=\"Total général\",\"\",'[1]au vêlage et infos vache et NEC'!B299))","v":""},null,null,null,null,null,null,null,null,null,null,""]
[null,null,{"$f":"IF('[1]au vêlage et infos vache et NEC'!A300=\"\",\"\",IF('[1]au vêlage et infos vache et NEC'!A300=\"Total général\",\"\",'[1]au vêlage et infos vache et NEC'!A300))","v":""},{"$f":"IF('[1]au vêlage et infos vache et NEC'!B300=\"\",\"\",IF('[1]au vêlage et infos vache et NEC'!B300=\"Total général\",\"\",'[1]au vêlage et infos vache et NEC'!B300))","v":""},null,null,null,null,null,null,null,null,null,null,""]
[null,null,{"$f":"IF('[1]au vêlage et infos vache et NEC'!A301=\"\",\"\",IF('[1]au vêlage et infos vache et NEC'!A301=\"Total général\",\"\",'[1]au vêlage et infos vache et NEC'!A301))","v":""},{"$f":"IF('[1]au vêlage et infos vache et NEC'!B301=\"\",\"\",IF('[1]au vêlage et infos vache et NEC'!B301=\"Total général\",\"\",'[1]au vêlage et infos vache et NEC'!B301))","v":""},null,null,null,null,null,null,null,null,null,null,""]
[null,null,{"$f":"IF('[1]au vêlage et infos vache et NEC'!A302=\"\",\"\",IF('[1]au vêlage et infos vache et NEC'!A302=\"Total général\",\"\",'[1]au vêlage et infos vache et NEC'!A302))","v":""},{"$f":"IF('[1]au vêlage et infos vache et NEC'!B302=\"\",\"\",IF('[1]au vêlage et infos vache et NEC'!B302=\"Total général\",\"\",'[1]au vêlage et infos vache et NEC'!B302))","v":""},null,null,null,null,null,null,null,null,null,null,""]
[null,null,{"$f":"IF('[1]au vêlage et infos vache et NEC'!A303=\"\",\"\",IF('[1]au vêlage et infos vache et NEC'!A303=\"Total général\",\"\",'[1]au vêlage et infos vache et NEC'!A303))","v":""},{"$f":"IF('[1]au vêlage et infos vache et NEC'!B303=\"\",\"\",IF('[1]au vêlage et infos vache et NEC'!B303=\"Total général\",\"\",'[1]au vêlage et infos vache et NEC'!B303))","v":""},null,null,null,null,null,null,null,null,null,null,""]
[null,null,{"$f":"IF('[1]au vêlage et infos vache et NEC'!A304=\"\",\"\",IF('[1]au vêlage et infos vache et NEC'!A304=\"Total général\",\"\",'[1]au vêlage et infos vache et NEC'!A304))","v":""},{"$f":"IF('[1]au vêlage et infos vache et NEC'!B304=\"\",\"\",IF('[1]au vêlage et infos vache et NEC'!B304=\"Total général\",\"\",'[1]au vêlage et infos vache et NEC'!B304))","v":""},null,null,null,null,null,null,null,null,null,null,""]
[null,null,{"$f":"IF('[1]au vêlage et infos vache et NEC'!A305=\"\",\"\",IF('[1]au vêlage et infos vache et NEC'!A305=\"Total général\",\"\",'[1]au vêlage et infos vache et NEC'!A305))","v":""},{"$f":"IF('[1]au vêlage et infos vache et NEC'!B305=\"\",\"\",IF('[1]au vêlage et infos vache et NEC'!B305=\"Total général\",\"\",'[1]au vêlage et infos vache et NEC'!B305))","v":""},null,null,null,null,null,null,null,null,null,null,""]
[null,null,{"$f":"IF('[1]au vêlage et infos vache et NEC'!A306=\"\",\"\",IF('[1]au vêlage et infos vache et NEC'!A306=\"Total général\",\"\",'[1]au vêlage et infos vache et NEC'!A306))","v":""},{"$f":"IF('[1]au vêlage et infos vache et NEC'!B306=\"\",\"\",IF('[1]au vêlage et infos vache et NEC'!B306=\"Total général\",\"\",'[1]au vêlage et infos vache et NEC'!B306))","v":""},null,null,null,null,null,null,null,null,null,null,""]
[null,null,{"$f":"IF('[1]au vêlage et infos vache et NEC'!A307=\"\",\"\",IF('[1]au vêlage et infos vache et NEC'!A307=\"Total général\",\"\",'[1]au vêlage et infos vache et NEC'!A307))","v":""},{"$f":"IF('[1]au vêlage et infos vache et NEC'!B307=\"\",\"\",IF('[1]au vêlage et infos vache et NEC'!B307=\"Total général\",\"\",'[1]au vêlage et infos vache et NEC'!B307))","v":""},null,null,null,null,null,null,null,null,null,null,""]
[null,null,{"$f":"IF('[1]au vêlage et infos vache et NEC'!A308=\"\",\"\",IF('[1]au vêlage et infos vache et NEC'!A308=\"Total général\",\"\",'[1]au vêlage et infos vache et NEC'!A308))","v":""},{"$f":"IF('[1]au vêlage et infos vache et NEC'!B308=\"\",\"\",IF('[1]au vêlage et infos vache et NEC'!B308=\"Total général\",\"\",'[1]au vêlage et infos vache et NEC'!B308))","v":""},null,null,null,null,null,null,null,null,null,null,""]
[null,null,{"$f":"IF('[1]au vêlage et infos vache et NEC'!A309=\"\",\"\",IF('[1]au vêlage et infos vache et NEC'!A309=\"Total général\",\"\",'[1]au vêlage et infos vache et NEC'!A309))","v":""},{"$f":"IF('[1]au vêlage et infos vache et NEC'!B309=\"\",\"\",IF('[1]au vêlage et infos vache et NEC'!B309=\"Total général\",\"\",'[1]au vêlage et infos vache et NEC'!B309))","v":""},null,null,null,null,null,null,null,null,null,null,""]
[null,null,{"$f":"IF('[1]au vêlage et infos vache et NEC'!A310=\"\",\"\",IF('[1]au vêlage et infos vache et NEC'!A310=\"Total général\",\"\",'[1]au vêlage et infos vache et NEC'!A310))","v":""},{"$f":"IF('[1]au vêlage et infos vache et NEC'!B310=\"\",\"\",IF('[1]au vêlage et infos vache et NEC'!B310=\"Total général\",\"\",'[1]au vêlage et infos vache et NEC'!B310))","v":""},null,null,null,null,null,null,null,null,null,null,""]
[null,null,{"$f":"IF('[1]au vêlage et infos vache et NEC'!A311=\"\",\"\",IF('[1]au vêlage et infos vache et NEC'!A311=\"Total général\",\"\",'[1]au vêlage et infos vache et NEC'!A311))","v":""},{"$f":"IF('[1]au vêlage et infos vache et NEC'!B311=\"\",\"\",IF('[1]au vêlage et infos vache et NEC'!B311=\"Total général\",\"\",'[1]au vêlage et infos vache et NEC'!B311))","v":""},null,null,null,null,null,null,null,null,null,null,""]
[null,null,{"$f":"IF('[1]au vêlage et infos vache et NEC'!A312=\"\",\"\",IF('[1]au vêlage et infos vache et NEC'!A312=\"Total général\",\"\",'[1]au vêlage et infos vache et NEC'!A312))","v":""},{"$f":"IF('[1]au vêlage et infos vache et NEC'!B312=\"\",\"\",IF('[1]au vêlage et infos vache et NEC'!B312=\"Total général\",\"\",'[1]au vêlage et infos vache et NEC'!B312))","v":""},null,null,null,null,null,null,null,null,null,null,""]
[null,null,{"$f":"IF('[1]au vêlage et infos vache et NEC'!A313=\"\",\"\",IF('[1]au vêlage et infos vache et NEC'!A313=\"Total général\",\"\",'[1]au vêlage et infos vache et NEC'!A313))","v":""},{"$f":"IF('[1]au vêlage et infos vache et NEC'!B313=\"\",\"\",IF('[1]au vêlage et infos vache et NEC'!B313=\"Total général\",\"\",'[1]au vêlage et infos vache et NEC'!B313))","v":""},null,null,null,null,null,null,null,null,null,null,""]
[null,null,{"$f":"IF('[1]au vêlage et infos vache et NEC'!A314=\"\",\"\",IF('[1]au vêlage et infos vache et NEC'!A314=\"Total général\",\"\",'[1]au vêlage et infos vache et NEC'!A314))","v":""},{"$f":"IF('[1]au vêlage et infos vache et NEC'!B314=\"\",\"\",IF('[1]au vêlage et infos vache et NEC'!B314=\"Total général\",\"\",'[1]au vêlage et infos vache et NEC'!B314))","v":""},null,null,null,null,null,null,null,null,null,null,""]
[null,null,{"$f":"IF('[1]au vêlage et infos vache et NEC'!A315=\"\",\"\",IF('[1]au vêlage et infos vache et NEC'!A315=\"Total général\",\"\",'[1]au vêlage et infos vache et NEC'!A315))","v":""},{"$f":"IF('[1]au vêlage et infos vache et NEC'!B315=\"\",\"\",IF('[1]au vêlage et infos vache et NEC'!B315=\"Total général\",\"\",'[1]au vêlage et infos vache et NEC'!B315))","v":""},null,null,null,null,null,null,null,null,null,null,""]
[null,null,{"$f":"IF('[1]au vêlage et infos vache et NEC'!A316=\"\",\"\",IF('[1]au vêlage et infos vache et NEC'!A316=\"Total général\",\"\",'[1]au vêlage et infos vache et NEC'!A316))","v":""},{"$f":"IF('[1]au vêlage et infos vache et NEC'!B316=\"\",\"\",IF('[1]au vêlage et infos vache et NEC'!B316=\"Total général\",\"\",'[1]au vêlage et infos vache et NEC'!B316))","v":""},null,null,null,null,null,null,null,null,null,null,""]

{"sheet":"trait prév vaches","index":7,"n_rows":140,"n_cols":13,"rows_kept":140,"cut":false,"hidden":false,"merged":[[11,2,11,4],[134,3,134,4],[135,3,135,4],[136,3,136,4],[137,3,137,4],[138,3,138,4],[139,3,139,4],[128,3,128,4],[129,3,129,4],[130,3,130,4],[131,3,131,4],[132,3,132,4],[133,3,133,4],[122,3,122,4],[123,3,123,4],[124,3,124,4],[125,3,125,4],[126,3,126,4],[127,3,127,4],[116,3,116,4],[117,3,117,4],[118,3,118,4],[119,3,119,4],[120,3,120,4],[121,3,121,4],[110,3,110,4],[111,3,111,4],[112,3,112,4],[113,3,113,4],[114,3,114,4],[115,3,115,4],[104,3,104,4],[105,3,105,4],[106,3,106,4],[107,3,107,4],[108,3,108,4],[109,3,109,4],[98,3,98,4],[99,3,99,4],[100,3,100,4],[101,3,101,4],[102,3,102,4],[103,3,103,4],[92,3,92,4],[93,3,93,4],[94,3,94,4],[95,3,95,4],[96,3,96,4],[97,3,97,4],[86,3,86,4],[87,3,87,4],[88,3,88,4],[89,3,89,4],[90,3,90,4],[91,3,91,4],[80,3,80,4],[81,3,81,4],[82,3,82,4],[83,3,83,4],[84,3,84,4],[85,3,85,4],[74,3,74,4],[75,3,75,4],[76,3,76,4],[77,3,77,4],[78,3,78,4],[79,3,79,4],[68,3,68,4],[69,3,69,4],[70,3,70,4],[71,3,71,4],[72,3,72,4],[73,3,73,4],[62,3,62,4],[63,3,63,4],[64,3,64,4],[65,3,65,4],[66,3,66,4],[67,3,67,4],[56,3,56,4],[57,3,57,4],[58,3,58,4],[59,3,59,4],[60,3,60,4],[61,3,61,4],[50,3,50,4],[51,3,51,4],[52,3,52,4],[53,3,53,4],[54,3,54,4],[55,3,55,4],[44,3,44,4],[45,3,45,4],[46,3,46,4],[47,3,47,4],[48,3,48,4],[49,3,49,4],[38,3,38,4],[39,3,39,4],[40,3,40,4],[41,3,41,4],[42,3,42,4],[43,3,43,4],[32,3,32,4],[33,3,33,4],[34,3,34,4],[35,3,35,4],[36,3,36,4],[37,3,37,4],[26,3,26,4],[27,3,27,4],[28,3,28,4],[29,3,29,4],[30,3,30,4],[31,3,31,4],[20,3,20,4],[21,3,21,4],[22,3,22,4],[23,3,23,4],[24,3,24,4],[25,3,25,4],[15,3,15,4],[16,3,16,4],[17,3,17,4],[18,3,18,4],[19,3,19,4],[7,2,7,4],[8,2,8,10],[9,3,10,4],[9,5,9,10],[12,3,12,4],[13,3,13,4],[1,0,1,1],[1,2,1,10],[2,2,2,10],[3,2,3,4],[4,0,6,1],[4,2,4,4],[5,2,5,4],[6,2,6,4],[14,3,14,4]]}
[]
["retour à la page d'accueil",null,"Traitements préventifs réalisés sur les vaches "]
[null,null,"Etape 1 : DESCRIPTION DES TRAITEMENTS"]
[null,null,"Traitement N°….",null,null,1,2,3,4,5,6]
[{"$f":"'[1]au vêlage et infos vache et NEC'!$B$3","v":"54474307"},null,"Stade de réalisation"]
[null,null,"Maladie ciblée"]
[null,null,"Nom du produit"]
[null,null,"Type de traitement"]
[null,null,"Etape 2 : COCHER LES VACHES CONCERNEES"]
[null,null,"N° 4 chiffres des vaches","Nom de la mère",null,"Cocher les cases pour les vaches ayant reçu le traitement concerné.                        Il est possible de sélectionner toutes les vaches et d'en désélectionner quelques unes "]
[null,null,null,null,null,1,2,3,4,5,6]
[null,null,"Cocher/décocher tous les animaux",null,null,false,false,false,false,false,false,"Remarques particulières sur l'animal"]
[null,null,{"$f":"IF('[1]au vêlage et infos vache et NEC'!A9=\"\",\"\",IF('[1]au vêlage et infos vache et NEC'!A9=\"Total général\",\"\",'[1]au vêlage et infos vache et NEC'!A9))","v":"0052"},{"$f":"IF('[1]au vêlage et infos vache et NEC'!B9=\"\",\"\",'[1]au vêlage et infos vache et NEC'!B9)","v":"UDINE"},null,{"$f":"IF(M13=\"\",\"\",IF($F$12=TRUE,TRUE,FALSE))","v":false},{"$f":"IF(M13=\"\",FALSE,IF($G$12=TRUE,TRUE,FALSE))","v":false},{"$f":"IF(M13=\"\",FALSE,IF($H$12=TRUE,TRUE,FALSE))","v":false},{"$f":"IF(M13=\"\",FALSE,IF($I$12=TRUE,TRUE,FALSE))","v":false},{"$f":"IF(M13=\"\",FALSE,IF($J$12=TRUE,TRUE,FALSE))","v":false},{"$f":"IF(M13=\"\",FALSE,IF($K$12=TRUE,TRUE,FALSE))","v":false},null,{"$f":"IF('[1]au vêlage et infos vache et NEC'!A9=\"\",\"\",IF('[1]au vêlage et infos vache et NEC'!A9=\"Total général\",\"\",'[1]au vêlage et infos vache et NEC'!A9))","v":"0052"}]
[null,null,{"$f":"IF('[1]au vêlage et infos vache et NEC'!A10=\"\",\"\",IF('[1]au vêlage et infos vache et NEC'!A10=\"Total général\",\"\",'[1]au vêlage et infos vache et NEC'!A10))","v":"2974"},{"$f":"IF('[1]au vêlage et infos vache et NEC'!B10=\"\",\"\",'[1]au vêlage et infos vache et NEC'!B10)","v":"ASTONIA"},null,false,false,{"$f":"IF(M14=\"\",FALSE,IF($H$12=TRUE,TRUE,FALSE))","v":false},{"$f":"IF(M14=\"\",FALSE,IF($I$12=TRUE,TRUE,FALSE))","v":false},{"$f":"IF(M14=\"\",FALSE,IF($J$12=TRUE,TRUE,FALSE))","v":false},{"$f":"IF(M14=\"\",FALSE,IF($K$12=TRUE,TRUE,FALSE))","v":false},null,{"$f":"IF('[1]au vêlage et infos vache et NEC'!A10=\"\",\"\",IF('[1]au vêlage et infos vache et NEC'!A10=\"Total général\",\"\",'[1]au vêlage et infos vache et NEC'!A10))","v":"2974"}]
[null,null,{"$f":"IF('[1]au vêlage et infos vache et NEC'!A11=\"\",\"\",IF('[1]au vêlage et infos vache et NEC'!A11=\"Total général\",\"\",'[1]au vêlage et infos vache et NEC'!A11))","v":"3266"},{"$f":"IF('[1]au vêlage et infos vache et NEC'!B11=\"\",\"\",'[1]au vêlage et infos vache et NEC'!B11)","v":"DECADE"},null,false,false,false,false,{"$f":"IF(M15=\"\",FALSE,IF($J$12=TRUE,TRUE,FALSE))","v":false},false,null,{"$f":"IF('[1]au vêlage et infos vache et NEC'!A11=\"\",\"\",IF('[1]au vêlage et infos vache et NEC'!A11=\"Total général\",\"\",'[1]au vêlage et infos vache et NEC'!A11))","v":"3266"}]
[null,null,{"$f":"IF('[1]au vêlage et infos vache et NEC'!A12=\"\",\"\",IF('[1]au vêlage et infos vache et NEC'!A12=\"Total général\",\"\",'[1]au vêlage et infos vache et NEC'!A12))","v":"3271"},{"$f":"IF('[1]au vêlage et infos vache et NEC'!B12=\"\",\"\",'[1]au vêlage et infos vache et NEC'!B12)","v":"DOUCETTE"},null,false,false,false,false,false,false,null,{"$f":"IF('[1]au vêlage et infos vache et NEC'!A12=\"\",\"\",IF('[1]au vêlage et infos vache et NEC'!A12=\"Total général\",\"\",'[1]au vêlage et infos vache et NEC'!A12))","v":"3271"}]
[null,null,{"$f":"IF('[1]au vêlage et infos vache et NEC'!A13=\"\",\"\",IF('[1]au vêlage et infos vache et NEC'!A13=\"Total général\",\"\",'[1]au vêlage et infos vache et NEC'!A13))","v":"3272"},{"$f":"IF('[1]au vêlage et infos vache et NEC'!B13=\"\",\"\",'[1]au vêlage et infos vache et NEC'!B13)","v":"DANETTE"},null,false,false,false,false,false,false,null,{"$f":"IF('[1]au vêlage et infos vache et NEC'!A13=\"\",\"\",IF('[1]au vêlage et infos vache et NEC'!A13=\"Total général\",\"\",'[1]au vêlage et infos vache et NEC'!A13))","v":"3272"}]
[null,null,{"$f":"IF('[1]au vêlage et infos vache et NEC'!A14=\"\",\"\",IF('[1]au vêlage et infos vache et NEC'!A14=\"Total général\",\"\",'[1]au vêlage et infos vache et NEC'!A14))","v":"3276"},{"$f":"IF('[1]au vêlage et infos vache et NEC'!B14=\"\",\"\",'[1]au vêlage et infos vache et NEC'!B14)","v":"DYNAMITE"},null,false,false,false,false,false,false,null,{"$f":"IF('[1]au vêlage et infos vache et NEC'!A14=\"\",\"\",IF('[1]au vêlage et infos vache et NEC'!A14=\"Total général\",\"\",'[1]au vêlage et infos vache et NEC'!A14))","v":"3276"}]
[null,null,{"$f":"IF('[1]au vêlage et infos vache et NEC'!A15=\"\",\"\",IF('[1]au vêlage et infos vache et NEC'!A15=\"Total général\",\"\",'[1]au vêlage et infos vache et NEC'!A15))","v":"3279"},{"$f":"IF('[1]au vêlage et infos vache et NEC'!B15=\"\",\"\",'[1]au vêlage et infos vache et NEC'!B15)","v":"DORA"},null,false,false,false,false,false,false,null,{"$f":"IF('[1]au vêlage et infos vache et NEC'!A15=\"\",\"\",IF('[1]au vêlage et infos vache et NEC'!A15=\"Total général\",\"\",'[1]au vêlage et infos vache et NEC'!A15))","v":"3279"}]
[null,null,{"$f":"IF('[1]au vêlage et infos vache et NEC'!A16=\"\",\"\",IF('[1]au vêlage et infos vache et NEC'!A16=\"Total général\",\"\",'[1]au vêlage et infos vache et NEC'!A16))","v":"3280"},{"$f":"IF('[1]au vêlage et infos vache et NEC'!B16=\"\",\"\",'[1]au vêlage et infos vache et NEC'!B16)","v":"DOLLY"},null,false,false,false,false,false,false,null,{"$f":"IF('[1]au vêlage et infos vache et NEC'!A16=\"\",\"\",IF('[1]au vêlage et infos vache et NEC'!A16=\"Total général\",\"\",'[1]au vêlage et infos vache et NEC'!A16))","v":"3280"}]
[null,null,{"$f":"IF('[1]au vêlage et infos vache et NEC'!A17=\"\",\"\",IF('[1]au vêlage et infos vache et NEC'!A17=\"Total général\",\"\",'[1]au vêlage et infos vache et NEC'!A17))","v":"3285"},{"$f":"IF('[1]au vêlage et infos vache et NEC'!B17=\"\",\"\",'[1]au vêlage et infos vache et NEC'!B17)","v":"DORINE"},null,false,false,false,false,false,false,null,{"$f":"IF('[1]au vêlage et infos vache et NEC'!A17=\"\",\"\",IF('[1]au vêlage et infos vache et NEC'!A17=\"Total général\",\"\",'[1]au vêlage et infos vache et NEC'!A17))","v":"3285"}]
[null,null,{"$f":"IF('[1]au vêlage et infos vache et NEC'!A18=\"\",\"\",IF('[1]au vêlage et infos vache et NEC'!A18=\"Total général\",\"\",'[1]au vêlage et infos vache et NEC'!A18))","v":"3292"},{"$f":"IF('[1]au vêlage et infos vache et NEC'!B18=\"\",\"\",'[1]au vêlage et infos vache et NEC'!B18)","v":"DIGITALE"},null,false,false,false,false,false,false,null,{"$f":"IF('[1]au vêlage et infos vache et NEC'!A18=\"\",\"\",IF('[1]au vêlage et infos vache et NEC'!A18=\"Total général\",\"\",'[1]au vêlage et infos vache et NEC'!A18))","v":"3292"}]
[null,null,{"$f":"IF('[1]au vêlage et infos vache et NEC'!A19=\"\",\"\",IF('[1]au vêlage et infos vache et NEC'!A19=\"Total général\",\"\",'[1]au vêlage et infos vache et NEC'!A19))","v":"3294"},{"$f":"IF('[1]au vêlage et infos vache et NEC'!B19=\"\",\"\",'[1]au vêlage et infos vache et NEC'!B19)","v":"EXTRA"},null,false,false,false,false,false,false,null,{"$f":"IF('[1]au vêlage et infos vache et NEC'!A19=\"\",\"\",IF('[1]au vêlage et infos vache et NEC'!A19=\"Total général\",\"\",'[1]au vêlage et infos vache et NEC'!A19))","v":"3294"}]
[null,null,{"$f":"IF('[1]au vêlage et infos vache et NEC'!A20=\"\",\"\",IF('[1]au vêlage et infos vache et NEC'!A20=\"Total général\",\"\",'[1]au vêlage et infos vache et NEC'!A20))","v":"3568"},{"$f":"IF('[1]au vêlage et infos vache et NEC'!B20=\"\",\"\",'[1]au vêlage et infos vache et NEC'!B20)","v":"BUVEE"},null,false,false,false,false,false,false,null,{"$f":"IF('[1]au vêlage et infos vache et NEC'!A20=\"\",\"\",IF('[1]au vêlage et infos vache et NEC'!A20=\"Total général\",\"\",'[1]au vêlage et infos vache et NEC'!A20))","v":"3568"}]
[null,null,{"$f":"IF('[1]au vêlage et infos vache et NEC'!A21=\"\",\"\",IF('[1]au vêlage et infos vache et NEC'!A21=\"Total général\",\"\",'[1]au vêlage et infos vache et NEC'!A21))","v":"4211"},{"$f":"IF('[1]au vêlage et infos vache et NEC'!B21=\"\",\"\",'[1]au vêlage et infos vache et NEC'!B21)","v":"FANTA"},null,false,false,false,false,false,false,null,{"$f":"IF('[1]au vêlage et infos vache et NEC'!A21=\"\",\"\",IF('[1]au vêlage et infos vache et NEC'!A21=\"Total général\",\"\",'[1]au vêlage et infos vache et NEC'!A21))","v":"4211"}]
[null,null,{"$f":"IF('[1]au vêlage et infos vache et NEC'!A22=\"\",\"\",IF('[1]au vêlage et infos vache et NEC'!A22=\"Total général\",\"\",'[1]au vêlage et infos vache et NEC'!A22))","v":"4212"},{"$f":"IF('[1]au vêlage et infos vache et NEC'!B22=\"\",\"\",'[1]au vêlage et infos vache et NEC'!B22)","v":"FLORA"},null,false,false,false,false,false,false,null,{"$f":"IF('[1]au vêlage et infos vache et NEC'!A22=\"\",\"\",IF('[1]au vêlage et infos vache et NEC'!A22=\"Total général\",\"\",'[1]au vêlage et infos vache et NEC'!A22))","v":"4212"}]
[null,null,{"$f":"IF('[1]au vêlage et infos vache et NEC'!A23=\"\",\"\",IF('[1]au vêlage et infos vache et NEC'!A23=\"Total général\",\"\",'[1]au vêlage et infos vache et NEC'!A23))","v":"4213"},{"$f":"IF('[1]au vêlage et infos vache et NEC'!B23=\"\",\"\",'[1]au vêlage et infos vache et NEC'!B23)","v":"FIDELIA"},null,false,false,false,false,false,false,null,{"$f":"IF('[1]au vêlage et infos vache et NEC'!A23=\"\",\"\",IF('[1]au vêlage et infos vache et NEC'!A23=\"Total général\",\"\",'[1]au vêlage et infos vache et NEC'!A23))","v":"4213"}]
[null,null,{"$f":"IF('[1]au vêlage et infos vache et NEC'!A24=\"\",\"\",IF('[1]au vêlage et infos vache et NEC'!A24=\"Total général\",\"\",'[1]au vêlage et infos vache et NEC'!A24))","v":"4214"},{"$f":"IF('[1]au vêlage et infos vache et NEC'!B24=\"\",\"\",'[1]au vêlage et infos vache et NEC'!B24)","v":"FIESTA"},null,false,false,false,false,false,false,null,{"$f":"IF('[1]au vêlage et infos vache et NEC'!A24=\"\",\"\",IF('[1]au vêlage et infos vache et NEC'!A24=\"Total général\",\"\",'[1]au vêlage et infos vache et NEC'!A24))","v":"4214"}]
[null,null,{"$f":"IF('[1]au vêlage et infos vache et NEC'!A25=\"\",\"\",IF('[1]au vêlage et infos vache et NEC'!A25=\"Total général\",\"\",'[1]au vêlage et infos vache et NEC'!A25))","v":"4215"},{"$f":"IF('[1]au vêlage et infos vache et NEC'!B25=\"\",\"\",'[1]au vêlage et infos vache et NEC'!B25)","v":"FIFI"},null,false,false,false,false,false,false,null,{"$f":"IF('[1]au vêlage et infos vache et NEC'!A25=\"\",\"\",IF('[1]au vêlage et infos vache et NEC'!A25=\"Total général\",\"\",'[1]au vêlage et infos vache et NEC'!A25))","v":"4215"}]
[null,null,{"$f":"IF('[1]au vêlage et infos vache et NEC'!A26=\"\",\"\",IF('[1]au vêlage et infos vache et NEC'!A26=\"Total général\",\"\",'[1]au vêlage et infos vache et NEC'!A26))","v":"4216"},{"$f":"IF('[1]au vêlage et infos vache et NEC'!B26=\"\",\"\",'[1]au vêlage et infos vache et NEC'!B26)","v":"FARCE"},null,false,false,false,false,false,false,null,{"$f":"IF('[1]au vêlage et infos vache et NEC'!A26=\"\",\"\",IF('[1]au vêlage et infos vache et NEC'!A26=\"Total général\",\"\",'[1]au vêlage et infos vache et NEC'!A26))","v":"4216"}]
[null,null,{"$f":"IF('[1]au vêlage et infos vache et NEC'!A27=\"\",\"\",IF('[1]au vêlage et infos vache et NEC'!A27=\"Total général\",\"\",'[1]au vêlage et infos vache et NEC'!A27))","v":"4217"},{"$f":"IF('[1]au vêlage et infos vache et NEC'!B27=\"\",\"\",'[1]au vêlage et infos vache et NEC'!B27)","v":"FAUVETTE"},null,false,false,false,false,false,false,null,{"$f":"IF('[1]au vêlage et infos vache et NEC'!A27=\"\",\"\",IF('[1]au vêlage et infos vache et NEC'!A27=\"Total général\",\"\",'[1]au vêlage et infos vache et NEC'!A27))","v":"4217"}]
[null,null,{"$f":"IF('[1]au vêlage et infos vache et NEC'!A28=\"\",\"\",IF('[1]au vêlage et infos vache et NEC'!A28=\"Total général\",\"\",'[1]au vêlage et infos vache et NEC'!A28))","v":"4223"},{"$f":"IF('[1]au vêlage et infos vache et NEC'!B28=\"\",\"\",'[1]au vêlage et infos vache et NEC'!B28)","v":"FEA"},null,false,false,false,false,false,false,null,{"$f":"IF('[1]au vêlage et infos vache et NEC'!A28=\"\",\"\",IF('[1]au vêlage et infos vache et NEC'!A28=\"Total général\",\"\",'[1]au vêlage et infos vache et NEC'!A28))","v":"4223"}]
[null,null,{"$f":"IF('[1]au vêlage et infos vache et NEC'!A29=\"\",\"\",IF('[1]au vêlage et infos vache et NEC'!A29=\"Total général\",\"\",'[1]au vêlage et infos vache et NEC'!A29))","v":"4226"},{"$f":"IF('[1]au vêlage et infos vache et NEC'!B29=\"\",\"\",'[1]au vêlage et infos vache et NEC'!B29)","v":"FIONA"},null,false,false,false,false,false,false,null,{"$f":"IF('[1]au vêlage et infos vache et NEC'!A29=\"\",\"\",IF('[1]au vêlage et infos vache et NEC'!A29=\"Total général\",\"\",'[1]au vêlage et infos vache et NEC'!A29))","v":"4226"}]
[null,null,{"$f":"IF('[1]au vêlage et infos vache et NEC'!A30=\"\",\"\",IF('[1]au vêlage et infos vache et NEC'!A30=\"Total général\",\"\",'[1]au vêlage et infos vache et NEC'!A30))","v":"4232"},{"$f":"IF('[1]au vêlage et infos vache et NEC'!B30=\"\",\"\",'[1]au vêlage et infos vache et NEC'!B30)","v":"FARIBOLE"},null,false,false,false,false,false,false,null,{"$f":"IF('[1]au vêlage et infos vache et NEC'!A30=\"\",\"\",IF('[1]au vêlage et infos vache et NEC'!A30=\"Total général\",\"\",'[1]au vêlage et infos vache et NEC'!A30))","v":"4232"}]
[null,null,{"$f":"IF('[1]au vêlage et infos vache et NEC'!A31=\"\",\"\",IF('[1]au vêlage et infos vache et NEC'!A31=\"Total général\",\"\",'[1]au vêlage et infos vache et NEC'!A31))","v":"4236"},{"$f":"IF('[1]au vêlage et infos vache et NEC'!B31=\"\",\"\",'[1]au vêlage et infos vache et NEC'!B31)","v":"FELLA"},null,false,false,false,false,false,false,null,{"$f":"IF('[1]au vêlage et infos vache et NEC'!A31=\"\",\"\",IF('[1]au vêlage et infos vache et NEC'!A31=\"Total général\",\"\",'[1]au vêlage et infos vache et NEC'!A31))","v":"4236"}]
[null,null,{"$f":"IF('[1]au vêlage et infos vache et NEC'!A32=\"\",\"\",IF('[1]au vêlage et infos vache et NEC'!A32=\"Total général\",\"\",'[1]au vêlage et infos vache et NEC'!A32))","v":"4506"},{"$f":"IF('[1]au vêlage et infos vache et NEC'!B32=\"\",\"\",'[1]au vêlage et infos vache et NEC'!B32)","v":"ILONA"},null,false,false,false,false,false,false,null,{"$f":"IF('[1]au vêlage et infos vache et NEC'!A32=\"\",\"\",IF('[1]au vêlage et infos vache et NEC'!A32=\"Total général\",\"\",'[1]au vêlage et infos vache et NEC'!A32))","v":"4506"}]
[null,null,{"$f":"IF('[1]au vêlage et infos vache et NEC'!A33=\"\",\"\",IF('[1]au vêlage et infos vache et NEC'!A33=\"Total général\",\"\",'[1]au vêlage et infos vache et NEC'!A33))","v":"4619"},{"$f":"IF('[1]au vêlage et infos vache et NEC'!B33=\"\",\"\",'[1]au vêlage et infos vache et NEC'!B33)","v":"HERITIERE"},null,false,false,false,false,false,false,null,{"$f":"IF('[1]au vêlage et infos vache et NEC'!A33=\"\",\"\",IF('[1]au vêlage et infos vache et NEC'!A33=\"Total général\",\"\",'[1]au vêlage et infos vache et NEC'!A33))","v":"4619"}]
[null,null,{"$f":"IF('[1]au vêlage et infos vache et NEC'!A34=\"\",\"\",IF('[1]au vêlage et infos vache et NEC'!A34=\"Total général\",\"\",'[1]au vêlage et infos vache et NEC'!A34))","v":"5200"},{"$f":"IF('[1]au vêlage et infos vache et NEC'!B34=\"\",\"\",'[1]au vêlage et infos vache et NEC'!B34)","v":"CENDRILLON"},null,false,false,false,false,false,false,null,{"$f":"IF('[1]au vêlage et infos vache et NEC'!A34=\"\",\"\",IF('[1]au vêlage et infos vache et NEC'!A34=\"Total général\",\"\",'[1]au vêlage et infos vache et NEC'!A34))","v":"5200"}]
[null,null,{"$f":"IF('[1]au vêlage et infos vache et NEC'!A35=\"\",\"\",IF('[1]au vêlage et infos vache et NEC'!A35=\"Total général\",\"\",'[1]au vêlage et infos vache et NEC'!A35))","v":"5321"},{"$f":"IF('[1]au vêlage et infos vache et NEC'!B35=\"\",\"\",'[1]au vêlage et infos vache et NEC'!B35)","v":"ACTION"},null,false,false,false,false,false,false,null,{"$f":"IF('[1]au vêlage et infos vache et NEC'!A35=\"\",\"\",IF('[1]au vêlage et infos vache et NEC'!A35=\"Total général\",\"\",'[1]au vêlage et infos vache et NEC'!A35))","v":"5321"}]
[null,null,{"$f":"IF('[1]au vêlage et infos vache et NEC'!A36=\"\",\"\",IF('[1]au vêlage et infos vache et NEC'!A36=\"Total général\",\"\",'[1]au vêlage et infos vache et NEC'!A36))","v":"5327"},{"$f":"IF('[1]au vêlage et infos vache et NEC'!B36=\"\",\"\",'[1]au vêlage et infos vache et NEC'!B36)","v":"AUTRUCHE"},null,false,false,false,false,false,false,null,{"$f":"IF('[1]au vêlage et infos vache et NEC'!A36=\"\",\"\",IF('[1]au vêlage et infos vache et NEC'!A36=\"Total général\",\"\",'[1]au vêlage et infos vache et NEC'!A36))","v":"5327"}]
[null,null,{"$f":"IF('[1]au vêlage et infos vache et NEC'!A37=\"\",\"\",IF('[1]au vêlage et infos vache et NEC'!A37=\"Total général\",\"\",'[1]au vêlage et infos vache et NEC'!A37))","v":"5567"},{"$f":"IF('[1]au vêlage et infos vache et NEC'!B37=\"\",\"\",'[1]au vêlage et infos vache et NEC'!B37)","v":"ETOILE"},null,false,false,false,false,false,false,null,{"$f":"IF('[1]au vêlage et infos vache et NEC'!A37=\"\",\"\",IF('[1]au vêlage et infos vache et NEC'!A37=\"Total général\",\"\",'[1]au vêlage et infos vache et NEC'!A37))","v":"5567"}]
[null,null,{"$f":"IF('[1]au vêlage et infos vache et NEC'!A38=\"\",\"\",IF('[1]au vêlage et infos vache et NEC'!A38=\"Total général\",\"\",'[1]au vêlage et infos vache et NEC'!A38))","v":"5571"},{"$f":"IF('[1]au vêlage et infos vache et NEC'!B38=\"\",\"\",'[1]au vêlage et infos vache et NEC'!B38)","v":"EBENE"},null,false,false,false,false,false,false,null,{"$f":"IF('[1]au vêlage et infos vache et NEC'!A38=\"\",\"\",IF('[1]au vêlage et infos vache et NEC'!A38=\"Total général\",\"\",'[1]au vêlage et infos vache et NEC'!A38))","v":"5571"}]
[null,null,{"$f":"IF('[1]au vêlage et infos vache et NEC'!A39=\"\",\"\",IF('[1]au vêlage et infos vache et NEC'!A39=\"Total général\",\"\",'[1]au vêlage et infos vache et NEC'!A39))","v":"5572"},{"$f":"IF('[1]au vêlage et infos vache et NEC'!B39=\"\",\"\",'[1]au vêlage et infos vache et NEC'!B39)","v":"EDINA"},null,false,false,false,false,false,false,null,{"$f":"IF('[1]au vêlage et infos vache et NEC'!A39=\"\",\"\",IF('[1]au vêlage et infos vache et NEC'!A39=\"Total général\",\"\",'[1]au vêlage et infos vache et NEC'!A39))","v":"5572"}]
[null,null,{"$f":"IF('[1]au vêlage et infos vache et NEC'!A40=\"\",\"\",IF('[1]au vêlage et infos vache et NEC'!A40=\"Total général\",\"\",'[1]au vêlage et infos vache et NEC'!A40))","v":"5573"},{"$f":"IF('[1]au vêlage et infos vache et NEC'!B40=\"\",\"\",'[1]au vêlage et infos vache et NEC'!B40)","v":"ELAURA"},null,false,false,false,false,false,false,null,{"$f":"IF('[1]au vêlage et infos vache et NEC'!A40=\"\",\"\",IF('[1]au vêlage et infos vache et NEC'!A40=\"Total général\",\"\",'[1]au vêlage et infos vache et NEC'!A40))","v":"5573"}]
[null,null,{"$f":"IF('[1]au vêlage et infos vache et NEC'!A41=\"\",\"\",IF('[1]au vêlage et infos vache et NEC'!A41=\"Total général\",\"\",'[1]au vêlage et infos vache et NEC'!A41))","v":"5574"},{"$f":"IF('[1]au vêlage et infos vache et NEC'!B41=\"\",\"\",'[1]au vêlage et infos vache et NEC'!B41)","v":"EUROPA"},null,false,false,false,false,false,false,null,{"$f":"IF('[1]au vêlage et infos vache et NEC'!A41=\"\",\"\",IF('[1]au vêlage et infos vache et NEC'!A41=\"Total général\",\"\",'[1]au vêlage et infos vache et NEC'!A41))","v":"5574"}]
[null,null,{"$f":"IF('[1]au vêlage et infos vache et NEC'!A42=\"\",\"\",IF('[1]au vêlage et infos vache et NEC'!A42=\"Total général\",\"\",'[1]au vêlage et infos vache et NEC'!A42))","v":"5575"},{"$f":"IF('[1]au vêlage et infos vache et NEC'!B42=\"\",\"\",'[1]au vêlage et infos vache et NEC'!B42)","v":"ELSA"},null,false,false,false,false,false,false,null,{"$f":"IF('[1]au vêlage et infos vache et NEC'!A42=\"\",\"\",IF('[1]au vêlage et infos vache et NEC'!A42=\"Total général\",\"\",'[1]au vêlage et infos vache et NEC'!A42))","v":"5575"}]
[null,null,{"$f":"IF('[1]au vêlage et infos vache et NEC'!A43=\"\",\"\",IF('[1]au vêlage et infos vache et NEC'!A43=\"Total général\",\"\",'[1]au vêlage et infos vache et NEC'!A43))","v":"5579"},{"$f":"IF('[1]au vêlage et infos vache et NEC'!B43=\"\",\"\",'[1]au vêlage et infos vache et NEC'!B43)","v":"ENJY"},null,false,false,false,false,false,false,null,{"$f":"IF('[1]au vêlage et infos vache et NEC'!A43=\"\",\"\",IF('[1]au vêlage et infos vache et NEC'!A43=\"Total général\",\"\",'[1]au vêlage et infos vache et NEC'!A43))","v":"5579"}]
[null,null,{"$f":"IF('[1]au vêlage et infos vache et NEC'!A44=\"\",\"\",IF('[1]au vêlage et infos vache et NEC'!A44=\"Total général\",\"\",'[1]au vêlage et infos vache et NEC'!A44))","v":"5583"},{"$f":"IF('[1]au vêlage et infos vache et NEC'!B44=\"\",\"\",'[1]au vêlage et infos vache et NEC'!B44)","v":"ELODIE"},null,false,false,false,false,false,false,null,{"$f":"IF('[1]au vêlage et infos vache et NEC'!A44=\"\",\"\",IF('[1]au vêlage et infos vache et NEC'!A44=\"Total général\",\"\",'[1]au vêlage et infos vache et NEC'!A44))","v":"5583"}]
[null,null,{"$f":"IF('[1]au vêlage et infos vache et NEC'!A45=\"\",\"\",IF('[1]au vêlage et infos vache et NEC'!A45=\"Total général\",\"\",'[1]au vêlage et infos vache et NEC'!A45))","v":"5588"},{"$f":"IF('[1]au vêlage et infos vache et NEC'!B45=\"\",\"\",'[1]au vêlage et infos vache et NEC'!B45)","v":"FABULEUSE"},null,false,false,false,false,false,false,null,{"$f":"IF('[1]au vêlage et infos vache et NEC'!A45=\"\",\"\",IF('[1]au vêlage et infos vache et NEC'!A45=\"Total général\",\"\",'[1]au vêlage et infos vache et NEC'!A45))","v":"5588"}]
[null,null,{"$f":"IF('[1]au vêlage et infos vache et NEC'!A46=\"\",\"\",IF('[1]au vêlage et infos vache et NEC'!A46=\"Total général\",\"\",'[1]au vêlage et infos vache et NEC'!A46))","v":"5914"},{"$f":"IF('[1]au vêlage et infos vache et NEC'!B46=\"\",\"\",'[1]au vêlage et infos vache et NEC'!B46)","v":"IRIS"},null,false,false,false,false,false,false,null,{"$f":"IF('[1]au vêlage et infos vache et NEC'!A46=\"\",\"\",IF('[1]au vêlage et infos vache et NEC'!A46=\"Total général\",\"\",'[1]au vêlage et infos vache et NEC'!A46))","v":"5914"}]
[null,null,{"$f":"IF('[1]au vêlage et infos vache et NEC'!A47=\"\",\"\",IF('[1]au vêlage et infos vache et NEC'!A47=\"Total général\",\"\",'[1]au vêlage et infos vache et NEC'!A47))","v":"5916"},{"$f":"IF('[1]au vêlage et infos vache et NEC'!B47=\"\",\"\",'[1]au vêlage et infos vache et NEC'!B47)","v":"IMAGE"},null,false,false,false,false,false,false,null,{"$f":"IF('[1]au vêlage et infos vache et NEC'!A47=\"\",\"\",IF('[1]au vêlage et infos vache et NEC'!A47=\"Total général\",\"\",'[1]au vêlage et infos vache et NEC'!A47))","v":"5916"}]
[null,null,{"$f":"IF('[1]au vêlage et infos vache et NEC'!A48=\"\",\"\",IF('[1]au vêlage et infos vache et NEC'!A48=\"Total général\",\"\",'[1]au vêlage et infos vache et NEC'!A48))","v":"5917"},{"$f":"IF('[1]au vêlage et infos vache et NEC'!B48=\"\",\"\",'[1]au vêlage et infos vache et NEC'!B48)","v":"ITALIE"},null,false,false,false,false,false,false,null,{"$f":"IF('[1]au vêlage et infos vache et NEC'!A48=\"\",\"\",IF('[1]au vêlage et infos vache et NEC'!A48=\"Total général\",\"\",'[1]au vêlage et infos vache et NEC'!A48))","v":"5917"}]
[null,null,{"$f":"IF('[1]au vêlage et infos vache et NEC'!A49=\"\",\"\",IF('[1]au vêlage et infos vache et NEC'!A49=\"Total général\",\"\",'[1]au vêlage et infos vache et NEC'!A49))","v":"5918"},{"$f":"IF('[1]au vêlage et infos vache et NEC'!B49=\"\",\"\",'[1]au vêlage et infos vache et NEC'!B49)","v":"ISIS"},null,false,false,false,false,false,false,null,{"$f":"IF('[1]au vêlage et infos vache et NEC'!A49=\"\",\"\",IF('[1]au vêlage et infos vache et NEC'!A49=\"Total général\",\"\",'[1]au vêlage et infos vache et NEC'!A49))","v":"5918"}]
[null,null,{"$f":"IF('[1]au vêlage et infos vache et NEC'!A50=\"\",\"\",IF('[1]au vêlage et infos vache et NEC'!A50=\"Total général\",\"\",'[1]au vêlage et infos vache et NEC'!A50))","v":"5919"},{"$f":"IF('[1]au vêlage et infos vache et NEC'!B50=\"\",\"\",'[1]au vêlage et infos vache et NEC'!B50)","v":"ISAURE"},null,false,false,false,false,false,false,null,{"$f":"IF('[1]au vêlage et infos vache et NEC'!A50=\"\",\"\",IF('[1]au vêlage et infos vache et NEC'!A50=\"Total général\",\"\",'[1]au vêlage et infos vache et NEC'!A50))","v":"5919"}]
[null,null,{"$f":"IF('[1]au vêlage et infos vache et NEC'!A51=\"\",\"\",IF('[1]au vêlage et infos vache et NEC'!A51=\"Total général\",\"\",'[1]au vêlage et infos vache et NEC'!A51))","v":"5920"},{"$f":"IF('[1]au vêlage et infos vache et NEC'!B51=\"\",\"\",'[1]au vêlage et infos vache et NEC'!B51)","v":"ILDA"},null,false,false,false,false,false,false,null,{"$f":"IF('[1]au vêlage et infos vache et NEC'!A51=\"\",\"\",IF('[1]au vêlage et infos vache et NEC'!A51=\"Total général\",\"\",'[1]au vêlage et infos vache et NEC'!A51))","v":"5920"}]
[null,null,{"$f":"IF('[1]au vêlage et infos vache et NEC'!A52=\"\",\"\",IF('[1]au vêlage et infos vache et NEC'!A52=\"Total général\",\"\",'[1]au vêlage et infos vache et NEC'!A52))","v":"5921"},{"$f":"IF('[1]au vêlage et infos vache et NEC'!B52=\"\",\"\",'[1]au vêlage et infos vache et NEC'!B52)","v":"INDIA"},null,false,false,false,false,false,false,null,{"$f":"IF('[1]au vêlage et infos vache et NEC'!A52=\"\",\"\",IF('[1]au vêlage et infos vache et NEC'!A52=\"Total général\",\"\",'[1]au vêlage et infos vache et NEC'!A52))","v":"5921"}]
[null,null,{"$f":"IF('[1]au vêlage et infos vache et NEC'!A53=\"\",\"\",IF('[1]au vêlage et infos vache et NEC'!A53=\"Total général\",\"\",'[1]au vêlage et infos vache et NEC'!A53))","v":"5922"},{"$f":"IF('[1]au vêlage et infos vache et NEC'!B53=\"\",\"\",'[1]au vêlage et infos vache et NEC'!B53)","v":"ICONE"},null,false,false,false,false,false,false,null,{"$f":"IF('[1]au vêlage et infos vache et NEC'!A53=\"\",\"\",IF('[1]au vêlage et infos vache et NEC'!A53=\"Total général\",\"\",'[1]au vêlage et infos vache et NEC'!A53))","v":"5922"}]
[null,null,{"$f":"IF('[1]au vêlage et infos vache et NEC'!A54=\"\",\"\",IF('[1]au vêlage et infos vache et NEC'!A54=\"Total général\",\"\",'[1]au vêlage et infos vache et NEC'!A54))","v":"5924"},{"$f":"IF('[1]au vêlage et infos vache et NEC'!B54=\"\",\"\",'[1]au vêlage et infos vache et NEC'!B54)","v":"INES"},null,false,false,false,false,false,false,null,{"$f":"IF('[1]au vêlage et infos vache et NEC'!A54=\"\",\"\",IF('[1]au vêlage et infos vache et NEC'!A54=\"Total général\",\"\",'[1]au vêlage et infos vache et NEC'!A54))","v":"5924"}]
[null,null,{"$f":"IF('[1]au vêlage et infos vache et NEC'!A55=\"\",\"\",IF('[1]au vêlage et infos vache et NEC'!A55=\"Total général\",\"\",'[1]au vêlage et infos vache et NEC'!A55))","v":"5925"},{"$f":"IF('[1]au vêlage et infos vache et NEC'!B55=\"\",\"\",'[1]au vêlage et infos vache et NEC'!B55)","v":"INDIANA"},null,false,false,false,false,false,false,null,{"$f":"IF('[1]au vêlage et infos vache et NEC'!A55=\"\",\"\",IF('[1]au vêlage et infos vache et NEC'!A55=\"Total général\",\"\",'[1]au vêlage et infos vache et NEC'!A55))","v":"5925"}]
[null,null,{"$f":"IF('[1]au vêlage et infos vache et NEC'!A56=\"\",\"\",IF('[1]au vêlage et infos vache et NEC'!A56=\"Total général\",\"\",'[1]au vêlage et infos vache et NEC'!A56))","v":"5927"},{"$f":"IF('[1]au vêlage et infos vache et NEC'!B56=\"\",\"\",'[1]au vêlage et infos vache et NEC'!B56)","v":"IDOLE"},null,false,false,false,false,false,false,null,{"$f":"IF('[1]au vêlage et infos vache et NEC'!A56=\"\",\"\",IF('[1]au vêlage et infos vache et NEC'!A56=\"Total général\",\"\",'[1]au vêlage et infos vache et NEC'!A56))","v":"5927"}]
[null,null,{"$f":"IF('[1]au vêlage et infos vache et NEC'!A57=\"\",\"\",IF('[1]au vêlage et infos vache et NEC'!A57=\"Total général\",\"\",'[1]au vêlage et infos vache et NEC'!A57))","v":"5928"},{"$f":"IF('[1]au vêlage et infos vache et NEC'!B57=\"\",\"\",'[1]au vêlage et infos vache et NEC'!B57)","v":"ILONA"},null,false,false,false,false,false,false,null,{"$f":"IF('[1]au vêlage et infos vache et NEC'!A57=\"\",\"\",IF('[1]au vêlage et infos vache et NEC'!A57=\"Total général\",\"\",'[1]au vêlage et infos vache et NEC'!A57))","v":"5928"}]
[null,null,{"$f":"IF('[1]au vêlage et infos vache et NEC'!A58=\"\",\"\",IF('[1]au vêlage et infos vache et NEC'!A58=\"Total général\",\"\",'[1]au vêlage et infos vache et NEC'!A58))","v":"5929"},{"$f":"IF('[1]au vêlage et infos vache et NEC'!B58=\"\",\"\",'[1]au vêlage et infos vache et NEC'!B58)","v":"IOLA"},null,false,false,false,false,false,false,null,{"$f":"IF('[1]au vêlage et infos vache et NEC'!A58=\"\",\"\",IF('[1]au vêlage et infos vache et NEC'!A58=\"Total général\",\"\",'[1]au vêlage et infos vache et NEC'!A58))","v":"5929"}]
[null,null,{"$f":"IF('[1]au vêlage et infos vache et NEC'!A59=\"\",\"\",IF('[1]au vêlage et infos vache et NEC'!A59=\"Total général\",\"\",'[1]au vêlage et infos vache et NEC'!A59))","v":"5930"},{"$f":"IF('[1]au vêlage et infos vache et NEC'!B59=\"\",\"\",'[1]au vêlage et infos vache et NEC'!B59)","v":"ILANA"},null,false,false,false,false,false,false,null,{"$f":"IF('[1]au vêlage et infos vache et NEC'!A59=\"\",\"\",IF('[1]au vêlage et infos vache et NEC'!A59=\"Total général\",\"\",'[1]au vêlage et infos vache et NEC'!A59))","v":"5930"}]
[null,null,{"$f":"IF('[1]au vêlage et infos vache et NEC'!A60=\"\",\"\",IF('[1]au vêlage et infos vache et NEC'!A60=\"Total général\",\"\",'[1]au vêlage et infos vache et NEC'!A60))","v":"5931"},{"$f":"IF('[1]au vêlage et infos vache et NEC'!B60=\"\",\"\",'[1]au vêlage et infos vache et NEC'!B60)","v":"INOVA"},null,false,false,false,false,false,false,null,{"$f":"IF('[1]au vêlage et infos vache et NEC'!A60=\"\",\"\",IF('[1]au vêlage et infos vache et NEC'!A60=\"Total général\",\"\",'[1]au vêlage et infos vache et NEC'!A60))","v":"5931"}]
[null,null,{"$f":"IF('[1]au vêlage et infos vache et NEC'!A61=\"\",\"\",IF('[1]au vêlage et infos vache et NEC'!A61=\"Total général\",\"\",'[1]au vêlage et infos vache et NEC'!A61))","v":"5932"},{"$f":"IF('[1]au vêlage et infos vache et NEC'!B61=\"\",\"\",'[1]au vêlage et infos vache et NEC'!B61)","v":"IDA"},null,false,false,false,false,false,false,null,{"$f":"IF('[1]au vêlage et infos vache et NEC'!A61=\"\",\"\",IF('[1]au vêlage et infos vache et NEC'!A61=\"Total général\",\"\",'[1]au vêlage et infos vache et NEC'!A61))","v":"5932"}]
[null,null,{"$f":"IF('[1]au vêlage et infos vache et NEC'!A62=\"\",\"\",IF('[1]au vêlage et infos vache et NEC'!A62=\"Total général\",\"\",'[1]au vêlage et infos vache et NEC'!A62))","v":"5934"},{"$f":"IF('[1]au vêlage et infos vache et NEC'!B62=\"\",\"\",'[1]au vêlage et infos vache et NEC'!B62)","v":"ISERE"},null,false,false,false,false,false,false,null,{"$f":"IF('[1]au vêlage et infos vache et NEC'!A62=\"\",\"\",IF('[1]au vêlage et infos vache et NEC'!A62=\"Total général\",\"\",'[1]au vêlage et infos vache et NEC'!A62))","v":"5934"}]
[null,null,{"$f":"IF('[1]au vêlage et infos vache et NEC'!A63=\"\",\"\",IF('[1]au vêlage et infos vache et NEC'!A63=\"Total général\",\"\",'[1]au vêlage et infos vache et NEC'!A63))","v":"5935"},{"$f":"IF('[1]au vêlage et infos vache et NEC'!B63=\"\",\"\",'[1]au vêlage et infos vache et NEC'!B63)","v":"INFUSION"},null,false,false,false,false,false,false,null,{"$f":"IF('[1]au vêlage et infos vache et NEC'!A63=\"\",\"\",IF('[1]au vêlage et infos vache et NEC'!A63=\"Total général\",\"\",'[1]au vêlage et infos vache et NEC'!A63))","v":"5935"}]
[null,null,{"$f":"IF('[1]au vêlage et infos vache et NEC'!A64=\"\",\"\",IF('[1]au vêlage et infos vache et NEC'!A64=\"Total général\",\"\",'[1]au vêlage et infos vache et NEC'!A64))","v":"5936"},{"$f":"IF('[1]au vêlage et infos vache et NEC'!B64=\"\",\"\",'[1]au vêlage et infos vache et NEC'!B64)","v":"IRINA"},null,false,false,false,false,false,false,null,{"$f":"IF('[1]au vêlage et infos vache et NEC'!A64=\"\",\"\",IF('[1]au vêlage et infos vache et NEC'!A64=\"Total général\",\"\",'[1]au vêlage et infos vache et NEC'!A64))","v":"5936"}]
[null,null,{"$f":"IF('[1]au vêlage et infos vache et NEC'!A65=\"\",\"\",IF('[1]au vêlage et infos vache et NEC'!A65=\"Total général\",\"\",'[1]au vêlage et infos vache et NEC'!A65))","v":"5937"},{"$f":"IF('[1]au vêlage et infos vache et NEC'!B65=\"\",\"\",'[1]au vêlage et infos vache et NEC'!B65)","v":"IMPERIALE"},null,false,false,false,false,false,false,null,{"$f":"IF('[1]au vêlage et infos vache et NEC'!A65=\"\",\"\",IF('[1]au vêlage et infos vache et NEC'!A65=\"Total général\",\"\",'[1]au vêlage et infos vache et NEC'!A65))","v":"5937"}]
[null,null,{"$f":"IF('[1]au vêlage et infos vache et NEC'!A66=\"\",\"\",IF('[1]au vêlage et infos vache et NEC'!A66=\"Total général\",\"\",'[1]au vêlage et infos vache et NEC'!A66))","v":"5946"},{"$f":"IF('[1]au vêlage et infos vache et NEC'!B66=\"\",\"\",'[1]au vêlage et infos vache et NEC'!B66)","v":"JARDINE"},null,false,false,false,false,false,false,null,{"$f":"IF('[1]au vêlage et infos vache et NEC'!A66=\"\",\"\",IF('[1]au vêlage et infos vache et NEC'!A66=\"Total général\",\"\",'[1]au vêlage et infos vache et NEC'!A66))","v":"5946"}]
[null,null,{"$f":"IF('[1]au vêlage et infos vache et NEC'!A67=\"\",\"\",IF('[1]au vêlage et infos vache et NEC'!A67=\"Total général\",\"\",'[1]au vêlage et infos vache et NEC'!A67))","v":"5948"},{"$f":"IF('[1]au vêlage et infos vache et NEC'!B67=\"\",\"\",'[1]au vêlage et infos vache et NEC'!B67)","v":"JUPETTE"},null,false,false,false,false,false,false,null,{"$f":"IF('[1]au vêlage et infos vache et NEC'!A67=\"\",\"\",IF('[1]au vêlage et infos vache et NEC'!A67=\"Total général\",\"\",'[1]au vêlage et infos vache et NEC'!A67))","v":"5948"}]
[null,null,{"$f":"IF('[1]au vêlage et infos vache et NEC'!A68=\"\",\"\",IF('[1]au vêlage et infos vache et NEC'!A68=\"Total général\",\"\",'[1]au vêlage et infos vache et NEC'!A68))","v":"5949"},{"$f":"IF('[1]au vêlage et infos vache et NEC'!B68=\"\",\"\",'[1]au vêlage et infos vache et NEC'!B68)","v":"JALIE"},null,false,false,false,false,false,false,null,{"$f":"IF('[1]au vêlage et infos vache et NEC'!A68=\"\",\"\",IF('[1]au vêlage et infos vache et NEC'!A68=\"Total général\",\"\",'[1]au vêlage et infos vache et NEC'!A68))","v":"5949"}]
[null,null,{"$f":"IF('[1]au vêlage et infos vache et NEC'!A69=\"\",\"\",IF('[1]au vêlage et infos vache et NEC'!A69=\"Total général\",\"\",'[1]au vêlage et infos vache et NEC'!A69))","v":"6456"},{"$f":"IF('[1]au vêlage et infos vache et NEC'!B69=\"\",\"\",'[1]au vêlage et infos vache et NEC'!B69)","v":"BATAVIA"},null,false,false,false,false,false,false,null,{"$f":"IF('[1]au vêlage et infos vache et NEC'!A69=\"\",\"\",IF('[1]au vêlage et infos vache et NEC'!A69=\"Total général\",\"\",'[1]au vêlage et infos vache et NEC'!A69))","v":"6456"}]
[null,null,{"$f":"IF('[1]au vêlage et infos vache et NEC'!A70=\"\",\"\",IF('[1]au vêlage et infos vache et NEC'!A70=\"Total général\",\"\",'[1]au vêlage et infos vache et NEC'!A70))","v":"6461"},{"$f":"IF('[1]au vêlage et infos vache et NEC'!B70=\"\",\"\",'[1]au vêlage et infos vache et NEC'!B70)","v":"BABOUCHE"},null,false,false,false,false,false,false,null,{"$f":"IF('[1]au vêlage et infos vache et NEC'!A70=\"\",\"\",IF('[1]au vêlage et infos vache et NEC'!A70=\"Total général\",\"\",'[1]au vêlage et infos vache et NEC'!A70))","v":"6461"}]
[null,null,{"$f":"IF('[1]au vêlage et infos vache et NEC'!A71=\"\",\"\",IF('[1]au vêlage et infos vache et NEC'!A71=\"Total général\",\"\",'[1]au vêlage et infos vache et NEC'!A71))","v":"6462"},{"$f":"IF('[1]au vêlage et infos vache et NEC'!B71=\"\",\"\",'[1]au vêlage et infos vache et NEC'!B71)","v":"BLANCHETTE"},null,false,false,false,false,false,false,null,{"$f":"IF('[1]au vêlage et infos vache et NEC'!A71=\"\",\"\",IF('[1]au vêlage et infos vache et NEC'!A71=\"Total général\",\"\",'[1]au vêlage et infos vache et NEC'!A71))","v":"6462"}]
[null,null,{"$f":"IF('[1]au vêlage et infos vache et NEC'!A72=\"\",\"\",IF('[1]au vêlage et infos vache et NEC'!A72=\"Total général\",\"\",'[1]au vêlage et infos vache et NEC'!A72))","v":"6665"},{"$f":"IF('[1]au vêlage et infos vache et NEC'!B72=\"\",\"\",'[1]au vêlage et infos vache et NEC'!B72)","v":"GALINETTE"},null,false,false,false,false,false,false,null,{"$f":"IF('[1]au vêlage et infos vache et NEC'!A72=\"\",\"\",IF('[1]au vêlage et infos vache et NEC'!A72=\"Total général\",\"\",'[1]au vêlage et infos vache et NEC'!A72))","v":"6665"}]
[null,null,{"$f":"IF('[1]au vêlage et infos vache et NEC'!A73=\"\",\"\",IF('[1]au vêlage et infos vache et NEC'!A73=\"Total général\",\"\",'[1]au vêlage et infos vache et NEC'!A73))","v":"6666"},{"$f":"IF('[1]au vêlage et infos vache et NEC'!B73=\"\",\"\",'[1]au vêlage et infos vache et NEC'!B73)","v":"GALIPETTE"},null,{"$f":"IF(M77=\"\",\"\",IF($F$12=TRUE,TRUE,FALSE))","v":false},false,false,false,false,false,null,{"$f":"IF('[1]au vêlage et infos vache et NEC'!A73=\"\",\"\",IF('[1]au vêlage et infos vache et NEC'!A73=\"Total général\",\"\",'[1]au vêlage et infos vache et NEC'!A73))","v":"6666"}]
[null,null,{"$f":"IF('[1]au vêlage et infos vache et NEC'!A74=\"\",\"\",IF('[1]au vêlage et infos vache et NEC'!A74=\"Total général\",\"\",'[1]au vêlage et infos vache et NEC'!A74))","v":"6667"},{"$f":"IF('[1]au vêlage et infos vache et NEC'!B74=\"\",\"\",'[1]au vêlage et infos vache et NEC'!B74)","v":"GIPSY"},null,false,false,{"$f":"IF(M78=\"\",FALSE,IF($H$12=TRUE,TRUE,FALSE))","v":false},{"$f":"IF(M78=\"\",FALSE,IF($I$12=TRUE,TRUE,FALSE))","v":false},false,{"$f":"IF(M78=\"\",FALSE,IF($K$12=TRUE,TRUE,FALSE))","v":false},null,{"$f":"IF('[1]au vêlage et infos vache et NEC'!A74=\"\",\"\",IF('[1]au vêlage et infos vache et NEC'!A74=\"Total général\",\"\",'[1]au vêlage et infos vache et NEC'!A74))","v":"6667"}]
[null,null,{"$f":"IF('[1]au vêlage et infos vache et NEC'!A75=\"\",\"\",IF('[1]au vêlage et infos vache et NEC'!A75=\"Total général\",\"\",'[1]au vêlage et infos vache et NEC'!A75))","v":"6668"},{"$f":"IF('[1]au vêlage et infos vache et NEC'!B75=\"\",\"\",'[1]au vêlage et infos vache et NEC'!B75)","v":"GRACE"},null,false,{"$f":"IF(M79=\"\",FALSE,IF($G$12=TRUE,TRUE,FALSE))","v":false},false,false,{"$f":"IF(M79=\"\",FALSE,IF($J$12=TRUE,TRUE,FALSE))","v":false},false,null,{"$f":"IF('[1]au vêlage et infos vache et NEC'!A75=\"\",\"\",IF('[1]au vêlage et infos vache et NEC'!A75=\"Total général\",\"\",'[1]au vêlage et infos vache et NEC'!A75))","v":"6668"}]
[null,null,{"$f":"IF('[1]au vêlage et infos vache et NEC'!A76=\"\",\"\",IF('[1]au vêlage et infos vache et NEC'!A76=\"Total général\",\"\",'[1]au vêlage et infos vache et NEC'!A76))","v":"6669"},{"$f":"IF('[1]au vêlage et infos vache et NEC'!B76=\"\",\"\",'[1]au vêlage et infos vache et NEC'!B76)","v":"GAMINE"},null,false,false,false,false,false,false,null,{"$f":"IF('[1]au vêlage et infos vache et NEC'!A76=\"\",\"\",IF('[1]au vêlage et infos vache et NEC'!A76=\"Total général\",\"\",'[1]au vêlage et infos vache et NEC'!A76))","v":"6669"}]
[null,null,{"$f":"IF('[1]au vêlage et infos vache et NEC'!A77=\"\",\"\",IF('[1]au vêlage et infos vache et NEC'!A77=\"Total général\",\"\",'[1]au vêlage et infos vache et NEC'!A77))","v":"6670"},{"$f":"IF('[1]au vêlage et infos vache et NEC'!B77=\"\",\"\",'[1]au vêlage et infos vache et NEC'!B77)","v":"GEORGIE"},null,false,false,false,false,false,false,null,{"$f":"IF('[1]au vêlage et infos vache et NEC'!A77=\"\",\"\",IF('[1]au vêlage et infos vache et NEC'!A77=\"Total général\",\"\",'[1]au vêlage et infos vache et NEC'!A77))","v":"6670"}]
[null,null,{"$f":"IF('[1]au vêlage et infos vache et NEC'!A78=\"\",\"\",IF('[1]au vêlage et infos vache et NEC'!A78=\"Total général\",\"\",'[1]au vêlage et infos vache et NEC'!A78))","v":"6672"},{"$f":"IF('[1]au vêlage et infos vache et NEC'!B78=\"\",\"\",'[1]au vêlage et infos vache et NEC'!B78)","v":"GALAXIE"},null,false,false,false,false,false,false,null,{"$f":"IF('[1]au vêlage et infos vache et NEC'!A78=\"\",\"\",IF('[1]au vêlage et infos vache et NEC'!A78=\"Total général\",\"\",'[1]au vêlage et infos vache et NEC'!A78))","v":"6672"}]
[null,null,{"$f":"IF('[1]au vêlage et infos vache et NEC'!A79=\"\",\"\",IF('[1]au vêlage et infos vache et NEC'!A79=\"Total général\",\"\",'[1]au vêlage et infos vache et NEC'!A79))","v":"6675"},{"$f":"IF('[1]au vêlage et infos vache et NEC'!B79=\"\",\"\",'[1]au vêlage et infos vache et NEC'!B79)","v":"GLORIA"},null,false,false,false,false,false,false,null,{"$f":"IF('[1]au vêlage et infos vache et NEC'!A79=\"\",\"\",IF('[1]au vêlage et infos vache et NEC'!A79=\"Total général\",\"\",'[1]au vêlage et infos vache et NEC'!A79))","v":"6675"}]
[null,null,{"$f":"IF('[1]au vêlage et infos vache et NEC'!A80=\"\",\"\",IF('[1]au vêlage et infos vache et NEC'!A80=\"Total général\",\"\",'[1]au vêlage et infos vache et NEC'!A80))","v":"6676"},{"$f":"IF('[1]au vêlage et infos vache et NEC'!B80=\"\",\"\",'[1]au vêlage et infos vache et NEC'!B80)","v":"GINA"},null,false,false,false,false,false,false,null,{"$f":"IF('[1]au vêlage et infos vache et NEC'!A80=\"\",\"\",IF('[1]au vêlage et infos vache et NEC'!A80=\"Total général\",\"\",'[1]au vêlage et infos vache et NEC'!A80))","v":"6676"}]
[null,null,{"$f":"IF('[1]au vêlage et infos vache et NEC'!A81=\"\",\"\",IF('[1]au vêlage et infos vache et NEC'!A81=\"Total général\",\"\",'[1]au vêlage et infos vache et NEC'!A81))","v":"6677"},{"$f":"IF('[1]au vêlage et infos vache et NEC'!B81=\"\",\"\",'[1]au vêlage et infos vache et NEC'!B81)","v":"GERANIUM"},null,false,false,false,false,false,false,null,{"$f":"IF('[1]au vêlage et infos vache et NEC'!A81=\"\",\"\",IF('[1]au vêlage et infos vache et NEC'!A81=\"Total général\",\"\",'[1]au vêlage et infos vache et NEC'!A81))","v":"6677"}]
[null,null,{"$f":"IF('[1]au vêlage et infos vache et NEC'!A82=\"\",\"\",IF('[1]au vêlage et infos vache et NEC'!A82=\"Total général\",\"\",'[1]au vêlage et infos vache et NEC'!A82))","v":"6678"},{"$f":"IF('[1]au vêlage et infos vache et NEC'!B82=\"\",\"\",'[1]au vêlage et infos vache et NEC'!B82)","v":"GITANE"},null,false,false,false,false,false,false,null,{"$f":"IF('[1]au vêlage et infos vache et NEC'!A82=\"\",\"\",IF('[1]au vêlage et infos vache et NEC'!A82=\"Total général\",\"\",'[1]au vêlage et infos vache et NEC'!A82))","v":"6678"}]
[null,null,{"$f":"IF('[1]au vêlage et infos vache et NEC'!A83=\"\",\"\",IF('[1]au vêlage et infos vache et NEC'!A83=\"Total général\",\"\",'[1]au vêlage et infos vache et NEC'!A83))","v":"6680"},{"$f":"IF('[1]au vêlage et infos vache et NEC'!B83=\"\",\"\",'[1]au vêlage et infos vache et NEC'!B83)","v":"GIGI"},null,false,false,false,false,false,false,null,{"$f":"IF('[1]au vêlage et infos vache et NEC'!A83=\"\",\"\",IF('[1]au vêlage et infos vache et NEC'!A83=\"Total général\",\"\",'[1]au vêlage et infos vache et NEC'!A83))","v":"6680"}]
[null,null,{"$f":"IF('[1]au vêlage et infos vache et NEC'!A84=\"\",\"\",IF('[1]au vêlage et infos vache et NEC'!A84=\"Total général\",\"\",'[1]au vêlage et infos vache et NEC'!A84))","v":"6684"},{"$f":"IF('[1]au vêlage et infos vache et NEC'!B84=\"\",\"\",'[1]au vêlage et infos vache et NEC'!B84)","v":"GAZOLINE"},null,false,false,false,false,false,false,null,{"$f":"IF('[1]au vêlage et infos vache et NEC'!A84=\"\",\"\",IF('[1]au vêlage et infos vache et NEC'!A84=\"Total général\",\"\",'[1]au vêlage et infos vache et NEC'!A84))","v":"6684"}]
[null,null,{"$f":"IF('[1]au vêlage et infos vache et NEC'!A85=\"\",\"\",IF('[1]au vêlage et infos vache et NEC'!A85=\"Total général\",\"\",'[1]au vêlage et infos vache et NEC'!A85))","v":"6685"},{"$f":"IF('[1]au vêlage et infos vache et NEC'!B85=\"\",\"\",'[1]au vêlage et infos vache et NEC'!B85)","v":"GINETTE"},null,false,false,false,false,false,false,null,{"$f":"IF('[1]au vêlage et infos vache et NEC'!A85=\"\",\"\",IF('[1]au vêlage et infos vache et NEC'!A85=\"Total général\",\"\",'[1]au vêlage et infos vache et NEC'!A85))","v":"6685"}]
[null,null,{"$f":"IF('[1]au vêlage et infos vache et NEC'!A86=\"\",\"\",IF('[1]au vêlage et infos vache et NEC'!A86=\"Total général\",\"\",'[1]au vêlage et infos vache et NEC'!A86))","v":"6686"},{"$f":"IF('[1]au vêlage et infos vache et NEC'!B86=\"\",\"\",'[1]au vêlage et infos vache et NEC'!B86)","v":"GLACE"},null,false,false,false,false,false,false,null,{"$f":"IF('[1]au vêlage et infos vache et NEC'!A86=\"\",\"\",IF('[1]au vêlage et infos vache et NEC'!A86=\"Total général\",\"\",'[1]au vêlage et infos vache et NEC'!A86))","v":"6686"}]
[null,null,{"$f":"IF('[1]au vêlage et infos vache et NEC'!A87=\"\",\"\",IF('[1]au vêlage et infos vache et NEC'!A87=\"Total général\",\"\",'[1]au vêlage et infos vache et NEC'!A87))","v":"6687"},{"$f":"IF('[1]au vêlage et infos vache et NEC'!B87=\"\",\"\",'[1]au vêlage et infos vache et NEC'!B87)","v":"GUESS"},null,false,false,false,false,false,false,null,{"$f":"IF('[1]au vêlage et infos vache et NEC'!A87=\"\",\"\",IF('[1]au vêlage et infos vache et NEC'!A87=\"Total général\",\"\",'[1]au vêlage et infos vache et NEC'!A87))","v":"6687"}]
[null,null,{"$f":"IF('[1]au vêlage et infos vache et NEC'!A88=\"\",\"\",IF('[1]au vêlage et infos vache et NEC'!A88=\"Total général\",\"\",'[1]au vêlage et infos vache et NEC'!A88))","v":"6690"},{"$f":"IF('[1]au vêlage et infos vache et NEC'!B88=\"\",\"\",'[1]au vêlage et infos vache et NEC'!B88)","v":"(vide)"},null,false,false,false,false,false,false,null,{"$f":"IF('[1]au vêlage et infos vache et NEC'!A88=\"\",\"\",IF('[1]au vêlage et infos vache et NEC'!A88=\"Total général\",\"\",'[1]au vêlage et infos vache et NEC'!A88))","v":"6690"}]
[null,null,{"$f":"IF('[1]au vêlage et infos vache et NEC'!A89=\"\",\"\",IF('[1]au vêlage et infos vache et NEC'!A89=\"Total général\",\"\",'[1]au vêlage et infos vache et NEC'!A89))","v":"6691"},{"$f":"IF('[1]au vêlage et infos vache et NEC'!B89=\"\",\"\",'[1]au vêlage et infos vache et NEC'!B89)","v":"GIORGIA"},null,false,false,false,false,false,false,null,{"$f":"IF('[1]au vêlage et infos vache et NEC'!A89=\"\",\"\",IF('[1]au vêlage et infos vache et NEC'!A89=\"Total général\",\"\",'[1]au vêlage et infos vache et NEC'!A89))","v":"6691"}]
[null,null,{"$f":"IF('[1]au vêlage et infos vache et NEC'!A90=\"\",\"\",IF('[1]au vêlage et infos vache et NEC'!A90=\"Total général\",\"\",'[1]au vêlage et infos vache et NEC'!A90))","v":"6694"},{"$f":"IF('[1]au vêlage et infos vache et NEC'!B90=\"\",\"\",'[1]au vêlage et infos vache et NEC'!B90)","v":"GOMETTE"},null,false,false,false,false,false,false,null,{"$f":"IF('[1]au vêlage et infos vache et NEC'!A90=\"\",\"\",IF('[1]au vêlage et infos vache et NEC'!A90=\"Total général\",\"\",'[1]au vêlage et infos vache et NEC'!A90))","v":"6694"}]
[null,null,{"$f":"IF('[1]au vêlage et infos vache et NEC'!A91=\"\",\"\",IF('[1]au vêlage et infos vache et NEC'!A91=\"Total général\",\"\",'[1]au vêlage et infos vache et NEC'!A91))","v":"9693"},{"$f":"IF('[1]au vêlage et infos vache et NEC'!B91=\"\",\"\",'[1]au vêlage et infos vache et NEC'!B91)","v":"HONDA"},null,false,false,false,false,false,false,null,{"$f":"IF('[1]au vêlage et infos vache et NEC'!A91=\"\",\"\",IF('[1]au vêlage et infos vache et NEC'!A91=\"Total général\",\"\",'[1]au vêlage et infos vache et NEC'!A91))","v":"9693"}]
[null,null,{"$f":"IF('[1]au vêlage et infos vache et NEC'!A92=\"\",\"\",IF('[1]au vêlage et infos vache et NEC'!A92=\"Total général\",\"\",'[1]au vêlage et infos vache et NEC'!A92))","v":"9694"},{"$f":"IF('[1]au vêlage et infos vache et NEC'!B92=\"\",\"\",'[1]au vêlage et infos vache et NEC'!B92)","v":"HASTONIA"},null,false,false,false,false,false,false,null,{"$f":"IF('[1]au vêlage et infos vache et NEC'!A92=\"\",\"\",IF('[1]au vêlage et infos vache et NEC'!A92=\"Total général\",\"\",'[1]au vêlage et infos vache et NEC'!A92))","v":"9694"}]
[null,null,{"$f":"IF('[1]au vêlage et infos vache et NEC'!A93=\"\",\"\",IF('[1]au vêlage et infos vache et NEC'!A93=\"Total général\",\"\",'[1]au vêlage et infos vache et NEC'!A93))","v":"9695"},{"$f":"IF('[1]au vêlage et infos vache et NEC'!B93=\"\",\"\",'[1]au vêlage et infos vache et NEC'!B93)","v":"HAMELIA"},null,false,false,false,false,false,false,null,{"$f":"IF('[1]au vêlage et infos vache et NEC'!A93=\"\",\"\",IF('[1]au vêlage et infos vache et NEC'!A93=\"Total général\",\"\",'[1]au vêlage et infos vache et NEC'!A93))","v":"9695"}]
[null,null,{"$f":"IF('[1]au vêlage et infos vache et NEC'!A94=\"\",\"\",IF('[1]au vêlage et infos vache et NEC'!A94=\"Total général\",\"\",'[1]au vêlage et infos vache et NEC'!A94))","v":"9696"},{"$f":"IF('[1]au vêlage et infos vache et NEC'!B94=\"\",\"\",'[1]au vêlage et infos vache et NEC'!B94)","v":"HIRANA"},null,false,false,false,false,false,false,null,{"$f":"IF('[1]au vêlage et infos vache et NEC'!A94=\"\",\"\",IF('[1]au vêlage et infos vache et NEC'!A94=\"Total général\",\"\",'[1]au vêlage et infos vache et NEC'!A94))","v":"9696"}]
[null,null,{"$f":"IF('[1]au vêlage et infos vache et NEC'!A95=\"\",\"\",IF('[1]au vêlage et infos vache et NEC'!A95=\"Total général\",\"\",'[1]au vêlage et infos vache et NEC'!A95))","v":"9697"},{"$f":"IF('[1]au vêlage et infos vache et NEC'!B95=\"\",\"\",'[1]au vêlage et infos vache et NEC'!B95)","v":"HALPHA"},null,false,false,false,false,false,false,null,{"$f":"IF('[1]au vêlage et infos vache et NEC'!A95=\"\",\"\",IF('[1]au vêlage et infos vache et NEC'!A95=\"Total général\",\"\",'[1]au vêlage et infos vache et NEC'!A95))","v":"9697"}]
[null,null,{"$f":"IF('[1]au vêlage et infos vache et NEC'!A96=\"\",\"\",IF('[1]au vêlage et infos vache et NEC'!A96=\"Total général\",\"\",'[1]au vêlage et infos vache et NEC'!A96))","v":"9698"},{"$f":"IF('[1]au vêlage et infos vache et NEC'!B96=\"\",\"\",'[1]au vêlage et infos vache et NEC'!B96)","v":"HAJAX"},null,false,false,false,false,false,false,null,{"$f":"IF('[1]au vêlage et infos vache et NEC'!A96=\"\",\"\",IF('[1]au vêlage et infos vache et NEC'!A96=\"Total général\",\"\",'[1]au vêlage et infos vache et NEC'!A96))","v":"9698"}]
[null,null,{"$f":"IF('[1]au vêlage et infos vache et NEC'!A97=\"\",\"\",IF('[1]au vêlage et infos vache et NEC'!A97=\"Total général\",\"\",'[1]au vêlage et infos vache et NEC'!A97))","v":"9699"},{"$f":"IF('[1]au vêlage et infos vache et NEC'!B97=\"\",\"\",'[1]au vêlage et infos vache et NEC'!B97)","v":"HORTENCE"},null,false,false,false,false,false,false,null,{"$f":"IF('[1]au vêlage et infos vache et NEC'!A97=\"\",\"\",IF('[1]au vêlage et infos vache et NEC'!A97=\"Total général\",\"\",'[1]au vêlage et infos vache et NEC'!A97))","v":"9699"}]
[null,null,{"$f":"IF('[1]au vêlage et infos vache et NEC'!A98=\"\",\"\",IF('[1]au vêlage et infos vache et NEC'!A98=\"Total général\",\"\",'[1]au vêlage et infos vache et NEC'!A98))","v":"9700"},{"$f":"IF('[1]au vêlage et infos vache et NEC'!B98=\"\",\"\",'[1]au vêlage et infos vache et NEC'!B98)","v":"HAVANA"},null,false,false,false,false,false,false,null,{"$f":"IF('[1]au vêlage et infos vache et NEC'!A98=\"\",\"\",IF('[1]au vêlage et infos vache et NEC'!A98=\"Total général\",\"\",'[1]au vêlage et infos vache et NEC'!A98))","v":"9700"}]
[null,null,{"$f":"IF('[1]au vêlage et infos vache et NEC'!A99=\"\",\"\",IF('[1]au vêlage et infos vache et NEC'!A99=\"Total général\",\"\",'[1]au vêlage et infos vache et NEC'!A99))","v":"9701"},{"$f":"IF('[1]au vêlage et infos vache et NEC'!B99=\"\",\"\",'[1]au vêlage et infos vache et NEC'!B99)","v":"HIMALAYA"},null,false,false,false,false,false,false,null,{"$f":"IF('[1]au vêlage et infos vache et NEC'!A99=\"\",\"\",IF('[1]au vêlage et infos vache et NEC'!A99=\"Total général\",\"\",'[1]au vêlage et infos vache et NEC'!A99))","v":"9701"}]
[null,null,{"$f":"IF('[1]au vêlage et infos vache et NEC'!A100=\"\",\"\",IF('[1]au vêlage et infos vache et NEC'!A100=\"Total général\",\"\",'[1]au vêlage et infos vache et NEC'!A100))","v":"9704"},{"$f":"IF('[1]au vêlage et infos vache et NEC'!B100=\"\",\"\",'[1]au vêlage et infos vache et NEC'!B100)","v":"HIRIS"},null,false,false,false,false,false,false,null,{"$f":"IF('[1]au vêlage et infos vache et NEC'!A100=\"\",\"\",IF('[1]au vêlage et infos vache et NEC'!A100=\"Total général\",\"\",'[1]au vêlage et infos vache et NEC'!A100))","v":"9704"}]
[null,null,{"$f":"IF('[1]au vêlage et infos vache et NEC'!A101=\"\",\"\",IF('[1]au vêlage et infos vache et NEC'!A101=\"Total général\",\"\",'[1]au vêlage et infos vache et NEC'!A101))","v":"9705"},{"$f":"IF('[1]au vêlage et infos vache et NEC'!B101=\"\",\"\",'[1]au vêlage et infos vache et NEC'!B101)","v":"HUGNY"},null,false,false,false,false,false,false,null,{"$f":"IF('[1]au vêlage et infos vache et NEC'!A101=\"\",\"\",IF('[1]au vêlage et infos vache et NEC'!A101=\"Total général\",\"\",'[1]au vêlage et infos vache et NEC'!A101))","v":"9705"}]
[null,null,{"$f":"IF('[1]au vêlage et infos vache et NEC'!A102=\"\",\"\",IF('[1]au vêlage et infos vache et NEC'!A102=\"Total général\",\"\",'[1]au vêlage et infos vache et NEC'!A102))","v":"9706"},{"$f":"IF('[1]au vêlage et infos vache et NEC'!B102=\"\",\"\",'[1]au vêlage et infos vache et NEC'!B102)","v":"HADDITION"},null,false,false,false,false,false,false,null,{"$f":"IF('[1]au vêlage et infos vache et NEC'!A102=\"\",\"\",IF('[1]au vêlage et infos vache et NEC'!A102=\"Total général\",\"\",'[1]au vêlage et infos vache et NEC'!A102))","v":"9706"}]
[null,null,{"$f":"IF('[1]au vêlage et infos vache et NEC'!A103=\"\",\"\",IF('[1]au vêlage et infos vache et NEC'!A103=\"Total général\",\"\",'[1]au vêlage et infos vache et NEC'!A103))","v":"9707"},{"$f":"IF('[1]au vêlage et infos vache et NEC'!B103=\"\",\"\",'[1]au vêlage et infos vache et NEC'!B103)","v":"HACHETTE"},null,false,false,false,false,false,false,null,{"$f":"IF('[1]au vêlage et infos vache et NEC'!A103=\"\",\"\",IF('[1]au vêlage et infos vache et NEC'!A103=\"Total général\",\"\",'[1]au vêlage et infos vache et NEC'!A103))","v":"9707"}]
[null,null,{"$f":"IF('[1]au vêlage et infos vache et NEC'!A104=\"\",\"\",IF('[1]au vêlage et infos vache et NEC'!A104=\"Total général\",\"\",'[1]au vêlage et infos vache et NEC'!A104))","v":"9709"},{"$f":"IF('[1]au vêlage et infos vache et NEC'!B104=\"\",\"\",'[1]au vêlage et infos vache et NEC'!B104)","v":"HANASTASIA"},null,false,false,false,false,false,false,null,{"$f":"IF('[1]au vêlage et infos vache et NEC'!A104=\"\",\"\",IF('[1]au vêlage et infos vache et NEC'!A104=\"Total général\",\"\",'[1]au vêlage et infos vache et NEC'!A104))","v":"9709"}]
[null,null,{"$f":"IF('[1]au vêlage et infos vache et NEC'!A105=\"\",\"\",IF('[1]au vêlage et infos vache et NEC'!A105=\"Total général\",\"\",'[1]au vêlage et infos vache et NEC'!A105))","v":"9710"},{"$f":"IF('[1]au vêlage et infos vache et NEC'!B105=\"\",\"\",'[1]au vêlage et infos vache et NEC'!B105)","v":"HINDRA"},null,false,false,false,false,false,false,null,{"$f":"IF('[1]au vêlage et infos vache et NEC'!A105=\"\",\"\",IF('[1]au vêlage et infos vache et NEC'!A105=\"Total général\",\"\",'[1]au vêlage et infos vache et NEC'!A105))","v":"9710"}]
[null,null,{"$f":"IF('[1]au vêlage et infos vache et NEC'!A106=\"\",\"\",IF('[1]au vêlage et infos vache et NEC'!A106=\"Total général\",\"\",'[1]au vêlage et infos vache et NEC'!A106))","v":"9711"},{"$f":"IF('[1]au vêlage et infos vache et NEC'!B106=\"\",\"\",'[1]au vêlage et infos vache et NEC'!B106)","v":"HAUTAINE"},null,false,false,false,false,false,false,null,{"$f":"IF('[1]au vêlage et infos vache et NEC'!A106=\"\",\"\",IF('[1]au vêlage et infos vache et NEC'!A106=\"Total général\",\"\",'[1]au vêlage et infos vache et NEC'!A106))","v":"9711"}]
[null,null,{"$f":"IF('[1]au vêlage et infos vache et NEC'!A107=\"\",\"\",IF('[1]au vêlage et infos vache et NEC'!A107=\"Total général\",\"\",'[1]au vêlage et infos vache et NEC'!A107))","v":"9713"},{"$f":"IF('[1]au vêlage et infos vache et NEC'!B107=\"\",\"\",'[1]au vêlage et infos vache et NEC'!B107)","v":"HANEMONE"},null,false,false,false,false,false,false,null,{"$f":"IF('[1]au vêlage et infos vache et NEC'!A107=\"\",\"\",IF('[1]au vêlage et infos vache et NEC'!A107=\"Total général\",\"\",'[1]au vêlage et infos vache et NEC'!A107))","v":"9713"}]
[null,null,{"$f":"IF('[1]au vêlage et infos vache et NEC'!A108=\"\",\"\",IF('[1]au vêlage et infos vache et NEC'!A108=\"Total général\",\"\",'[1]au vêlage et infos vache et NEC'!A108))","v":"9714"},{"$f":"IF('[1]au vêlage et infos vache et NEC'!B108=\"\",\"\",'[1]au vêlage et infos vache et NEC'!B108)","v":"HALTESSE"},null,false,false,false,false,false,false,null,{"$f":"IF('[1]au vêlage et infos vache et NEC'!A108=\"\",\"\",IF('[1]au vêlage et infos vache et NEC'!A108=\"Total général\",\"\",'[1]au vêlage et infos vache et NEC'!A108))","v":"9714"}]
[null,null,{"$f":"IF('[1]au vêlage et infos vache et NEC'!A109=\"\",\"\",IF('[1]au vêlage et infos vache et NEC'!A109=\"Total général\",\"\",'[1]au vêlage et infos vache et NEC'!A109))","v":"9715"},{"$f":"IF('[1]au vêlage et infos vache et NEC'!B109=\"\",\"\",'[1]au vêlage et infos vache et NEC'!B109)","v":"HACALINE"},null,false,false,false,false,false,false,null,{"$f":"IF('[1]au vêlage et infos vache et NEC'!A109=\"\",\"\",IF('[1]au vêlage et infos vache et NEC'!A109=\"Total général\",\"\",'[1]au vêlage et infos vache et NEC'!A109))","v":"9715"}]
[null,null,{"$f":"IF('[1]au vêlage et infos vache et NEC'!A110=\"\",\"\",IF('[1]au vêlage et infos vache et NEC'!A110=\"Total général\",\"\",'[1]au vêlage et infos vache et NEC'!A110))","v":"9834"},{"$f":"IF('[1]au vêlage et infos vache et NEC'!B110=\"\",\"\",'[1]au vêlage et infos vache et NEC'!B110)","v":"CALINE"},null,false,false,false,false,false,false,null,{"$f":"IF('[1]au vêlage et infos vache et NEC'!A110=\"\",\"\",IF('[1]au vêlage et infos vache et NEC'!A110=\"Total général\",\"\",'[1]au vêlage et infos vache et NEC'!A110))","v":"9834"}]
[null,null,{"$f":"IF('[1]au vêlage et infos vache et NEC'!A111=\"\",\"\",IF('[1]au vêlage et infos vache et NEC'!A111=\"Total général\",\"\",'[1]au vêlage et infos vache et NEC'!A111))","v":"9836"},{"$f":"IF('[1]au vêlage et infos vache et NEC'!B111=\"\",\"\",'[1]au vêlage et infos vache et NEC'!B111)","v":"CABINE"},null,false,false,false,false,false,false,null,{"$f":"IF('[1]au vêlage et infos vache et NEC'!A111=\"\",\"\",IF('[1]au vêlage et infos vache et NEC'!A111=\"Total général\",\"\",'[1]au vêlage et infos vache et NEC'!A111))","v":"9836"}]
[null,null,{"$f":"IF('[1]au vêlage et infos vache et NEC'!A112=\"\",\"\",IF('[1]au vêlage et infos vache et NEC'!A112=\"Total général\",\"\",'[1]au vêlage et infos vache et NEC'!A112))","v":"9839"},{"$f":"IF('[1]au vêlage et infos vache et NEC'!B112=\"\",\"\",'[1]au vêlage et infos vache et NEC'!B112)","v":"CERISE"},null,false,false,false,false,false,false,null,{"$f":"IF('[1]au vêlage et infos vache et NEC'!A112=\"\",\"\",IF('[1]au vêlage et infos vache et NEC'!A112=\"Total général\",\"\",'[1]au vêlage et infos vache et NEC'!A112))","v":"9839"}]
[null,null,{"$f":"IF('[1]au vêlage et infos vache et NEC'!A113=\"\",\"\",IF('[1]au vêlage et infos vache et NEC'!A113=\"Total général\",\"\",'[1]au vêlage et infos vache et NEC'!A113))","v":"9840"},{"$f":"IF('[1]au vêlage et infos vache et NEC'!B113=\"\",\"\",'[1]au vêlage et infos vache et NEC'!B113)","v":"CHATAIGNE"},null,false,false,false,false,false,false,null,{"$f":"IF('[1]au vêlage et infos vache et NEC'!A113=\"\",\"\",IF('[1]au vêlage et infos vache et NEC'!A113=\"Total général\",\"\",'[1]au vêlage et infos vache et NEC'!A113))","v":"9840"}]
[null,null,{"$f":"IF('[1]au vêlage et infos vache et NEC'!A114=\"\",\"\",IF('[1]au vêlage et infos vache et NEC'!A114=\"Total général\",\"\",'[1]au vêlage et infos vache et NEC'!A114))","v":"9846"},{"$f":"IF('[1]au vêlage et infos vache et NEC'!B114=\"\",\"\",'[1]au vêlage et infos vache et NEC'!B114)","v":"CONCORDE"},null,false,false,false,false,false,false,null,{"$f":"IF('[1]au vêlage et infos vache et NEC'!A114=\"\",\"\",IF('[1]au vêlage et infos vache et NEC'!A114=\"Total général\",\"\",'[1]au vêlage et infos vache et NEC'!A114))","v":"9846"}]
[null,null,{"$f":"IF('[1]au vêlage et infos vache et NEC'!A115=\"\",\"\",IF('[1]au vêlage et infos vache et NEC'!A115=\"Total général\",\"\",'[1]au vêlage et infos vache et NEC'!A115))","v":"9852"},{"$f":"IF('[1]au vêlage et infos vache et NEC'!B115=\"\",\"\",'[1]au vêlage et infos vache et NEC'!B115)","v":"CATALANE"},null,false,false,false,false,false,false,null,{"$f":"IF('[1]au vêlage et infos vache et NEC'!A115=\"\",\"\",IF('[1]au vêlage et infos vache et NEC'!A115=\"Total général\",\"\",'[1]au vêlage et infos vache et NEC'!A115))","v":"9852"}]
[null,null,{"$f":"IF('[1]au vêlage et infos vache et NEC'!A116=\"\",\"\",IF('[1]au vêlage et infos vache et NEC'!A116=\"Total général\",\"\",'[1]au vêlage et infos vache et NEC'!A116))","v":"9853"},{"$f":"IF('[1]au vêlage et infos vache et NEC'!B116=\"\",\"\",'[1]au vêlage et infos vache et NEC'!B116)","v":"CLEMENTINE"},null,false,false,false,false,false,false,null,{"$f":"IF('[1]au vêlage et infos vache et NEC'!A116=\"\",\"\",IF('[1]au vêlage et infos vache et NEC'!A116=\"Total général\",\"\",'[1]au vêlage et infos vache et NEC'!A116))","v":"9853"}]
[null,null,{"$f":"IF('[1]au vêlage et infos vache et NEC'!A117=\"\",\"\",IF('[1]au vêlage et infos vache et NEC'!A117=\"Total général\",\"\",'[1]au vêlage et infos vache et NEC'!A117))","v":"9857"},{"$f":"IF('[1]au vêlage et infos vache et NEC'!B117=\"\",\"\",'[1]au vêlage et infos vache et NEC'!B117)","v":"DIABLESSE"},null,false,false,false,false,false,false,null,{"$f":"IF('[1]au vêlage et infos vache et NEC'!A117=\"\",\"\",IF('[1]au vêlage et infos vache et NEC'!A117=\"Total général\",\"\",'[1]au vêlage et infos vache et NEC'!A117))","v":"9857"}]
[null,null,{"$f":"IF('[1]au vêlage et infos vache et NEC'!A118=\"\",\"\",IF('[1]au vêlage et infos vache et NEC'!A118=\"Total général\",\"\",'[1]au vêlage et infos vache et NEC'!A118))","v":""},{"$f":"IF('[1]au vêlage et infos vache et NEC'!B118=\"\",\"\",'[1]au vêlage et infos vache et NEC'!B118)","v":""},null,"",false,false,false,false,false,null,{"$f":"IF('[1]au vêlage et infos vache et NEC'!A118=\"\",\"\",IF('[1]au vêlage et infos vache et NEC'!A118=\"Total général\",\"\",'[1]au vêlage et infos vache et NEC'!A118))","v":""}]
[null,null,{"$f":"IF('[1]au vêlage et infos vache et NEC'!A119=\"\",\"\",IF('[1]au vêlage et infos vache et NEC'!A119=\"Total général\",\"\",'[1]au vêlage et infos vache et NEC'!A119))","v":""},{"$f":"IF('[1]au vêlage et infos vache et NEC'!B119=\"\",\"\",'[1]au vêlage et infos vache et NEC'!B119)","v":""},null,"",false,false,false,false,false,null,{"$f":"IF('[1]au vêlage et infos vache et NEC'!A119=\"\",\"\",IF('[1]au vêlage et infos vache et NEC'!A119=\"Total général\",\"\",'[1]au vêlage et infos vache et NEC'!A119))","v":""}]
[null,null,{"$f":"IF('[1]au vêlage et infos vache et NEC'!A120=\"\",\"\",IF('[1]au vêlage et infos vache et NEC'!A120=\"Total général\",\"\",'[1]au vêlage et infos vache et NEC'!A120))","v":""},{"$f":"IF('[1]au vêlage et infos vache et NEC'!B120=\"\",\"\",'[1]au vêlage et infos vache et NEC'!B120)","v":""},null,"",false,false,false,false,false,null,{"$f":"IF('[1]au vêlage et infos vache et NEC'!A120=\"\",\"\",IF('[1]au vêlage et infos vache et NEC'!A120=\"Total général\",\"\",'[1]au vêlage et infos vache et NEC'!A120))","v":""}]
[null,null,{"$f":"IF('[1]au vêlage et infos vache et NEC'!A121=\"\",\"\",IF('[1]au vêlage et infos vache et NEC'!A121=\"Total général\",\"\",'[1]au vêlage et infos vache et NEC'!A121))","v":""},{"$f":"IF('[1]au vêlage et infos vache et NEC'!B121=\"\",\"\",'[1]au vêlage et infos vache et NEC'!B121)","v":""},null,"",false,false,false,false,false,null,{"$f":"IF('[1]au vêlage et infos vache et NEC'!A121=\"\",\"\",IF('[1]au vêlage et infos vache et NEC'!A121=\"Total général\",\"\",'[1]au vêlage et infos vache et NEC'!A121))","v":""}]
[null,null,{"$f":"IF('[1]au vêlage et infos vache et NEC'!A122=\"\",\"\",IF('[1]au vêlage et infos vache et NEC'!A122=\"Total général\",\"\",'[1]au vêlage et infos vache et NEC'!A122))","v":""},{"$f":"IF('[1]au vêlage et infos vache et NEC'!B122=\"\",\"\",'[1]au vêlage et infos vache et NEC'!B122)","v":""},null,"",false,false,false,false,false,null,{"$f":"IF('[1]au vêlage et infos vache et NEC'!A122=\"\",\"\",IF('[1]au vêlage et infos vache et NEC'!A122=\"Total général\",\"\",'[1]au vêlage et infos vache et NEC'!A122))","v":""}]
[null,null,{"$f":"IF('[1]au vêlage et infos vache et NEC'!A123=\"\",\"\",IF('[1]au vêlage et infos vache et NEC'!A123=\"Total général\",\"\",'[1]au vêlage et infos vache et NEC'!A123))","v":""},{"$f":"IF('[1]au vêlage et infos vache et NEC'!B123=\"\",\"\",'[1]au vêlage et infos vache et NEC'!B123)","v":""},null,"",false,false,false,false,false,null,{"$f":"IF('[1]au vêlage et infos vache et NEC'!A123=\"\",\"\",IF('[1]au vêlage et infos vache et NEC'!A123=\"Total général\",\"\",'[1]au vêlage et infos vache et NEC'!A123))","v":""}]
[null,null,{"$f":"IF('[1]au vêlage et infos vache et NEC'!A124=\"\",\"\",IF('[1]au vêlage et infos vache et NEC'!A124=\"Total général\",\"\",'[1]au vêlage et infos vache et NEC'!A124))","v":""},{"$f":"IF('[1]au vêlage et infos vache et NEC'!B124=\"\",\"\",'[1]au vêlage et infos vache et NEC'!B124)","v":""},null,"",false,false,false,false,false,null,{"$f":"IF('[1]au vêlage et infos vache et NEC'!A124=\"\",\"\",IF('[1]au vêlage et infos vache et NEC'!A124=\"Total général\",\"\",'[1]au vêlage et infos vache et NEC'!A124))","v":""}]
[null,null,{"$f":"IF('[1]au vêlage et infos vache et NEC'!A125=\"\",\"\",IF('[1]au vêlage et infos vache et NEC'!A125=\"Total général\",\"\",'[1]au vêlage et infos vache et NEC'!A125))","v":""},{"$f":"IF('[1]au vêlage et infos vache et NEC'!B125=\"\",\"\",'[1]au vêlage et infos vache et NEC'!B125)","v":""},null,"",false,false,false,false,false,null,{"$f":"IF('[1]au vêlage et infos vache et NEC'!A125=\"\",\"\",IF('[1]au vêlage et infos vache et NEC'!A125=\"Total général\",\"\",'[1]au vêlage et infos vache et NEC'!A125))","v":""}]
[null,null,{"$f":"IF('[1]au vêlage et infos vache et NEC'!A126=\"\",\"\",IF('[1]au vêlage et infos vache et NEC'!A126=\"Total général\",\"\",'[1]au vêlage et infos vache et NEC'!A126))","v":""},{"$f":"IF('[1]au vêlage et infos vache et NEC'!B126=\"\",\"\",'[1]au vêlage et infos vache et NEC'!B126)","v":""},null,{"$f":"IF(M130=\"\",\"\",IF($F$12=TRUE,TRUE,FALSE))","v":""},false,false,false,false,false,null,{"$f":"IF('[1]au vêlage et infos vache et NEC'!A126=\"\",\"\",IF('[1]au vêlage et infos vache et NEC'!A126=\"Total général\",\"\",'[1]au vêlage et infos vache et NEC'!A126))","v":""}]
[null,null,{"$f":"IF('[1]au vêlage et infos vache et NEC'!A127=\"\",\"\",IF('[1]au vêlage et infos vache et NEC'!A127=\"Total général\",\"\",'[1]au vêlage et infos vache et NEC'!A127))","v":""},{"$f":"IF('[1]au vêlage et infos vache et NEC'!B127=\"\",\"\",'[1]au vêlage et infos vache et NEC'!B127)","v":""},null,{"$f":"IF(M131=\"\",\"\",IF($F$12=TRUE,TRUE,FALSE))","v":""},false,false,false,false,false,null,{"$f":"IF('[1]au vêlage et infos vache et NEC'!A127=\"\",\"\",IF('[1]au vêlage et infos vache et NEC'!A127=\"Total général\",\"\",'[1]au vêlage et infos vache et NEC'!A127))","v":""}]
[null,null,{"$f":"IF('[1]au vêlage et infos vache et NEC'!A128=\"\",\"\",IF('[1]au vêlage et infos vache et NEC'!A128=\"Total général\",\"\",'[1]au vêlage et infos vache et NEC'!A128))","v":""},{"$f":"IF('[1]au vêlage et infos vache et NEC'!B128=\"\",\"\",'[1]au vêlage et infos vache et NEC'!B128)","v":""},null,"",false,false,false,false,false,null,{"$f":"IF('[1]au vêlage et infos vache et NEC'!A128=\"\",\"\",IF('[1]au vêlage et infos vache et NEC'!A128=\"Total général\",\"\",'[1]au vêlage et infos vache et NEC'!A128))","v":""}]
[null,null,{"$f":"IF('[1]au vêlage et infos vache et NEC'!A129=\"\",\"\",IF('[1]au vêlage et infos vache et NEC'!A129=\"Total général\",\"\",'[1]au vêlage et infos vache et NEC'!A129))","v":""},{"$f":"IF('[1]au vêlage et infos vache et NEC'!B129=\"\",\"\",'[1]au vêlage et infos vache et NEC'!B129)","v":""},null,"",false,false,false,false,false,null,{"$f":"IF('[1]au vêlage et infos vache et NEC'!A129=\"\",\"\",IF('[1]au vêlage et infos vache et NEC'!A129=\"Total général\",\"\",'[1]au vêlage et infos vache et NEC'!A129))","v":""}]
[null,null,{"$f":"IF('[1]au vêlage et infos vache et NEC'!A130=\"\",\"\",IF('[1]au vêlage et infos vache et NEC'!A130=\"Total général\",\"\",'[1]au vêlage et infos vache et NEC'!A130))","v":""},{"$f":"IF('[1]au vêlage et infos vache et NEC'!B130=\"\",\"\",'[1]au vêlage et infos vache et NEC'!B130)","v":""},null,"",false,false,false,false,false,null,{"$f":"IF('[1]au vêlage et infos vache et NEC'!A130=\"\",\"\",IF('[1]au vêlage et infos vache et NEC'!A130=\"Total général\",\"\",'[1]au vêlage et infos vache et NEC'!A130))","v":""}]
[null,null,{"$f":"IF('[1]au vêlage et infos vache et NEC'!A131=\"\",\"\",IF('[1]au vêlage et infos vache et NEC'!A131=\"Total général\",\"\",'[1]au vêlage et infos vache et NEC'!A131))","v":""},{"$f":"IF('[1]au vêlage et infos vache et NEC'!B131=\"\",\"\",'[1]au vêlage et infos vache et NEC'!B131)","v":""},null,"",false,false,false,false,false,null,{"$f":"IF('[1]au vêlage et infos vache et NEC'!A131=\"\",\"\",IF('[1]au vêlage et infos vache et NEC'!A131=\"Total général\",\"\",'[1]au vêlage et infos vache et NEC'!A131))","v":""}]
[null,null,{"$f":"IF('[1]au vêlage et infos vache et NEC'!A132=\"\",\"\",IF('[1]au vêlage et infos vache et NEC'!A132=\"Total général\",\"\",'[1]au vêlage et infos vache et NEC'!A132))","v":""},{"$f":"IF('[1]au vêlage et infos vache et NEC'!B132=\"\",\"\",'[1]au vêlage et infos vache et NEC'!B132)","v":""},null,"",false,false,false,false,false,null,{"$f":"IF('[1]au vêlage et infos vache et NEC'!A132=\"\",\"\",IF('[1]au vêlage et infos vache et NEC'!A132=\"Total général\",\"\",'[1]au vêlage et infos vache et NEC'!A132))","v":""}]
[null,null,{"$f":"IF('[1]au vêlage et infos vache et NEC'!A133=\"\",\"\",IF('[1]au vêlage et infos vache et NEC'!A133=\"Total général\",\"\",'[1]au vêlage et infos vache et NEC'!A133))","v":""},{"$f":"IF('[1]au vêlage et infos vache et NEC'!B133=\"\",\"\",'[1]au vêlage et infos vache et NEC'!B133)","v":""},null,"",false,false,false,false,false,null,{"$f":"IF('[1]au vêlage et infos vache et NEC'!A133=\"\",\"\",IF('[1]au vêlage et infos vache et NEC'!A133=\"Total général\",\"\",'[1]au vêlage et infos vache et NEC'!A133))","v":""}]
[null,null,{"$f":"IF('[1]au vêlage et infos vache et NEC'!A134=\"\",\"\",IF('[1]au vêlage et infos vache et NEC'!A134=\"Total général\",\"\",'[1]au vêlage et infos vache et NEC'!A134))","v":""},{"$f":"IF('[1]au vêlage et infos vache et NEC'!B134=\"\",\"\",'[1]au vêlage et infos vache et NEC'!B134)","v":""},null,"",false,false,false,false,false,null,{"$f":"IF('[1]au vêlage et infos vache et NEC'!A134=\"\",\"\",IF('[1]au vêlage et infos vache et NEC'!A134=\"Total général\",\"\",'[1]au vêlage et infos vache et NEC'!A134))","v":""}]
[null,null,{"$f":"IF('[1]au vêlage et infos vache et NEC'!A135=\"\",\"\",IF('[1]au vêlage et infos vache et NEC'!A135=\"Total général\",\"\",'[1]au vêlage et infos vache et NEC'!A135))","v":""},{"$f":"IF('[1]au vêlage et infos vache et NEC'!B135=\"\",\"\",'[1]au vêlage et infos vache et NEC'!B135)","v":""},null,"",false,false,false,false,false,null,{"$f":"IF('[1]au vêlage et infos vache et NEC'!A135=\"\",\"\",IF('[1]au vêlage et infos vache et NEC'!A135=\"Total général\",\"\",'[1]au vêlage et infos vache et NEC'!A135))","v":""}]
[null,null,{"$f":"IF('[1]au vêlage et infos vache et NEC'!A136=\"\",\"\",IF('[1]au vêlage et infos vache et NEC'!A136=\"Total général\",\"\",'[1]au vêlage et infos vache et NEC'!A136))","v":""},{"$f":"IF('[1]au vêlage et infos vache et NEC'!B136=\"\",\"\",'[1]au vêlage et infos vache et NEC'!B136)","v":""},null,"",false,false,false,false,false,null,{"$f":"IF('[1]au vêlage et infos vache et NEC'!A136=\"\",\"\",IF('[1]au vêlage et infos vache et NEC'!A136=\"Total général\",\"\",'[1]au vêlage et infos vache et NEC'!A136))","v":""}]

{"sheet":"trait prev veaux","index":8,"n_rows":140,"n_cols":18,"rows_kept":140,"cut":false,"hidden":false,"merged":[[138,3,138,4],[139,3,139,4],[132,3,132,4],[133,3,133,4],[134,3,134,4],[135,3,135,4],[136,3,136,4],[137,3,137,4],[126,3,126,4],[127,3,127,4],[128,3,128,4],[129,3,129,4],[130,3,130,4],[131,3,131,4],[120,3,120,4],[121,3,121,4],[122,3,122,4],[123,3,123,4],[124,3,124,4],[125,3,125,4],[114,3,114,4],[115,3,115,4],[116,3,116,4],[117,3,117,4],[118,3,118,4],[119,3,119,4],[108,3,108,4],[109,3,109,4],[110,3,110,4],[111,3,111,4],[112,3,112,4],[113,3,113,4],[102,3,102,4],[103,3,103,4],[104,3,104,4],[105,3,105,4],[106,3,106,4],[107,3,107,4],[96,3,96,4],[97,3,97,4],[98,3,98,4],[99,3,99,4],[100,3,100,4],[101,3,101,4],[90,3,90,4],[91,3,91,4],[92,3,92,4],[93,3,93,4],[94,3,94,4],[95,3,95,4],[84,3,84,4],[85,3,85,4],[86,3,86,4],[87,3,87,4],[88,3,88,4],[89,3,89,4],[78,3,78,4],[79,3,79,4],[80,3,80,4],[81,3,81,4],[82,3,82,4],[83,3,83,4],[72,3,72,4],[73,3,73,4],[74,3,74,4],[75,3,75,4],[76,3,76,4],[77,3,77,4],[66,3,66,4],[67,3,67,4],[68,3,68,4],[69,3,69,4],[70,3,70,4],[71,3,71,4],[60,3,60,4],[61,3,61,4],[62,3,62,4],[63,3,63,4],[64,3,64,4],[65,3,65,4],[54,3,54,4],[55,3,55,4],[56,3,56,4],[57,3,57,4],[58,3,58,4],[59,3,59,4],[48,3,48,4],[49,3,49,4],[50,3,50,4],[51,3,51,4],[52,3,52,4],[53,3,53,4],[42,3,42,4],[43,3,43,4],[44,3,44,4],[45,3,45,4],[46,3,46,4],[47,3,47,4],[36,3,36,4],[37,3,37,4],[38,3,38,4],[39,3,39,4],[40,3,40,4],[41,3,41,4],[30,3,30,4],[31,3,31,4],[32,3,32,4],[33,3,33,4],[34,3,34,4],[35,3,35,4],[24,3,24,4],[25,3,25,4],[26,3,26,4],[27,3,27,4],[28,3,28,4],[29,3,29,4],[18,3,18,4],[19,3,19,4],[20,3,20,4],[21,3,21,4],[22,3,22,4],[23,3,23,4],[13,3,13,4],[14,3,14,4],[15,3,15,4],[16,3,16,4],[17,3,17,4],[7,2,7,4],[8,2,8,4],[9,2,9,16],[10,3,11,4],[10,5,10,16],[1,0,1,1],[1,2,1,16],[2,2,2,16],[3,2,3,4],[4,0,6,1],[4,2,4,4],[5,2,5,4],[6,2,6,4],[12,2,12,4]]}
[]
["retour à la page d'accueil",null,"Traitements préventifs réalisés sur les veaux "]
[null,null,"Etape 1 : DESCRIPTION DES TRAITEMENTS"]
[null,null,"Traitement N°….",null,null,1,2,3,4,5,6,7,8,9,10,11,12]
[{"$f":"[1]veaux!$B$1","v":"54474307"},null,"Stade de réalisation",null,null,1,1]
[null,null,"Maladie ciblée",null,null,"désinfection du cordon","vidage ombilic"]
[null,null,"Nom du produit N°1"]
[null,null,"Nom du produit N°2"]
[null,null,"Type de traitement",null,null,3,2]
[null,null,"Etape 2 : COCHER LES VEAUX CONCERNEES"]
[null,null,"N° 4 chiffres du veau","N° 4 chiffres de la mère nourricière (cas de TE ou adoption)",null,"Après avoir noté le N° 4 chiffres de chaque veau né, cocher les cases pour les veaux ayant reçu le traitement concerné.                                                                                 Il est possible de sélectionner tous les veaux et d'en désélectionner quelques uns."]
[null,null,null,null,null,1,2,3,4,5,6,7,8,9,10,11,12]
[null,null,"Cocher/décocher tous les animaux",null,null,false,false,false,false,false,false,false,false,false,false,false,false,"Remarques particulières sur l'animal"]
[null,null,null,null,null,{"$f":"IF(C14=\"\",\"\",IF($F$13=TRUE,TRUE,FALSE))","v":""},{"$f":"IF(C14=\"\",\"\",IF($G$13=TRUE,TRUE,FALSE))","v":""},{"$f":"IF(C14=\"\",\"\",IF($H$13=TRUE,TRUE,FALSE))","v":""},{"$f":"IF(C14=\"\",\"\",IF($I$13=TRUE,TRUE,FALSE))","v":""},{"$f":"IF(C14=\"\",\"\",IF($J$13=TRUE,TRUE,FALSE))","v":""},{"$f":"IF(C14=\"\",\"\",IF($K$13=TRUE,TRUE,FALSE))","v":""},{"$f":"IF(C14=\"\",\"\",IF($L$13=TRUE,TRUE,FALSE))","v":""},{"$f":"IF(C14=\"\",\"\",IF($M$13=TRUE,TRUE,FALSE))","v":""},{"$f":"IF(C14=\"\",\"\",IF($N$13=TRUE,TRUE,FALSE))","v":""},{"$f":"IF(C14=\"\",\"\",IF($O$13=TRUE,TRUE,FALSE))","v":""},{"$f":"IF(C14=\"\",\"\",IF($P$13=TRUE,TRUE,FALSE))","v":""},{"$f":"IF(C14=\"\",\"\",IF($Q$13=TRUE,TRUE,FALSE))","v":""}]
[null,null,null,null,null,"","","","","","","","","","","",""]
[null,null,null,null,null,"","","","","","","","","","","",""]
[null,null,null,null,null,"",false,"","","","","","","","","",""]
[null,null,null,null,null,"","","","","","","","","","","",""]
[null,null,null,null,null,"","","","","","","","","","","",""]
[null,null,null,null,null,"","","","","","","","","","","",""]
[null,null,null,null,null,"","","","","","","","","","","",""]
[null,null,null,null,null,"","","","","","","","","","","",""]
[null,null,null,null,null,"","","","","","","","","","","",""]
[null,null,null,null,null,"","","","","","","","","","","",""]
[null,null,null,null,null,"","","","","","","","","","","",""]
[null,null,null,null,null,"","","","","","","","","","","",""]
[null,null,null,null,null,"","","","","","","","","","","",""]
[null,null,null,null,null,"","","","","","","","","","","",""]
[null,null,null,null,null,"","","","","","","","","","","",""]
[null,null,null,null,null,"","","","","","","","","","","",""]
[null,null,null,null,null,"","","","","","","","","","","",""]
[null,null,null,null,null,"","","","","","","",false,"","","",""]
[null,null,null,null,null,"","","","","","","",{"$f":"IF(C33=\"\",\"\",IF($M$13=TRUE,TRUE,FALSE))","v":""},"","","",""]
[null,null,null,null,null,"","","","","","","","","","","",""]
[null,null,null,null,null,"","","","","","","","","","","",""]
[null,null,null,null,null,"","","","","","","","","","","",""]
[null,null,null,null,null,"","","","","","","","","","","",""]
[null,null,null,null,null,"","","","","","","","","","","",""]
[null,null,null,null,null,"","","","","","","","","","","",""]
[null,null,null,null,null,"","","","","","","","","","","",""]
[null,null,null,null,null,"","","","","","","","","","","",""]
[null,null,null,null,null,"","","","","","","","","","","",""]
[null,null,null,null,null,"","","","","","","","","","","",""]
[null,null,null,null,null,"","","","","","","","","","","",""]
[null,null,null,null,null,"","","","","","","","","","","",""]
[null,null,null,null,null,{"$f":"IF(C46=\"\",\"\",IF($F$13=TRUE,TRUE,FALSE))","v":""},{"$f":"IF(C46=\"\",\"\",IF($G$13=TRUE,TRUE,FALSE))","v":""},{"$f":"IF(C46=\"\",\"\",IF($H$13=TRUE,TRUE,FALSE))","v":""},{"$f":"IF(C46=\"\",\"\",IF($I$13=TRUE,TRUE,FALSE))","v":""},{"$f":"IF(C46=\"\",\"\",IF($J$13=TRUE,TRUE,FALSE))","v":""},{"$f":"IF(C46=\"\",\"\",IF($K$13=TRUE,TRUE,FALSE))","v":""},{"$f":"IF(C46=\"\",\"\",IF($L$13=TRUE,TRUE,FALSE))","v":""},"",{"$f":"IF(C46=\"\",\"\",IF($N$13=TRUE,TRUE,FALSE))","v":""},{"$f":"IF(C46=\"\",\"\",IF($O$13=TRUE,TRUE,FALSE))","v":""},{"$f":"IF(C46=\"\",\"\",IF($P$13=TRUE,TRUE,FALSE))","v":""},{"$f":"IF(C46=\"\",\"\",IF($Q$13=TRUE,TRUE,FALSE))","v":""}]
[null,null,null,null,null,"","","","","","","","","","","",""]
[null,null,null,null,null,"","","","","","","","","","","",""]
[null,null,null,null,null,"","","","","","","","","","","",""]
[null,null,null,null,null,"","","","","","","","","","","",""]
[null,null,null,null,null,"","","","","","","","","","","",""]
[null,null,null,null,null,"","","","","","","","","","","",""]
[null,null,null,null,null,"","","","","","","","","","","",""]
[null,null,null,null,null,"","","","","","","","","","","",""]
[null,null,null,null,null,"","","","","","","","","","","",""]
[null,null,null,null,null,"","","","","","","","","","","",""]
[null,null,null,null,null,"","","","","","","","","","","",""]
[null,null,null,null,null,"","","","","","","","","","","",""]
[null,null,null,null,null,"","","","","","","","","","","",""]
[null,null,null,null,null,"","","","","","","","","","","",""]
[null,null,null,null,null,"","","","","","","","","","","",""]
[null,null,null,null,null,"","","","","","","","","","","",""]
[null,null,null,null,null,"","","","","","","","","","","",""]
[null,null,null,null,null,"","","","","","","","","","","",""]
[null,null,null,null,null,"","","","","","","",{"$f":"IF(C65=\"\",\"\",IF($M$13=TRUE,TRUE,FALSE))","v":""},"","","",""]
[null,null,null,null,null,"","","","","","","","","","","",""]
[null,null,null,null,null,"","","","","","","","","","","",""]
[null,null,null,null,null,"","","","","","","","","","","",""]
[null,null,null,null,null,"","","","","","","","","","","",""]
[null,null,null,null,null,"","","","","","","","","","","",""]
[null,null,null,null,null,"","","","","","","","","","","",""]
[null,null,null,null,null,"","","","","","","","","","","",""]
[null,null,null,null,null,"","","","","","","","","","","",""]
[null,null,null,null,null,"","","","","","","","","","","",""]
[null,null,null,null,null,"","","","","","","","","","","",""]
[null,null,null,null,null,"","","","","","","","","","","",""]
[null,null,null,null,null,"","","","","","","","","","","",""]
[null,null,null,null,null,{"$f":"IF(C78=\"\",\"\",IF($F$13=TRUE,TRUE,FALSE))","v":""},{"$f":"IF(C78=\"\",\"\",IF($G$13=TRUE,TRUE,FALSE))","v":""},{"$f":"IF(C78=\"\",\"\",IF($H$13=TRUE,TRUE,FALSE))","v":""},{"$f":"IF(C78=\"\",\"\",IF($I$13=TRUE,TRUE,FALSE))","v":""},{"$f":"IF(C78=\"\",\"\",IF($J$13=TRUE,TRUE,FALSE))","v":""},{"$f":"IF(C78=\"\",\"\",IF($K$13=TRUE,TRUE,FALSE))","v":""},{"$f":"IF(C78=\"\",\"\",IF($L$13=TRUE,TRUE,FALSE))","v":""},"",{"$f":"IF(C78=\"\",\"\",IF($N$13=TRUE,TRUE,FALSE))","v":""},{"$f":"IF(C78=\"\",\"\",IF($O$13=TRUE,TRUE,FALSE))","v":""},{"$f":"IF(C78=\"\",\"\",IF($P$13=TRUE,TRUE,FALSE))","v":""},{"$f":"IF(C78=\"\",\"\",IF($Q$13=TRUE,TRUE,FALSE))","v":""}]
[null,null,null,null,null,"","","","","","","","","","","",""]
[null,null,null,null,null,"","","","","","","","","","","",""]
[null,null,null,null,null,"","","","","","","","","","","",""]
[null,null,null,null,null,"","","","","","","","","","","",""]
[null,null,null,null,null,"","","","","","","","","","","",""]
[null,null,null,null,null,"","","","","","","","","","","",""]
[null,null,null,null,null,"","","","","","","","","","","",""]
[null,null,null,null,null,"","","","","","","","","","","",""]
[null,null,null,null,null,"","","","","","","","","","","",""]
[null,null,null,null,null,"","","","","","","","","","","",""]
[null,null,null,null,null,"","","","","","","","","","","",""]
[null,null,null,null,null,"","","","","","","","","","","",""]
[null,null,null,null,null,"","","","","","","","","","","",""]
[null,null,null,null,null,"","","","","","","","","","","",""]
[null,null,null,null,null,"","","","","","","","","","","",""]
[null,null,null,null,null,"","","","","","","","","","","",""]
[null,null,null,null,null,"","","","","","","","","","","",""]
[null,null,null,null,null,"","","","","","","","","","","",""]
[null,null,null,null,null,"","","","","","","",{"$f":"IF(C97=\"\",\"\",IF($M$13=TRUE,TRUE,FALSE))","v":""},"","","",""]
[null,null,null,null,null,"","","","","","","","","","","",""]
[null,null,null,null,null,"","","","","","","","","","","",""]
[null,null,null,null,null,"","","","","","","","","","","",""]
[null,null,null,null,null,"","","","","","","","","","","",""]
[null,null,null,null,null,"","","","","","","","","","","",""]
[null,null,null,null,null,"","","","","","","","","","","",""]
[null,null,null,null,null,"","","","","","","","","","","",""]
[null,null,null,null,null,"","","","","","","","","","","",""]
[null,null,null,null,null,"","","","","","","","","","","",""]
[null,null,null,null,null,"","","","","","","","","","","",""]
[null,null,null,null,null,"","","","","","","","","","","",""]
[null,null,null,null,null,"","","","","","","","","","","",""]
[null,null,null,null,null,{"$f":"IF(C110=\"\",\"\",IF($F$13=TRUE,TRUE,FALSE))","v":""},{"$f":"IF(C110=\"\",\"\",IF($G$13=TRUE,TRUE,FALSE))","v":""},{"$f":"IF(C110=\"\",\"\",IF($H$13=TRUE,TRUE,FALSE))","v":""},{"$f":"IF(C110=\"\",\"\",IF($I$13=TRUE,TRUE,FALSE))","v":""},{"$f":"IF(C110=\"\",\"\",IF($J$13=TRUE,TRUE,FALSE))","v":""},{"$f":"IF(C110=\"\",\"\",IF($K$13=TRUE,TRUE,FALSE))","v":""},{"$f":"IF(C110=\"\",\"\",IF($L$13=TRUE,TRUE,FALSE))","v":""},"",{"$f":"IF(C110=\"\",\"\",IF($N$13=TRUE,TRUE,FALSE))","v":""},{"$f":"IF(C110=\"\",\"\",IF($O$13=TRUE,TRUE,FALSE))","v":""},{"$f":"IF(C110=\"\",\"\",IF($P$13=TRUE,TRUE,FALSE))","v":""},{"$f":"IF(C110=\"\",\"\",IF($Q$13=TRUE,TRUE,FALSE))","v":""}]
[null,null,null,null,null,"","","","","","","","","","","",""]
[null,null,null,null,null,"","","","","","","","","","","",""]
[null,null,null,null,null,"","","","","","","","","","","",""]
[null,null,null,null,null,"","","","","","","","","","","",""]
[null,null,null,null,null,"","","","","","","","","","","",""]
[null,null,null,null,null,"","","","","","","","","","","",""]
[null,null,null,null,null,"","","","","","","","","","","",""]
[null,null,null,null,null,"","","","","","","","","","","",""]
[null,null,null,null,null,"","","","","","","","","","","",""]
[null,null,null,null,null,"","","","","","","","","","","",""]
[null,null,null,null,null,"","","","","","","","","","","",""]
[null,null,null,null,null,"","","","","","","","","","","",""]
[null,null,null,null,null,"","","","","","","","","","","",""]
[null,null,null,null,null,"","","","","","","","","","","",""]
[null,null,null,null,null,"","","","","","","","","","","",""]
[null,null,null,null,null,"","","","","","","","","","","",""]
[null,null,null,null,null,"","","","","","","","","","","",""]
[null,null,null,null,null,"","","","","","","","","","","",""]
[null,null,null,null,null,"","","","","","","",{"$f":"IF(C129=\"\",\"\",IF($M$13=TRUE,TRUE,FALSE))","v":""},"","","",""]
[null,null,null,null,null,"","","","","","","","","","","",""]
[null,null,null,null,null,"","","","","","","","","","","",""]
[null,null,null,null,null,"","","","","","","","","","","",""]
[null,null,null,null,null,"","","","","","","","","","","",""]
[null,null,null,null,null,"","","","","","","","","","","",""]
[null,null,null,null,null,"","","","","","","","","","","",""]
[null,null,null,null,null,"","","","","","","","","","","",""]
[null,null,null,null,null,"","","","","","","","","","","",""]
[null,null,null,null,null,"","","","","","","","","","","",""]
[null,null,null,null,null,"","","","","","","","","","","",""]
[null,null,null,null,null,"","","","","","","","","","","",""]

{"sheet":"comportement veau au sevrage","index":9,"n_rows":262,"n_cols":5,"rows_kept":262,"cut":false,"hidden":false,"merged":[[3,3,4,3],[1,0,1,1],[0,0,0,1],[1,2,1,4]]}
["retour à la page d'accueil"]
[{"$f":"[1]veaux!$B$1","v":"54474307"},null,"Enregistrement du comportement du veau autour du  sevrage"]
[]
[null,null,"N° 4 chiffres du veau","note"]
[null,null,null,null,"Remarques particulières sur l'animal"]
[null,null,{"$f":"IF('trait prev veaux'!C14=\"\",\"\",'trait prev veaux'!C14)","v":""}]
[null,null,{"$f":"IF('trait prev veaux'!C15=\"\",\"\",'trait prev veaux'!C15)","v":""}]
[null,null,{"$f":"IF('trait prev veaux'!C16=\"\",\"\",'trait prev veaux'!C16)","v":""}]
[null,null,{"$f":"IF('trait prev veaux'!C17=\"\",\"\",'trait prev veaux'!C17)","v":""}]
[null,null,{"$f":"IF('trait prev veaux'!C18=\"\",\"\",'trait prev veaux'!C18)","v":""}]
[null,null,{"$f":"IF('trait prev veaux'!C19=\"\",\"\",'trait prev veaux'!C19)","v":""}]
[null,null,{"$f":"IF('trait prev veaux'!C20=\"\",\"\",'trait prev veaux'!C20)","v":""}]
[null,null,{"$f":"IF('trait prev veaux'!C21=\"\",\"\",'trait prev veaux'!C21)","v":""}]
[null,null,{"$f":"IF('trait prev veaux'!C22=\"\",\"\",'trait prev veaux'!C22)","v":""}]
[null,null,{"$f":"IF('trait prev veaux'!C23=\"\",\"\",'trait prev veaux'!C23)","v":""}]
[null,null,{"$f":"IF('trait prev veaux'!C24=\"\",\"\",'trait prev veaux'!C24)","v":""}]
[null,null,{"$f":"IF('trait prev veaux'!C25=\"\",\"\",'trait prev veaux'!C25)","v":""}]
[null,null,{"$f":"IF('trait prev veaux'!C26=\"\",\"\",'trait prev veaux'!C26)","v":""}]
[null,null,{"$f":"IF('trait prev veaux'!C27=\"\",\"\",'trait prev veaux'!C27)","v":""}]
[null,null,{"$f":"IF('trait prev veaux'!C28=\"\",\"\",'trait prev veaux'!C28)","v":""}]
[null,null,{"$f":"IF('trait prev veaux'!C29=\"\",\"\",'trait prev veaux'!C29)","v":""}]
[null,null,{"$f":"IF('trait prev veaux'!C30=\"\",\"\",'trait prev veaux'!C30)","v":""}]
[null,null,{"$f":"IF('trait prev veaux'!C31=\"\",\"\",'trait prev veaux'!C31)","v":""}]
[null,null,{"$f":"IF('trait prev veaux'!C32=\"\",\"\",'trait prev veaux'!C32)","v":""}]
[null,null,{"$f":"IF('trait prev veaux'!C33=\"\",\"\",'trait prev veaux'!C33)","v":""}]
[null,null,{"$f":"IF('trait prev veaux'!C34=\"\",\"\",'trait prev veaux'!C34)","v":""}]
[null,null,{"$f":"IF('trait prev veaux'!C35=\"\",\"\",'trait prev veaux'!C35)","v":""}]
[null,null,{"$f":"IF('trait prev veaux'!C36=\"\",\"\",'trait prev veaux'!C36)","v":""}]
[null,null,{"$f":"IF('trait prev veaux'!C37=\"\",\"\",'trait prev veaux'!C37)","v":""}]
[null,null,{"$f":"IF('trait prev veaux'!C38=\"\",\"\",'trait prev veaux'!C38)","v":""}]
[null,null,{"$f":"IF('trait prev veaux'!C39=\"\",\"\",'trait prev veaux'!C39)","v":""}]
[null,null,{"$f":"IF('trait prev veaux'!C40=\"\",\"\",'trait prev veaux'!C40)","v":""}]
[null,null,{"$f":"IF('trait prev veaux'!C41=\"\",\"\",'trait prev veaux'!C41)","v":""}]
[null,null,{"$f":"IF('trait prev veaux'!C42=\"\",\"\",'trait prev veaux'!C42)","v":""}]
[null,null,{"$f":"IF('trait prev veaux'!C43=\"\",\"\",'trait prev veaux'!C43)","v":""}]
[null,null,{"$f":"IF('trait prev veaux'!C44=\"\",\"\",'trait prev veaux'!C44)","v":""}]
[null,null,{"$f":"IF('trait prev veaux'!C45=\"\",\"\",'trait prev veaux'!C45)","v":""}]
[null,null,{"$f":"IF('trait prev veaux'!C46=\"\",\"\",'trait prev veaux'!C46)","v":""}]
[null,null,{"$f":"IF('trait prev veaux'!C47=\"\",\"\",'trait prev veaux'!C47)","v":""}]
[null,null,{"$f":"IF('trait prev veaux'!C48=\"\",\"\",'trait prev veaux'!C48)","v":""}]
[null,null,{"$f":"IF('trait prev veaux'!C49=\"\",\"\",'trait prev veaux'!C49)","v":""}]
[null,null,{"$f":"IF('trait prev veaux'!C50=\"\",\"\",'trait prev veaux'!C50)","v":""}]
[null,null,{"$f":"IF('trait prev veaux'!C51=\"\",\"\",'trait prev veaux'!C51)","v":""}]
[null,null,{"$f":"IF('trait prev veaux'!C52=\"\",\"\",'trait prev veaux'!C52)","v":""}]
[null,null,{"$f":"IF('trait prev veaux'!C53=\"\",\"\",'trait prev veaux'!C53)","v":""}]
[null,null,{"$f":"IF('trait prev veaux'!C54=\"\",\"\",'trait prev veaux'!C54)","v":""}]
[null,null,{"$f":"IF('trait prev veaux'!C55=\"\",\"\",'trait prev veaux'!C55)","v":""}]
[null,null,{"$f":"IF('trait prev veaux'!C56=\"\",\"\",'trait prev veaux'!C56)","v":""}]
[null,null,{"$f":"IF('trait prev veaux'!C57=\"\",\"\",'trait prev veaux'!C57)","v":""}]
[null,null,{"$f":"IF('trait prev veaux'!C58=\"\",\"\",'trait prev veaux'!C58)","v":""}]
[null,null,{"$f":"IF('trait prev veaux'!C59=\"\",\"\",'trait prev veaux'!C59)","v":""}]
[null,null,{"$f":"IF('trait prev veaux'!C60=\"\",\"\",'trait prev veaux'!C60)","v":""}]
[null,null,{"$f":"IF('trait prev veaux'!C61=\"\",\"\",'trait prev veaux'!C61)","v":""}]
[null,null,{"$f":"IF('trait prev veaux'!C62=\"\",\"\",'trait prev veaux'!C62)","v":""}]
[null,null,{"$f":"IF('trait prev veaux'!C63=\"\",\"\",'trait prev veaux'!C63)","v":""}]
[null,null,{"$f":"IF('trait prev veaux'!C64=\"\",\"\",'trait prev veaux'!C64)","v":""}]
[null,null,{"$f":"IF('trait prev veaux'!C65=\"\",\"\",'trait prev veaux'!C65)","v":""}]
[null,null,{"$f":"IF('trait prev veaux'!C66=\"\",\"\",'trait prev veaux'!C66)","v":""}]
[null,null,{"$f":"IF('trait prev veaux'!C67=\"\",\"\",'trait prev veaux'!C67)","v":""}]
[null,null,{"$f":"IF('trait prev veaux'!C68=\"\",\"\",'trait prev veaux'!C68)","v":""}]
[null,null,{"$f":"IF('trait prev veaux'!C69=\"\",\"\",'trait prev veaux'!C69)","v":""}]
[null,null,{"$f":"IF('trait prev veaux'!C70=\"\",\"\",'trait prev veaux'!C70)","v":""}]
[null,null,{"$f":"IF('trait prev veaux'!C71=\"\",\"\",'trait prev veaux'!C71)","v":""}]
[null,null,{"$f":"IF('trait prev veaux'!C72=\"\",\"\",'trait prev veaux'!C72)","v":""}]
[null,null,{"$f":"IF('trait prev veaux'!C73=\"\",\"\",'trait prev veaux'!C73)","v":""}]
[null,null,{"$f":"IF('trait prev veaux'!C74=\"\",\"\",'trait prev veaux'!C74)","v":""}]
[null,null,{"$f":"IF('trait prev veaux'!C75=\"\",\"\",'trait prev veaux'!C75)","v":""}]
[null,null,{"$f":"IF('trait prev veaux'!C76=\"\",\"\",'trait prev veaux'!C76)","v":""}]
[null,null,{"$f":"IF('trait prev veaux'!C77=\"\",\"\",'trait prev veaux'!C77)","v":""}]
[null,null,{"$f":"IF('trait prev veaux'!C78=\"\",\"\",'trait prev veaux'!C78)","v":""}]
[null,null,{"$f":"IF('trait prev veaux'!C79=\"\",\"\",'trait prev veaux'!C79)","v":""}]
[null,null,{"$f":"IF('trait prev veaux'!C80=\"\",\"\",'trait prev veaux'!C80)","v":""}]
[null,null,{"$f":"IF('trait prev veaux'!C81=\"\",\"\",'trait prev veaux'!C81)","v":""}]
[null,null,{"$f":"IF('trait prev veaux'!C82=\"\",\"\",'trait prev veaux'!C82)","v":""}]
[null,null,{"$f":"IF('trait prev veaux'!C83=\"\",\"\",'trait prev veaux'!C83)","v":""}]
[null,null,{"$f":"IF('trait prev veaux'!C84=\"\",\"\",'trait prev veaux'!C84)","v":""}]
[null,null,{"$f":"IF('trait prev veaux'!C85=\"\",\"\",'trait prev veaux'!C85)","v":""}]
[null,null,{"$f":"IF('trait prev veaux'!C86=\"\",\"\",'trait prev veaux'!C86)","v":""}]
[null,null,{"$f":"IF('trait prev veaux'!C87=\"\",\"\",'trait prev veaux'!C87)","v":""}]
[null,null,{"$f":"IF('trait prev veaux'!C88=\"\",\"\",'trait prev veaux'!C88)","v":""}]
[null,null,{"$f":"IF('trait prev veaux'!C89=\"\",\"\",'trait prev veaux'!C89)","v":""}]
[null,null,{"$f":"IF('trait prev veaux'!C90=\"\",\"\",'trait prev veaux'!C90)","v":""}]
[null,null,{"$f":"IF('trait prev veaux'!C91=\"\",\"\",'trait prev veaux'!C91)","v":""}]
[null,null,{"$f":"IF('trait prev veaux'!C92=\"\",\"\",'trait prev veaux'!C92)","v":""}]
[null,null,{"$f":"IF('trait prev veaux'!C93=\"\",\"\",'trait prev veaux'!C93)","v":""}]
[null,null,{"$f":"IF('trait prev veaux'!C94=\"\",\"\",'trait prev veaux'!C94)","v":""}]
[null,null,{"$f":"IF('trait prev veaux'!C95=\"\",\"\",'trait prev veaux'!C95)","v":""}]
[null,null,{"$f":"IF('trait prev veaux'!C96=\"\",\"\",'trait prev veaux'!C96)","v":""}]
[null,null,{"$f":"IF('trait prev veaux'!C97=\"\",\"\",'trait prev veaux'!C97)","v":""}]
[null,null,{"$f":"IF('trait prev veaux'!C98=\"\",\"\",'trait prev veaux'!C98)","v":""}]
[null,null,{"$f":"IF('trait prev veaux'!C99=\"\",\"\",'trait prev veaux'!C99)","v":""}]
[null,null,{"$f":"IF('trait prev veaux'!C100=\"\",\"\",'trait prev veaux'!C100)","v":""}]
[null,null,{"$f":"IF('trait prev veaux'!C101=\"\",\"\",'trait prev veaux'!C101)","v":""}]
[null,null,{"$f":"IF('trait prev veaux'!C102=\"\",\"\",'trait prev veaux'!C102)","v":""}]
[null,null,{"$f":"IF('trait prev veaux'!C103=\"\",\"\",'trait prev veaux'!C103)","v":""}]
[null,null,{"$f":"IF('trait prev veaux'!C104=\"\",\"\",'trait prev veaux'!C104)","v":""}]
[null,null,{"$f":"IF('trait prev veaux'!C105=\"\",\"\",'trait prev veaux'!C105)","v":""}]
[null,null,{"$f":"IF('trait prev veaux'!C106=\"\",\"\",'trait prev veaux'!C106)","v":""}]
[null,null,{"$f":"IF('trait prev veaux'!C107=\"\",\"\",'trait prev veaux'!C107)","v":""}]
[null,null,{"$f":"IF('trait prev veaux'!C108=\"\",\"\",'trait prev veaux'!C108)","v":""}]
[null,null,{"$f":"IF('trait prev veaux'!C109=\"\",\"\",'trait prev veaux'!C109)","v":""}]
[null,null,{"$f":"IF('trait prev veaux'!C110=\"\",\"\",'trait prev veaux'!C110)","v":""}]
[null,null,{"$f":"IF('trait prev veaux'!C111=\"\",\"\",'trait prev veaux'!C111)","v":""}]
[null,null,{"$f":"IF('trait prev veaux'!C112=\"\",\"\",'trait prev veaux'!C112)","v":""}]
[null,null,{"$f":"IF('trait prev veaux'!C113=\"\",\"\",'trait prev veaux'!C113)","v":""}]
[null,null,{"$f":"IF('trait prev veaux'!C114=\"\",\"\",'trait prev veaux'!C114)","v":""}]
[null,null,{"$f":"IF('trait prev veaux'!C115=\"\",\"\",'trait prev veaux'!C115)","v":""}]
[null,null,{"$f":"IF('trait prev veaux'!C116=\"\",\"\",'trait prev veaux'!C116)","v":""}]
[null,null,{"$f":"IF('trait prev veaux'!C117=\"\",\"\",'trait prev veaux'!C117)","v":""}]
[null,null,{"$f":"IF('trait prev veaux'!C118=\"\",\"\",'trait prev veaux'!C118)","v":""}]
[null,null,{"$f":"IF('trait prev veaux'!C119=\"\",\"\",'trait prev veaux'!C119)","v":""}]
[null,null,{"$f":"IF('trait prev veaux'!C120=\"\",\"\",'trait prev veaux'!C120)","v":""}]
[null,null,{"$f":"IF('trait prev veaux'!C121=\"\",\"\",'trait prev veaux'!C121)","v":""}]
[null,null,{"$f":"IF('trait prev veaux'!C122=\"\",\"\",'trait prev veaux'!C122)","v":""}]
[null,null,{"$f":"IF('trait prev veaux'!C123=\"\",\"\",'trait prev veaux'!C123)","v":""}]
[null,null,{"$f":"IF('trait prev veaux'!C124=\"\",\"\",'trait prev veaux'!C124)","v":""}]
[null,null,{"$f":"IF('trait prev veaux'!C125=\"\",\"\",'trait prev veaux'!C125)","v":""}]
[null,null,{"$f":"IF('trait prev veaux'!C126=\"\",\"\",'trait prev veaux'!C126)","v":""}]
[null,null,{"$f":"IF('trait prev veaux'!C127=\"\",\"\",'trait prev veaux'!C127)","v":""}]
[null,null,{"$f":"IF('trait prev veaux'!C128=\"\",\"\",'trait prev veaux'!C128)","v":""}]
[null,null,{"$f":"IF('trait prev veaux'!C129=\"\",\"\",'trait prev veaux'!C129)","v":""}]
[null,null,{"$f":"IF('trait prev veaux'!C130=\"\",\"\",'trait prev veaux'!C130)","v":""}]
[null,null,{"$f":"IF('trait prev veaux'!C131=\"\",\"\",'trait prev veaux'!C131)","v":""}]
[null,null,{"$f":"IF('trait prev veaux'!C132=\"\",\"\",'trait prev veaux'!C132)","v":""}]
[null,null,{"$f":"IF('trait prev veaux'!C133=\"\",\"\",'trait prev veaux'!C133)","v":""}]
[null,null,{"$f":"IF('trait prev veaux'!C134=\"\",\"\",'trait prev veaux'!C134)","v":""}]
[null,null,{"$f":"IF('trait prev veaux'!C135=\"\",\"\",'trait prev veaux'!C135)","v":""}]
[null,null,{"$f":"IF('trait prev veaux'!C136=\"\",\"\",'trait prev veaux'!C136)","v":""}]
[null,null,{"$f":"IF('trait prev veaux'!C137=\"\",\"\",'trait prev veaux'!C137)","v":""}]
[null,null,{"$f":"IF('trait prev veaux'!C138=\"\",\"\",'trait prev veaux'!C138)","v":""}]
[null,null,{"$f":"IF('trait prev veaux'!C139=\"\",\"\",'trait prev veaux'!C139)","v":""}]
[null,null,{"$f":"IF('trait prev veaux'!C140=\"\",\"\",'trait prev veaux'!C140)","v":""}]
[null,null,{"$f":"IF('trait prev veaux'!#REF!=\"\",\"\",'trait prev veaux'!#REF!)","v":{"$error":"#REF!"}}]
[null,null,{"$f":"IF('trait prev veaux'!#REF!=\"\",\"\",'trait prev veaux'!#REF!)","v":{"$error":"#REF!"}}]
[null,null,{"$f":"IF('trait prev veaux'!#REF!=\"\",\"\",'trait prev veaux'!#REF!)","v":{"$error":"#REF!"}}]
[null,null,{"$f":"IF('trait prev veaux'!#REF!=\"\",\"\",'trait prev veaux'!#REF!)","v":{"$error":"#REF!"}}]
[null,null,{"$f":"IF('trait prev veaux'!#REF!=\"\",\"\",'trait prev veaux'!#REF!)","v":{"$error":"#REF!"}}]
[null,null,{"$f":"IF('trait prev veaux'!#REF!=\"\",\"\",'trait prev veaux'!#REF!)","v":{"$error":"#REF!"}}]
[null,null,{"$f":"IF('trait prev veaux'!#REF!=\"\",\"\",'trait prev veaux'!#REF!)","v":{"$error":"#REF!"}}]
[null,null,{"$f":"IF('trait prev veaux'!#REF!=\"\",\"\",'trait prev veaux'!#REF!)","v":{"$error":"#REF!"}}]
[null,null,{"$f":"IF('trait prev veaux'!#REF!=\"\",\"\",'trait prev veaux'!#REF!)","v":{"$error":"#REF!"}}]
[null,null,{"$f":"IF('trait prev veaux'!#REF!=\"\",\"\",'trait prev veaux'!#REF!)","v":{"$error":"#REF!"}}]
[null,null,{"$f":"IF('trait prev veaux'!#REF!=\"\",\"\",'trait prev veaux'!#REF!)","v":{"$error":"#REF!"}}]
[null,null,{"$f":"IF('trait prev veaux'!#REF!=\"\",\"\",'trait prev veaux'!#REF!)","v":{"$error":"#REF!"}}]
[null,null,{"$f":"IF('trait prev veaux'!#REF!=\"\",\"\",'trait prev veaux'!#REF!)","v":{"$error":"#REF!"}}]
[null,null,{"$f":"IF('trait prev veaux'!#REF!=\"\",\"\",'trait prev veaux'!#REF!)","v":{"$error":"#REF!"}}]
[null,null,{"$f":"IF('trait prev veaux'!#REF!=\"\",\"\",'trait prev veaux'!#REF!)","v":{"$error":"#REF!"}}]
[null,null,{"$f":"IF('trait prev veaux'!#REF!=\"\",\"\",'trait prev veaux'!#REF!)","v":{"$error":"#REF!"}}]
[null,null,{"$f":"IF('trait prev veaux'!#REF!=\"\",\"\",'trait prev veaux'!#REF!)","v":{"$error":"#REF!"}}]
[null,null,{"$f":"IF('trait prev veaux'!#REF!=\"\",\"\",'trait prev veaux'!#REF!)","v":{"$error":"#REF!"}}]
[null,null,{"$f":"IF('trait prev veaux'!#REF!=\"\",\"\",'trait prev veaux'!#REF!)","v":{"$error":"#REF!"}}]
[null,null,{"$f":"IF('trait prev veaux'!#REF!=\"\",\"\",'trait prev veaux'!#REF!)","v":{"$error":"#REF!"}}]
[null,null,{"$f":"IF('trait prev veaux'!#REF!=\"\",\"\",'trait prev veaux'!#REF!)","v":{"$error":"#REF!"}}]
[null,null,{"$f":"IF('trait prev veaux'!#REF!=\"\",\"\",'trait prev veaux'!#REF!)","v":{"$error":"#REF!"}}]
[null,null,{"$f":"IF('trait prev veaux'!#REF!=\"\",\"\",'trait prev veaux'!#REF!)","v":{"$error":"#REF!"}}]
[null,null,{"$f":"IF('trait prev veaux'!#REF!=\"\",\"\",'trait prev veaux'!#REF!)","v":{"$error":"#REF!"}}]
[null,null,{"$f":"IF('trait prev veaux'!#REF!=\"\",\"\",'trait prev veaux'!#REF!)","v":{"$error":"#REF!"}}]
[null,null,{"$f":"IF('trait prev veaux'!#REF!=\"\",\"\",'trait prev veaux'!#REF!)","v":{"$error":"#REF!"}}]
[null,null,{"$f":"IF('trait prev veaux'!#REF!=\"\",\"\",'trait prev veaux'!#REF!)","v":{"$error":"#REF!"}}]
[null,null,{"$f":"IF('trait prev veaux'!#REF!=\"\",\"\",'trait prev veaux'!#REF!)","v":{"$error":"#REF!"}}]
[null,null,{"$f":"IF('trait prev veaux'!#REF!=\"\",\"\",'trait prev veaux'!#REF!)","v":{"$error":"#REF!"}}]
[null,null,{"$f":"IF('trait prev veaux'!#REF!=\"\",\"\",'trait prev veaux'!#REF!)","v":{"$error":"#REF!"}}]
[null,null,{"$f":"IF('trait prev veaux'!#REF!=\"\",\"\",'trait prev veaux'!#REF!)","v":{"$error":"#REF!"}}]
[null,null,{"$f":"IF('trait prev veaux'!#REF!=\"\",\"\",'trait prev veaux'!#REF!)","v":{"$error":"#REF!"}}]
[null,null,{"$f":"IF('trait prev veaux'!#REF!=\"\",\"\",'trait prev veaux'!#REF!)","v":{"$error":"#REF!"}}]
[null,null,{"$f":"IF('trait prev veaux'!#REF!=\"\",\"\",'trait prev veaux'!#REF!)","v":{"$error":"#REF!"}}]
[null,null,{"$f":"IF('trait prev veaux'!#REF!=\"\",\"\",'trait prev veaux'!#REF!)","v":{"$error":"#REF!"}}]
[null,null,{"$f":"IF('trait prev veaux'!#REF!=\"\",\"\",'trait prev veaux'!#REF!)","v":{"$error":"#REF!"}}]
[null,null,{"$f":"IF('trait prev veaux'!#REF!=\"\",\"\",'trait prev veaux'!#REF!)","v":{"$error":"#REF!"}}]
[null,null,{"$f":"IF('trait prev veaux'!#REF!=\"\",\"\",'trait prev veaux'!#REF!)","v":{"$error":"#REF!"}}]
[null,null,{"$f":"IF('trait prev veaux'!#REF!=\"\",\"\",'trait prev veaux'!#REF!)","v":{"$error":"#REF!"}}]
[null,null,{"$f":"IF('trait prev veaux'!#REF!=\"\",\"\",'trait prev veaux'!#REF!)","v":{"$error":"#REF!"}}]
[null,null,{"$f":"IF('trait prev veaux'!#REF!=\"\",\"\",'trait prev veaux'!#REF!)","v":{"$error":"#REF!"}}]
[null,null,{"$f":"IF('trait prev veaux'!#REF!=\"\",\"\",'trait prev veaux'!#REF!)","v":{"$error":"#REF!"}}]
[null,null,{"$f":"IF('trait prev veaux'!#REF!=\"\",\"\",'trait prev veaux'!#REF!)","v":{"$error":"#REF!"}}]
[null,null,{"$f":"IF('trait prev veaux'!#REF!=\"\",\"\",'trait prev veaux'!#REF!)","v":{"$error":"#REF!"}}]
[null,null,{"$f":"IF('trait prev veaux'!#REF!=\"\",\"\",'trait prev veaux'!#REF!)","v":{"$error":"#REF!"}}]
[null,null,{"$f":"IF('trait prev veaux'!#REF!=\"\",\"\",'trait prev veaux'!#REF!)","v":{"$error":"#REF!"}}]
[null,null,{"$f":"IF('trait prev veaux'!#REF!=\"\",\"\",'trait prev veaux'!#REF!)","v":{"$error":"#REF!"}}]
[null,null,{"$f":"IF('trait prev veaux'!#REF!=\"\",\"\",'trait prev veaux'!#REF!)","v":{"$error":"#REF!"}}]
[null,null,{"$f":"IF('trait prev veaux'!#REF!=\"\",\"\",'trait prev veaux'!#REF!)","v":{"$error":"#REF!"}}]
[null,null,{"$f":"IF('trait prev veaux'!#REF!=\"\",\"\",'trait prev veaux'!#REF!)","v":{"$error":"#REF!"}}]
[null,null,{"$f":"IF('trait prev veaux'!#REF!=\"\",\"\",'trait prev veaux'!#REF!)","v":{"$error":"#REF!"}}]
[null,null,{"$f":"IF('trait prev veaux'!#REF!=\"\",\"\",'trait prev veaux'!#REF!)","v":{"$error":"#REF!"}}]
[null,null,{"$f":"IF('trait prev veaux'!#REF!=\"\",\"\",'trait prev veaux'!#REF!)","v":{"$error":"#REF!"}}]
[null,null,{"$f":"IF('trait prev veaux'!#REF!=\"\",\"\",'trait prev veaux'!#REF!)","v":{"$error":"#REF!"}}]
[null,null,{"$f":"IF('trait prev veaux'!#REF!=\"\",\"\",'trait prev veaux'!#REF!)","v":{"$error":"#REF!"}}]
[null,null,{"$f":"IF('trait prev veaux'!#REF!=\"\",\"\",'trait prev veaux'!#REF!)","v":{"$error":"#REF!"}}]
[null,null,{"$f":"IF('trait prev veaux'!#REF!=\"\",\"\",'trait prev veaux'!#REF!)","v":{"$error":"#REF!"}}]
[null,null,{"$f":"IF('trait prev veaux'!#REF!=\"\",\"\",'trait prev veaux'!#REF!)","v":{"$error":"#REF!"}}]
[null,null,{"$f":"IF('trait prev veaux'!#REF!=\"\",\"\",'trait prev veaux'!#REF!)","v":{"$error":"#REF!"}}]
[null,null,{"$f":"IF('trait prev veaux'!#REF!=\"\",\"\",'trait prev veaux'!#REF!)","v":{"$error":"#REF!"}}]
[null,null,{"$f":"IF('trait prev veaux'!#REF!=\"\",\"\",'trait prev veaux'!#REF!)","v":{"$error":"#REF!"}}]
[null,null,{"$f":"IF('trait prev veaux'!#REF!=\"\",\"\",'trait prev veaux'!#REF!)","v":{"$error":"#REF!"}}]
[null,null,{"$f":"IF('trait prev veaux'!#REF!=\"\",\"\",'trait prev veaux'!#REF!)","v":{"$error":"#REF!"}}]
[null,null,{"$f":"IF('trait prev veaux'!#REF!=\"\",\"\",'trait prev veaux'!#REF!)","v":{"$error":"#REF!"}}]
[null,null,{"$f":"IF('trait prev veaux'!#REF!=\"\",\"\",'trait prev veaux'!#REF!)","v":{"$error":"#REF!"}}]
[null,null,{"$f":"IF('trait prev veaux'!#REF!=\"\",\"\",'trait prev veaux'!#REF!)","v":{"$error":"#REF!"}}]
[null,null,{"$f":"IF('trait prev veaux'!#REF!=\"\",\"\",'trait prev veaux'!#REF!)","v":{"$error":"#REF!"}}]
[null,null,{"$f":"IF('trait prev veaux'!#REF!=\"\",\"\",'trait prev veaux'!#REF!)","v":{"$error":"#REF!"}}]
[null,null,{"$f":"IF('trait prev veaux'!#REF!=\"\",\"\",'trait prev veaux'!#REF!)","v":{"$error":"#REF!"}}]
[null,null,{"$f":"IF('trait prev veaux'!#REF!=\"\",\"\",'trait prev veaux'!#REF!)","v":{"$error":"#REF!"}}]
[null,null,{"$f":"IF('trait prev veaux'!#REF!=\"\",\"\",'trait prev veaux'!#REF!)","v":{"$error":"#REF!"}}]
[null,null,{"$f":"IF('trait prev veaux'!#REF!=\"\",\"\",'trait prev veaux'!#REF!)","v":{"$error":"#REF!"}}]
[null,null,{"$f":"IF('trait prev veaux'!#REF!=\"\",\"\",'trait prev veaux'!#REF!)","v":{"$error":"#REF!"}}]
[null,null,{"$f":"IF('trait prev veaux'!#REF!=\"\",\"\",'trait prev veaux'!#REF!)","v":{"$error":"#REF!"}}]
[null,null,{"$f":"IF('trait prev veaux'!#REF!=\"\",\"\",'trait prev veaux'!#REF!)","v":{"$error":"#REF!"}}]
[null,null,{"$f":"IF('trait prev veaux'!#REF!=\"\",\"\",'trait prev veaux'!#REF!)","v":{"$error":"#REF!"}}]
[null,null,{"$f":"IF('trait prev veaux'!#REF!=\"\",\"\",'trait prev veaux'!#REF!)","v":{"$error":"#REF!"}}]
[null,null,{"$f":"IF('trait prev veaux'!#REF!=\"\",\"\",'trait prev veaux'!#REF!)","v":{"$error":"#REF!"}}]
[null,null,{"$f":"IF('trait prev veaux'!#REF!=\"\",\"\",'trait prev veaux'!#REF!)","v":{"$error":"#REF!"}}]
[null,null,{"$f":"IF('trait prev veaux'!#REF!=\"\",\"\",'trait prev veaux'!#REF!)","v":{"$error":"#REF!"}}]
[null,null,{"$f":"IF('trait prev veaux'!#REF!=\"\",\"\",'trait prev veaux'!#REF!)","v":{"$error":"#REF!"}}]
[null,null,{"$f":"IF('trait prev veaux'!#REF!=\"\",\"\",'trait prev veaux'!#REF!)","v":{"$error":"#REF!"}}]
[null,null,{"$f":"IF('trait prev veaux'!#REF!=\"\",\"\",'trait prev veaux'!#REF!)","v":{"$error":"#REF!"}}]
[null,null,{"$f":"IF('trait prev veaux'!#REF!=\"\",\"\",'trait prev veaux'!#REF!)","v":{"$error":"#REF!"}}]
[null,null,{"$f":"IF('trait prev veaux'!#REF!=\"\",\"\",'trait prev veaux'!#REF!)","v":{"$error":"#REF!"}}]
[null,null,{"$f":"IF('trait prev veaux'!#REF!=\"\",\"\",'trait prev veaux'!#REF!)","v":{"$error":"#REF!"}}]
[null,null,{"$f":"IF('trait prev veaux'!#REF!=\"\",\"\",'trait prev veaux'!#REF!)","v":{"$error":"#REF!"}}]
[null,null,{"$f":"IF('trait prev veaux'!#REF!=\"\",\"\",'trait prev veaux'!#REF!)","v":{"$error":"#REF!"}}]
[null,null,{"$f":"IF('trait prev veaux'!#REF!=\"\",\"\",'trait prev veaux'!#REF!)","v":{"$error":"#REF!"}}]
[null,null,{"$f":"IF('trait prev veaux'!#REF!=\"\",\"\",'trait prev veaux'!#REF!)","v":{"$error":"#REF!"}}]
[null,null,{"$f":"IF('trait prev veaux'!#REF!=\"\",\"\",'trait prev veaux'!#REF!)","v":{"$error":"#REF!"}}]
[null,null,{"$f":"IF('trait prev veaux'!#REF!=\"\",\"\",'trait prev veaux'!#REF!)","v":{"$error":"#REF!"}}]
[null,null,{"$f":"IF('trait prev veaux'!#REF!=\"\",\"\",'trait prev veaux'!#REF!)","v":{"$error":"#REF!"}}]
[null,null,{"$f":"IF('trait prev veaux'!#REF!=\"\",\"\",'trait prev veaux'!#REF!)","v":{"$error":"#REF!"}}]
[null,null,{"$f":"IF('trait prev veaux'!#REF!=\"\",\"\",'trait prev veaux'!#REF!)","v":{"$error":"#REF!"}}]
[null,null,{"$f":"IF('trait prev veaux'!#REF!=\"\",\"\",'trait prev veaux'!#REF!)","v":{"$error":"#REF!"}}]
[null,null,{"$f":"IF('trait prev veaux'!#REF!=\"\",\"\",'trait prev veaux'!#REF!)","v":{"$error":"#REF!"}}]
[null,null,{"$f":"IF('trait prev veaux'!#REF!=\"\",\"\",'trait prev veaux'!#REF!)","v":{"$error":"#REF!"}}]
[null,null,{"$f":"IF('trait prev veaux'!#REF!=\"\",\"\",'trait prev veaux'!#REF!)","v":{"$error":"#REF!"}}]
[null,null,{"$f":"IF('trait prev veaux'!#REF!=\"\",\"\",'trait prev veaux'!#REF!)","v":{"$error":"#REF!"}}]
[null,null,{"$f":"IF('trait prev veaux'!#REF!=\"\",\"\",'trait prev veaux'!#REF!)","v":{"$error":"#REF!"}}]
[null,null,{"$f":"IF('trait prev veaux'!#REF!=\"\",\"\",'trait prev veaux'!#REF!)","v":{"$error":"#REF!"}}]
[null,null,{"$f":"IF('trait prev veaux'!#REF!=\"\",\"\",'trait prev veaux'!#REF!)","v":{"$error":"#REF!"}}]
[null,null,{"$f":"IF('trait prev veaux'!#REF!=\"\",\"\",'trait prev veaux'!#REF!)","v":{"$error":"#REF!"}}]
[null,null,{"$f":"IF('trait prev veaux'!#REF!=\"\",\"\",'trait prev veaux'!#REF!)","v":{"$error":"#REF!"}}]
[null,null,{"$f":"IF('trait prev veaux'!#REF!=\"\",\"\",'trait prev veaux'!#REF!)","v":{"$error":"#REF!"}}]
[null,null,{"$f":"IF('trait prev veaux'!#REF!=\"\",\"\",'trait prev veaux'!#REF!)","v":{"$error":"#REF!"}}]
[null,null,{"$f":"IF('trait prev veaux'!#REF!=\"\",\"\",'trait prev veaux'!#REF!)","v":{"$error":"#REF!"}}]
[null,null,{"$f":"IF('trait prev veaux'!#REF!=\"\",\"\",'trait prev veaux'!#REF!)","v":{"$error":"#REF!"}}]
[null,null,{"$f":"IF('trait prev veaux'!#REF!=\"\",\"\",'trait prev veaux'!#REF!)","v":{"$error":"#REF!"}}]
[null,null,{"$f":"IF('trait prev veaux'!#REF!=\"\",\"\",'trait prev veaux'!#REF!)","v":{"$error":"#REF!"}}]
[null,null,{"$f":"IF('trait prev veaux'!#REF!=\"\",\"\",'trait prev veaux'!#REF!)","v":{"$error":"#REF!"}}]
[null,null,{"$f":"IF('trait prev veaux'!#REF!=\"\",\"\",'trait prev veaux'!#REF!)","v":{"$error":"#REF!"}}]
[null,null,{"$f":"IF('trait prev veaux'!#REF!=\"\",\"\",'trait prev veaux'!#REF!)","v":{"$error":"#REF!"}}]
[null,null,{"$f":"IF('trait prev veaux'!#REF!=\"\",\"\",'trait prev veaux'!#REF!)","v":{"$error":"#REF!"}}]
[null,null,{"$f":"IF('trait prev veaux'!#REF!=\"\",\"\",'trait prev veaux'!#REF!)","v":{"$error":"#REF!"}}]
[null,null,{"$f":"IF('trait prev veaux'!#REF!=\"\",\"\",'trait prev veaux'!#REF!)","v":{"$error":"#REF!"}}]
[null,null,{"$f":"IF('trait prev veaux'!#REF!=\"\",\"\",'trait prev veaux'!#REF!)","v":{"$error":"#REF!"}}]
[null,null,{"$f":"IF('trait prev veaux'!#REF!=\"\",\"\",'trait prev veaux'!#REF!)","v":{"$error":"#REF!"}}]
[null,null,{"$f":"IF('trait prev veaux'!#REF!=\"\",\"\",'trait prev veaux'!#REF!)","v":{"$error":"#REF!"}}]
[null,null,{"$f":"IF('trait prev veaux'!#REF!=\"\",\"\",'trait prev veaux'!#REF!)","v":{"$error":"#REF!"}}]
[null,null,{"$f":"IF('trait prev veaux'!#REF!=\"\",\"\",'trait prev veaux'!#REF!)","v":{"$error":"#REF!"}}]
[null,null,{"$f":"IF('trait prev veaux'!#REF!=\"\",\"\",'trait prev veaux'!#REF!)","v":{"$error":"#REF!"}}]
[null,null,{"$f":"IF('trait prev veaux'!#REF!=\"\",\"\",'trait prev veaux'!#REF!)","v":{"$error":"#REF!"}}]
[null,null,{"$f":"IF('trait prev veaux'!#REF!=\"\",\"\",'trait prev veaux'!#REF!)","v":{"$error":"#REF!"}}]
[null,null,{"$f":"IF('trait prev veaux'!#REF!=\"\",\"\",'trait prev veaux'!#REF!)","v":{"$error":"#REF!"}}]
[null,null,{"$f":"IF('trait prev veaux'!#REF!=\"\",\"\",'trait prev veaux'!#REF!)","v":{"$error":"#REF!"}}]
[null,null,{"$f":"IF('trait prev veaux'!#REF!=\"\",\"\",'trait prev veaux'!#REF!)","v":{"$error":"#REF!"}}]
[null,null,{"$f":"IF('trait prev veaux'!#REF!=\"\",\"\",'trait prev veaux'!#REF!)","v":{"$error":"#REF!"}}]
[null,null,{"$f":"IF('trait prev veaux'!#REF!=\"\",\"\",'trait prev veaux'!#REF!)","v":{"$error":"#REF!"}}]

{"sheet":"trait curatif veaux","index":10,"n_rows":247,"n_cols":17,"rows_kept":247,"cut":false,"hidden":false,"merged":[[4,6,6,6],[5,7,6,7],[5,8,6,8],[4,9,6,9],[4,10,6,10],[4,12,4,13],[4,14,4,15],[4,7,4,8],[0,0,0,1],[4,0,5,1],[4,11,6,11],[5,12,6,12],[5,13,6,13],[4,2,5,2],[2,2,2,15],[4,3,6,3],[4,4,6,4],[4,5,6,5],[5,14,6,14],[5,15,6,15]]}
["retour à la page d'accueil",null,null,null,null,null,"saisir un lot"]
[]
[null,null,"Enregistrement des traitements curatifs sur veaux"]
[]
[{"$f":"[1]veaux!$B$1","v":"54474307"},null,"N° 4 chiffres ","N° 4 chiffres de la mère nourricière (cas de TE ou adoption)","type de maladie","S'il s'agit d'une diarrhée, préciser le type de diarrhée","indiquer le n° de lot d'appartenance de l'animal et remplir la feuille \"lot\"","symptômes",null,"date de début du traitement","type de traitement 1","nom du produit 1","au cas où un second produit est utilisé pour le même objectif",null,"au cas où un troisième produit est utilisé pour le même objectif"]
[null,null,null,null,null,null,null,"date d'apparition","date de fin",null,null,null,"type de traitement 2","nom du produit 2","type de traitement 3","nom du produit 3"]
[null,null,null,null,null,null,null,null,null,null,null,null,null,null,null,null,"Remarques particulières sur l'animal"]
[null,null,{"$f":"IF('trait prev veaux'!C14=\"\",\"\",'trait prev veaux'!C14)","v":""},{"$f":"IF('trait prev veaux'!D14:E14=\"\",\"\",'trait prev veaux'!D14:E14)","v":""}]
[null,null,{"$f":"IF('trait prev veaux'!C15=\"\",\"\",'trait prev veaux'!C15)","v":""},{"$f":"IF('trait prev veaux'!D15:E15=\"\",\"\",'trait prev veaux'!D15:E15)","v":""}]
[null,null,{"$f":"IF('trait prev veaux'!C16=\"\",\"\",'trait prev veaux'!C16)","v":""},{"$f":"IF('trait prev veaux'!D16:E16=\"\",\"\",'trait prev veaux'!D16:E16)","v":""}]
[null,null,{"$f":"IF('trait prev veaux'!C17=\"\",\"\",'trait prev veaux'!C17)","v":""},{"$f":"IF('trait prev veaux'!D17:E17=\"\",\"\",'trait prev veaux'!D17:E17)","v":""}]
[null,null,{"$f":"IF('trait prev veaux'!C18=\"\",\"\",'trait prev veaux'!C18)","v":""},{"$f":"IF('trait prev veaux'!D18:E18=\"\",\"\",'trait prev veaux'!D18:E18)","v":""}]
[null,null,{"$f":"IF('trait prev veaux'!C19=\"\",\"\",'trait prev veaux'!C19)","v":""},{"$f":"IF('trait prev veaux'!D19:E19=\"\",\"\",'trait prev veaux'!D19:E19)","v":""}]
[null,null,{"$f":"IF('trait prev veaux'!C20=\"\",\"\",'trait prev veaux'!C20)","v":""},{"$f":"IF('trait prev veaux'!D20:E20=\"\",\"\",'trait prev veaux'!D20:E20)","v":""}]
[null,null,{"$f":"IF('trait prev veaux'!C21=\"\",\"\",'trait prev veaux'!C21)","v":""},{"$f":"IF('trait prev veaux'!D21:E21=\"\",\"\",'trait prev veaux'!D21:E21)","v":""}]
[null,null,{"$f":"IF('trait prev veaux'!C22=\"\",\"\",'trait prev veaux'!C22)","v":""},{"$f":"IF('trait prev veaux'!D22:E22=\"\",\"\",'trait prev veaux'!D22:E22)","v":""}]
[null,null,{"$f":"IF('trait prev veaux'!C23=\"\",\"\",'trait prev veaux'!C23)","v":""},{"$f":"IF('trait prev veaux'!D23:E23=\"\",\"\",'trait prev veaux'!D23:E23)","v":""}]
[null,null,{"$f":"IF('trait prev veaux'!C24=\"\",\"\",'trait prev veaux'!C24)","v":""},{"$f":"IF('trait prev veaux'!D24:E24=\"\",\"\",'trait prev veaux'!D24:E24)","v":""}]
[null,null,{"$f":"IF('trait prev veaux'!C25=\"\",\"\",'trait prev veaux'!C25)","v":""},{"$f":"IF('trait prev veaux'!D25:E25=\"\",\"\",'trait prev veaux'!D25:E25)","v":""}]
[null,null,{"$f":"IF('trait prev veaux'!C26=\"\",\"\",'trait prev veaux'!C26)","v":""},{"$f":"IF('trait prev veaux'!D26:E26=\"\",\"\",'trait prev veaux'!D26:E26)","v":""}]
[null,null,{"$f":"IF('trait prev veaux'!C27=\"\",\"\",'trait prev veaux'!C27)","v":""},{"$f":"IF('trait prev veaux'!D27:E27=\"\",\"\",'trait prev veaux'!D27:E27)","v":""}]
[null,null,{"$f":"IF('trait prev veaux'!C28=\"\",\"\",'trait prev veaux'!C28)","v":""},{"$f":"IF('trait prev veaux'!D28:E28=\"\",\"\",'trait prev veaux'!D28:E28)","v":""}]
[null,null,{"$f":"IF('trait prev veaux'!C29=\"\",\"\",'trait prev veaux'!C29)","v":""},{"$f":"IF('trait prev veaux'!D29:E29=\"\",\"\",'trait prev veaux'!D29:E29)","v":""}]
[null,null,{"$f":"IF('trait prev veaux'!C30=\"\",\"\",'trait prev veaux'!C30)","v":""},{"$f":"IF('trait prev veaux'!D30:E30=\"\",\"\",'trait prev veaux'!D30:E30)","v":""}]
[null,null,{"$f":"IF('trait prev veaux'!C31=\"\",\"\",'trait prev veaux'!C31)","v":""},{"$f":"IF('trait prev veaux'!D31:E31=\"\",\"\",'trait prev veaux'!D31:E31)","v":""}]
[null,null,{"$f":"IF('trait prev veaux'!C32=\"\",\"\",'trait prev veaux'!C32)","v":""},{"$f":"IF('trait prev veaux'!D32:E32=\"\",\"\",'trait prev veaux'!D32:E32)","v":""}]
[null,null,{"$f":"IF('trait prev veaux'!C33=\"\",\"\",'trait prev veaux'!C33)","v":""},{"$f":"IF('trait prev veaux'!D33:E33=\"\",\"\",'trait prev veaux'!D33:E33)","v":""}]
[null,null,{"$f":"IF('trait prev veaux'!C34=\"\",\"\",'trait prev veaux'!C34)","v":""},{"$f":"IF('trait prev veaux'!D34:E34=\"\",\"\",'trait prev veaux'!D34:E34)","v":""}]
[null,null,{"$f":"IF('trait prev veaux'!C35=\"\",\"\",'trait prev veaux'!C35)","v":""},{"$f":"IF('trait prev veaux'!D35:E35=\"\",\"\",'trait prev veaux'!D35:E35)","v":""}]
[null,null,{"$f":"IF('trait prev veaux'!C36=\"\",\"\",'trait prev veaux'!C36)","v":""},{"$f":"IF('trait prev veaux'!D36:E36=\"\",\"\",'trait prev veaux'!D36:E36)","v":""}]
[null,null,{"$f":"IF('trait prev veaux'!C37=\"\",\"\",'trait prev veaux'!C37)","v":""},{"$f":"IF('trait prev veaux'!D37:E37=\"\",\"\",'trait prev veaux'!D37:E37)","v":""}]
[null,null,{"$f":"IF('trait prev veaux'!C38=\"\",\"\",'trait prev veaux'!C38)","v":""},{"$f":"IF('trait prev veaux'!D38:E38=\"\",\"\",'trait prev veaux'!D38:E38)","v":""}]
[null,null,{"$f":"IF('trait prev veaux'!C39=\"\",\"\",'trait prev veaux'!C39)","v":""},{"$f":"IF('trait prev veaux'!D39:E39=\"\",\"\",'trait prev veaux'!D39:E39)","v":""}]
[null,null,{"$f":"IF('trait prev veaux'!C40=\"\",\"\",'trait prev veaux'!C40)","v":""},{"$f":"IF('trait prev veaux'!D40:E40=\"\",\"\",'trait prev veaux'!D40:E40)","v":""}]
[null,null,{"$f":"IF('trait prev veaux'!C41=\"\",\"\",'trait prev veaux'!C41)","v":""},{"$f":"IF('trait prev veaux'!D41:E41=\"\",\"\",'trait prev veaux'!D41:E41)","v":""}]
[null,null,{"$f":"IF('trait prev veaux'!C42=\"\",\"\",'trait prev veaux'!C42)","v":""},{"$f":"IF('trait prev veaux'!D42:E42=\"\",\"\",'trait prev veaux'!D42:E42)","v":""}]
[null,null,{"$f":"IF('trait prev veaux'!C43=\"\",\"\",'trait prev veaux'!C43)","v":""},{"$f":"IF('trait prev veaux'!D43:E43=\"\",\"\",'trait prev veaux'!D43:E43)","v":""}]
[null,null,{"$f":"IF('trait prev veaux'!C44=\"\",\"\",'trait prev veaux'!C44)","v":""},{"$f":"IF('trait prev veaux'!D44:E44=\"\",\"\",'trait prev veaux'!D44:E44)","v":""}]
[null,null,{"$f":"IF('trait prev veaux'!C45=\"\",\"\",'trait prev veaux'!C45)","v":""},{"$f":"IF('trait prev veaux'!D45:E45=\"\",\"\",'trait prev veaux'!D45:E45)","v":""}]
[null,null,{"$f":"IF('trait prev veaux'!C46=\"\",\"\",'trait prev veaux'!C46)","v":""},{"$f":"IF('trait prev veaux'!D46:E46=\"\",\"\",'trait prev veaux'!D46:E46)","v":""}]
[null,null,{"$f":"IF('trait prev veaux'!C47=\"\",\"\",'trait prev veaux'!C47)","v":""},{"$f":"IF('trait prev veaux'!D47:E47=\"\",\"\",'trait prev veaux'!D47:E47)","v":""}]
[null,null,{"$f":"IF('trait prev veaux'!C48=\"\",\"\",'trait prev veaux'!C48)","v":""},{"$f":"IF('trait prev veaux'!D48:E48=\"\",\"\",'trait prev veaux'!D48:E48)","v":""}]
[null,null,{"$f":"IF('trait prev veaux'!C49=\"\",\"\",'trait prev veaux'!C49)","v":""},{"$f":"IF('trait prev veaux'!D49:E49=\"\",\"\",'trait prev veaux'!D49:E49)","v":""}]
[null,null,{"$f":"IF('trait prev veaux'!C50=\"\",\"\",'trait prev veaux'!C50)","v":""},{"$f":"IF('trait prev veaux'!D50:E50=\"\",\"\",'trait prev veaux'!D50:E50)","v":""}]
[null,null,{"$f":"IF('trait prev veaux'!C51=\"\",\"\",'trait prev veaux'!C51)","v":""},{"$f":"IF('trait prev veaux'!D51:E51=\"\",\"\",'trait prev veaux'!D51:E51)","v":""}]
[null,null,{"$f":"IF('trait prev veaux'!C52=\"\",\"\",'trait prev veaux'!C52)","v":""},{"$f":"IF('trait prev veaux'!D52:E52=\"\",\"\",'trait prev veaux'!D52:E52)","v":""}]
[null,null,{"$f":"IF('trait prev veaux'!C53=\"\",\"\",'trait prev veaux'!C53)","v":""},{"$f":"IF('trait prev veaux'!D53:E53=\"\",\"\",'trait prev veaux'!D53:E53)","v":""}]
[null,null,{"$f":"IF('trait prev veaux'!C54=\"\",\"\",'trait prev veaux'!C54)","v":""},{"$f":"IF('trait prev veaux'!D54:E54=\"\",\"\",'trait prev veaux'!D54:E54)","v":""}]
[null,null,{"$f":"IF('trait prev veaux'!C55=\"\",\"\",'trait prev veaux'!C55)","v":""},{"$f":"IF('trait prev veaux'!D55:E55=\"\",\"\",'trait prev veaux'!D55:E55)","v":""}]
[null,null,{"$f":"IF('trait prev veaux'!C56=\"\",\"\",'trait prev veaux'!C56)","v":""},{"$f":"IF('trait prev veaux'!D56:E56=\"\",\"\",'trait prev veaux'!D56:E56)","v":""}]
[null,null,{"$f":"IF('trait prev veaux'!C57=\"\",\"\",'trait prev veaux'!C57)","v":""},{"$f":"IF('trait prev veaux'!D57:E57=\"\",\"\",'trait prev veaux'!D57:E57)","v":""}]
[null,null,{"$f":"IF('trait prev veaux'!C58=\"\",\"\",'trait prev veaux'!C58)","v":""},{"$f":"IF('trait prev veaux'!D58:E58=\"\",\"\",'trait prev veaux'!D58:E58)","v":""}]
[null,null,{"$f":"IF('trait prev veaux'!C59=\"\",\"\",'trait prev veaux'!C59)","v":""},{"$f":"IF('trait prev veaux'!D59:E59=\"\",\"\",'trait prev veaux'!D59:E59)","v":""}]
[null,null,{"$f":"IF('trait prev veaux'!C60=\"\",\"\",'trait prev veaux'!C60)","v":""},{"$f":"IF('trait prev veaux'!D60:E60=\"\",\"\",'trait prev veaux'!D60:E60)","v":""}]
[null,null,{"$f":"IF('trait prev veaux'!C61=\"\",\"\",'trait prev veaux'!C61)","v":""},{"$f":"IF('trait prev veaux'!D61:E61=\"\",\"\",'trait prev veaux'!D61:E61)","v":""}]
[null,null,{"$f":"IF('trait prev veaux'!C62=\"\",\"\",'trait prev veaux'!C62)","v":""},{"$f":"IF('trait prev veaux'!D62:E62=\"\",\"\",'trait prev veaux'!D62:E62)","v":""}]
[null,null,{"$f":"IF('trait prev veaux'!C63=\"\",\"\",'trait prev veaux'!C63)","v":""},{"$f":"IF('trait prev veaux'!D63:E63=\"\",\"\",'trait prev veaux'!D63:E63)","v":""}]
[null,null,{"$f":"IF('trait prev veaux'!C64=\"\",\"\",'trait prev veaux'!C64)","v":""},{"$f":"IF('trait prev veaux'!D64:E64=\"\",\"\",'trait prev veaux'!D64:E64)","v":""}]
[null,null,{"$f":"IF('trait prev veaux'!C65=\"\",\"\",'trait prev veaux'!C65)","v":""},{"$f":"IF('trait prev veaux'!D65:E65=\"\",\"\",'trait prev veaux'!D65:E65)","v":""}]
[null,null,{"$f":"IF('trait prev veaux'!C66=\"\",\"\",'trait prev veaux'!C66)","v":""},{"$f":"IF('trait prev veaux'!D66:E66=\"\",\"\",'trait prev veaux'!D66:E66)","v":""}]
[null,null,{"$f":"IF('trait prev veaux'!C67=\"\",\"\",'trait prev veaux'!C67)","v":""},{"$f":"IF('trait prev veaux'!D67:E67=\"\",\"\",'trait prev veaux'!D67:E67)","v":""}]
[null,null,{"$f":"IF('trait prev veaux'!C68=\"\",\"\",'trait prev veaux'!C68)","v":""},{"$f":"IF('trait prev veaux'!D68:E68=\"\",\"\",'trait prev veaux'!D68:E68)","v":""}]
[null,null,{"$f":"IF('trait prev veaux'!C69=\"\",\"\",'trait prev veaux'!C69)","v":""},{"$f":"IF('trait prev veaux'!D69:E69=\"\",\"\",'trait prev veaux'!D69:E69)","v":""}]
[null,null,{"$f":"IF('trait prev veaux'!C70=\"\",\"\",'trait prev veaux'!C70)","v":""},{"$f":"IF('trait prev veaux'!D70:E70=\"\",\"\",'trait prev veaux'!D70:E70)","v":""}]
[null,null,{"$f":"IF('trait prev veaux'!C71=\"\",\"\",'trait prev veaux'!C71)","v":""},{"$f":"IF('trait prev veaux'!D71:E71=\"\",\"\",'trait prev veaux'!D71:E71)","v":""}]
[null,null,{"$f":"IF('trait prev veaux'!C72=\"\",\"\",'trait prev veaux'!C72)","v":""},{"$f":"IF('trait prev veaux'!D72:E72=\"\",\"\",'trait prev veaux'!D72:E72)","v":""}]
[null,null,{"$f":"IF('trait prev veaux'!C73=\"\",\"\",'trait prev veaux'!C73)","v":""},{"$f":"IF('trait prev veaux'!D73:E73=\"\",\"\",'trait prev veaux'!D73:E73)","v":""}]
[null,null,{"$f":"IF('trait prev veaux'!C74=\"\",\"\",'trait prev veaux'!C74)","v":""},{"$f":"IF('trait prev veaux'!D74:E74=\"\",\"\",'trait prev veaux'!D74:E74)","v":""}]
[null,null,{"$f":"IF('trait prev veaux'!C75=\"\",\"\",'trait prev veaux'!C75)","v":""},{"$f":"IF('trait prev veaux'!D75:E75=\"\",\"\",'trait prev veaux'!D75:E75)","v":""}]
[null,null,{"$f":"IF('trait prev veaux'!C76=\"\",\"\",'trait prev veaux'!C76)","v":""},{"$f":"IF('trait prev veaux'!D76:E76=\"\",\"\",'trait prev veaux'!D76:E76)","v":""}]
[null,null,{"$f":"IF('trait prev veaux'!C77=\"\",\"\",'trait prev veaux'!C77)","v":""},{"$f":"IF('trait prev veaux'!D77:E77=\"\",\"\",'trait prev veaux'!D77:E77)","v":""}]
[null,null,{"$f":"IF('trait prev veaux'!C78=\"\",\"\",'trait prev veaux'!C78)","v":""},{"$f":"IF('trait prev veaux'!D78:E78=\"\",\"\",'trait prev veaux'!D78:E78)","v":""}]
[null,null,{"$f":"IF('trait prev veaux'!C79=\"\",\"\",'trait prev veaux'!C79)","v":""},{"$f":"IF('trait prev veaux'!D79:E79=\"\",\"\",'trait prev veaux'!D79:E79)","v":""}]
[null,null,{"$f":"IF('trait prev veaux'!C80=\"\",\"\",'trait prev veaux'!C80)","v":""},{"$f":"IF('trait prev veaux'!D80:E80=\"\",\"\",'trait prev veaux'!D80:E80)","v":""}]
[null,null,{"$f":"IF('trait prev veaux'!C81=\"\",\"\",'trait prev veaux'!C81)","v":""},{"$f":"IF('trait prev veaux'!D81:E81=\"\",\"\",'trait prev veaux'!D81:E81)","v":""}]
[null,null,{"$f":"IF('trait prev veaux'!C82=\"\",\"\",'trait prev veaux'!C82)","v":""},{"$f":"IF('trait prev veaux'!D82:E82=\"\",\"\",'trait prev veaux'!D82:E82)","v":""}]
[null,null,{"$f":"IF('trait prev veaux'!C83=\"\",\"\",'trait prev veaux'!C83)","v":""},{"$f":"IF('trait prev veaux'!D83:E83=\"\",\"\",'trait prev veaux'!D83:E83)","v":""}]
[null,null,{"$f":"IF('trait prev veaux'!C84=\"\",\"\",'trait prev veaux'!C84)","v":""},{"$f":"IF('trait prev veaux'!D84:E84=\"\",\"\",'trait prev veaux'!D84:E84)","v":""}]
[null,null,{"$f":"IF('trait prev veaux'!C85=\"\",\"\",'trait prev veaux'!C85)","v":""},{"$f":"IF('trait prev veaux'!D85:E85=\"\",\"\",'trait prev veaux'!D85:E85)","v":""}]
[null,null,{"$f":"IF('trait prev veaux'!C86=\"\",\"\",'trait prev veaux'!C86)","v":""},{"$f":"IF('trait prev veaux'!D86:E86=\"\",\"\",'trait prev veaux'!D86:E86)","v":""}]
[null,null,{"$f":"IF('trait prev veaux'!C87=\"\",\"\",'trait prev veaux'!C87)","v":""},{"$f":"IF('trait prev veaux'!D87:E87=\"\",\"\",'trait prev veaux'!D87:E87)","v":""}]
[null,null,{"$f":"IF('trait prev veaux'!C88=\"\",\"\",'trait prev veaux'!C88)","v":""},{"$f":"IF('trait prev veaux'!D88:E88=\"\",\"\",'trait prev veaux'!D88:E88)","v":""}]
[null,null,{"$f":"IF('trait prev veaux'!C89=\"\",\"\",'trait prev veaux'!C89)","v":""},{"$f":"IF('trait prev veaux'!D89:E89=\"\",\"\",'trait prev veaux'!D89:E89)","v":""}]
[null,null,{"$f":"IF('trait prev veaux'!C90=\"\",\"\",'trait prev veaux'!C90)","v":""},{"$f":"IF('trait prev veaux'!D90:E90=\"\",\"\",'trait prev veaux'!D90:E90)","v":""}]
[null,null,{"$f":"IF('trait prev veaux'!C91=\"\",\"\",'trait prev veaux'!C91)","v":""},{"$f":"IF('trait prev veaux'!D91:E91=\"\",\"\",'trait prev veaux'!D91:E91)","v":""}]
[null,null,{"$f":"IF('trait prev veaux'!C92=\"\",\"\",'trait prev veaux'!C92)","v":""},{"$f":"IF('trait prev veaux'!D92:E92=\"\",\"\",'trait prev veaux'!D92:E92)","v":""}]
[null,null,{"$f":"IF('trait prev veaux'!C93=\"\",\"\",'trait prev veaux'!C93)","v":""},{"$f":"IF('trait prev veaux'!D93:E93=\"\",\"\",'trait prev veaux'!D93:E93)","v":""}]
[null,null,{"$f":"IF('trait prev veaux'!C94=\"\",\"\",'trait prev veaux'!C94)","v":""},{"$f":"IF('trait prev veaux'!D94:E94=\"\",\"\",'trait prev veaux'!D94:E94)","v":""}]
[null,null,{"$f":"IF('trait prev veaux'!C95=\"\",\"\",'trait prev veaux'!C95)","v":""},{"$f":"IF('trait prev veaux'!D95:E95=\"\",\"\",'trait prev veaux'!D95:E95)","v":""}]
[null,null,{"$f":"IF('trait prev veaux'!C96=\"\",\"\",'trait prev veaux'!C96)","v":""},{"$f":"IF('trait prev veaux'!D96:E96=\"\",\"\",'trait prev veaux'!D96:E96)","v":""}]
[null,null,{"$f":"IF('trait prev veaux'!C97=\"\",\"\",'trait prev veaux'!C97)","v":""},{"$f":"IF('trait prev veaux'!D97:E97=\"\",\"\",'trait prev veaux'!D97:E97)","v":""}]
[null,null,{"$f":"IF('trait prev veaux'!C98=\"\",\"\",'trait prev veaux'!C98)","v":""},{"$f":"IF('trait prev veaux'!D98:E98=\"\",\"\",'trait prev veaux'!D98:E98)","v":""}]
[null,null,{"$f":"IF('trait prev veaux'!C99=\"\",\"\",'trait prev veaux'!C99)","v":""},{"$f":"IF('trait prev veaux'!D99:E99=\"\",\"\",'trait prev veaux'!D99:E99)","v":""}]
[null,null,{"$f":"IF('trait prev veaux'!C100=\"\",\"\",'trait prev veaux'!C100)","v":""},{"$f":"IF('trait prev veaux'!D100:E100=\"\",\"\",'trait prev veaux'!D100:E100)","v":""}]
[null,null,{"$f":"IF('trait prev veaux'!C101=\"\",\"\",'trait prev veaux'!C101)","v":""},{"$f":"IF('trait prev veaux'!D101:E101=\"\",\"\",'trait prev veaux'!D101:E101)","v":""}]
[null,null,{"$f":"IF('trait prev veaux'!C102=\"\",\"\",'trait prev veaux'!C102)","v":""},{"$f":"IF('trait prev veaux'!D102:E102=\"\",\"\",'trait prev veaux'!D102:E102)","v":""}]
[null,null,{"$f":"IF('trait prev veaux'!C103=\"\",\"\",'trait prev veaux'!C103)","v":""},{"$f":"IF('trait prev veaux'!D103:E103=\"\",\"\",'trait prev veaux'!D103:E103)","v":""}]
[null,null,{"$f":"IF('trait prev veaux'!C104=\"\",\"\",'trait prev veaux'!C104)","v":""},{"$f":"IF('trait prev veaux'!D104:E104=\"\",\"\",'trait prev veaux'!D104:E104)","v":""}]
[null,null,{"$f":"IF('trait prev veaux'!C105=\"\",\"\",'trait prev veaux'!C105)","v":""},{"$f":"IF('trait prev veaux'!D105:E105=\"\",\"\",'trait prev veaux'!D105:E105)","v":""}]
[null,null,{"$f":"IF('trait prev veaux'!C106=\"\",\"\",'trait prev veaux'!C106)","v":""},{"$f":"IF('trait prev veaux'!D106:E106=\"\",\"\",'trait prev veaux'!D106:E106)","v":""}]
[null,null,{"$f":"IF('trait prev veaux'!C107=\"\",\"\",'trait prev veaux'!C107)","v":""},{"$f":"IF('trait prev veaux'!D107:E107=\"\",\"\",'trait prev veaux'!D107:E107)","v":""}]
[null,null,{"$f":"IF('trait prev veaux'!C108=\"\",\"\",'trait prev veaux'!C108)","v":""},{"$f":"IF('trait prev veaux'!D108:E108=\"\",\"\",'trait prev veaux'!D108:E108)","v":""}]
[null,null,{"$f":"IF('trait prev veaux'!C109=\"\",\"\",'trait prev veaux'!C109)","v":""},{"$f":"IF('trait prev veaux'!D109:E109=\"\",\"\",'trait prev veaux'!D109:E109)","v":""}]
[null,null,{"$f":"IF('trait prev veaux'!C110=\"\",\"\",'trait prev veaux'!C110)","v":""},{"$f":"IF('trait prev veaux'!D110:E110=\"\",\"\",'trait prev veaux'!D110:E110)","v":""}]
[null,null,{"$f":"IF('trait prev veaux'!C111=\"\",\"\",'trait prev veaux'!C111)","v":""},{"$f":"IF('trait prev veaux'!D111:E111=\"\",\"\",'trait prev veaux'!D111:E111)","v":""}]
[null,null,{"$f":"IF('trait prev veaux'!C112=\"\",\"\",'trait prev veaux'!C112)","v":""},{"$f":"IF('trait prev veaux'!D112:E112=\"\",\"\",'trait prev veaux'!D112:E112)","v":""}]
[null,null,{"$f":"IF('trait prev veaux'!C113=\"\",\"\",'trait prev veaux'!C113)","v":""},{"$f":"IF('trait prev veaux'!D113:E113=\"\",\"\",'trait prev veaux'!D113:E113)","v":""}]
[null,null,{"$f":"IF('trait prev veaux'!C114=\"\",\"\",'trait prev veaux'!C114)","v":""},{"$f":"IF('trait prev veaux'!D114:E114=\"\",\"\",'trait prev veaux'!D114:E114)","v":""}]
[null,null,{"$f":"IF('trait prev veaux'!C115=\"\",\"\",'trait prev veaux'!C115)","v":""},{"$f":"IF('trait prev veaux'!D115:E115=\"\",\"\",'trait prev veaux'!D115:E115)","v":""}]
[null,null,{"$f":"IF('trait prev veaux'!C116=\"\",\"\",'trait prev veaux'!C116)","v":""},{"$f":"IF('trait prev veaux'!D116:E116=\"\",\"\",'trait prev veaux'!D116:E116)","v":""}]
[null,null,{"$f":"IF('trait prev veaux'!C117=\"\",\"\",'trait prev veaux'!C117)","v":""},{"$f":"IF('trait prev veaux'!D117:E117=\"\",\"\",'trait prev veaux'!D117:E117)","v":""}]
[null,null,{"$f":"IF('trait prev veaux'!C118=\"\",\"\",'trait prev veaux'!C118)","v":""},{"$f":"IF('trait prev veaux'!D118:E118=\"\",\"\",'trait prev veaux'!D118:E118)","v":""}]
[null,null,{"$f":"IF('trait prev veaux'!C119=\"\",\"\",'trait prev veaux'!C119)","v":""},{"$f":"IF('trait prev veaux'!D119:E119=\"\",\"\",'trait prev veaux'!D119:E119)","v":""}]
[null,null,{"$f":"IF('trait prev veaux'!C120=\"\",\"\",'trait prev veaux'!C120)","v":""},{"$f":"IF('trait prev veaux'!D120:E120=\"\",\"\",'trait prev veaux'!D120:E120)","v":""}]
[null,null,{"$f":"IF('trait prev veaux'!C121=\"\",\"\",'trait prev veaux'!C121)","v":""},{"$f":"IF('trait prev veaux'!D121:E121=\"\",\"\",'trait prev veaux'!D121:E121)","v":""}]
[null,null,{"$f":"IF('trait prev veaux'!C122=\"\",\"\",'trait prev veaux'!C122)","v":""},{"$f":"IF('trait prev veaux'!D122:E122=\"\",\"\",'trait prev veaux'!D122:E122)","v":""}]
[null,null,{"$f":"IF('trait prev veaux'!C123=\"\",\"\",'trait prev veaux'!C123)","v":""},{"$f":"IF('trait prev veaux'!D123:E123=\"\",\"\",'trait prev veaux'!D123:E123)","v":""}]
[null,null,{"$f":"IF('trait prev veaux'!C124=\"\",\"\",'trait prev veaux'!C124)","v":""},{"$f":"IF('trait prev veaux'!D124:E124=\"\",\"\",'trait prev veaux'!D124:E124)","v":""}]
[null,null,{"$f":"IF('trait prev veaux'!C125=\"\",\"\",'trait prev veaux'!C125)","v":""},{"$f":"IF('trait prev veaux'!D125:E125=\"\",\"\",'trait prev veaux'!D125:E125)","v":""}]
[null,null,{"$f":"IF('trait prev veaux'!C126=\"\",\"\",'trait prev veaux'!C126)","v":""},{"$f":"IF('trait prev veaux'!D126:E126=\"\",\"\",'trait prev veaux'!D126:E126)","v":""}]
[null,null,{"$f":"IF('trait prev veaux'!C127=\"\",\"\",'trait prev veaux'!C127)","v":""},{"$f":"IF('trait prev veaux'!D127:E127=\"\",\"\",'trait prev veaux'!D127:E127)","v":""}]
[null,null,{"$f":"IF('trait prev veaux'!C128=\"\",\"\",'trait prev veaux'!C128)","v":""},{"$f":"IF('trait prev veaux'!D128:E128=\"\",\"\",'trait prev veaux'!D128:E128)","v":""}]
[null,null,{"$f":"IF('trait prev veaux'!C129=\"\",\"\",'trait prev veaux'!C129)","v":""},{"$f":"IF('trait prev veaux'!D129:E129=\"\",\"\",'trait prev veaux'!D129:E129)","v":""}]
[null,null,{"$f":"IF('trait prev veaux'!C130=\"\",\"\",'trait prev veaux'!C130)","v":""},{"$f":"IF('trait prev veaux'!D130:E130=\"\",\"\",'trait prev veaux'!D130:E130)","v":""}]
[null,null,{"$f":"IF('trait prev veaux'!C131=\"\",\"\",'trait prev veaux'!C131)","v":""},{"$f":"IF('trait prev veaux'!D131:E131=\"\",\"\",'trait prev veaux'!D131:E131)","v":""}]
[null,null,{"$f":"IF('trait prev veaux'!C132=\"\",\"\",'trait prev veaux'!C132)","v":""},{"$f":"IF('trait prev veaux'!D132:E132=\"\",\"\",'trait prev veaux'!D132:E132)","v":""}]
[null,null,{"$f":"IF('trait prev veaux'!C133=\"\",\"\",'trait prev veaux'!C133)","v":""},{"$f":"IF('trait prev veaux'!D133:E133=\"\",\"\",'trait prev veaux'!D133:E133)","v":""}]
[null,null,{"$f":"IF('trait prev veaux'!C134=\"\",\"\",'trait prev veaux'!C134)","v":""},{"$f":"IF('trait prev veaux'!D134:E134=\"\",\"\",'trait prev veaux'!D134:E134)","v":""}]
[null,null,{"$f":"IF('trait prev veaux'!C135=\"\",\"\",'trait prev veaux'!C135)","v":""},{"$f":"IF('trait prev veaux'!D135:E135=\"\",\"\",'trait prev veaux'!D135:E135)","v":""}]
[null,null,{"$f":"IF('trait prev veaux'!C136=\"\",\"\",'trait prev veaux'!C136)","v":""},{"$f":"IF('trait prev veaux'!D136:E136=\"\",\"\",'trait prev veaux'!D136:E136)","v":""}]
[null,null,{"$f":"IF('trait prev veaux'!C137=\"\",\"\",'trait prev veaux'!C137)","v":""},{"$f":"IF('trait prev veaux'!D137:E137=\"\",\"\",'trait prev veaux'!D137:E137)","v":""}]
[null,null,{"$f":"IF('trait prev veaux'!C138=\"\",\"\",'trait prev veaux'!C138)","v":""},{"$f":"IF('trait prev veaux'!D138:E138=\"\",\"\",'trait prev veaux'!D138:E138)","v":""}]
[null,null,{"$f":"IF('trait prev veaux'!C139=\"\",\"\",'trait prev veaux'!C139)","v":""},{"$f":"IF('trait prev veaux'!D139:E139=\"\",\"\",'trait prev veaux'!D139:E139)","v":""}]
[null,null,{"$f":"IF('trait prev veaux'!C140=\"\",\"\",'trait prev veaux'!C140)","v":""},{"$f":"IF('trait prev veaux'!D140:E140=\"\",\"\",'trait prev veaux'!D140:E140)","v":""}]
[null,null,{"$f":"IF('trait prev veaux'!#REF!=\"\",\"\",'trait prev veaux'!#REF!)","v":{"$error":"#REF!"}},{"$f":"IF('trait prev veaux'!#REF!=\"\",\"\",'trait prev veaux'!#REF!)","v":{"$error":"#REF!"}}]
[null,null,{"$f":"IF('trait prev veaux'!#REF!=\"\",\"\",'trait prev veaux'!#REF!)","v":{"$error":"#REF!"}},{"$f":"IF('trait prev veaux'!#REF!=\"\",\"\",'trait prev veaux'!#REF!)","v":{"$error":"#REF!"}}]
[null,null,{"$f":"IF('trait prev veaux'!#REF!=\"\",\"\",'trait prev veaux'!#REF!)","v":{"$error":"#REF!"}},{"$f":"IF('trait prev veaux'!#REF!=\"\",\"\",'trait prev veaux'!#REF!)","v":{"$error":"#REF!"}}]
[null,null,{"$f":"IF('trait prev veaux'!#REF!=\"\",\"\",'trait prev veaux'!#REF!)","v":{"$error":"#REF!"}},{"$f":"IF('trait prev veaux'!#REF!=\"\",\"\",'trait prev veaux'!#REF!)","v":{"$error":"#REF!"}}]
[null,null,{"$f":"IF('trait prev veaux'!#REF!=\"\",\"\",'trait prev veaux'!#REF!)","v":{"$error":"#REF!"}},{"$f":"IF('trait prev veaux'!#REF!=\"\",\"\",'trait prev veaux'!#REF!)","v":{"$error":"#REF!"}}]
[null,null,{"$f":"IF('trait prev veaux'!#REF!=\"\",\"\",'trait prev veaux'!#REF!)","v":{"$error":"#REF!"}},{"$f":"IF('trait prev veaux'!#REF!=\"\",\"\",'trait prev veaux'!#REF!)","v":{"$error":"#REF!"}}]
[null,null,{"$f":"IF('trait prev veaux'!#REF!=\"\",\"\",'trait prev veaux'!#REF!)","v":{"$error":"#REF!"}},{"$f":"IF('trait prev veaux'!#REF!=\"\",\"\",'trait prev veaux'!#REF!)","v":{"$error":"#REF!"}}]
[null,null,{"$f":"IF('trait prev veaux'!#REF!=\"\",\"\",'trait prev veaux'!#REF!)","v":{"$error":"#REF!"}},{"$f":"IF('trait prev veaux'!#REF!=\"\",\"\",'trait prev veaux'!#REF!)","v":{"$error":"#REF!"}}]
[null,null,{"$f":"IF('trait prev veaux'!#REF!=\"\",\"\",'trait prev veaux'!#REF!)","v":{"$error":"#REF!"}},{"$f":"IF('trait prev veaux'!#REF!=\"\",\"\",'trait prev veaux'!#REF!)","v":{"$error":"#REF!"}}]
[null,null,{"$f":"IF('trait prev veaux'!#REF!=\"\",\"\",'trait prev veaux'!#REF!)","v":{"$error":"#REF!"}},{"$f":"IF('trait prev veaux'!#REF!=\"\",\"\",'trait prev veaux'!#REF!)","v":{"$error":"#REF!"}}]
[null,null,{"$f":"IF('trait prev veaux'!#REF!=\"\",\"\",'trait prev veaux'!#REF!)","v":{"$error":"#REF!"}},{"$f":"IF('trait prev veaux'!#REF!=\"\",\"\",'trait prev veaux'!#REF!)","v":{"$error":"#REF!"}}]
[null,null,{"$f":"IF('trait prev veaux'!#REF!=\"\",\"\",'trait prev veaux'!#REF!)","v":{"$error":"#REF!"}},{"$f":"IF('trait prev veaux'!#REF!=\"\",\"\",'trait prev veaux'!#REF!)","v":{"$error":"#REF!"}}]
[null,null,{"$f":"IF('trait prev veaux'!#REF!=\"\",\"\",'trait prev veaux'!#REF!)","v":{"$error":"#REF!"}},{"$f":"IF('trait prev veaux'!#REF!=\"\",\"\",'trait prev veaux'!#REF!)","v":{"$error":"#REF!"}}]
[null,null,{"$f":"IF('trait prev veaux'!#REF!=\"\",\"\",'trait prev veaux'!#REF!)","v":{"$error":"#REF!"}},{"$f":"IF('trait prev veaux'!#REF!=\"\",\"\",'trait prev veaux'!#REF!)","v":{"$error":"#REF!"}}]
[null,null,{"$f":"IF('trait prev veaux'!#REF!=\"\",\"\",'trait prev veaux'!#REF!)","v":{"$error":"#REF!"}},{"$f":"IF('trait prev veaux'!#REF!=\"\",\"\",'trait prev veaux'!#REF!)","v":{"$error":"#REF!"}}]
[null,null,{"$f":"IF('trait prev veaux'!#REF!=\"\",\"\",'trait prev veaux'!#REF!)","v":{"$error":"#REF!"}},{"$f":"IF('trait prev veaux'!#REF!=\"\",\"\",'trait prev veaux'!#REF!)","v":{"$error":"#REF!"}}]
[null,null,{"$f":"IF('trait prev veaux'!#REF!=\"\",\"\",'trait prev veaux'!#REF!)","v":{"$error":"#REF!"}},{"$f":"IF('trait prev veaux'!#REF!=\"\",\"\",'trait prev veaux'!#REF!)","v":{"$error":"#REF!"}}]
[null,null,{"$f":"IF('trait prev veaux'!#REF!=\"\",\"\",'trait prev veaux'!#REF!)","v":{"$error":"#REF!"}},{"$f":"IF('trait prev veaux'!#REF!=\"\",\"\",'trait prev veaux'!#REF!)","v":{"$error":"#REF!"}}]
[null,null,{"$f":"IF('trait prev veaux'!#REF!=\"\",\"\",'trait prev veaux'!#REF!)","v":{"$error":"#REF!"}},{"$f":"IF('trait prev veaux'!#REF!=\"\",\"\",'trait prev veaux'!#REF!)","v":{"$error":"#REF!"}}]
[null,null,{"$f":"IF('trait prev veaux'!#REF!=\"\",\"\",'trait prev veaux'!#REF!)","v":{"$error":"#REF!"}},{"$f":"IF('trait prev veaux'!#REF!=\"\",\"\",'trait prev veaux'!#REF!)","v":{"$error":"#REF!"}}]
[null,null,{"$f":"IF('trait prev veaux'!#REF!=\"\",\"\",'trait prev veaux'!#REF!)","v":{"$error":"#REF!"}},{"$f":"IF('trait prev veaux'!#REF!=\"\",\"\",'trait prev veaux'!#REF!)","v":{"$error":"#REF!"}}]
[null,null,{"$f":"IF('trait prev veaux'!#REF!=\"\",\"\",'trait prev veaux'!#REF!)","v":{"$error":"#REF!"}},{"$f":"IF('trait prev veaux'!#REF!=\"\",\"\",'trait prev veaux'!#REF!)","v":{"$error":"#REF!"}}]
[null,null,{"$f":"IF('trait prev veaux'!#REF!=\"\",\"\",'trait prev veaux'!#REF!)","v":{"$error":"#REF!"}},{"$f":"IF('trait prev veaux'!#REF!=\"\",\"\",'trait prev veaux'!#REF!)","v":{"$error":"#REF!"}}]
[null,null,{"$f":"IF('trait prev veaux'!#REF!=\"\",\"\",'trait prev veaux'!#REF!)","v":{"$error":"#REF!"}},{"$f":"IF('trait prev veaux'!#REF!=\"\",\"\",'trait prev veaux'!#REF!)","v":{"$error":"#REF!"}}]
[null,null,{"$f":"IF('trait prev veaux'!#REF!=\"\",\"\",'trait prev veaux'!#REF!)","v":{"$error":"#REF!"}},{"$f":"IF('trait prev veaux'!#REF!=\"\",\"\",'trait prev veaux'!#REF!)","v":{"$error":"#REF!"}}]
[null,null,{"$f":"IF('trait prev veaux'!#REF!=\"\",\"\",'trait prev veaux'!#REF!)","v":{"$error":"#REF!"}},{"$f":"IF('trait prev veaux'!#REF!=\"\",\"\",'trait prev veaux'!#REF!)","v":{"$error":"#REF!"}}]
[null,null,{"$f":"IF('trait prev veaux'!#REF!=\"\",\"\",'trait prev veaux'!#REF!)","v":{"$error":"#REF!"}},{"$f":"IF('trait prev veaux'!#REF!=\"\",\"\",'trait prev veaux'!#REF!)","v":{"$error":"#REF!"}}]
[null,null,{"$f":"IF('trait prev veaux'!#REF!=\"\",\"\",'trait prev veaux'!#REF!)","v":{"$error":"#REF!"}},{"$f":"IF('trait prev veaux'!#REF!=\"\",\"\",'trait prev veaux'!#REF!)","v":{"$error":"#REF!"}}]
[null,null,{"$f":"IF('trait prev veaux'!#REF!=\"\",\"\",'trait prev veaux'!#REF!)","v":{"$error":"#REF!"}},{"$f":"IF('trait prev veaux'!#REF!=\"\",\"\",'trait prev veaux'!#REF!)","v":{"$error":"#REF!"}}]
[null,null,{"$f":"IF('trait prev veaux'!#REF!=\"\",\"\",'trait prev veaux'!#REF!)","v":{"$error":"#REF!"}},{"$f":"IF('trait prev veaux'!#REF!=\"\",\"\",'trait prev veaux'!#REF!)","v":{"$error":"#REF!"}}]
[null,null,{"$f":"IF('trait prev veaux'!#REF!=\"\",\"\",'trait prev veaux'!#REF!)","v":{"$error":"#REF!"}},{"$f":"IF('trait prev veaux'!#REF!=\"\",\"\",'trait prev veaux'!#REF!)","v":{"$error":"#REF!"}}]
[null,null,{"$f":"IF('trait prev veaux'!#REF!=\"\",\"\",'trait prev veaux'!#REF!)","v":{"$error":"#REF!"}},{"$f":"IF('trait prev veaux'!#REF!=\"\",\"\",'trait prev veaux'!#REF!)","v":{"$error":"#REF!"}}]
[null,null,{"$f":"IF('trait prev veaux'!#REF!=\"\",\"\",'trait prev veaux'!#REF!)","v":{"$error":"#REF!"}},{"$f":"IF('trait prev veaux'!#REF!=\"\",\"\",'trait prev veaux'!#REF!)","v":{"$error":"#REF!"}}]
[null,null,{"$f":"IF('trait prev veaux'!#REF!=\"\",\"\",'trait prev veaux'!#REF!)","v":{"$error":"#REF!"}},{"$f":"IF('trait prev veaux'!#REF!=\"\",\"\",'trait prev veaux'!#REF!)","v":{"$error":"#REF!"}}]
[null,null,{"$f":"IF('trait prev veaux'!#REF!=\"\",\"\",'trait prev veaux'!#REF!)","v":{"$error":"#REF!"}},{"$f":"IF('trait prev veaux'!#REF!=\"\",\"\",'trait prev veaux'!#REF!)","v":{"$error":"#REF!"}}]
[null,null,{"$f":"IF('trait prev veaux'!#REF!=\"\",\"\",'trait prev veaux'!#REF!)","v":{"$error":"#REF!"}},{"$f":"IF('trait prev veaux'!#REF!=\"\",\"\",'trait prev veaux'!#REF!)","v":{"$error":"#REF!"}}]
[null,null,{"$f":"IF('trait prev veaux'!#REF!=\"\",\"\",'trait prev veaux'!#REF!)","v":{"$error":"#REF!"}},{"$f":"IF('trait prev veaux'!#REF!=\"\",\"\",'trait prev veaux'!#REF!)","v":{"$error":"#REF!"}}]
[null,null,{"$f":"IF('trait prev veaux'!#REF!=\"\",\"\",'trait prev veaux'!#REF!)","v":{"$error":"#REF!"}},{"$f":"IF('trait prev veaux'!#REF!=\"\",\"\",'trait prev veaux'!#REF!)","v":{"$error":"#REF!"}}]
[null,null,{"$f":"IF('trait prev veaux'!#REF!=\"\",\"\",'trait prev veaux'!#REF!)","v":{"$error":"#REF!"}},{"$f":"IF('trait prev veaux'!#REF!=\"\",\"\",'trait prev veaux'!#REF!)","v":{"$error":"#REF!"}}]
[null,null,{"$f":"IF('trait prev veaux'!#REF!=\"\",\"\",'trait prev veaux'!#REF!)","v":{"$error":"#REF!"}},{"$f":"IF('trait prev veaux'!#REF!=\"\",\"\",'trait prev veaux'!#REF!)","v":{"$error":"#REF!"}}]
[null,null,{"$f":"IF('trait prev veaux'!#REF!=\"\",\"\",'trait prev veaux'!#REF!)","v":{"$error":"#REF!"}},{"$f":"IF('trait prev veaux'!#REF!=\"\",\"\",'trait prev veaux'!#REF!)","v":{"$error":"#REF!"}}]
[null,null,{"$f":"IF('trait prev veaux'!#REF!=\"\",\"\",'trait prev veaux'!#REF!)","v":{"$error":"#REF!"}},{"$f":"IF('trait prev veaux'!#REF!=\"\",\"\",'trait prev veaux'!#REF!)","v":{"$error":"#REF!"}}]
[null,null,{"$f":"IF('trait prev veaux'!#REF!=\"\",\"\",'trait prev veaux'!#REF!)","v":{"$error":"#REF!"}},{"$f":"IF('trait prev veaux'!#REF!=\"\",\"\",'trait prev veaux'!#REF!)","v":{"$error":"#REF!"}}]
[null,null,{"$f":"IF('trait prev veaux'!#REF!=\"\",\"\",'trait prev veaux'!#REF!)","v":{"$error":"#REF!"}},{"$f":"IF('trait prev veaux'!#REF!=\"\",\"\",'trait prev veaux'!#REF!)","v":{"$error":"#REF!"}}]
[null,null,{"$f":"IF('trait prev veaux'!#REF!=\"\",\"\",'trait prev veaux'!#REF!)","v":{"$error":"#REF!"}},{"$f":"IF('trait prev veaux'!#REF!=\"\",\"\",'trait prev veaux'!#REF!)","v":{"$error":"#REF!"}}]
[null,null,{"$f":"IF('trait prev veaux'!#REF!=\"\",\"\",'trait prev veaux'!#REF!)","v":{"$error":"#REF!"}},{"$f":"IF('trait prev veaux'!#REF!=\"\",\"\",'trait prev veaux'!#REF!)","v":{"$error":"#REF!"}}]
[null,null,{"$f":"IF('trait prev veaux'!#REF!=\"\",\"\",'trait prev veaux'!#REF!)","v":{"$error":"#REF!"}},{"$f":"IF('trait prev veaux'!#REF!=\"\",\"\",'trait prev veaux'!#REF!)","v":{"$error":"#REF!"}}]
[null,null,{"$f":"IF('trait prev veaux'!#REF!=\"\",\"\",'trait prev veaux'!#REF!)","v":{"$error":"#REF!"}},{"$f":"IF('trait prev veaux'!#REF!=\"\",\"\",'trait prev veaux'!#REF!)","v":{"$error":"#REF!"}}]
[null,null,{"$f":"IF('trait prev veaux'!#REF!=\"\",\"\",'trait prev veaux'!#REF!)","v":{"$error":"#REF!"}},{"$f":"IF('trait prev veaux'!#REF!=\"\",\"\",'trait prev veaux'!#REF!)","v":{"$error":"#REF!"}}]
[null,null,{"$f":"IF('trait prev veaux'!#REF!=\"\",\"\",'trait prev veaux'!#REF!)","v":{"$error":"#REF!"}},{"$f":"IF('trait prev veaux'!#REF!=\"\",\"\",'trait prev veaux'!#REF!)","v":{"$error":"#REF!"}}]
[null,null,{"$f":"IF('trait prev veaux'!#REF!=\"\",\"\",'trait prev veaux'!#REF!)","v":{"$error":"#REF!"}},{"$f":"IF('trait prev veaux'!#REF!=\"\",\"\",'trait prev veaux'!#REF!)","v":{"$error":"#REF!"}}]
[null,null,{"$f":"IF('trait prev veaux'!#REF!=\"\",\"\",'trait prev veaux'!#REF!)","v":{"$error":"#REF!"}},{"$f":"IF('trait prev veaux'!#REF!=\"\",\"\",'trait prev veaux'!#REF!)","v":{"$error":"#REF!"}}]
[null,null,{"$f":"IF('trait prev veaux'!#REF!=\"\",\"\",'trait prev veaux'!#REF!)","v":{"$error":"#REF!"}},{"$f":"IF('trait prev veaux'!#REF!=\"\",\"\",'trait prev veaux'!#REF!)","v":{"$error":"#REF!"}}]
[null,null,{"$f":"IF('trait prev veaux'!#REF!=\"\",\"\",'trait prev veaux'!#REF!)","v":{"$error":"#REF!"}},{"$f":"IF('trait prev veaux'!#REF!=\"\",\"\",'trait prev veaux'!#REF!)","v":{"$error":"#REF!"}}]
[null,null,{"$f":"IF('trait prev veaux'!#REF!=\"\",\"\",'trait prev veaux'!#REF!)","v":{"$error":"#REF!"}},{"$f":"IF('trait prev veaux'!#REF!=\"\",\"\",'trait prev veaux'!#REF!)","v":{"$error":"#REF!"}}]
[null,null,{"$f":"IF('trait prev veaux'!#REF!=\"\",\"\",'trait prev veaux'!#REF!)","v":{"$error":"#REF!"}},{"$f":"IF('trait prev veaux'!#REF!=\"\",\"\",'trait prev veaux'!#REF!)","v":{"$error":"#REF!"}}]
[null,null,{"$f":"IF('trait prev veaux'!#REF!=\"\",\"\",'trait prev veaux'!#REF!)","v":{"$error":"#REF!"}},{"$f":"IF('trait prev veaux'!#REF!=\"\",\"\",'trait prev veaux'!#REF!)","v":{"$error":"#REF!"}}]
[null,null,{"$f":"IF('trait prev veaux'!#REF!=\"\",\"\",'trait prev veaux'!#REF!)","v":{"$error":"#REF!"}},{"$f":"IF('trait prev veaux'!#REF!=\"\",\"\",'trait prev veaux'!#REF!)","v":{"$error":"#REF!"}}]
[null,null,{"$f":"IF('trait prev veaux'!#REF!=\"\",\"\",'trait prev veaux'!#REF!)","v":{"$error":"#REF!"}},{"$f":"IF('trait prev veaux'!#REF!=\"\",\"\",'trait prev veaux'!#REF!)","v":{"$error":"#REF!"}}]
[null,null,{"$f":"IF('trait prev veaux'!#REF!=\"\",\"\",'trait prev veaux'!#REF!)","v":{"$error":"#REF!"}},{"$f":"IF('trait prev veaux'!#REF!=\"\",\"\",'trait prev veaux'!#REF!)","v":{"$error":"#REF!"}}]
[null,null,{"$f":"IF('trait prev veaux'!#REF!=\"\",\"\",'trait prev veaux'!#REF!)","v":{"$error":"#REF!"}},{"$f":"IF('trait prev veaux'!#REF!=\"\",\"\",'trait prev veaux'!#REF!)","v":{"$error":"#REF!"}}]
[null,null,{"$f":"IF('trait prev veaux'!#REF!=\"\",\"\",'trait prev veaux'!#REF!)","v":{"$error":"#REF!"}},{"$f":"IF('trait prev veaux'!#REF!=\"\",\"\",'trait prev veaux'!#REF!)","v":{"$error":"#REF!"}}]
[null,null,{"$f":"IF('trait prev veaux'!#REF!=\"\",\"\",'trait prev veaux'!#REF!)","v":{"$error":"#REF!"}},{"$f":"IF('trait prev veaux'!#REF!=\"\",\"\",'trait prev veaux'!#REF!)","v":{"$error":"#REF!"}}]
[null,null,{"$f":"IF('trait prev veaux'!#REF!=\"\",\"\",'trait prev veaux'!#REF!)","v":{"$error":"#REF!"}},{"$f":"IF('trait prev veaux'!#REF!=\"\",\"\",'trait prev veaux'!#REF!)","v":{"$error":"#REF!"}}]
[null,null,{"$f":"IF('trait prev veaux'!#REF!=\"\",\"\",'trait prev veaux'!#REF!)","v":{"$error":"#REF!"}},{"$f":"IF('trait prev veaux'!#REF!=\"\",\"\",'trait prev veaux'!#REF!)","v":{"$error":"#REF!"}}]
[null,null,{"$f":"IF('trait prev veaux'!#REF!=\"\",\"\",'trait prev veaux'!#REF!)","v":{"$error":"#REF!"}},{"$f":"IF('trait prev veaux'!#REF!=\"\",\"\",'trait prev veaux'!#REF!)","v":{"$error":"#REF!"}}]
[null,null,{"$f":"IF('trait prev veaux'!#REF!=\"\",\"\",'trait prev veaux'!#REF!)","v":{"$error":"#REF!"}},{"$f":"IF('trait prev veaux'!#REF!=\"\",\"\",'trait prev veaux'!#REF!)","v":{"$error":"#REF!"}}]
[null,null,{"$f":"IF('trait prev veaux'!#REF!=\"\",\"\",'trait prev veaux'!#REF!)","v":{"$error":"#REF!"}},{"$f":"IF('trait prev veaux'!#REF!=\"\",\"\",'trait prev veaux'!#REF!)","v":{"$error":"#REF!"}}]
[null,null,{"$f":"IF('trait prev veaux'!#REF!=\"\",\"\",'trait prev veaux'!#REF!)","v":{"$error":"#REF!"}},{"$f":"IF('trait prev veaux'!#REF!=\"\",\"\",'trait prev veaux'!#REF!)","v":{"$error":"#REF!"}}]
[null,null,{"$f":"IF('trait prev veaux'!#REF!=\"\",\"\",'trait prev veaux'!#REF!)","v":{"$error":"#REF!"}},{"$f":"IF('trait prev veaux'!#REF!=\"\",\"\",'trait prev veaux'!#REF!)","v":{"$error":"#REF!"}}]
[null,null,{"$f":"IF('trait prev veaux'!#REF!=\"\",\"\",'trait prev veaux'!#REF!)","v":{"$error":"#REF!"}},{"$f":"IF('trait prev veaux'!#REF!=\"\",\"\",'trait prev veaux'!#REF!)","v":{"$error":"#REF!"}}]
[null,null,{"$f":"IF('trait prev veaux'!#REF!=\"\",\"\",'trait prev veaux'!#REF!)","v":{"$error":"#REF!"}},{"$f":"IF('trait prev veaux'!#REF!=\"\",\"\",'trait prev veaux'!#REF!)","v":{"$error":"#REF!"}}]
[null,null,{"$f":"IF('trait prev veaux'!#REF!=\"\",\"\",'trait prev veaux'!#REF!)","v":{"$error":"#REF!"}},{"$f":"IF('trait prev veaux'!#REF!=\"\",\"\",'trait prev veaux'!#REF!)","v":{"$error":"#REF!"}}]
[null,null,{"$f":"IF('trait prev veaux'!#REF!=\"\",\"\",'trait prev veaux'!#REF!)","v":{"$error":"#REF!"}},{"$f":"IF('trait prev veaux'!#REF!=\"\",\"\",'trait prev veaux'!#REF!)","v":{"$error":"#REF!"}}]
[null,null,{"$f":"IF('trait prev veaux'!#REF!=\"\",\"\",'trait prev veaux'!#REF!)","v":{"$error":"#REF!"}},{"$f":"IF('trait prev veaux'!#REF!=\"\",\"\",'trait prev veaux'!#REF!)","v":{"$error":"#REF!"}}]
[null,null,{"$f":"IF('trait prev veaux'!#REF!=\"\",\"\",'trait prev veaux'!#REF!)","v":{"$error":"#REF!"}},{"$f":"IF('trait prev veaux'!#REF!=\"\",\"\",'trait prev veaux'!#REF!)","v":{"$error":"#REF!"}}]
[null,null,{"$f":"IF('trait prev veaux'!#REF!=\"\",\"\",'trait prev veaux'!#REF!)","v":{"$error":"#REF!"}},{"$f":"IF('trait prev veaux'!#REF!=\"\",\"\",'trait prev veaux'!#REF!)","v":{"$error":"#REF!"}}]
[null,null,{"$f":"IF('trait prev veaux'!#REF!=\"\",\"\",'trait prev veaux'!#REF!)","v":{"$error":"#REF!"}},{"$f":"IF('trait prev veaux'!#REF!=\"\",\"\",'trait prev veaux'!#REF!)","v":{"$error":"#REF!"}}]
[null,null,{"$f":"IF('trait prev veaux'!#REF!=\"\",\"\",'trait prev veaux'!#REF!)","v":{"$error":"#REF!"}},{"$f":"IF('trait prev veaux'!#REF!=\"\",\"\",'trait prev veaux'!#REF!)","v":{"$error":"#REF!"}}]
[null,null,{"$f":"IF('trait prev veaux'!#REF!=\"\",\"\",'trait prev veaux'!#REF!)","v":{"$error":"#REF!"}},{"$f":"IF('trait prev veaux'!#REF!=\"\",\"\",'trait prev veaux'!#REF!)","v":{"$error":"#REF!"}}]
[null,null,{"$f":"IF('trait prev veaux'!#REF!=\"\",\"\",'trait prev veaux'!#REF!)","v":{"$error":"#REF!"}},{"$f":"IF('trait prev veaux'!#REF!=\"\",\"\",'trait prev veaux'!#REF!)","v":{"$error":"#REF!"}}]
[null,null,{"$f":"IF('trait prev veaux'!#REF!=\"\",\"\",'trait prev veaux'!#REF!)","v":{"$error":"#REF!"}},{"$f":"IF('trait prev veaux'!#REF!=\"\",\"\",'trait prev veaux'!#REF!)","v":{"$error":"#REF!"}}]
[null,null,{"$f":"IF('trait prev veaux'!#REF!=\"\",\"\",'trait prev veaux'!#REF!)","v":{"$error":"#REF!"}},{"$f":"IF('trait prev veaux'!#REF!=\"\",\"\",'trait prev veaux'!#REF!)","v":{"$error":"#REF!"}}]
[null,null,{"$f":"IF('trait prev veaux'!#REF!=\"\",\"\",'trait prev veaux'!#REF!)","v":{"$error":"#REF!"}},{"$f":"IF('trait prev veaux'!#REF!=\"\",\"\",'trait prev veaux'!#REF!)","v":{"$error":"#REF!"}}]
[null,null,{"$f":"IF('trait prev veaux'!#REF!=\"\",\"\",'trait prev veaux'!#REF!)","v":{"$error":"#REF!"}},{"$f":"IF('trait prev veaux'!#REF!=\"\",\"\",'trait prev veaux'!#REF!)","v":{"$error":"#REF!"}}]
[null,null,{"$f":"IF('trait prev veaux'!#REF!=\"\",\"\",'trait prev veaux'!#REF!)","v":{"$error":"#REF!"}},{"$f":"IF('trait prev veaux'!#REF!=\"\",\"\",'trait prev veaux'!#REF!)","v":{"$error":"#REF!"}}]
[null,null,{"$f":"IF('trait prev veaux'!#REF!=\"\",\"\",'trait prev veaux'!#REF!)","v":{"$error":"#REF!"}},{"$f":"IF('trait prev veaux'!#REF!=\"\",\"\",'trait prev veaux'!#REF!)","v":{"$error":"#REF!"}}]
[null,null,{"$f":"IF('trait prev veaux'!#REF!=\"\",\"\",'trait prev veaux'!#REF!)","v":{"$error":"#REF!"}},{"$f":"IF('trait prev veaux'!#REF!=\"\",\"\",'trait prev veaux'!#REF!)","v":{"$error":"#REF!"}}]
[null,null,{"$f":"IF('trait prev veaux'!#REF!=\"\",\"\",'trait prev veaux'!#REF!)","v":{"$error":"#REF!"}},{"$f":"IF('trait prev veaux'!#REF!=\"\",\"\",'trait prev veaux'!#REF!)","v":{"$error":"#REF!"}}]
[null,null,{"$f":"IF('trait prev veaux'!#REF!=\"\",\"\",'trait prev veaux'!#REF!)","v":{"$error":"#REF!"}},{"$f":"IF('trait prev veaux'!#REF!=\"\",\"\",'trait prev veaux'!#REF!)","v":{"$error":"#REF!"}}]
[null,null,{"$f":"IF('trait prev veaux'!#REF!=\"\",\"\",'trait prev veaux'!#REF!)","v":{"$error":"#REF!"}},{"$f":"IF('trait prev veaux'!#REF!=\"\",\"\",'trait prev veaux'!#REF!)","v":{"$error":"#REF!"}}]
[null,null,{"$f":"IF('trait prev veaux'!#REF!=\"\",\"\",'trait prev veaux'!#REF!)","v":{"$error":"#REF!"}},{"$f":"IF('trait prev veaux'!#REF!=\"\",\"\",'trait prev veaux'!#REF!)","v":{"$error":"#REF!"}}]
[null,null,{"$f":"IF('trait prev veaux'!#REF!=\"\",\"\",'trait prev veaux'!#REF!)","v":{"$error":"#REF!"}},{"$f":"IF('trait prev veaux'!#REF!=\"\",\"\",'trait prev veaux'!#REF!)","v":{"$error":"#REF!"}}]
[null,null,{"$f":"IF('trait prev veaux'!#REF!=\"\",\"\",'trait prev veaux'!#REF!)","v":{"$error":"#REF!"}},{"$f":"IF('trait prev veaux'!#REF!=\"\",\"\",'trait prev veaux'!#REF!)","v":{"$error":"#REF!"}}]
[null,null,{"$f":"IF('trait prev veaux'!#REF!=\"\",\"\",'trait prev veaux'!#REF!)","v":{"$error":"#REF!"}},{"$f":"IF('trait prev veaux'!#REF!=\"\",\"\",'trait prev veaux'!#REF!)","v":{"$error":"#REF!"}}]
[null,null,{"$f":"IF('trait prev veaux'!#REF!=\"\",\"\",'trait prev veaux'!#REF!)","v":{"$error":"#REF!"}},{"$f":"IF('trait prev veaux'!#REF!=\"\",\"\",'trait prev veaux'!#REF!)","v":{"$error":"#REF!"}}]
[null,null,{"$f":"IF('trait prev veaux'!#REF!=\"\",\"\",'trait prev veaux'!#REF!)","v":{"$error":"#REF!"}},{"$f":"IF('trait prev veaux'!#REF!=\"\",\"\",'trait prev veaux'!#REF!)","v":{"$error":"#REF!"}}]
[null,null,{"$f":"IF('trait prev veaux'!#REF!=\"\",\"\",'trait prev veaux'!#REF!)","v":{"$error":"#REF!"}},{"$f":"IF('trait prev veaux'!#REF!=\"\",\"\",'trait prev veaux'!#REF!)","v":{"$error":"#REF!"}}]
[null,null,{"$f":"IF('trait prev veaux'!#REF!=\"\",\"\",'trait prev veaux'!#REF!)","v":{"$error":"#REF!"}},{"$f":"IF('trait prev veaux'!#REF!=\"\",\"\",'trait prev veaux'!#REF!)","v":{"$error":"#REF!"}}]
[null,null,{"$f":"IF('trait prev veaux'!#REF!=\"\",\"\",'trait prev veaux'!#REF!)","v":{"$error":"#REF!"}},{"$f":"IF('trait prev veaux'!#REF!=\"\",\"\",'trait prev veaux'!#REF!)","v":{"$error":"#REF!"}}]
[null,null,{"$f":"IF('trait prev veaux'!#REF!=\"\",\"\",'trait prev veaux'!#REF!)","v":{"$error":"#REF!"}},{"$f":"IF('trait prev veaux'!#REF!=\"\",\"\",'trait prev veaux'!#REF!)","v":{"$error":"#REF!"}}]
[null,null,{"$f":"IF('trait prev veaux'!#REF!=\"\",\"\",'trait prev veaux'!#REF!)","v":{"$error":"#REF!"}},{"$f":"IF('trait prev veaux'!#REF!=\"\",\"\",'trait prev veaux'!#REF!)","v":{"$error":"#REF!"}}]
[null,null,{"$f":"IF('trait prev veaux'!#REF!=\"\",\"\",'trait prev veaux'!#REF!)","v":{"$error":"#REF!"}},{"$f":"IF('trait prev veaux'!#REF!=\"\",\"\",'trait prev veaux'!#REF!)","v":{"$error":"#REF!"}}]
[null,null,{"$f":"IF('trait prev veaux'!#REF!=\"\",\"\",'trait prev veaux'!#REF!)","v":{"$error":"#REF!"}},{"$f":"IF('trait prev veaux'!#REF!=\"\",\"\",'trait prev veaux'!#REF!)","v":{"$error":"#REF!"}}]
[null,null,{"$f":"IF('trait prev veaux'!#REF!=\"\",\"\",'trait prev veaux'!#REF!)","v":{"$error":"#REF!"}},{"$f":"IF('trait prev veaux'!#REF!=\"\",\"\",'trait prev veaux'!#REF!)","v":{"$error":"#REF!"}}]
[null,null,{"$f":"IF('trait prev veaux'!#REF!=\"\",\"\",'trait prev veaux'!#REF!)","v":{"$error":"#REF!"}},{"$f":"IF('trait prev veaux'!#REF!=\"\",\"\",'trait prev veaux'!#REF!)","v":{"$error":"#REF!"}}]
[null,null,{"$f":"IF('trait prev veaux'!#REF!=\"\",\"\",'trait prev veaux'!#REF!)","v":{"$error":"#REF!"}},{"$f":"IF('trait prev veaux'!#REF!=\"\",\"\",'trait prev veaux'!#REF!)","v":{"$error":"#REF!"}}]
[null,null,{"$f":"IF('trait prev veaux'!#REF!=\"\",\"\",'trait prev veaux'!#REF!)","v":{"$error":"#REF!"}},{"$f":"IF('trait prev veaux'!#REF!=\"\",\"\",'trait prev veaux'!#REF!)","v":{"$error":"#REF!"}}]
[null,null,{"$f":"IF('trait prev veaux'!#REF!=\"\",\"\",'trait prev veaux'!#REF!)","v":{"$error":"#REF!"}},{"$f":"IF('trait prev veaux'!#REF!=\"\",\"\",'trait prev veaux'!#REF!)","v":{"$error":"#REF!"}}]
[null,null,{"$f":"IF('trait prev veaux'!#REF!=\"\",\"\",'trait prev veaux'!#REF!)","v":{"$error":"#REF!"}},{"$f":"IF('trait prev veaux'!#REF!=\"\",\"\",'trait prev veaux'!#REF!)","v":{"$error":"#REF!"}}]
[null,null,{"$f":"IF('trait prev veaux'!#REF!=\"\",\"\",'trait prev veaux'!#REF!)","v":{"$error":"#REF!"}},{"$f":"IF('trait prev veaux'!#REF!=\"\",\"\",'trait prev veaux'!#REF!)","v":{"$error":"#REF!"}}]
[null,null,{"$f":"IF('trait prev veaux'!#REF!=\"\",\"\",'trait prev veaux'!#REF!)","v":{"$error":"#REF!"}},{"$f":"IF('trait prev veaux'!#REF!=\"\",\"\",'trait prev veaux'!#REF!)","v":{"$error":"#REF!"}}]
[null,null,{"$f":"IF('trait prev veaux'!#REF!=\"\",\"\",'trait prev veaux'!#REF!)","v":{"$error":"#REF!"}},{"$f":"IF('trait prev veaux'!#REF!=\"\",\"\",'trait prev veaux'!#REF!)","v":{"$error":"#REF!"}}]

{"sheet":"lots cases à cocher","index":11,"n_rows":132,"n_cols":18,"rows_kept":132,"cut":false,"hidden":false,"merged":[[1,0,1,1],[1,2,1,16],[5,3,5,4],[6,3,6,4],[7,3,7,4],[8,3,8,4],[9,3,9,4],[10,3,10,4],[2,3,3,4],[2,5,2,16],[4,2,4,4],[17,3,17,4],[18,3,18,4],[19,3,19,4],[20,3,20,4],[21,3,21,4],[22,3,22,4],[11,3,11,4],[12,3,12,4],[13,3,13,4],[14,3,14,4],[15,3,15,4],[16,3,16,4],[29,3,29,4],[30,3,30,4],[31,3,31,4],[32,3,32,4],[33,3,33,4],[34,3,34,4],[23,3,23,4],[24,3,24,4],[25,3,25,4],[26,3,26,4],[27,3,27,4],[28,3,28,4],[41,3,41,4],[42,3,42,4],[43,3,43,4],[44,3,44,4],[45,3,45,4],[46,3,46,4],[35,3,35,4],[36,3,36,4],[37,3,37,4],[38,3,38,4],[39,3,39,4],[40,3,40,4],[53,3,53,4],[54,3,54,4],[55,3,55,4],[56,3,56,4],[57,3,57,4],[58,3,58,4],[47,3,47,4],[48,3,48,4],[49,3,49,4],[50,3,50,4],[51,3,51,4],[52,3,52,4],[65,3,65,4],[66,3,66,4],[67,3,67,4],[68,3,68,4],[69,3,69,4],[70,3,70,4],[59,3,59,4],[60,3,60,4],[61,3,61,4],[62,3,62,4],[63,3,63,4],[64,3,64,4],[77,3,77,4],[78,3,78,4],[79,3,79,4],[80,3,80,4],[81,3,81,4],[82,3,82,4],[71,3,71,4],[72,3,72,4],[73,3,73,4],[74,3,74,4],[75,3,75,4],[76,3,76,4],[89,3,89,4],[90,3,90,4],[91,3,91,4],[92,3,92,4],[93,3,93,4],[94,3,94,4],[83,3,83,4],[84,3,84,4],[85,3,85,4],[86,3,86,4],[87,3,87,4],[88,3,88,4],[101,3,101,4],[102,3,102,4],[103,3,103,4],[104,3,104,4],[105,3,105,4],[106,3,106,4],[95,3,95,4],[96,3,96,4],[97,3,97,4],[98,3,98,4],[99,3,99,4],[100,3,100,4],[113,3,113,4],[114,3,114,4],[115,3,115,4],[116,3,116,4],[117,3,117,4],[118,3,118,4],[107,3,107,4],[108,3,108,4],[109,3,109,4],[110,3,110,4],[111,3,111,4],[112,3,112,4],[125,3,125,4],[126,3,126,4],[127,3,127,4],[128,3,128,4],[129,3,129,4],[130,3,130,4],[119,3,119,4],[120,3,120,4],[121,3,121,4],[122,3,122,4],[123,3,123,4],[124,3,124,4],[131,3,131,4]]}
[]
["retour à la page d'accueil",null,"Enregistrements des lots "]
[{"$f":"'trait curatif veaux'!A5","v":"54474307"},null,"N° 4 chiffres du veau","N° 4 chiffres de la mère nourricière (cas de TE ou adoption)",null,"L'identité des veaux est récupéré automatiquement de la saisie des traitements préventifs. Il reste à cocher les veaux faisant partie de chaque lot concerné. Il est possible de sélectionner tous les veaux et d'en désélectionner quelques uns."]
[null,null,null,null,null,"LOT 1","LOT 2","LOT 3","LOT 4","LOT 5","LOT 6","LOT 7","LOT 8","LOT 9","LOT 10","LOT 11","LOT 12"]
[null,null,"Cocher/décocher tous les animaux",null,null,false,false,false,false,false,false,false,false,false,false,false,false,"Remarques particulières sur l'animal"]
[null,null,{"$f":"IF('trait prev veaux'!C14=\"\",\"\",'trait prev veaux'!C14)","v":""},{"$f":"IF('trait prev veaux'!D14=\"\",\"\",'trait prev veaux'!D14)","v":""},null,{"$f":"IF(C6=\"\",\"\",IF($F$5=TRUE,TRUE,FALSE))","v":""},{"$f":"IF(C6=\"\",\"\",IF($G$5=TRUE,TRUE,FALSE))","v":""},{"$f":"IF(C6=\"\",\"\",IF($H$5=TRUE,TRUE,FALSE))","v":""},{"$f":"IF(C6=\"\",\"\",IF($I$5=TRUE,TRUE,FALSE))","v":""},{"$f":"IF(C6=\"\",\"\",IF($J$5=TRUE,TRUE,FALSE))","v":""},{"$f":"IF(C6=\"\",\"\",IF($K$5=TRUE,TRUE,FALSE))","v":""},{"$f":"IF(C6=\"\",\"\",IF($L$5=TRUE,TRUE,FALSE))","v":""},{"$f":"IF(C6=\"\",\"\",IF($M$5=TRUE,TRUE,FALSE))","v":""},{"$f":"IF(C6=\"\",\"\",IF($N$5=TRUE,TRUE,FALSE))","v":""},{"$f":"IF(C6=\"\",\"\",IF($O$5=TRUE,TRUE,FALSE))","v":""},{"$f":"IF(C6=\"\",\"\",IF($P$5=TRUE,TRUE,FALSE))","v":""},{"$f":"IF(C6=\"\",\"\",IF($Q$5=TRUE,TRUE,FALSE))","v":""}]
[null,null,{"$f":"IF('trait prev veaux'!C15=\"\",\"\",'trait prev veaux'!C15)","v":""},{"$f":"IF('trait prev veaux'!D15=\"\",\"\",'trait prev veaux'!D15)","v":""},null,"","","","","","","","","","","",""]
[null,null,{"$f":"IF('trait prev veaux'!C16=\"\",\"\",'trait prev veaux'!C16)","v":""},{"$f":"IF('trait prev veaux'!D16=\"\",\"\",'trait prev veaux'!D16)","v":""},null,"","","","","","","","","","","",""]
[null,null,{"$f":"IF('trait prev veaux'!C17=\"\",\"\",'trait prev veaux'!C17)","v":""},{"$f":"IF('trait prev veaux'!D17=\"\",\"\",'trait prev veaux'!D17)","v":""},null,"",false,"","","","","","","","","",""]
[null,null,{"$f":"IF('trait prev veaux'!C18=\"\",\"\",'trait prev veaux'!C18)","v":""},{"$f":"IF('trait prev veaux'!D18=\"\",\"\",'trait prev veaux'!D18)","v":""},null,"","","","","","","","","","","",""]
[null,null,{"$f":"IF('trait prev veaux'!C19=\"\",\"\",'trait prev veaux'!C19)","v":""},{"$f":"IF('trait prev veaux'!D19=\"\",\"\",'trait prev veaux'!D19)","v":""},null,"","","","","","","","","","","",""]
[null,null,{"$f":"IF('trait prev veaux'!C20=\"\",\"\",'trait prev veaux'!C20)","v":""},{"$f":"IF('trait prev veaux'!D20=\"\",\"\",'trait prev veaux'!D20)","v":""},null,"","","","","","","","","","","",""]
[null,null,{"$f":"IF('trait prev veaux'!C21=\"\",\"\",'trait prev veaux'!C21)","v":""},{"$f":"IF('trait prev veaux'!D21=\"\",\"\",'trait prev veaux'!D21)","v":""},null,"","","","","","","","","","","",""]
[null,null,{"$f":"IF('trait prev veaux'!C22=\"\",\"\",'trait prev veaux'!C22)","v":""},{"$f":"IF('trait prev veaux'!D22=\"\",\"\",'trait prev veaux'!D22)","v":""},null,"","","","","","","","","","","",""]
[null,null,{"$f":"IF('trait prev veaux'!C23=\"\",\"\",'trait prev veaux'!C23)","v":""},{"$f":"IF('trait prev veaux'!D23=\"\",\"\",'trait prev veaux'!D23)","v":""},null,"","","","","","","","","","","",""]
[null,null,{"$f":"IF('trait prev veaux'!C24=\"\",\"\",'trait prev veaux'!C24)","v":""},{"$f":"IF('trait prev veaux'!D24=\"\",\"\",'trait prev veaux'!D24)","v":""},null,"","","","","","","","","","","",""]
[null,null,{"$f":"IF('trait prev veaux'!C25=\"\",\"\",'trait prev veaux'!C25)","v":""},{"$f":"IF('trait prev veaux'!D25=\"\",\"\",'trait prev veaux'!D25)","v":""},null,"","","","","","","","","","","",""]
[null,null,{"$f":"IF('trait prev veaux'!C26=\"\",\"\",'trait prev veaux'!C26)","v":""},{"$f":"IF('trait prev veaux'!D26=\"\",\"\",'trait prev veaux'!D26)","v":""},null,"","","","","","","","","","","",""]
[null,null,{"$f":"IF('trait prev veaux'!C27=\"\",\"\",'trait prev veaux'!C27)","v":""},{"$f":"IF('trait prev veaux'!D27=\"\",\"\",'trait prev veaux'!D27)","v":""},null,"","","","","","","","","","","",""]
[null,null,{"$f":"IF('trait prev veaux'!C28=\"\",\"\",'trait prev veaux'!C28)","v":""},{"$f":"IF('trait prev veaux'!D28=\"\",\"\",'trait prev veaux'!D28)","v":""},null,"","","","","","","","","","","",""]
[null,null,{"$f":"IF('trait prev veaux'!C29=\"\",\"\",'trait prev veaux'!C29)","v":""},{"$f":"IF('trait prev veaux'!D29=\"\",\"\",'trait prev veaux'!D29)","v":""},null,"","","","","","","","","","","",""]
[null,null,{"$f":"IF('trait prev veaux'!C30=\"\",\"\",'trait prev veaux'!C30)","v":""},{"$f":"IF('trait prev veaux'!D30=\"\",\"\",'trait prev veaux'!D30)","v":""},null,"","","","","","","","","","","",""]
[null,null,{"$f":"IF('trait prev veaux'!C31=\"\",\"\",'trait prev veaux'!C31)","v":""},{"$f":"IF('trait prev veaux'!D31=\"\",\"\",'trait prev veaux'!D31)","v":""},null,"","","","","","","","","","","",""]
[null,null,{"$f":"IF('trait prev veaux'!C32=\"\",\"\",'trait prev veaux'!C32)","v":""},{"$f":"IF('trait prev veaux'!D32=\"\",\"\",'trait prev veaux'!D32)","v":""},null,"","","","","","","",false,"","","",""]
[null,null,{"$f":"IF('trait prev veaux'!C33=\"\",\"\",'trait prev veaux'!C33)","v":""},{"$f":"IF('trait prev veaux'!D33=\"\",\"\",'trait prev veaux'!D33)","v":""},null,"","","","","","","",{"$f":"IF(C25=\"\",\"\",IF($M$5=TRUE,TRUE,FALSE))","v":""},"","","",""]
[null,null,{"$f":"IF('trait prev veaux'!C34=\"\",\"\",'trait prev veaux'!C34)","v":""},{"$f":"IF('trait prev veaux'!D34=\"\",\"\",'trait prev veaux'!D34)","v":""},null,"","","","","","","","","","","",""]
[null,null,{"$f":"IF('trait prev veaux'!C35=\"\",\"\",'trait prev veaux'!C35)","v":""},{"$f":"IF('trait prev veaux'!D35=\"\",\"\",'trait prev veaux'!D35)","v":""},null,"","","","","","","","","","","",""]
[null,null,{"$f":"IF('trait prev veaux'!C36=\"\",\"\",'trait prev veaux'!C36)","v":""},{"$f":"IF('trait prev veaux'!D36=\"\",\"\",'trait prev veaux'!D36)","v":""},null,"","","","","","","","","","","",""]
[null,null,{"$f":"IF('trait prev veaux'!C37=\"\",\"\",'trait prev veaux'!C37)","v":""},{"$f":"IF('trait prev veaux'!D37=\"\",\"\",'trait prev veaux'!D37)","v":""},null,"","","","","","","","","","","",""]
[null,null,{"$f":"IF('trait prev veaux'!C38=\"\",\"\",'trait prev veaux'!C38)","v":""},{"$f":"IF('trait prev veaux'!D38=\"\",\"\",'trait prev veaux'!D38)","v":""},null,"","","","","","","","","","","",""]
[null,null,{"$f":"IF('trait prev veaux'!C39=\"\",\"\",'trait prev veaux'!C39)","v":""},{"$f":"IF('trait prev veaux'!D39=\"\",\"\",'trait prev veaux'!D39)","v":""},null,"","","","","","","","","","","",""]
[null,null,{"$f":"IF('trait prev veaux'!C40=\"\",\"\",'trait prev veaux'!C40)","v":""},{"$f":"IF('trait prev veaux'!D40=\"\",\"\",'trait prev veaux'!D40)","v":""},null,"","","","","","","","","","","",""]
[null,null,{"$f":"IF('trait prev veaux'!C41=\"\",\"\",'trait prev veaux'!C41)","v":""},{"$f":"IF('trait prev veaux'!D41=\"\",\"\",'trait prev veaux'!D41)","v":""},null,"","","","","","","","","","","",""]
[null,null,{"$f":"IF('trait prev veaux'!C42=\"\",\"\",'trait prev veaux'!C42)","v":""},{"$f":"IF('trait prev veaux'!D42=\"\",\"\",'trait prev veaux'!D42)","v":""},null,"","","","","","","","","","","",""]
[null,null,{"$f":"IF('trait prev veaux'!C43=\"\",\"\",'trait prev veaux'!C43)","v":""},{"$f":"IF('trait prev veaux'!D43=\"\",\"\",'trait prev veaux'!D43)","v":""},null,"","","","","","","","","","","",""]
[null,null,{"$f":"IF('trait prev veaux'!C44=\"\",\"\",'trait prev veaux'!C44)","v":""},{"$f":"IF('trait prev veaux'!D44=\"\",\"\",'trait prev veaux'!D44)","v":""},null,"","","","","","","","","","","",""]
[null,null,{"$f":"IF('trait prev veaux'!C45=\"\",\"\",'trait prev veaux'!C45)","v":""},{"$f":"IF('trait prev veaux'!D45=\"\",\"\",'trait prev veaux'!D45)","v":""},null,"","","","","","","","","","","",""]
[null,null,{"$f":"IF('trait prev veaux'!C46=\"\",\"\",'trait prev veaux'!C46)","v":""},{"$f":"IF('trait prev veaux'!D46=\"\",\"\",'trait prev veaux'!D46)","v":""},null,"","","","","","","","","","","",""]
[null,null,{"$f":"IF('trait prev veaux'!C47=\"\",\"\",'trait prev veaux'!C47)","v":""},{"$f":"IF('trait prev veaux'!D47=\"\",\"\",'trait prev veaux'!D47)","v":""},null,"","","","","","","","","","","",""]
[null,null,{"$f":"IF('trait prev veaux'!C48=\"\",\"\",'trait prev veaux'!C48)","v":""},{"$f":"IF('trait prev veaux'!D48=\"\",\"\",'trait prev veaux'!D48)","v":""},null,"","","","","","","","","","","",""]
[null,null,{"$f":"IF('trait prev veaux'!C49=\"\",\"\",'trait prev veaux'!C49)","v":""},{"$f":"IF('trait prev veaux'!D49=\"\",\"\",'trait prev veaux'!D49)","v":""},null,"","","","","","","","","","","",""]
[null,null,{"$f":"IF('trait prev veaux'!C50=\"\",\"\",'trait prev veaux'!C50)","v":""},{"$f":"IF('trait prev veaux'!D50=\"\",\"\",'trait prev veaux'!D50)","v":""},null,"","","","","","","","","","","",""]
[null,null,{"$f":"IF('trait prev veaux'!C51=\"\",\"\",'trait prev veaux'!C51)","v":""},{"$f":"IF('trait prev veaux'!D51=\"\",\"\",'trait prev veaux'!D51)","v":""},null,"","","","","","","","","","","",""]
[null,null,{"$f":"IF('trait prev veaux'!C52=\"\",\"\",'trait prev veaux'!C52)","v":""},{"$f":"IF('trait prev veaux'!D52=\"\",\"\",'trait prev veaux'!D52)","v":""},null,"","","","","","","","","","","",""]
[null,null,{"$f":"IF('trait prev veaux'!C53=\"\",\"\",'trait prev veaux'!C53)","v":""},{"$f":"IF('trait prev veaux'!D53=\"\",\"\",'trait prev veaux'!D53)","v":""},null,"","","","","","","","","","","",""]
[null,null,{"$f":"IF('trait prev veaux'!C54=\"\",\"\",'trait prev veaux'!C54)","v":""},{"$f":"IF('trait prev veaux'!D54=\"\",\"\",'trait prev veaux'!D54)","v":""},null,"","","","","","","","","","","",""]
[null,null,{"$f":"IF('trait prev veaux'!C55=\"\",\"\",'trait prev veaux'!C55)","v":""},{"$f":"IF('trait prev veaux'!D55=\"\",\"\",'trait prev veaux'!D55)","v":""},null,"","","","","","","","","","","",""]
[null,null,{"$f":"IF('trait prev veaux'!C56=\"\",\"\",'trait prev veaux'!C56)","v":""},{"$f":"IF('trait prev veaux'!D56=\"\",\"\",'trait prev veaux'!D56)","v":""},null,"","","","","","","","","","","",""]
[null,null,{"$f":"IF('trait prev veaux'!C57=\"\",\"\",'trait prev veaux'!C57)","v":""},{"$f":"IF('trait prev veaux'!D57=\"\",\"\",'trait prev veaux'!D57)","v":""},null,"","","","","","","","","","","",""]
[null,null,{"$f":"IF('trait prev veaux'!C58=\"\",\"\",'trait prev veaux'!C58)","v":""},{"$f":"IF('trait prev veaux'!D58=\"\",\"\",'trait prev veaux'!D58)","v":""},null,"","","","","","","","","","","",""]
[null,null,{"$f":"IF('trait prev veaux'!C59=\"\",\"\",'trait prev veaux'!C59)","v":""},{"$f":"IF('trait prev veaux'!D59=\"\",\"\",'trait prev veaux'!D59)","v":""},null,"","","","","","","","","","","",""]
[null,null,{"$f":"IF('trait prev veaux'!C60=\"\",\"\",'trait prev veaux'!C60)","v":""},{"$f":"IF('trait prev veaux'!D60=\"\",\"\",'trait prev veaux'!D60)","v":""},null,"","","","","","","","","","","",""]
[null,null,{"$f":"IF('trait prev veaux'!C61=\"\",\"\",'trait prev veaux'!C61)","v":""},{"$f":"IF('trait prev veaux'!D61=\"\",\"\",'trait prev veaux'!D61)","v":""},null,"","","","","","","","","","","",""]
[null,null,{"$f":"IF('trait prev veaux'!C62=\"\",\"\",'trait prev veaux'!C62)","v":""},{"$f":"IF('trait prev veaux'!D62=\"\",\"\",'trait prev veaux'!D62)","v":""},null,"","","","","","","","","","","",""]
[null,null,{"$f":"IF('trait prev veaux'!C63=\"\",\"\",'trait prev veaux'!C63)","v":""},{"$f":"IF('trait prev veaux'!D63=\"\",\"\",'trait prev veaux'!D63)","v":""},null,"","","","","","","","","","","",""]
[null,null,{"$f":"IF('trait prev veaux'!C64=\"\",\"\",'trait prev veaux'!C64)","v":""},{"$f":"IF('trait prev veaux'!D64=\"\",\"\",'trait prev veaux'!D64)","v":""},null,"","","","","","","","","","","",""]
[null,null,{"$f":"IF('trait prev veaux'!C65=\"\",\"\",'trait prev veaux'!C65)","v":""},{"$f":"IF('trait prev veaux'!D65=\"\",\"\",'trait prev veaux'!D65)","v":""},null,"","","","","","","","","","","",""]
[null,null,{"$f":"IF('trait prev veaux'!C66=\"\",\"\",'trait prev veaux'!C66)","v":""},{"$f":"IF('trait prev veaux'!D66=\"\",\"\",'trait prev veaux'!D66)","v":""},null,"","","","","","","","","","","",""]
[null,null,{"$f":"IF('trait prev veaux'!C67=\"\",\"\",'trait prev veaux'!C67)","v":""},{"$f":"IF('trait prev veaux'!D67=\"\",\"\",'trait prev veaux'!D67)","v":""},null,"","","","","","","","","","","",""]
[null,null,{"$f":"IF('trait prev veaux'!C68=\"\",\"\",'trait prev veaux'!C68)","v":""},{"$f":"IF('trait prev veaux'!D68=\"\",\"\",'trait prev veaux'!D68)","v":""},null,"","","","","","","","","","","",""]
[null,null,{"$f":"IF('trait prev veaux'!C69=\"\",\"\",'trait prev veaux'!C69)","v":""},{"$f":"IF('trait prev veaux'!D69=\"\",\"\",'trait prev veaux'!D69)","v":""},null,"","","","","","","","","","","",""]
[null,null,{"$f":"IF('trait prev veaux'!C70=\"\",\"\",'trait prev veaux'!C70)","v":""},{"$f":"IF('trait prev veaux'!D70=\"\",\"\",'trait prev veaux'!D70)","v":""},null,"","","","","","","","","","","",""]
[null,null,{"$f":"IF('trait prev veaux'!C71=\"\",\"\",'trait prev veaux'!C71)","v":""},{"$f":"IF('trait prev veaux'!D71=\"\",\"\",'trait prev veaux'!D71)","v":""},null,"","","","","","","","","","","",""]
[null,null,{"$f":"IF('trait prev veaux'!C72=\"\",\"\",'trait prev veaux'!C72)","v":""},{"$f":"IF('trait prev veaux'!D72=\"\",\"\",'trait prev veaux'!D72)","v":""},null,"","","","","","","","","","","",""]
[null,null,{"$f":"IF('trait prev veaux'!C73=\"\",\"\",'trait prev veaux'!C73)","v":""},{"$f":"IF('trait prev veaux'!D73=\"\",\"\",'trait prev veaux'!D73)","v":""},null,"","","","","","","","","","","",""]
[null,null,{"$f":"IF('trait prev veaux'!C74=\"\",\"\",'trait prev veaux'!C74)","v":""},{"$f":"IF('trait prev veaux'!D74=\"\",\"\",'trait prev veaux'!D74)","v":""},null,"","","","","","","","","","","",""]
[null,null,{"$f":"IF('trait prev veaux'!C75=\"\",\"\",'trait prev veaux'!C75)","v":""},{"$f":"IF('trait prev veaux'!D75=\"\",\"\",'trait prev veaux'!D75)","v":""},null,"","","","","","","","","","","",""]
[null,null,{"$f":"IF('trait prev veaux'!C76=\"\",\"\",'trait prev veaux'!C76)","v":""},{"$f":"IF('trait prev veaux'!D76=\"\",\"\",'trait prev veaux'!D76)","v":""},null,"","","","","","","","","","","",""]
[null,null,{"$f":"IF('trait prev veaux'!C77=\"\",\"\",'trait prev veaux'!C77)","v":""},{"$f":"IF('trait prev veaux'!D77=\"\",\"\",'trait prev veaux'!D77)","v":""},null,"","","","","","","","","","","",""]
[null,null,{"$f":"IF('trait prev veaux'!C78=\"\",\"\",'trait prev veaux'!C78)","v":""},{"$f":"IF('trait prev veaux'!D78=\"\",\"\",'trait prev veaux'!D78)","v":""},null,{"$f":"IF(C70=\"\",\"\",IF($F$5=TRUE,TRUE,FALSE))","v":""},{"$f":"IF(C70=\"\",\"\",IF($G$5=TRUE,TRUE,FALSE))","v":""},{"$f":"IF(C70=\"\",\"\",IF($H$5=TRUE,TRUE,FALSE))","v":""},{"$f":"IF(C70=\"\",\"\",IF($I$5=TRUE,TRUE,FALSE))","v":""},{"$f":"IF(C70=\"\",\"\",IF($J$5=TRUE,TRUE,FALSE))","v":""},{"$f":"IF(C70=\"\",\"\",IF($K$5=TRUE,TRUE,FALSE))","v":""},{"$f":"IF(C70=\"\",\"\",IF($L$5=TRUE,TRUE,FALSE))","v":""},"",{"$f":"IF(C70=\"\",\"\",IF($N$5=TRUE,TRUE,FALSE))","v":""},{"$f":"IF(C70=\"\",\"\",IF($O$5=TRUE,TRUE,FALSE))","v":""},{"$f":"IF(C70=\"\",\"\",IF($P$5=TRUE,TRUE,FALSE))","v":""},{"$f":"IF(C70=\"\",\"\",IF($Q$5=TRUE,TRUE,FALSE))","v":""}]
[null,null,{"$f":"IF('trait prev veaux'!C79=\"\",\"\",'trait prev veaux'!C79)","v":""},{"$f":"IF('trait prev veaux'!D79=\"\",\"\",'trait prev veaux'!D79)","v":""},null,"","","","","","","","","","","",""]
[null,null,{"$f":"IF('trait prev veaux'!C80=\"\",\"\",'trait prev veaux'!C80)","v":""},{"$f":"IF('trait prev veaux'!D80=\"\",\"\",'trait prev veaux'!D80)","v":""},null,"","","","","","","","","","","",""]
[null,null,{"$f":"IF('trait prev veaux'!C81=\"\",\"\",'trait prev veaux'!C81)","v":""},{"$f":"IF('trait prev veaux'!D81=\"\",\"\",'trait prev veaux'!D81)","v":""},null,"","","","","","","","","","","",""]
[null,null,{"$f":"IF('trait prev veaux'!C82=\"\",\"\",'trait prev veaux'!C82)","v":""},{"$f":"IF('trait prev veaux'!D82=\"\",\"\",'trait prev veaux'!D82)","v":""},null,"","","","","","","","","","","",""]
[null,null,{"$f":"IF('trait prev veaux'!C83=\"\",\"\",'trait prev veaux'!C83)","v":""},{"$f":"IF('trait prev veaux'!D83=\"\",\"\",'trait prev veaux'!D83)","v":""},null,"","","","","","","","","","","",""]
[null,null,{"$f":"IF('trait prev veaux'!C84=\"\",\"\",'trait prev veaux'!C84)","v":""},{"$f":"IF('trait prev veaux'!D84=\"\",\"\",'trait prev veaux'!D84)","v":""},null,"","","","","","","","","","","",""]
[null,null,{"$f":"IF('trait prev veaux'!C85=\"\",\"\",'trait prev veaux'!C85)","v":""},{"$f":"IF('trait prev veaux'!D85=\"\",\"\",'trait prev veaux'!D85)","v":""},null,"","","","","","","","","","","",""]
[null,null,{"$f":"IF('trait prev veaux'!C86=\"\",\"\",'trait prev veaux'!C86)","v":""},{"$f":"IF('trait prev veaux'!D86=\"\",\"\",'trait prev veaux'!D86)","v":""},null,"","","","","","","","","","","",""]
[null,null,{"$f":"IF('trait prev veaux'!C87=\"\",\"\",'trait prev veaux'!C87)","v":""},{"$f":"IF('trait prev veaux'!D87=\"\",\"\",'trait prev veaux'!D87)","v":""},null,"","","","","","","","","","","",""]
[null,null,{"$f":"IF('trait prev veaux'!C88=\"\",\"\",'trait prev veaux'!C88)","v":""},{"$f":"IF('trait prev veaux'!D88=\"\",\"\",'trait prev veaux'!D88)","v":""},null,"","","","","","","","","","","",""]
[null,null,{"$f":"IF('trait prev veaux'!C89=\"\",\"\",'trait prev veaux'!C89)","v":""},{"$f":"IF('trait prev veaux'!D89=\"\",\"\",'trait prev veaux'!D89)","v":""},null,"","","","","","","","","","","",""]
[null,null,{"$f":"IF('trait prev veaux'!C90=\"\",\"\",'trait prev veaux'!C90)","v":""},{"$f":"IF('trait prev veaux'!D90=\"\",\"\",'trait prev veaux'!D90)","v":""},null,"","","","","","","","","","","",""]
[null,null,{"$f":"IF('trait prev veaux'!C91=\"\",\"\",'trait prev veaux'!C91)","v":""},{"$f":"IF('trait prev veaux'!D91=\"\",\"\",'trait prev veaux'!D91)","v":""},null,"","","","","","","","","","","",""]
[null,null,{"$f":"IF('trait prev veaux'!C92=\"\",\"\",'trait prev veaux'!C92)","v":""},{"$f":"IF('trait prev veaux'!D92=\"\",\"\",'trait prev veaux'!D92)","v":""},null,"","","","","","","","","","","",""]
[null,null,{"$f":"IF('trait prev veaux'!C93=\"\",\"\",'trait prev veaux'!C93)","v":""},{"$f":"IF('trait prev veaux'!D93=\"\",\"\",'trait prev veaux'!D93)","v":""},null,"","","","","","","","","","","",""]
[null,null,{"$f":"IF('trait prev veaux'!C94=\"\",\"\",'trait prev veaux'!C94)","v":""},{"$f":"IF('trait prev veaux'!D94=\"\",\"\",'trait prev veaux'!D94)","v":""},null,"","","","","","","","","","","",""]
[null,null,{"$f":"IF('trait prev veaux'!C95=\"\",\"\",'trait prev veaux'!C95)","v":""},{"$f":"IF('trait prev veaux'!D95=\"\",\"\",'trait prev veaux'!D95)","v":""},null,"","","","","","","","","","","",""]
[null,null,{"$f":"IF('trait prev veaux'!C96=\"\",\"\",'trait prev veaux'!C96)","v":""},{"$f":"IF('trait prev veaux'!D96=\"\",\"\",'trait prev veaux'!D96)","v":""},null,"","","","","","","","","","","",""]
[null,null,{"$f":"IF('trait prev veaux'!C97=\"\",\"\",'trait prev veaux'!C97)","v":""},{"$f":"IF('trait prev veaux'!D97=\"\",\"\",'trait prev veaux'!D97)","v":""},null,"","","","","","","",{"$f":"IF(C89=\"\",\"\",IF($M$5=TRUE,TRUE,FALSE))","v":""},"","","",""]
[null,null,{"$f":"IF('trait prev veaux'!C98=\"\",\"\",'trait prev veaux'!C98)","v":""},{"$f":"IF('trait prev veaux'!D98=\"\",\"\",'trait prev veaux'!D98)","v":""},null,"","","","","","","","","","","",""]
[null,null,{"$f":"IF('trait prev veaux'!C99=\"\",\"\",'trait prev veaux'!C99)","v":""},{"$f":"IF('trait prev veaux'!D99=\"\",\"\",'trait prev veaux'!D99)","v":""},null,"","","","","","","","","","","",""]
[null,null,{"$f":"IF('trait prev veaux'!C100=\"\",\"\",'trait prev veaux'!C100)","v":""},{"$f":"IF('trait prev veaux'!D100=\"\",\"\",'trait prev veaux'!D100)","v":""},null,"","","","","","","","","","","",""]
[null,null,{"$f":"IF('trait prev veaux'!C101=\"\",\"\",'trait prev veaux'!C101)","v":""},{"$f":"IF('trait prev veaux'!D101=\"\",\"\",'trait prev veaux'!D101)","v":""},null,"","","","","","","","","","","",""]
[null,null,{"$f":"IF('trait prev veaux'!C102=\"\",\"\",'trait prev veaux'!C102)","v":""},{"$f":"IF('trait prev veaux'!D102=\"\",\"\",'trait prev veaux'!D102)","v":""},null,"","","","","","","","","","","",""]
[null,null,{"$f":"IF('trait prev veaux'!C103=\"\",\"\",'trait prev veaux'!C103)","v":""},{"$f":"IF('trait prev veaux'!D103=\"\",\"\",'trait prev veaux'!D103)","v":""},null,"","","","","","","","","","","",""]
[null,null,{"$f":"IF('trait prev veaux'!C104=\"\",\"\",'trait prev veaux'!C104)","v":""},{"$f":"IF('trait prev veaux'!D104=\"\",\"\",'trait prev veaux'!D104)","v":""},null,"","","","","","","","","","","",""]
[null,null,{"$f":"IF('trait prev veaux'!C105=\"\",\"\",'trait prev veaux'!C105)","v":""},{"$f":"IF('trait prev veaux'!D105=\"\",\"\",'trait prev veaux'!D105)","v":""},null,"","","","","","","","","","","",""]
[null,null,{"$f":"IF('trait prev veaux'!C106=\"\",\"\",'trait prev veaux'!C106)","v":""},{"$f":"IF('trait prev veaux'!D106=\"\",\"\",'trait prev veaux'!D106)","v":""},null,"","","","","","","","","","","",""]
[null,null,{"$f":"IF('trait prev veaux'!C107=\"\",\"\",'trait prev veaux'!C107)","v":""},{"$f":"IF('trait prev veaux'!D107=\"\",\"\",'trait prev veaux'!D107)","v":""},null,"","","","","","","","","","","",""]
[null,null,{"$f":"IF('trait prev veaux'!C108=\"\",\"\",'trait prev veaux'!C108)","v":""},{"$f":"IF('trait prev veaux'!D108=\"\",\"\",'trait prev veaux'!D108)","v":""},null,"","","","","","","","","","","",""]
[null,null,{"$f":"IF('trait prev veaux'!C109=\"\",\"\",'trait prev veaux'!C109)","v":""},{"$f":"IF('trait prev veaux'!D109=\"\",\"\",'trait prev veaux'!D109)","v":""},null,"","","","","","","","","","","",""]
[null,null,{"$f":"IF('trait prev veaux'!C110=\"\",\"\",'trait prev veaux'!C110)","v":""},{"$f":"IF('trait prev veaux'!D110=\"\",\"\",'trait prev veaux'!D110)","v":""},null,"","","","","","","","","","","",""]
[null,null,{"$f":"IF('trait prev veaux'!C111=\"\",\"\",'trait prev veaux'!C111)","v":""},{"$f":"IF('trait prev veaux'!D111=\"\",\"\",'trait prev veaux'!D111)","v":""},null,"","","","","","","","","","","",""]
[null,null,{"$f":"IF('trait prev veaux'!C112=\"\",\"\",'trait prev veaux'!C112)","v":""},{"$f":"IF('trait prev veaux'!D112=\"\",\"\",'trait prev veaux'!D112)","v":""},null,"","","","","","","","","","","",""]
[null,null,{"$f":"IF('trait prev veaux'!C113=\"\",\"\",'trait prev veaux'!C113)","v":""},{"$f":"IF('trait prev veaux'!D113=\"\",\"\",'trait prev veaux'!D113)","v":""},null,"","","","","","","","","","","",""]
[null,null,{"$f":"IF('trait prev veaux'!C114=\"\",\"\",'trait prev veaux'!C114)","v":""},{"$f":"IF('trait prev veaux'!D114=\"\",\"\",'trait prev veaux'!D114)","v":""},null,"","","","","","","","","","","",""]
[null,null,{"$f":"IF('trait prev veaux'!C115=\"\",\"\",'trait prev veaux'!C115)","v":""},{"$f":"IF('trait prev veaux'!D115=\"\",\"\",'trait prev veaux'!D115)","v":""},null,"","","","","","","","","","","",""]
[null,null,{"$f":"IF('trait prev veaux'!C116=\"\",\"\",'trait prev veaux'!C116)","v":""},{"$f":"IF('trait prev veaux'!D116=\"\",\"\",'trait prev veaux'!D116)","v":""},null,"","","","","","","","","","","",""]
[null,null,{"$f":"IF('trait prev veaux'!C117=\"\",\"\",'trait prev veaux'!C117)","v":""},{"$f":"IF('trait prev veaux'!D117=\"\",\"\",'trait prev veaux'!D117)","v":""},null,"","","","","","","","","","","",""]
[null,null,{"$f":"IF('trait prev veaux'!C118=\"\",\"\",'trait prev veaux'!C118)","v":""},{"$f":"IF('trait prev veaux'!D118=\"\",\"\",'trait prev veaux'!D118)","v":""},null,"","","","","","","","","","","",""]
[null,null,{"$f":"IF('trait prev veaux'!C119=\"\",\"\",'trait prev veaux'!C119)","v":""},{"$f":"IF('trait prev veaux'!D119=\"\",\"\",'trait prev veaux'!D119)","v":""},null,"","","","","","","","","","","",""]
[null,null,{"$f":"IF('trait prev veaux'!C120=\"\",\"\",'trait prev veaux'!C120)","v":""},{"$f":"IF('trait prev veaux'!D120=\"\",\"\",'trait prev veaux'!D120)","v":""},null,"","","","","","","","","","","",""]
[null,null,{"$f":"IF('trait prev veaux'!C121=\"\",\"\",'trait prev veaux'!C121)","v":""},{"$f":"IF('trait prev veaux'!D121=\"\",\"\",'trait prev veaux'!D121)","v":""},null,"","","","","","","","","","","",""]
[null,null,{"$f":"IF('trait prev veaux'!C122=\"\",\"\",'trait prev veaux'!C122)","v":""},{"$f":"IF('trait prev veaux'!D122=\"\",\"\",'trait prev veaux'!D122)","v":""},null,"","","","","","","","","","","",""]
[null,null,{"$f":"IF('trait prev veaux'!C123=\"\",\"\",'trait prev veaux'!C123)","v":""},{"$f":"IF('trait prev veaux'!D123=\"\",\"\",'trait prev veaux'!D123)","v":""},null,"","","","","","","","","","","",""]
[null,null,{"$f":"IF('trait prev veaux'!C124=\"\",\"\",'trait prev veaux'!C124)","v":""},{"$f":"IF('trait prev veaux'!D124=\"\",\"\",'trait prev veaux'!D124)","v":""},null,"","","","","","","","","","","",""]
[null,null,{"$f":"IF('trait prev veaux'!C125=\"\",\"\",'trait prev veaux'!C125)","v":""},{"$f":"IF('trait prev veaux'!D125=\"\",\"\",'trait prev veaux'!D125)","v":""},null,"","","","","","","","","","","",""]
[null,null,{"$f":"IF('trait prev veaux'!C126=\"\",\"\",'trait prev veaux'!C126)","v":""},{"$f":"IF('trait prev veaux'!D126=\"\",\"\",'trait prev veaux'!D126)","v":""},null,"","","","","","","","","","","",""]
[null,null,{"$f":"IF('trait prev veaux'!C127=\"\",\"\",'trait prev veaux'!C127)","v":""},{"$f":"IF('trait prev veaux'!D127=\"\",\"\",'trait prev veaux'!D127)","v":""},null,"","","","","","","","","","","",""]
[null,null,{"$f":"IF('trait prev veaux'!C128=\"\",\"\",'trait prev veaux'!C128)","v":""},{"$f":"IF('trait prev veaux'!D128=\"\",\"\",'trait prev veaux'!D128)","v":""},null,"","","","","","","","","","","",""]
[null,null,{"$f":"IF('trait prev veaux'!C129=\"\",\"\",'trait prev veaux'!C129)","v":""},{"$f":"IF('trait prev veaux'!D129=\"\",\"\",'trait prev veaux'!D129)","v":""},null,"","","","","","","","","","","",""]
[null,null,{"$f":"IF('trait prev veaux'!C130=\"\",\"\",'trait prev veaux'!C130)","v":""},{"$f":"IF('trait prev veaux'!D130=\"\",\"\",'trait prev veaux'!D130)","v":""},null,"","","","","","","","","","","",""]
[null,null,{"$f":"IF('trait prev veaux'!C131=\"\",\"\",'trait prev veaux'!C131)","v":""},{"$f":"IF('trait prev veaux'!D131=\"\",\"\",'trait prev veaux'!D131)","v":""},null,"","","","","","","","","","","",""]
[null,null,{"$f":"IF('trait prev veaux'!C132=\"\",\"\",'trait prev veaux'!C132)","v":""},{"$f":"IF('trait prev veaux'!D132=\"\",\"\",'trait prev veaux'!D132)","v":""},null,"","","","","","","","","","","",""]
[null,null,{"$f":"IF('trait prev veaux'!C133=\"\",\"\",'trait prev veaux'!C133)","v":""},{"$f":"IF('trait prev veaux'!D133=\"\",\"\",'trait prev veaux'!D133)","v":""},null,"","","","","","","","","","","",""]
[null,null,{"$f":"IF('trait prev veaux'!C134=\"\",\"\",'trait prev veaux'!C134)","v":""},{"$f":"IF('trait prev veaux'!D134=\"\",\"\",'trait prev veaux'!D134)","v":""},null,"","","","","","","","","","","",""]
[null,null,{"$f":"IF('trait prev veaux'!C135=\"\",\"\",'trait prev veaux'!C135)","v":""},{"$f":"IF('trait prev veaux'!D135=\"\",\"\",'trait prev veaux'!D135)","v":""},null,"","","","","","","","","","","",""]
[null,null,{"$f":"IF('trait prev veaux'!C136=\"\",\"\",'trait prev veaux'!C136)","v":""},{"$f":"IF('trait prev veaux'!D136=\"\",\"\",'trait prev veaux'!D136)","v":""},null,"","","","","","","","","","","",""]
[null,null,{"$f":"IF('trait prev veaux'!C137=\"\",\"\",'trait prev veaux'!C137)","v":""},{"$f":"IF('trait prev veaux'!D137=\"\",\"\",'trait prev veaux'!D137)","v":""},null,"","","","","","","","","","","",""]
[null,null,{"$f":"IF('trait prev veaux'!C138=\"\",\"\",'trait prev veaux'!C138)","v":""},{"$f":"IF('trait prev veaux'!D138=\"\",\"\",'trait prev veaux'!D138)","v":""},null,"","","","","","","","","","","",""]
[null,null,{"$f":"IF('trait prev veaux'!C139=\"\",\"\",'trait prev veaux'!C139)","v":""},{"$f":"IF('trait prev veaux'!D139=\"\",\"\",'trait prev veaux'!D139)","v":""},null,"","","","","","","","","","","",""]
[null,null,{"$f":"IF('trait prev veaux'!C140=\"\",\"\",'trait prev veaux'!C140)","v":""},{"$f":"IF('trait prev veaux'!D140=\"\",\"\",'trait prev veaux'!D140)","v":""},null,"","","","","","","","","","","",""]

{"sheet":"mortalité veau","index":12,"n_rows":6,"n_cols":10,"rows_kept":6,"cut":false,"hidden":false,"merged":[[2,2,2,8],[0,0,0,1],[2,0,3,1],[4,8,5,8],[4,2,5,2],[4,3,5,3],[4,4,5,4],[4,7,5,7],[4,5,4,6]]}
["retour à la page d'accueil"]
[]
[{"$f":"[1]veaux!$B$1","v":"54474307"},null,"Enregistrement de la mortalité des veaux "]
[]
[null,null,"N° 4 chiffres du veau mort","n° 4 chiffres de la mère nourricère","date de la mort","heure de la mort",null,"cause de mortalité","autre maladie, préciser laquelle"]
[null,null,null,null,null,"h","mn",null,null,"Remarques particulières sur l'animal"]

{"sheet":"parage par lot","index":13,"n_rows":7,"n_cols":24,"rows_kept":7,"cut":false,"hidden":false,"merged":[[2,0,4,0],[1,19,1,23],[3,19,4,19],[3,20,4,20],[3,22,4,22],[3,23,4,23],[1,13,1,17],[3,13,4,13],[3,14,4,14],[3,16,4,16],[3,17,4,17],[3,10,4,10],[3,11,4,11],[1,1,1,5],[1,7,1,11],[3,1,4,1],[3,2,4,2],[3,4,4,4],[3,5,4,5],[3,7,4,7],[3,8,4,8]]}
[]
["retour à la page d'accueil","Enregistrements des parages et soins aux pattes par lot. Lot N°1",null,null,null,null,null,"Enregistrements des parages et soins aux pattes par lot. Lot N°2",null,null,null,null,null,"Enregistrements des parages et soins aux pattes par lot. Lot N°3",null,null,null,null,null,"Enregistrements des parages et soins aux pattes par lot. Lot N°4"]
[{"$f":"[1]parage!$B$1","v":"54474307"}]
[null,"Date du parage   ",null,null,"Nom du pareur",null,null,"Date du parage   ",null,null,"Nom du pareur",null,null,"Date du parage   ",null,null,"Nom du pareur",null,null,"Date du parage   ",null,null,"Nom du pareur"]
[]
[]
[null,"N° 4 chiffres","Nom (facultatif sauf si 2 numéros 4 chiffres identiques)","type","identification de la patte concernée","maladies des pattes observées",null,"N° 4 chiffres","Nom (facultatif sauf si 2 numéros 4 chiffres identiques)","type","identification de la patte concernée","maladies des pattes observées",null,"N° 4 chiffres","Nom (facultatif sauf si 2 numéros 4 chiffres identiques)","type","identification de la patte concernée","maladies des pattes observées",null,"N° 4 chiffres","Nom (facultatif sauf si 2 numéros 4 chiffres identiques)","type","identification de la patte concernée","maladies des pattes observées"]

{"sheet":"parage","index":14,"n_rows":8,"n_cols":10,"rows_kept":8,"cut":false,"hidden":false,"merged":[[0,0,0,1],[2,2,4,8],[3,0,5,1]]}
["retour à la page d'accueil"]
[]
[null,null,"Enregistrements des parages et soins aux pattes animal par animal à des dates différentes"]
[{"$f":"[1]parage!$B$1","v":"54474307"}]
[]
[]
[]
[null,null,"N° 4 chiffres","Nom (facultatif sauf si 2 numéros 4 chiffres identiques)","Date du parage   ","nom du pareur","type","identification de la patte concernée","maladies des pattes observées","Remarques particulières sur l'animal"]

{"sheet":"aide calendrier ","index":15,"n_rows":70,"n_cols":3,"rows_kept":70,"cut":false,"hidden":false,"merged":[]}
["retour à la page d'accueil"]
[]
[]
[null,"Aide à la saisie des dates"]
[]
[null,"Afin de faciliter la saisie des dates, vous pouvez installer un utilitaire en cliquant sur le lien suivant :"]
[null," http://www.mdf-xlpages.com/modules/publisher/item.php?itemid=28"]
[]
[null,"Etape 1 de l'installation"]
[]
[]
[]
[]
[]
[]
[]
[]
[null,null,"cliquez sur téléchargement"]
[]
[]
[]
[]
[]
[]
[]
[]
[]
[]
[]
[]
[]
[]
[]
[null,"Etape 2"]
[null,null,"cliquez de nouveau sur téléchargement"]
[]
[]
[]
[]
[]
[]
[]
[]
[]
[]
[]
[]
[]
[]
[]
[]
[]
[]
[]
[]
[]
[null,"Etape 3 "]
[null,"ouvrir le zip"]
[]
[null,"INFORMATION IMPORTANTE !"]
[null,"L'archive Zip en téléchargement ici contient 2 versions du mDF XLcalendar :"]
[null,"• la toute dernière version 3.2 (juin 2012) qui est recommandée."]
[null,"• l'ancienne version 1.1 de l'utilitaire : en effet, sous certaines configurations, il semble que la toute dernière version connaisse un problème d'affichage (l'interface semble tronquée). Dans l'attente d'une solution, je fournis donc - en secours - la mouture précédente du mDF XLcalendar pour ceux qui rencontreraient ce problème malencontreux..."]
[]
[null,"Etape 4"]
[null,"ouvrir excel pour activer cette fonction "]
[null,"revenir sur la première page web pour suivre les explications du logiciel et les parmétrages (très simple, rapide, bien fait)"]
[]
[null,"NB important: "]
[null,"si aucune macro complémentaire n'est installé sur votre poste, il faut réaliser un paramétrage=> Voir sur internet le tutoriel Insatller une macro complémentaire "]

{"sheet":"aide à la saisie","index":16,"n_rows":1,"n_cols":1,"rows_kept":1,"cut":false,"hidden":false,"merged":[[0,0,0,1]]}
["retour à la page d'accueil"]

{"sheet":"planning des enregistrements","index":17,"n_rows":799,"n_cols":27,"rows_kept":799,"cut":false,"hidden":false,"merged":[[0,0,1,0]]}
["retour à la page d'accueil","date début de campagne","2015-08-01",null,"date de début des vêlages","2015-08-01"]
[null,"date fin de campagne","2016-07-31",null,"date fin des vêlages","2015-10-30",null,"N° d'élevage",{"$f":"'premières chaleurs'!A5","v":"54474307"}]
[]
[]
[]
[]
[]
[]
["date de début des vêlages n-1",{"$f":"F1-365","v":"2014-08-01"}]
["date fin des vêlages n-1",{"$f":"F2-365","v":"2014-10-30"}]
["date de début des IA",{"$f":"F1-282+365","v":"2015-10-23"}]
["date de fin des IA",{"$f":"F2-282+365","v":"2016-01-21"}]
["date de début des IA n-1",{"$f":"B11-365","v":"2014-10-23"}]
["date de fin des IA n-1",{"$f":"B12-365","v":"2015-01-21"}]
["date début précocité sexuelle n",{"$f":"F1+(8*30.41)","v":"2016-03-31T06:43:12"}]
["date fin précocité sexuelle n",{"$f":"F2+(15*30.41)","v":"2017-01-28T03:36:00"}]
["date début précocité sexuelle n-1",{"$f":"B15-365","v":"2015-04-01T06:43:12"}]
["date fin précocité sexuelle n-1",{"$f":"B16-365","v":"2016-01-29T03:36:00"}]
["date début intensité des chaleurs génisses n",{"$f":"B11-30.41","v":"2015-09-22T14:09:36"}]
["date fin intensité des chaleurs génisses n",{"$f":"B12-30.41","v":"2015-12-21T14:09:36"}]
["date début intensité des chaleurs génisses n-1",{"$f":"B13-30.41","v":"2014-09-22T14:09:36"}]
["date fin intensité des chaleurs génisses n-1",{"$f":"B14-30.41","v":"2014-12-21T14:09:36"}]
["date début intensité des chaleurs vaches n",{"$f":"F1","v":"2015-08-01"}]
["date fin intensité des chaleurs vaches n",{"$f":"B12","v":"2016-01-21"}]
["date début intensité des chaleurs vaches n-1",{"$f":"B9","v":"2014-08-01"}]
["date fin intensité des chaleurs vaches n-1",{"$f":"B14","v":"2015-01-21"}]
["date début échos n",{"$f":"B11+30.41","v":"2015-11-22T09:50:24"}]
["date fin échos n",{"$f":"B12+30.41","v":"2016-02-20T09:50:24"}]
["date début échos n",{"$f":"B13+30.41","v":"2014-11-22T09:50:24"}]
["date fin échos n",{"$f":"B14+30.41","v":"2015-02-20T09:50:24"}]
["date début traitements préventifs vaches n",{"$f":"F1-30.41","v":"2015-07-01T14:09:36"}]
["date fin traitements préventifs vaches  n",{"$f":"F2","v":"2015-10-30"}]
["date début traitements préventifs vaches n-1",{"$f":"B9-30.41","v":"2014-07-01T14:09:36"}]
["date fin traitements préventifs vaches  n-1",{"$f":"B10","v":"2014-10-30"}]
["date début traitements préventifs veaux n",{"$f":"F1","v":"2015-08-01"}]
["date fin traitements préventifs veaux  n",{"$f":"F2+(2*30.41)","v":"2015-12-29T19:40:48"}]
["date début traitements préventifs veaux n-1",{"$f":"B9","v":"2014-08-01"}]
["date fin traitements préventifs veaux  n-1",{"$f":"B10+(2*30.41)","v":"2014-12-29T19:40:48"}]
["date début comportement au sevrage n",{"$f":"F1+(6*30.41)","v":"2016-01-30T11:02:24"}]
["date fin comprtement au sevrage  n",{"$f":"F2+(9*30.41)","v":"2016-07-29T16:33:36"}]
["date début comportement au sevrage n-1",{"$f":"B9+(6*30.41)","v":"2015-01-30T11:02:24"}]
["date fin comprtement au sevrage  n-1",{"$f":"B10+(9*30.41)","v":"2015-07-30T16:33:36"}]
["date début informations vaches","2015-04-01"]
["date fin informations vaches","2015-10-30"]
["date début informations vaches","2016-04-01"]
["date fin informations vaches","2016-10-30"]
["date début nez taché et béguité (mâles et femelles) n","2015-11-01"]
["date fin nez taché et béguité (mâles et femelles) n","2016-03-31"]
["date début NEC n",{"$f":"F1-30.41","v":"2015-07-01T14:09:36"}]
["date fin NEC n",{"$f":"F2+(5*30.41)","v":"2016-03-30T01:12:00"}]
["date début  NEC  n-1",{"$f":"B49-365","v":"2014-07-01T14:09:36"}]
["date fin NEC n-1",{"$f":"B50-365","v":"2015-03-31T01:12:00"}]
["date début ouverture pelvienne n",{"$f":"F1+(14*30.41)","v":"2016-09-29T17:45:36"}]
["date fin ouverture pelvienne n",{"$f":"F2+(20*30.41)","v":"2017-06-29T04:48:00"}]
["date début ouverture pelvienne n-1",{"$f":"B53-365","v":"2015-09-30T17:45:36"}]
["date fin ouverture pelvienne n-1","2016-04-01"]
[]
[]
["aujourd'hui"]
[{"$f":"TODAY()","v":"2015-09-04"},0]
[{"$f":"TODAY()","v":"2015-09-04"},15]
[]
[]
[]
[]
[]
[null,"E1 : autour du vêlage","1= autour du vêlage n-1","E2 : IA/SN/Synchros","2 = IA/SN/synchros n-1","E3 : précocité sexuelle","3 = précocité sexuelle n-1","E4 : intensite chaleurs génisses","4 = intensité chaleurs génisses n-1","E5 : intensité chaleurs vaches","5 = intensité chaleurs vaches n-1","E6 : échos","6 = échos n-1","E7 : traitements préventifs vaches","7 = traitements préventifs  vaches n-1","E8 : traitements préventifs et curatifs  (+lots; + mortalité ) veaux","8 = traitements préventifs  et curatifs (+lots; + mortalité) veaux n-1","E9 : comportement veau au sevrage","9 = comportement veau au sevrage n-1","E10 : parage ","T11 : informations vaches et génisses et mâles","11= techniciens:  informations vaches et génisses et mâles n-1","T12 : nez taché et béguité","T13 : NEC","13 = techniciens : NEC n-1","T14 : ouverture pelvienne","T14 : ouverture pelvienne "]
["2014-07-31",{"$f":"IF($F$1<A69,IF($F$2>A67,1,-1),-1)","v":-1},{"$f":"IF($B$9<A69,IF($B$10>A67,1,-1),-1)","v":-1},{"$f":"IF($B$11<A69,IF($B$12>A67,2,-1),-1)","v":-1},{"$f":"IF($B$13<A69,IF($B$14>A67,2,-1),-1)","v":-1},{"$f":"IF($B$15<A69,IF($B$16>A67,3,-1),-1)","v":-1},{"$f":"IF($B$17<A69,IF($B$18>A67,3,-1),-1)","v":-1},{"$f":"IF($B$19<A69,IF($B$20>A67,4,-1),-1)","v":-1},{"$f":"IF($B$21<A69,IF($B$22>A67,4,-1),-1)","v":-1},{"$f":"IF($B$23<A69,IF($B$24>A67,5,-1),-1)","v":-1},{"$f":"IF($B$25<A69,IF($B$26>A67,5,-1),-1)","v":-1},{"$f":"IF($B$27<A69,IF($B$28>A67,6,-1),-1)","v":-1},{"$f":"IF($B$29<A69,IF($B$30>A67,6,-1),-1)","v":-1},{"$f":"IF($B$31<A69,IF($B$32>A67,7,-1),-1)","v":-1},{"$f":"IF($B$33<A69,IF($B$34>A67,7,-1),-1)","v":7},{"$f":"IF($B$35<A69,IF($B$36>A67,8,-1),-1)","v":-1},{"$f":"IF($B$37<A69,IF($B$38>A67,8,-1),-1)","v":-1},{"$f":"IF($B$39<A69,IF($B$40>A67,9,-1),-1)","v":-1},{"$f":"IF($B$41<A69,IF($B$42>A67,9,-1),-1)","v":-1},10,{"$f":"IF($B$43<A69,IF($B$44>A67,11,-1),-1)","v":-1},{"$f":"IF($B$45<A69,IF($B$46>A67,11,-1),-1)","v":-1},{"$f":"IF($B$47<A69,IF($B$48>A67,12,-1),-1)","v":-1},{"$f":"IF($B$49<A69,IF($B$50>A67,13,-1),-1)","v":-1},{"$f":"IF($B$51<A69,IF($B$52>A67,13,-1),-1)","v":13},{"$f":"IF($B$53<A69,IF($B$54>A67,14,-1),-1)","v":-1},{"$f":"IF($B$55<A69,IF($B$56>A67,14,-1),-1)","v":-1}]
["2014-08-01",-1,{"$f":"IF($B$9<A70,IF($B$10>A68,1,-1),-1)","v":1},{"$f":"IF($B$11<A70,IF($B$12>A68,2,-1),-1)","v":-1},{"$f":"IF($B$13<A70,IF($B$14>A68,2,-1),-1)","v":-1},{"$f":"IF($B$15<A70,IF($B$16>A68,3,-1),-1)","v":-1},{"$f":"IF($B$17<A70,IF($B$18>A68,3,-1),-1)","v":-1},{"$f":"IF($B$19<A70,IF($B$20>A68,4,-1),-1)","v":-1},{"$f":"IF($B$21<A70,IF($B$22>A68,4,-1),-1)","v":-1},{"$f":"IF($B$23<A70,IF($B$24>A68,5,-1),-1)","v":-1},{"$f":"IF($B$25<A70,IF($B$26>A68,5,-1),-1)","v":5},{"$f":"IF($B$27<A70,IF($B$28>A68,6,-1),-1)","v":-1},{"$f":"IF($B$29<A70,IF($B$30>A68,6,-1),-1)","v":-1},{"$f":"IF($B$31<A70,IF($B$32>A68,7,-1),-1)","v":-1},{"$f":"IF($B$33<A70,IF($B$34>A68,7,-1),-1)","v":7},{"$f":"IF($B$35<A70,IF($B$36>A68,8,-1),-1)","v":-1},{"$f":"IF($B$37<A70,IF($B$38>A68,8,-1),-1)","v":8},{"$f":"IF($B$39<A70,IF($B$40>A68,9,-1),-1)","v":-1},{"$f":"IF($B$41<A70,IF($B$42>A68,9,-1),-1)","v":-1},10,{"$f":"IF($B$43<A70,IF($B$44>A68,11,-1),-1)","v":-1},{"$f":"IF($B$45<A70,IF($B$46>A68,11,-1),-1)","v":-1},{"$f":"IF($B$47<A70,IF($B$48>A68,12,-1),-1)","v":-1},{"$f":"IF($B$49<A70,IF($B$50>A68,13,-1),-1)","v":-1},{"$f":"IF($B$51<A70,IF($B$52>A68,13,-1),-1)","v":13},{"$f":"IF($B$53<A70,IF($B$54>A68,14,-1),-1)","v":-1},{"$f":"IF($B$55<A70,IF($B$56>A68,14,-1),-1)","v":-1}]
["2014-08-02",-1,1,-1,-1,-1,-1,-1,-1,-1,5,-1,-1,-1,7,-1,8,-1,-1,10,-1,-1,-1,-1,13,-1,-1]
["2014-08-03",-1,1,-1,-1,-1,-1,-1,-1,-1,5,-1,-1,-1,7,-1,8,-1,-1,10,-1,-1,-1,-1,13,-1,-1]
["2014-08-04",-1,1,-1,-1,-1,-1,-1,-1,-1,5,-1,-1,-1,7,-1,8,-1,-1,10,-1,-1,-1,-1,13,-1,-1]
["2014-08-05",-1,1,-1,-1,-1,-1,-1,-1,-1,5,-1,-1,-1,7,-1,8,-1,-1,10,-1,-1,-1,-1,13,-1,-1]
["2014-08-06",-1,1,-1,-1,-1,-1,-1,-1,-1,5,-1,-1,-1,7,-1,8,-1,-1,10,-1,-1,-1,-1,13,-1,-1]
["2014-08-07",-1,1,-1,-1,-1,-1,-1,-1,-1,5,-1,-1,-1,7,-1,8,-1,-1,10,-1,-1,-1,-1,13,-1,-1]
["2014-08-08",-1,1,-1,-1,-1,-1,-1,-1,-1,5,-1,-1,-1,7,-1,8,-1,-1,10,-1,-1,-1,-1,13,-1,-1]
["2014-08-09",-1,1,-1,-1,-1,-1,-1,-1,-1,5,-1,-1,-1,7,-1,8,-1,-1,10,-1,-1,-1,-1,13,-1,-1]
["2014-08-10",-1,1,-1,-1,-1,-1,-1,-1,-1,5,-1,-1,-1,7,-1,8,-1,-1,10,-1,-1,-1,-1,13,-1,-1]
["2014-08-11",-1,1,-1,-1,-1,-1,-1,-1,-1,5,-1,-1,-1,7,-1,8,-1,-1,10,-1,-1,-1,-1,13,-1,-1]
["2014-08-12",-1,1,-1,-1,-1,-1,-1,-1,-1,5,-1,-1,-1,7,-1,8,-1,-1,10,-1,-1,-1,-1,13,-1,-1]
["2014-08-13",-1,1,-1,-1,-1,-1,-1,-1,-1,5,-1,-1,-1,7,-1,8,-1,-1,10,-1,-1,-1,-1,13,-1,-1]
["2014-08-14",-1,1,-1,-1,-1,-1,-1,-1,-1,5,-1,-1,-1,7,-1,8,-1,-1,10,-1,-1,-1,-1,13,-1,-1]
["2014-08-15",-1,1,-1,-1,-1,-1,-1,-1,-1,5,-1,-1,-1,7,-1,8,-1,-1,10,-1,-1,-1,-1,13,-1,-1]
["2014-08-16",-1,1,-1,-1,-1,-1,-1,-1,-1,5,-1,-1,-1,7,-1,8,-1,-1,10,-1,-1,-1,-1,13,-1,-1]
["2014-08-17",-1,1,-1,-1,-1,-1,-1,-1,-1,5,-1,-1,-1,7,-1,8,-1,-1,10,-1,-1,-1,-1,13,-1,-1]
["2014-08-18",-1,1,-1,-1,-1,-1,-1,-1,-1,5,-1,-1,-1,7,-1,8,-1,-1,10,-1,-1,-1,-1,13,-1,-1]
["2014-08-19",-1,1,-1,-1,-1,-1,-1,-1,-1,5,-1,-1,-1,7,-1,8,-1,-1,10,-1,-1,-1,-1,13,-1,-1]
["2014-08-20",-1,1,-1,-1,-1,-1,-1,-1,-1,5,-1,-1,-1,7,-1,8,-1,-1,10,-1,-1,-1,-1,13,-1,-1]
["2014-08-21",-1,1,-1,-1,-1,-1,-1,-1,-1,5,-1,-1,-1,7,-1,8,-1,-1,10,-1,-1,-1,-1,13,-1,-1]
["2014-08-22",-1,1,-1,-1,-1,-1,-1,-1,-1,5,-1,-1,-1,7,-1,8,-1,-1,10,-1,-1,-1,-1,13,-1,-1]
["2014-08-23",-1,1,-1,-1,-1,-1,-1,-1,-1,5,-1,-1,-1,7,-1,8,-1,-1,10,-1,-1,-1,-1,13,-1,-1]
["2014-08-24",-1,1,-1,-1,-1,-1,-1,-1,-1,5,-1,-1,-1,7,-1,8,-1,-1,10,-1,-1,-1,-1,13,-1,-1]
["2014-08-25",-1,1,-1,-1,-1,-1,-1,-1,-1,5,-1,-1,-1,7,-1,8,-1,-1,10,-1,-1,-1,-1,13,-1,-1]
["2014-08-26",-1,1,-1,-1,-1,-1,-1,-1,-1,5,-1,-1,-1,7,-1,8,-1,-1,10,-1,-1,-1,-1,13,-1,-1]
["2014-08-27",-1,1,-1,-1,-1,-1,-1,-1,-1,5,-1,-1,-1,7,-1,8,-1,-1,10,-1,-1,-1,-1,13,-1,-1]
["2014-08-28",-1,1,-1,-1,-1,-1,-1,-1,-1,5,-1,-1,-1,7,-1,8,-1,-1,10,-1,-1,-1,-1,13,-1,-1]
["2014-08-29",-1,1,-1,-1,-1,-1,-1,-1,-1,5,-1,-1,-1,7,-1,8,-1,-1,10,-1,-1,-1,-1,13,-1,-1]
["2014-08-30",-1,1,-1,-1,-1,-1,-1,-1,-1,5,-1,-1,-1,7,-1,8,-1,-1,10,-1,-1,-1,-1,13,-1,-1]
["2014-08-31",-1,1,-1,-1,-1,-1,-1,-1,-1,5,-1,-1,-1,7,-1,8,-1,-1,10,-1,-1,-1,-1,13,-1,-1]
["2014-09-01",-1,1,-1,-1,-1,-1,-1,-1,-1,5,-1,-1,-1,7,-1,8,-1,-1,10,-1,-1,-1,-1,13,-1,-1]
["2014-09-02",-1,1,-1,-1,-1,-1,-1,-1,-1,5,-1,-1,-1,7,-1,8,-1,-1,10,-1,-1,-1,-1,13,-1,-1]
["2014-09-03",-1,1,-1,-1,-1,-1,-1,-1,-1,5,-1,-1,-1,7,-1,8,-1,-1,10,-1,-1,-1,-1,13,-1,-1]
["2014-09-04",-1,1,-1,-1,-1,-1,-1,-1,-1,5,-1,-1,-1,7,-1,8,-1,-1,10,-1,-1,-1,-1,13,-1,-1]
["2014-09-05",-1,1,-1,-1,-1,-1,-1,-1,-1,5,-1,-1,-1,7,-1,8,-1,-1,10,-1,-1,-1,-1,13,-1,-1]
["2014-09-06",-1,1,-1,-1,-1,-1,-1,-1,-1,5,-1,-1,-1,7,-1,8,-1,-1,10,-1,-1,-1,-1,13,-1,-1]
["2014-09-07",-1,1,-1,-1,-1,-1,-1,-1,-1,5,-1,-1,-1,7,-1,8,-1,-1,10,-1,-1,-1,-1,13,-1,-1]
["2014-09-08",-1,1,-1,-1,-1,-1,-1,-1,-1,5,-1,-1,-1,7,-1,8,-1,-1,10,-1,-1,-1,-1,13,-1,-1]
["2014-09-09",-1,1,-1,-1,-1,-1,-1,-1,-1,5,-1,-1,-1,7,-1,8,-1,-1,10,-1,-1,-1,-1,13,-1,-1]
["2014-09-10",-1,1,-1,-1,-1,-1,-1,-1,-1,5,-1,-1,-1,7,-1,8,-1,-1,10,-1,-1,-1,-1,13,-1,-1]
["2014-09-11",-1,1,-1,-1,-1,-1,-1,-1,-1,5,-1,-1,-1,7,-1,8,-1,-1,10,-1,-1,-1,-1,13,-1,-1]
["2014-09-12",-1,1,-1,-1,-1,-1,-1,-1,-1,5,-1,-1,-1,7,-1,8,-1,-1,10,-1,-1,-1,-1,13,-1,-1]
["2014-09-13",-1,1,-1,-1,-1,-1,-1,-1,-1,5,-1,-1,-1,7,-1,8,-1,-1,10,-1,-1,-1,-1,13,-1,-1]
["2014-09-14",-1,1,-1,-1,-1,-1,-1,-1,-1,5,-1,-1,-1,7,-1,8,-1,-1,10,-1,-1,-1,-1,13,-1,-1]
["2014-09-15",-1,1,-1,-1,-1,-1,-1,-1,-1,5,-1,-1,-1,7,-1,8,-1,-1,10,-1,-1,-1,-1,13,-1,-1]
["2014-09-16",-1,1,-1,-1,-1,-1,-1,-1,-1,5,-1,-1,-1,7,-1,8,-1,-1,10,-1,-1,-1,-1,13,-1,-1]
["2014-09-17",-1,1,-1,-1,-1,-1,-1,-1,-1,5,-1,-1,-1,7,-1,8,-1,-1,10,-1,-1,-1,-1,13,-1,-1]
["2014-09-18",-1,1,-1,-1,-1,-1,-1,-1,-1,5,-1,-1,-1,7,-1,8,-1,-1,10,-1,-1,-1,-1,13,-1,-1]
["2014-09-19",-1,1,-1,-1,-1,-1,-1,-1,-1,5,-1,-1,-1,7,-1,8,-1,-1,10,-1,-1,-1,-1,13,-1,-1]
["2014-09-20",-1,1,-1,-1,-1,-1,-1,-1,-1,5,-1,-1,-1,7,-1,8,-1,-1,10,-1,-1,-1,-1,13,-1,-1]
["2014-09-21",-1,1,-1,-1,-1,-1,-1,-1,-1,5,-1,-1,-1,7,-1,8,-1,-1,10,-1,-1,-1,-1,13,-1,-1]
["2014-09-22",-1,1,-1,-1,-1,-1,-1,4,-1,5,-1,-1,-1,7,-1,8,-1,-1,10,-1,-1,-1,-1,13,-1,-1]
["2014-09-23",-1,1,-1,-1,-1,-1,-1,4,-1,5,-1,-1,-1,7,-1,8,-1,-1,10,-1,-1,-1,-1,13,-1,-1]
["2014-09-24",-1,1,-1,-1,-1,-1,-1,4,-1,5,-1,-1,-1,7,-1,8,-1,-1,10,-1,-1,-1,-1,13,-1,-1]
["2014-09-25",-1,1,-1,-1,-1,-1,-1,4,-1,5,-1,-1,-1,7,-1,8,-1,-1,10,-1,-1,-1,-1,13,-1,-1]
["2014-09-26",-1,1,-1,-1,-1,-1,-1,4,-1,5,-1,-1,-1,7,-1,8,-1,-1,10,-1,-1,-1,-1,13,-1,-1]
["2014-09-27",-1,1,-1,-1,-1,-1,-1,4,-1,5,-1,-1,-1,7,-1,8,-1,-1,10,-1,-1,-1,-1,13,-1,-1]
["2014-09-28",-1,1,-1,-1,-1,-1,-1,4,-1,5,-1,-1,-1,7,-1,8,-1,-1,10,-1,-1,-1,-1,13,-1,-1]
["2014-09-29",-1,1,-1,-1,-1,-1,-1,4,-1,5,-1,-1,-1,7,-1,8,-1,-1,10,-1,-1,-1,-1,13,-1,-1]
["2014-09-30",-1,1,-1,-1,-1,-1,-1,4,-1,5,-1,-1,-1,7,-1,8,-1,-1,10,-1,-1,-1,-1,13,-1,-1]
["2014-10-01",-1,1,-1,-1,-1,-1,-1,4,-1,5,-1,-1,-1,7,-1,8,-1,-1,10,-1,-1,-1,-1,13,-1,-1]
["2014-10-02",-1,1,-1,-1,-1,-1,-1,4,-1,5,-1,-1,-1,7,-1,8,-1,-1,10,-1,-1,-1,-1,13,-1,-1]
["2014-10-03",{"$f":"IF($F$1<A133,IF($F$2>A131,1,-1),-1)","v":-1},1,-1,-1,-1,-1,-1,4,-1,5,-1,-1,-1,7,-1,8,-1,-1,10,-1,-1,-1,-1,13,-1,-1]
["2014-10-04",-1,{"$f":"IF($B$9<A134,IF($B$10>A132,1,-1),-1)","v":1},{"$f":"IF($B$11<A134,IF($B$12>A132,2,-1),-1)","v":-1},{"$f":"IF($B$13<A134,IF($B$14>A132,2,-1),-1)","v":-1},{"$f":"IF($B$15<A134,IF($B$16>A132,3,-1),-1)","v":-1},{"$f":"IF($B$17<A134,IF($B$18>A132,3,-1),-1)","v":-1},{"$f":"IF($B$19<A134,IF($B$20>A132,4,-1),-1)","v":-1},{"$f":"IF($B$21<A134,IF($B$22>A132,4,-1),-1)","v":4},{"$f":"IF($B$23<A134,IF($B$24>A132,5,-1),-1)","v":-1},{"$f":"IF($B$25<A134,IF($B$26>A132,5,-1),-1)","v":5},{"$f":"IF($B$27<A134,IF($B$28>A132,6,-1),-1)","v":-1},{"$f":"IF($B$29<A134,IF($B$30>A132,6,-1),-1)","v":-1},{"$f":"IF($B$31<A134,IF($B$32>A132,7,-1),-1)","v":-1},{"$f":"IF($B$33<A134,IF($B$34>A132,7,-1),-1)","v":7},{"$f":"IF($B$35<A134,IF($B$36>A132,8,-1),-1)","v":-1},{"$f":"IF($B$37<A134,IF($B$38>A132,8,-1),-1)","v":8},{"$f":"IF($B$39<A134,IF($B$40>A132,9,-1),-1)","v":-1},{"$f":"IF($B$41<A134,IF($B$42>A132,9,-1),-1)","v":-1},10,{"$f":"IF($B$43<A134,IF($B$44>A132,11,-1),-1)","v":-1},{"$f":"IF($B$45<A134,IF($B$46>A132,11,-1),-1)","v":-1},{"$f":"IF($B$47<A134,IF($B$48>A132,12,-1),-1)","v":-1},{"$f":"IF($B$49<A134,IF($B$50>A132,13,-1),-1)","v":-1},{"$f":"IF($B$51<A134,IF($B$52>A132,13,-1),-1)","v":13},{"$f":"IF($B$53<A134,IF($B$54>A132,14,-1),-1)","v":-1},{"$f":"IF($B$55<A134,IF($B$56>A132,14,-1),-1)","v":-1}]
["2014-10-05",-1,1,-1,-1,-1,-1,-1,4,-1,5,-1,-1,-1,7,-1,8,-1,-1,10,-1,-1,-1,-1,13,-1,-1]
["2014-10-06",-1,1,-1,-1,-1,-1,-1,4,-1,5,-1,-1,-1,7,-1,8,-1,-1,10,-1,-1,-1,-1,13,-1,-1]
["2014-10-07",-1,1,-1,-1,-1,-1,-1,4,-1,5,-1,-1,-1,7,-1,8,-1,-1,10,-1,-1,-1,-1,13,-1,-1]
["2014-10-08",-1,1,-1,-1,-1,-1,-1,4,-1,5,-1,-1,-1,7,-1,8,-1,-1,10,-1,-1,-1,-1,13,-1,-1]
["2014-10-09",-1,1,-1,-1,-1,-1,-1,4,-1,5,-1,-1,-1,7,-1,8,-1,-1,10,-1,-1,-1,-1,13,-1,-1]
["2014-10-10",-1,1,-1,-1,-1,-1,-1,4,-1,5,-1,-1,-1,7,-1,8,-1,-1,10,-1,-1,-1,-1,13,-1,-1]
["2014-10-11",-1,1,-1,-1,-1,-1,-1,4,-1,5,-1,-1,-1,7,-1,8,-1,-1,10,-1,-1,-1,-1,13,-1,-1]
["2014-10-12",-1,1,-1,-1,-1,-1,-1,4,-1,5,-1,-1,-1,7,-1,8,-1,-1,10,-1,-1,-1,-1,13,-1,-1]
["2014-10-13",-1,1,-1,-1,-1,-1,-1,4,-1,5,-1,-1,-1,7,-1,8,-1,-1,10,-1,-1,-1,-1,13,-1,-1]
["2014-10-14",-1,1,-1,-1,-1,-1,-1,4,-1,5,-1,-1,-1,7,-1,8,-1,-1,10,-1,-1,-1,-1,13,-1,-1]
["2014-10-15",-1,1,-1,-1,-1,-1,-1,4,-1,5,-1,-1,-1,7,-1,8,-1,-1,10,-1,-1,-1,-1,13,-1,-1]
["2014-10-16",-1,1,-1,-1,-1,-1,-1,4,-1,5,-1,-1,-1,7,-1,8,-1,-1,10,-1,-1,-1,-1,13,-1,-1]
["2014-10-17",-1,1,-1,-1,-1,-1,-1,4,-1,5,-1,-1,-1,7,-1,8,-1,-1,10,-1,-1,-1,-1,13,-1,-1]
["2014-10-18",-1,1,-1,-1,-1,-1,-1,4,-1,5,-1,-1,-1,7,-1,8,-1,-1,10,-1,-1,-1,-1,13,-1,-1]
["2014-10-19",-1,1,-1,-1,-1,-1,-1,4,-1,5,-1,-1,-1,7,-1,8,-1,-1,10,-1,-1,-1,-1,13,-1,-1]
["2014-10-20",-1,1,-1,-1,-1,-1,-1,4,-1,5,-1,-1,-1,7,-1,8,-1,-1,10,-1,-1,-1,-1,13,-1,-1]
["2014-10-21",-1,1,-1,-1,-1,-1,-1,4,-1,5,-1,-1,-1,7,-1,8,-1,-1,10,-1,-1,-1,-1,13,-1,-1]
["2014-10-22",-1,1,-1,-1,-1,-1,-1,4,-1,5,-1,-1,-1,7,-1,8,-1,-1,10,-1,-1,-1,-1,13,-1,-1]
["2014-10-23",-1,1,-1,2,-1,-1,-1,4,-1,5,-1,-1,-1,7,-1,8,-1,-1,10,-1,-1,-1,-1,13,-1,-1]
["2014-10-24",-1,1,-1,2,-1,-1,-1,4,-1,5,-1,-1,-1,7,-1,8,-1,-1,10,-1,-1,-1,-1,13,-1,-1]
["2014-10-25",-1,1,-1,2,-1,-1,-1,4,-1,5,-1,-1,-1,7,-1,8,-1,-1,10,-1,-1,-1,-1,13,-1,-1]
["2014-10-26",-1,1,-1,2,-1,-1,-1,4,-1,5,-1,-1,-1,7,-1,8,-1,-1,10,-1,-1,-1,-1,13,-1,-1]
["2014-10-27",-1,1,-1,2,-1,-1,-1,4,-1,5,-1,-1,-1,7,-1,8,-1,-1,10,-1,-1,-1,-1,13,-1,-1]
["2014-10-28",-1,1,-1,2,-1,-1,-1,4,-1,5,-1,-1,-1,7,-1,8,-1,-1,10,-1,-1,-1,-1,13,-1,-1]
["2014-10-29",-1,1,-1,2,-1,-1,-1,4,-1,5,-1,-1,-1,7,-1,8,-1,-1,10,-1,-1,-1,-1,13,-1,-1]
["2014-10-30",-1,1,-1,2,-1,-1,-1,4,-1,5,-1,-1,-1,7,-1,8,-1,-1,10,-1,-1,-1,-1,13,-1,-1]
["2014-10-31",-1,-1,-1,2,-1,-1,-1,4,-1,5,-1,-1,-1,-1,-1,8,-1,-1,10,-1,-1,-1,-1,13,-1,-1]
["2014-11-01",-1,-1,-1,2,-1,-1,-1,4,-1,5,-1,-1,-1,-1,-1,8,-1,-1,10,-1,-1,-1,-1,13,-1,-1]
["2014-11-02",-1,-1,-1,2,-1,-1,-1,4,-1,5,-1,-1,-1,-1,-1,8,-1,-1,10,-1,-1,-1,-1,13,-1,-1]
["2014-11-03",-1,-1,-1,2,-1,-1,-1,4,-1,5,-1,-1,-1,-1,-1,8,-1,-1,10,-1,-1,-1,-1,13,-1,-1]
["2014-11-04",-1,-1,-1,2,-1,-1,-1,4,-1,5,-1,-1,-1,-1,-1,8,-1,-1,10,-1,-1,-1,-1,13,-1,-1]
["2014-11-05",-1,-1,-1,2,-1,-1,-1,4,-1,5,-1,-1,-1,-1,-1,8,-1,-1,10,-1,-1,-1,-1,13,-1,-1]
["2014-11-06",-1,-1,-1,2,-1,-1,-1,4,-1,5,-1,-1,-1,-1,-1,8,-1,-1,10,-1,-1,-1,-1,13,-1,-1]
["2014-11-07",-1,-1,-1,2,-1,-1,-1,4,-1,5,-1,-1,-1,-1,-1,8,-1,-1,10,-1,-1,-1,-1,13,-1,-1]
["2014-11-08",-1,-1,-1,2,-1,-1,-1,4,-1,5,-1,-1,-1,-1,-1,8,-1,-1,10,-1,-1,-1,-1,13,-1,-1]
["2014-11-09",-1,-1,-1,2,-1,-1,-1,4,-1,5,-1,-1,-1,-1,-1,8,-1,-1,10,-1,-1,-1,-1,13,-1,-1]
["2014-11-10",-1,-1,-1,2,-1,-1,-1,4,-1,5,-1,-1,-1,-1,-1,8,-1,-1,10,-1,-1,-1,-1,13,-1,-1]
["2014-11-11",-1,-1,-1,2,-1,-1,-1,4,-1,5,-1,-1,-1,-1,-1,8,-1,-1,10,-1,-1,-1,-1,13,-1,-1]
["2014-11-12",-1,-1,-1,2,-1,-1,-1,4,-1,5,-1,-1,-1,-1,-1,8,-1,-1,10,-1,-1,-1,-1,13,-1,-1]
["2014-11-13",-1,-1,-1,2,-1,-1,-1,4,-1,5,-1,-1,-1,-1,-1,8,-1,-1,10,-1,-1,-1,-1,13,-1,-1]
["2014-11-14",-1,-1,-1,2,-1,-1,-1,4,-1,5,-1,-1,-1,-1,-1,8,-1,-1,10,-1,-1,-1,-1,13,-1,-1]
["2014-11-15",-1,-1,-1,2,-1,-1,-1,4,-1,5,-1,-1,-1,-1,-1,8,-1,-1,10,-1,-1,-1,-1,13,-1,-1]
["2014-11-16",-1,-1,-1,2,-1,-1,-1,4,-1,5,-1,-1,-1,-1,-1,8,-1,-1,10,-1,-1,-1,-1,13,-1,-1]
["2014-11-17",-1,-1,-1,2,-1,-1,-1,4,-1,5,-1,-1,-1,-1,-1,8,-1,-1,10,-1,-1,-1,-1,13,-1,-1]
["2014-11-18",-1,-1,-1,2,-1,-1,-1,4,-1,5,-1,-1,-1,-1,-1,8,-1,-1,10,-1,-1,-1,-1,13,-1,-1]
["2014-11-19",-1,-1,-1,2,-1,-1,-1,4,-1,5,-1,-1,-1,-1,-1,8,-1,-1,10,-1,-1,-1,-1,13,-1,-1]
["2014-11-20",-1,-1,-1,2,-1,-1,-1,4,-1,5,-1,-1,-1,-1,-1,8,-1,-1,10,-1,-1,-1,-1,13,-1,-1]
["2014-11-21",-1,-1,-1,2,-1,-1,-1,4,-1,5,-1,-1,-1,-1,-1,8,-1,-1,10,-1,-1,-1,-1,13,-1,-1]
["2014-11-22",-1,-1,-1,2,-1,-1,-1,4,-1,5,-1,6,-1,-1,-1,8,-1,-1,10,-1,-1,-1,-1,13,-1,-1]
["2014-11-23",-1,-1,-1,2,-1,-1,-1,4,-1,5,-1,6,-1,-1,-1,8,-1,-1,10,-1,-1,-1,-1,13,-1,-1]
["2014-11-24",-1,-1,-1,2,-1,-1,-1,4,-1,5,-1,6,-1,-1,-1,8,-1,-1,10,-1,-1,-1,-1,13,-1,-1]
["2014-11-25",-1,-1,-1,2,-1,-1,-1,4,-1,5,-1,6,-1,-1,-1,8,-1,-1,10,-1,-1,-1,-1,13,-1,-1]
["2014-11-26",-1,-1,-1,2,-1,-1,-1,4,-1,5,-1,6,-1,-1,-1,8,-1,-1,10,-1,-1,-1,-1,13,-1,-1]
["2014-11-27",-1,-1,-1,2,-1,-1,-1,4,-1,5,-1,6,-1,-1,-1,8,-1,-1,10,-1,-1,-1,-1,13,-1,-1]
["2014-11-28",-1,-1,-1,2,-1,-1,-1,4,-1,5,-1,6,-1,-1,-1,8,-1,-1,10,-1,-1,-1,-1,13,-1,-1]
["2014-11-29",-1,-1,-1,2,-1,-1,-1,4,-1,5,-1,6,-1,-1,-1,8,-1,-1,10,-1,-1,-1,-1,13,-1,-1]
["2014-11-30",-1,-1,-1,2,-1,-1,-1,4,-1,5,-1,6,-1,-1,-1,8,-1,-1,10,-1,-1,-1,-1,13,-1,-1]
["2014-12-01",-1,-1,-1,2,-1,-1,-1,4,-1,5,-1,6,-1,-1,-1,8,-1,-1,10,-1,-1,-1,-1,13,-1,-1]
["2014-12-02",-1,-1,-1,2,-1,-1,-1,4,-1,5,-1,6,-1,-1,-1,8,-1,-1,10,-1,-1,-1,-1,13,-1,-1]
["2014-12-03",-1,-1,-1,2,-1,-1,-1,4,-1,5,-1,6,-1,-1,-1,8,-1,-1,10,-1,-1,-1,-1,13,-1,-1]
["2014-12-04",-1,-1,-1,2,-1,-1,-1,4,-1,5,-1,6,-1,-1,-1,8,-1,-1,10,-1,-1,-1,-1,13,-1,-1]
["2014-12-05",-1,-1,-1,2,-1,-1,-1,4,-1,5,-1,6,-1,-1,-1,8,-1,-1,10,-1,-1,-1,-1,13,-1,-1]
["2014-12-06",{"$f":"IF($F$1<A197,IF($F$2>A195,1,-1),-1)","v":-1},-1,-1,2,-1,-1,-1,4,-1,5,-1,6,-1,-1,-1,8,-1,-1,10,-1,-1,-1,-1,13,-1,-1]
["2014-12-07",-1,{"$f":"IF($B$9<A198,IF($B$10>A196,1,-1),-1)","v":-1},{"$f":"IF($B$11<A198,IF($B$12>A196,2,-1),-1)","v":-1},{"$f":"IF($B$13<A198,IF($B$14>A196,2,-1),-1)","v":2},{"$f":"IF($B$15<A198,IF($B$16>A196,3,-1),-1)","v":-1},{"$f":"IF($B$17<A198,IF($B$18>A196,3,-1),-1)","v":-1},{"$f":"IF($B$19<A198,IF($B$20>A196,4,-1),-1)","v":-1},{"$f":"IF($B$21<A198,IF($B$22>A196,4,-1),-1)","v":4},{"$f":"IF($B$23<A198,IF($B$24>A196,5,-1),-1)","v":-1},{"$f":"IF($B$25<A198,IF($B$26>A196,5,-1),-1)","v":5},{"$f":"IF($B$27<A198,IF($B$28>A196,6,-1),-1)","v":-1},{"$f":"IF($B$29<A198,IF($B$30>A196,6,-1),-1)","v":6},{"$f":"IF($B$31<A198,IF($B$32>A196,7,-1),-1)","v":-1},{"$f":"IF($B$33<A198,IF($B$34>A196,7,-1),-1)","v":-1},{"$f":"IF($B$35<A198,IF($B$36>A196,8,-1),-1)","v":-1},{"$f":"IF($B$37<A198,IF($B$38>A196,8,-1),-1)","v":8},{"$f":"IF($B$39<A198,IF($B$40>A196,9,-1),-1)","v":-1},{"$f":"IF($B$41<A198,IF($B$42>A196,9,-1),-1)","v":-1},10,{"$f":"IF($B$43<A198,IF($B$44>A196,11,-1),-1)","v":-1},{"$f":"IF($B$45<A198,IF($B$46>A196,11,-1),-1)","v":-1},{"$f":"IF($B$47<A198,IF($B$48>A196,12,-1),-1)","v":-1},{"$f":"IF($B$49<A198,IF($B$50>A196,13,-1),-1)","v":-1},{"$f":"IF($B$51<A198,IF($B$52>A196,13,-1),-1)","v":13},{"$f":"IF($B$53<A198,IF($B$54>A196,14,-1),-1)","v":-1},{"$f":"IF($B$55<A198,IF($B$56>A196,14,-1),-1)","v":-1}]
["2014-12-08",-1,-1,-1,2,-1,-1,-1,4,-1,5,-1,6,-1,-1,-1,8,-1,-1,10,-1,-1,-1,-1,13,-1,-1]
["2014-12-09",-1,-1,-1,2,-1,-1,-1,4,-1,5,-1,6,-1,-1,-1,8,-1,-1,10,-1,-1,-1,-1,13,-1,-1]
["2014-12-10",-1,-1,-1,2,-1,-1,-1,4,-1,5,-1,6,-1,-1,-1,8,-1,-1,10,-1,-1,-1,-1,13,-1,-1]
["2014-12-11",-1,-1,-1,2,-1,-1,-1,4,-1,5,-1,6,-1,-1,-1,8,-1,-1,10,-1,-1,-1,-1,13,-1,-1]
["2014-12-12",-1,-1,-1,2,-1,-1,-1,4,-1,5,-1,6,-1,-1,-1,8,-1,-1,10,-1,-1,-1,-1,13,-1,-1]
["2014-12-13",-1,-1,-1,2,-1,-1,-1,4,-1,5,-1,6,-1,-1,-1,8,-1,-1,10,-1,-1,-1,-1,13,-1,-1]
["2014-12-14",-1,-1,-1,2,-1,-1,-1,4,-1,5,-1,6,-1,-1,-1,8,-1,-1,10,-1,-1,-1,-1,13,-1,-1]
["2014-12-15",-1,-1,-1,2,-1,-1,-1,4,-1,5,-1,6,-1,-1,-1,8,-1,-1,10,-1,-1,-1,-1,13,-1,-1]
["2014-12-16",-1,-1,-1,2,-1,-1,-1,4,-1,5,-1,6,-1,-1,-1,8,-1,-1,10,-1,-1,-1,-1,13,-1,-1]
["2014-12-17",-1,-1,-1,2,-1,-1,-1,4,-1,5,-1,6,-1,-1,-1,8,-1,-1,10,-1,-1,-1,-1,13,-1,-1]
["2014-12-18",-1,-1,-1,2,-1,-1,-1,4,-1,5,-1,6,-1,-1,-1,8,-1,-1,10,-1,-1,-1,-1,13,-1,-1]
["2014-12-19",-1,-1,-1,2,-1,-1,-1,4,-1,5,-1,6,-1,-1,-1,8,-1,-1,10,-1,-1,-1,-1,13,-1,-1]
["2014-12-20",-1,-1,-1,2,-1,-1,-1,4,-1,5,-1,6,-1,-1,-1,8,-1,-1,10,-1,-1,-1,-1,13,-1,-1]
["2014-12-21",-1,-1,-1,2,-1,-1,-1,4,-1,5,-1,6,-1,-1,-1,8,-1,-1,10,-1,-1,-1,-1,13,-1,-1]
["2014-12-22",-1,-1,-1,2,-1,-1,-1,4,-1,5,-1,6,-1,-1,-1,8,-1,-1,10,-1,-1,-1,-1,13,-1,-1]
["2014-12-23",-1,-1,-1,2,-1,-1,-1,-1,-1,5,-1,6,-1,-1,-1,8,-1,-1,10,-1,-1,-1,-1,13,-1,-1]
["2014-12-24",-1,-1,-1,2,-1,-1,-1,-1,-1,5,-1,6,-1,-1,-1,8,-1,-1,10,-1,-1,-1,-1,13,-1,-1]
["2014-12-25",-1,-1,-1,2,-1,-1,-1,-1,-1,5,-1,6,-1,-1,-1,8,-1,-1,10,-1,-1,-1,-1,13,-1,-1]
["2014-12-26",-1,-1,-1,2,-1,-1,-1,-1,-1,5,-1,6,-1,-1,-1,8,-1,-1,10,-1,-1,-1,-1,13,-1,-1]
["2014-12-27",-1,-1,-1,2,-1,-1,-1,-1,-1,5,-1,6,-1,-1,-1,8,-1,-1,10,-1,-1,-1,-1,13,-1,-1]
["2014-12-28",-1,-1,-1,2,-1,-1,-1,-1,-1,5,-1,6,-1,-1,-1,8,-1,-1,10,-1,-1,-1,-1,13,-1,-1]
["2014-12-29",-1,-1,-1,2,-1,-1,-1,-1,-1,5,-1,6,-1,-1,-1,8,-1,-1,10,-1,-1,-1,-1,13,-1,-1]
["2014-12-30",-1,-1,-1,2,-1,-1,-1,-1,-1,5,-1,6,-1,-1,-1,8,-1,-1,10,-1,-1,-1,-1,13,-1,-1]
["2014-12-31",-1,-1,-1,2,-1,-1,-1,-1,-1,5,-1,6,-1,-1,-1,-1,-1,-1,10,-1,-1,-1,-1,13,-1,-1]
["2015-01-01",-1,-1,-1,2,-1,-1,-1,-1,-1,5,-1,6,-1,-1,-1,-1,-1,-1,10,-1,-1,-1,-1,13,-1,-1]
["2015-01-02",-1,-1,-1,2,-1,-1,-1,-1,-1,5,-1,6,-1,-1,-1,-1,-1,-1,10,-1,-1,-1,-1,13,-1,-1]
["2015-01-03",-1,-1,-1,2,-1,-1,-1,-1,-1,5,-1,6,-1,-1,-1,-1,-1,-1,10,-1,-1,-1,-1,13,-1,-1]
["2015-01-04",-1,-1,-1,2,-1,-1,-1,-1,-1,5,-1,6,-1,-1,-1,-1,-1,-1,10,-1,-1,-1,-1,13,-1,-1]
["2015-01-05",-1,-1,-1,2,-1,-1,-1,-1,-1,5,-1,6,-1,-1,-1,-1,-1,-1,10,-1,-1,-1,-1,13,-1,-1]
["2015-01-06",-1,-1,-1,2,-1,-1,-1,-1,-1,5,-1,6,-1,-1,-1,-1,-1,-1,10,-1,-1,-1,-1,13,-1,-1]
["2015-01-07",-1,-1,-1,2,-1,-1,-1,-1,-1,5,-1,6,-1,-1,-1,-1,-1,-1,10,-1,-1,-1,-1,13,-1,-1]
["2015-01-08",-1,-1,-1,2,-1,-1,-1,-1,-1,5,-1,6,-1,-1,-1,-1,-1,-1,10,-1,-1,-1,-1,13,-1,-1]
["2015-01-09",-1,-1,-1,2,-1,-1,-1,-1,-1,5,-1,6,-1,-1,-1,-1,-1,-1,10,-1,-1,-1,-1,13,-1,-1]
["2015-01-10",-1,-1,-1,2,-1,-1,-1,-1,-1,5,-1,6,-1,-1,-1,-1,-1,-1,10,-1,-1,-1,-1,13,-1,-1]
["2015-01-11",-1,-1,-1,2,-1,-1,-1,-1,-1,5,-1,6,-1,-1,-1,-1,-1,-1,10,-1,-1,-1,-1,13,-1,-1]
["2015-01-12",-1,-1,-1,2,-1,-1,-1,-1,-1,5,-1,6,-1,-1,-1,-1,-1,-1,10,-1,-1,-1,-1,13,-1,-1]
["2015-01-13",-1,-1,-1,2,-1,-1,-1,-1,-1,5,-1,6,-1,-1,-1,-1,-1,-1,10,-1,-1,-1,-1,13,-1,-1]
["2015-01-14",-1,-1,-1,2,-1,-1,-1,-1,-1,5,-1,6,-1,-1,-1,-1,-1,-1,10,-1,-1,-1,-1,13,-1,-1]
["2015-01-15",-1,-1,-1,2,-1,-1,-1,-1,-1,5,-1,6,-1,-1,-1,-1,-1,-1,10,-1,-1,-1,-1,13,-1,-1]
["2015-01-16",-1,-1,-1,2,-1,-1,-1,-1,-1,5,-1,6,-1,-1,-1,-1,-1,-1,10,-1,-1,-1,-1,13,-1,-1]
["2015-01-17",-1,-1,-1,2,-1,-1,-1,-1,-1,5,-1,6,-1,-1,-1,-1,-1,-1,10,-1,-1,-1,-1,13,-1,-1]
["2015-01-18",-1,-1,-1,2,-1,-1,-1,-1,-1,5,-1,6,-1,-1,-1,-1,-1,-1,10,-1,-1,-1,-1,13,-1,-1]
["2015-01-19",-1,-1,-1,2,-1,-1,-1,-1,-1,5,-1,6,-1,-1,-1,-1,-1,-1,10,-1,-1,-1,-1,13,-1,-1]
["2015-01-20",-1,-1,-1,2,-1,-1,-1,-1,-1,5,-1,6,-1,-1,-1,-1,-1,-1,10,-1,-1,-1,-1,13,-1,-1]
["2015-01-21",-1,-1,-1,2,-1,-1,-1,-1,-1,5,-1,6,-1,-1,-1,-1,-1,-1,10,-1,-1,-1,-1,13,-1,-1]
["2015-01-22",-1,-1,-1,-1,-1,-1,-1,-1,-1,-1,-1,6,-1,-1,-1,-1,-1,-1,10,-1,-1,-1,-1,13,-1,-1]
["2015-01-23",-1,-1,-1,-1,-1,-1,-1,-1,-1,-1,-1,6,-1,-1,-1,-1,-1,-1,10,-1,-1,-1,-1,13,-1,-1]
["2015-01-24",-1,-1,-1,-1,-1,-1,-1,-1,-1,-1,-1,6,-1,-1,-1,-1,-1,-1,10,-1,-1,-1,-1,13,-1,-1]
["2015-01-25",-1,-1,-1,-1,-1,-1,-1,-1,-1,-1,-1,6,-1,-1,-1,-1,-1,-1,10,-1,-1,-1,-1,13,-1,-1]
["2015-01-26",-1,-1,-1,-1,-1,-1,-1,-1,-1,-1,-1,6,-1,-1,-1,-1,-1,-1,10,-1,-1,-1,-1,13,-1,-1]
["2015-01-27",-1,-1,-1,-1,-1,-1,-1,-1,-1,-1,-1,6,-1,-1,-1,-1,-1,-1,10,-1,-1,-1,-1,13,-1,-1]
["2015-01-28",-1,-1,-1,-1,-1,-1,-1,-1,-1,-1,-1,6,-1,-1,-1,-1,-1,-1,10,-1,-1,-1,-1,13,-1,-1]
["2015-01-29",-1,-1,-1,-1,-1,-1,-1,-1,-1,-1,-1,6,-1,-1,-1,-1,-1,-1,10,-1,-1,-1,-1,13,-1,-1]
["2015-01-30",-1,-1,-1,-1,-1,-1,-1,-1,-1,-1,-1,6,-1,-1,-1,-1,-1,9,10,-1,-1,-1,-1,13,-1,-1]
["2015-01-31",-1,-1,-1,-1,-1,-1,-1,-1,-1,-1,-1,6,-1,-1,-1,-1,-1,9,10,-1,-1,-1,-1,13,-1,-1]
["2015-02-01",-1,-1,-1,-1,-1,-1,-1,-1,-1,-1,-1,6,-1,-1,-1,-1,-1,9,10,-1,-1,-1,-1,13,-1,-1]
["2015-02-02",-1,-1,-1,-1,-1,-1,-1,-1,-1,-1,-1,6,-1,-1,-1,-1,-1,9,10,-1,-1,-1,-1,13,-1,-1]
["2015-02-03",-1,-1,-1,-1,-1,-1,-1,-1,-1,-1,-1,6,-1,-1,-1,-1,-1,9,10,-1,-1,-1,-1,13,-1,-1]
["2015-02-04",-1,-1,-1,-1,-1,-1,-1,-1,-1,-1,-1,6,-1,-1,-1,-1,-1,9,10,-1,-1,-1,-1,13,-1,-1]
["2015-02-05",-1,-1,-1,-1,-1,-1,-1,-1,-1,-1,-1,6,-1,-1,-1,-1,-1,9,10,-1,-1,-1,-1,13,-1,-1]
["2015-02-06",-1,-1,-1,-1,-1,-1,-1,-1,-1,-1,-1,6,-1,-1,-1,-1,-1,9,10,-1,-1,-1,-1,13,-1,-1]
["2015-02-07",-1,-1,-1,-1,-1,-1,-1,-1,-1,-1,-1,6,-1,-1,-1,-1,-1,9,10,-1,-1,-1,-1,13,-1,-1]
["2015-02-08",{"$f":"IF($F$1<A261,IF($F$2>A259,1,-1),-1)","v":-1},-1,-1,-1,-1,-1,-1,-1,-1,-1,-1,6,-1,-1,-1,-1,-1,9,10,-1,-1,-1,-1,13,-1,-1]
["2015-02-09",-1,{"$f":"IF($B$9<A262,IF($B$10>A260,1,-1),-1)","v":-1},{"$f":"IF($B$11<A262,IF($B$12>A260,2,-1),-1)","v":-1},{"$f":"IF($B$13<A262,IF($B$14>A260,2,-1),-1)","v":-1},{"$f":"IF($B$15<A262,IF($B$16>A260,3,-1),-1)","v":-1},{"$f":"IF($B$17<A262,IF($B$18>A260,3,-1),-1)","v":-1},{"$f":"IF($B$19<A262,IF($B$20>A260,4,-1),-1)","v":-1},{"$f":"IF($B$21<A262,IF($B$22>A260,4,-1),-1)","v":-1},{"$f":"IF($B$23<A262,IF($B$24>A260,5,-1),-1)","v":-1},{"$f":"IF($B$25<A262,IF($B$26>A260,5,-1),-1)","v":-1},{"$f":"IF($B$27<A262,IF($B$28>A260,6,-1),-1)","v":-1},{"$f":"IF($B$29<A262,IF($B$30>A260,6,-1),-1)","v":6},{"$f":"IF($B$31<A262,IF($B$32>A260,7,-1),-1)","v":-1},{"$f":"IF($B$33<A262,IF($B$34>A260,7,-1),-1)","v":-1},{"$f":"IF($B$35<A262,IF($B$36>A260,8,-1),-1)","v":-1},{"$f":"IF($B$37<A262,IF($B$38>A260,8,-1),-1)","v":-1},{"$f":"IF($B$39<A262,IF($B$40>A260,9,-1),-1)","v":-1},{"$f":"IF($B$41<A262,IF($B$42>A260,9,-1),-1)","v":9},10,{"$f":"IF($B$43<A262,IF($B$44>A260,11,-1),-1)","v":-1},{"$f":"IF($B$45<A262,IF($B$46>A260,11,-1),-1)","v":-1},{"$f":"IF($B$47<A262,IF($B$48>A260,12,-1),-1)","v":-1},{"$f":"IF($B$49<A262,IF($B$50>A260,13,-1),-1)","v":-1},{"$f":"IF($B$51<A262,IF($B$52>A260,13,-1),-1)","v":13},{"$f":"IF($B$53<A262,IF($B$54>A260,14,-1),-1)","v":-1},{"$f":"IF($B$55<A262,IF($B$56>A260,14,-1),-1)","v":-1}]
["2015-02-10",-1,-1,-1,-1,-1,-1,-1,-1,-1,-1,-1,6,-1,-1,-1,-1,-1,9,10,-1,-1,-1,-1,13,-1,-1]
["2015-02-11",-1,-1,-1,-1,-1,-1,-1,-1,-1,-1,-1,6,-1,-1,-1,-1,-1,9,10,-1,-1,-1,-1,13,-1,-1]
["2015-02-12",-1,-1,-1,-1,-1,-1,-1,-1,-1,-1,-1,6,-1,-1,-1,-1,-1,9,10,-1,-1,-1,-1,13,-1,-1]
["2015-02-13",-1,-1,-1,-1,-1,-1,-1,-1,-1,-1,-1,6,-1,-1,-1,-1,-1,9,10,-1,-1,-1,-1,13,-1,-1]
["2015-02-14",-1,-1,-1,-1,-1,-1,-1,-1,-1,-1,-1,6,-1,-1,-1,-1,-1,9,10,-1,-1,-1,-1,13,-1,-1]
["2015-02-15",-1,-1,-1,-1,-1,-1,-1,-1,-1,-1,-1,6,-1,-1,-1,-1,-1,9,10,-1,-1,-1,-1,13,-1,-1]
["2015-02-16",-1,-1,-1,-1,-1,-1,-1,-1,-1,-1,-1,6,-1,-1,-1,-1,-1,9,10,-1,-1,-1,-1,13,-1,-1]
["2015-02-17",-1,-1,-1,-1,-1,-1,-1,-1,-1,-1,-1,6,-1,-1,-1,-1,-1,9,10,-1,-1,-1,-1,13,-1,-1]
["2015-02-18",-1,-1,-1,-1,-1,-1,-1,-1,-1,-1,-1,6,-1,-1,-1,-1,-1,9,10,-1,-1,-1,-1,13,-1,-1]
["2015-02-19",-1,-1,-1,-1,-1,-1,-1,-1,-1,-1,-1,6,-1,-1,-1,-1,-1,9,10,-1,-1,-1,-1,13,-1,-1]
["2015-02-20",-1,-1,-1,-1,-1,-1,-1,-1,-1,-1,-1,6,-1,-1,-1,-1,-1,9,10,-1,-1,-1,-1,13,-1,-1]
["2015-02-21",-1,-1,-1,-1,-1,-1,-1,-1,-1,-1,-1,6,-1,-1,-1,-1,-1,9,10,-1,-1,-1,-1,13,-1,-1]
["2015-02-22",-1,-1,-1,-1,-1,-1,-1,-1,-1,-1,-1,-1,-1,-1,-1,-1,-1,9,10,-1,-1,-1,-1,13,-1,-1]
["2015-02-23",-1,-1,-1,-1,-1,-1,-1,-1,-1,-1,-1,-1,-1,-1,-1,-1,-1,9,10,-1,-1,-1,-1,13,-1,-1]
["2015-02-24",-1,-1,-1,-1,-1,-1,-1,-1,-1,-1,-1,-1,-1,-1,-1,-1,-1,9,10,-1,-1,-1,-1,13,-1,-1]
["2015-02-25",-1,-1,-1,-1,-1,-1,-1,-1,-1,-1,-1,-1,-1,-1,-1,-1,-1,9,10,-1,-1,-1,-1,13,-1,-1]
["2015-02-26",-1,-1,-1,-1,-1,-1,-1,-1,-1,-1,-1,-1,-1,-1,-1,-1,-1,9,10,-1,-1,-1,-1,13,-1,-1]
["2015-02-27",-1,-1,-1,-1,-1,-1,-1,-1,-1,-1,-1,-1,-1,-1,-1,-1,-1,9,10,-1,-1,-1,-1,13,-1,-1]
["2015-02-28",-1,-1,-1,-1,-1,-1,-1,-1,-1,-1,-1,-1,-1,-1,-1,-1,-1,9,10,-1,-1,-1,-1,13,-1,-1]
["2015-03-01",-1,-1,-1,-1,-1,-1,-1,-1,-1,-1,-1,-1,-1,-1,-1,-1,-1,9,10,-1,-1,-1,-1,13,-1,-1]
["2015-03-02",-1,-1,-1,-1,-1,-1,-1,-1,-1,-1,-1,-1,-1,-1,-1,-1,-1,9,10,-1,-1,-1,-1,13,-1,-1]
["2015-03-03",-1,-1,-1,-1,-1,-1,-1,-1,-1,-1,-1,-1,-1,-1,-1,-1,-1,9,10,-1,-1,-1,-1,13,-1,-1]
["2015-03-04",-1,-1,-1,-1,-1,-1,-1,-1,-1,-1,-1,-1,-1,-1,-1,-1,-1,9,10,-1,-1,-1,-1,13,-1,-1]
["2015-03-05",-1,-1,-1,-1,-1,-1,-1,-1,-1,-1,-1,-1,-1,-1,-1,-1,-1,9,10,-1,-1,-1,-1,13,-1,-1]
["2015-03-06",-1,-1,-1,-1,-1,-1,-1,-1,-1,-1,-1,-1,-1,-1,-1,-1,-1,9,10,-1,-1,-1,-1,13,-1,-1]
["2015-03-07",-1,-1,-1,-1,-1,-1,-1,-1,-1,-1,-1,-1,-1,-1,-1,-1,-1,9,10,-1,-1,-1,-1,13,-1,-1]
["2015-03-08",-1,-1,-1,-1,-1,-1,-1,-1,-1,-1,-1,-1,-1,-1,-1,-1,-1,9,10,-1,-1,-1,-1,13,-1,-1]
["2015-03-09",-1,-1,-1,-1,-1,-1,-1,-1,-1,-1,-1,-1,-1,-1,-1,-1,-1,9,10,-1,-1,-1,-1,13,-1,-1]
["2015-03-10",-1,-1,-1,-1,-1,-1,-1,-1,-1,-1,-1,-1,-1,-1,-1,-1,-1,9,10,-1,-1,-1,-1,13,-1,-1]
["2015-03-11",-1,-1,-1,-1,-1,-1,-1,-1,-1,-1,-1,-1,-1,-1,-1,-1,-1,9,10,-1,-1,-1,-1,13,-1,-1]
["2015-03-12",-1,-1,-1,-1,-1,-1,-1,-1,-1,-1,-1,-1,-1,-1,-1,-1,-1,9,10,-1,-1,-1,-1,13,-1,-1]
["2015-03-13",-1,-1,-1,-1,-1,-1,-1,-1,-1,-1,-1,-1,-1,-1,-1,-1,-1,9,10,-1,-1,-1,-1,13,-1,-1]
["2015-03-14",-1,-1,-1,-1,-1,-1,-1,-1,-1,-1,-1,-1,-1,-1,-1,-1,-1,9,10,-1,-1,-1,-1,13,-1,-1]
["2015-03-15",-1,-1,-1,-1,-1,-1,-1,-1,-1,-1,-1,-1,-1,-1,-1,-1,-1,9,10,-1,-1,-1,-1,13,-1,-1]
["2015-03-16",-1,-1,-1,-1,-1,-1,-1,-1,-1,-1,-1,-1,-1,-1,-1,-1,-1,9,10,-1,-1,-1,-1,13,-1,-1]
["2015-03-17",-1,-1,-1,-1,-1,-1,-1,-1,-1,-1,-1,-1,-1,-1,-1,-1,-1,9,10,-1,-1,-1,-1,13,-1,-1]
["2015-03-18",-1,-1,-1,-1,-1,-1,-1,-1,-1,-1,-1,-1,-1,-1,-1,-1,-1,9,10,-1,-1,-1,-1,13,-1,-1]
["2015-03-19",-1,-1,-1,-1,-1,-1,-1,-1,-1,-1,-1,-1,-1,-1,-1,-1,-1,9,10,-1,-1,-1,-1,13,-1,-1]
["2015-03-20",-1,-1,-1,-1,-1,-1,-1,-1,-1,-1,-1,-1,-1,-1,-1,-1,-1,9,10,-1,-1,-1,-1,13,-1,-1]
["2015-03-21",-1,-1,-1,-1,-1,-1,-1,-1,-1,-1,-1,-1,-1,-1,-1,-1,-1,9,10,-1,-1,-1,-1,13,-1,-1]
["2015-03-22",-1,-1,-1,-1,-1,-1,-1,-1,-1,-1,-1,-1,-1,-1,-1,-1,-1,9,10,-1,-1,-1,-1,13,-1,-1]
["2015-03-23",-1,-1,-1,-1,-1,-1,-1,-1,-1,-1,-1,-1,-1,-1,-1,-1,-1,9,10,-1,-1,-1,-1,13,-1,-1]
["2015-03-24",-1,-1,-1,-1,-1,-1,-1,-1,-1,-1,-1,-1,-1,-1,-1,-1,-1,9,10,-1,-1,-1,-1,13,-1,-1]
["2015-03-25",-1,-1,-1,-1,-1,-1,-1,-1,-1,-1,-1,-1,-1,-1,-1,-1,-1,9,10,-1,-1,-1,-1,13,-1,-1]
["2015-03-26",-1,-1,-1,-1,-1,-1,-1,-1,-1,-1,-1,-1,-1,-1,-1,-1,-1,9,10,-1,-1,-1,-1,13,-1,-1]
["2015-03-27",-1,-1,-1,-1,-1,-1,-1,-1,-1,-1,-1,-1,-1,-1,-1,-1,-1,9,10,-1,-1,-1,-1,13,-1,-1]
["2015-03-28",-1,-1,-1,-1,-1,-1,-1,-1,-1,-1,-1,-1,-1,-1,-1,-1,-1,9,10,-1,-1,-1,-1,13,-1,-1]
["2015-03-29",-1,-1,-1,-1,-1,-1,-1,-1,-1,-1,-1,-1,-1,-1,-1,-1,-1,9,10,-1,-1,-1,-1,13,-1,-1]
["2015-03-30",-1,-1,-1,-1,-1,-1,-1,-1,-1,-1,-1,-1,-1,-1,-1,-1,-1,9,10,-1,-1,-1,-1,13,-1,-1]
["2015-03-31",-1,-1,-1,-1,-1,-1,-1,-1,-1,-1,-1,-1,-1,-1,-1,-1,-1,9,10,-1,-1,-1,-1,13,-1,-1]
["2015-04-01",-1,-1,-1,-1,-1,3,-1,-1,-1,-1,-1,-1,-1,-1,-1,-1,-1,9,10,11,-1,-1,-1,13,-1,-1]
["2015-04-02",-1,-1,-1,-1,-1,3,-1,-1,-1,-1,-1,-1,-1,-1,-1,-1,-1,9,10,11,-1,-1,-1,-1,-1,-1]
["2015-04-03",-1,-1,-1,-1,-1,3,-1,-1,-1,-1,-1,-1,-1,-1,-1,-1,-1,9,10,11,-1,-1,-1,-1,-1,-1]
["2015-04-04",-1,-1,-1,-1,-1,3,-1,-1,-1,-1,-1,-1,-1,-1,-1,-1,-1,9,10,11,-1,-1,-1,-1,-1,-1]
["2015-04-05",-1,-1,-1,-1,-1,3,-1,-1,-1,-1,-1,-1,-1,-1,-1,-1,-1,9,10,11,-1,-1,-1,-1,-1,-1]
["2015-04-06",-1,-1,-1,-1,-1,3,-1,-1,-1,-1,-1,-1,-1,-1,-1,-1,-1,9,10,11,-1,-1,-1,-1,-1,-1]
["2015-04-07",-1,-1,-1,-1,-1,3,-1,-1,-1,-1,-1,-1,-1,-1,-1,-1,-1,9,10,11,-1,-1,-1,-1,-1,-1]
["2015-04-08",-1,-1,-1,-1,-1,3,-1,-1,-1,-1,-1,-1,-1,-1,-1,-1,-1,9,10,11,-1,-1,-1,-1,-1,-1]
["2015-04-09",-1,-1,-1,-1,-1,3,-1,-1,-1,-1,-1,-1,-1,-1,-1,-1,-1,9,10,11,-1,-1,-1,-1,-1,-1]
["2015-04-10",-1,-1,-1,-1,-1,3,-1,-1,-1,-1,-1,-1,-1,-1,-1,-1,-1,9,10,11,-1,-1,-1,-1,-1,-1]
["2015-04-11",-1,-1,-1,-1,-1,3,-1,-1,-1,-1,-1,-1,-1,-1,-1,-1,-1,9,10,11,-1,-1,-1,-1,-1,-1]
["2015-04-12",-1,-1,-1,-1,-1,3,-1,-1,-1,-1,-1,-1,-1,-1,-1,-1,-1,9,10,11,-1,-1,-1,-1,-1,-1]
["2015-04-13",{"$f":"IF($F$1<A325,IF($F$2>A323,1,-1),-1)","v":-1},-1,-1,-1,-1,3,-1,-1,-1,-1,-1,-1,-1,-1,-1,-1,-1,9,10,11,-1,-1,-1,-1,-1,-1]
["2015-04-14",-1,{"$f":"IF($B$9<A326,IF($B$10>A324,1,-1),-1)","v":-1},{"$f":"IF($B$11<A326,IF($B$12>A324,2,-1),-1)","v":-1},{"$f":"IF($B$13<A326,IF($B$14>A324,2,-1),-1)","v":-1},{"$f":"IF($B$15<A326,IF($B$16>A324,3,-1),-1)","v":-1},{"$f":"IF($B$17<A326,IF($B$18>A324,3,-1),-1)","v":3},{"$f":"IF($B$19<A326,IF($B$20>A324,4,-1),-1)","v":-1},{"$f":"IF($B$21<A326,IF($B$22>A324,4,-1),-1)","v":-1},{"$f":"IF($B$23<A326,IF($B$24>A324,5,-1),-1)","v":-1},{"$f":"IF($B$25<A326,IF($B$26>A324,5,-1),-1)","v":-1},{"$f":"IF($B$27<A326,IF($B$28>A324,6,-1),-1)","v":-1},{"$f":"IF($B$29<A326,IF($B$30>A324,6,-1),-1)","v":-1},{"$f":"IF($B$31<A326,IF($B$32>A324,7,-1),-1)","v":-1},{"$f":"IF($B$33<A326,IF($B$34>A324,7,-1),-1)","v":-1},{"$f":"IF($B$35<A326,IF($B$36>A324,8,-1),-1)","v":-1},{"$f":"IF($B$37<A326,IF($B$38>A324,8,-1),-1)","v":-1},{"$f":"IF($B$39<A326,IF($B$40>A324,9,-1),-1)","v":-1},{"$f":"IF($B$41<A326,IF($B$42>A324,9,-1),-1)","v":9},10,{"$f":"IF($B$43<A326,IF($B$44>A324,11,-1),-1)","v":11},{"$f":"IF($B$45<A326,IF($B$46>A324,11,-1),-1)","v":-1},{"$f":"IF($B$47<A326,IF($B$48>A324,12,-1),-1)","v":-1},{"$f":"IF($B$49<A326,IF($B$50>A324,13,-1),-1)","v":-1},{"$f":"IF($B$51<A326,IF($B$52>A324,13,-1),-1)","v":-1},{"$f":"IF($B$53<A326,IF($B$54>A324,14,-1),-1)","v":-1},{"$f":"IF($B$55<A326,IF($B$56>A324,14,-1),-1)","v":-1}]
["2015-04-15",-1,-1,-1,-1,-1,3,-1,-1,-1,-1,-1,-1,-1,-1,-1,-1,-1,9,10,11,-1,-1,-1,-1,-1,-1]
["2015-04-16",-1,-1,-1,-1,-1,3,-1,-1,-1,-1,-1,-1,-1,-1,-1,-1,-1,9,10,11,-1,-1,-1,-1,-1,-1]
["2015-04-17",-1,-1,-1,-1,-1,3,-1,-1,-1,-1,-1,-1,-1,-1,-1,-1,-1,9,10,11,-1,-1,-1,-1,-1,-1]
["2015-04-18",-1,-1,-1,-1,-1,3,-1,-1,-1,-1,-1,-1,-1,-1,-1,-1,-1,9,10,11,-1,-1,-1,-1,-1,-1]
["2015-04-19",-1,-1,-1,-1,-1,3,-1,-1,-1,-1,-1,-1,-1,-1,-1,-1,-1,9,10,11,-1,-1,-1,-1,-1,-1]
["2015-04-20",-1,-1,-1,-1,-1,3,-1,-1,-1,-1,-1,-1,-1,-1,-1,-1,-1,9,10,11,-1,-1,-1,-1,-1,-1]
["2015-04-21",-1,-1,-1,-1,-1,3,-1,-1,-1,-1,-1,-1,-1,-1,-1,-1,-1,9,10,11,-1,-1,-1,-1,-1,-1]
["2015-04-22",-1,-1,-1,-1,-1,3,-1,-1,-1,-1,-1,-1,-1,-1,-1,-1,-1,9,10,11,-1,-1,-1,-1,-1,-1]
["2015-04-23",-1,-1,-1,-1,-1,3,-1,-1,-1,-1,-1,-1,-1,-1,-1,-1,-1,9,10,11,-1,-1,-1,-1,-1,-1]
["2015-04-24",-1,-1,-1,-1,-1,3,-1,-1,-1,-1,-1,-1,-1,-1,-1,-1,-1,9,10,11,-1,-1,-1,-1,-1,-1]
["2015-04-25",-1,-1,-1,-1,-1,3,-1,-1,-1,-1,-1,-1,-1,-1,-1,-1,-1,9,10,11,-1,-1,-1,-1,-1,-1]
["2015-04-26",-1,-1,-1,-1,-1,3,-1,-1,-1,-1,-1,-1,-1,-1,-1,-1,-1,9,10,11,-1,-1,-1,-1,-1,-1]
["2015-04-27",-1,-1,-1,-1,-1,3,-1,-1,-1,-1,-1,-1,-1,-1,-1,-1,-1,9,10,11,-1,-1,-1,-1,-1,-1]
["2015-04-28",-1,-1,-1,-1,-1,3,-1,-1,-1,-1,-1,-1,-1,-1,-1,-1,-1,9,10,11,-1,-1,-1,-1,-1,-1]
["2015-04-29",-1,-1,-1,-1,-1,3,-1,-1,-1,-1,-1,-1,-1,-1,-1,-1,-1,9,10,11,-1,-1,-1,-1,-1,-1]
["2015-04-30",-1,-1,-1,-1,-1,3,-1,-1,-1,-1,-1,-1,-1,-1,-1,-1,-1,9,10,11,-1,-1,-1,-1,-1,-1]
["2015-05-01",-1,-1,-1,-1,-1,3,-1,-1,-1,-1,-1,-1,-1,-1,-1,-1,-1,9,10,11,-1,-1,-1,-1,-1,-1]
["2015-05-02",-1,-1,-1,-1,-1,3,-1,-1,-1,-1,-1,-1,-1,-1,-1,-1,-1,9,10,11,-1,-1,-1,-1,-1,-1]
["2015-05-03",-1,-1,-1,-1,-1,3,-1,-1,-1,-1,-1,-1,-1,-1,-1,-1,-1,9,10,11,-1,-1,-1,-1,-1,-1]
["2015-05-04",-1,-1,-1,-1,-1,3,-1,-1,-1,-1,-1,-1,-1,-1,-1,-1,-1,9,10,11,-1,-1,-1,-1,-1,-1]
["2015-05-05",-1,-1,-1,-1,-1,3,-1,-1,-1,-1,-1,-1,-1,-1,-1,-1,-1,9,10,11,-1,-1,-1,-1,-1,-1]
["2015-05-06",-1,-1,-1,-1,-1,3,-1,-1,-1,-1,-1,-1,-1,-1,-1,-1,-1,9,10,11,-1,-1,-1,-1,-1,-1]
["2015-05-07",-1,-1,-1,-1,-1,3,-1,-1,-1,-1,-1,-1,-1,-1,-1,-1,-1,9,10,11,-1,-1,-1,-1,-1,-1]
["2015-05-08",-1,-1,-1,-1,-1,3,-1,-1,-1,-1,-1,-1,-1,-1,-1,-1,-1,9,10,11,-1,-1,-1,-1,-1,-1]
["2015-05-09",-1,-1,-1,-1,-1,3,-1,-1,-1,-1,-1,-1,-1,-1,-1,-1,-1,9,10,11,-1,-1,-1,-1,-1,-1]
["2015-05-10",-1,-1,-1,-1,-1,3,-1,-1,-1,-1,-1,-1,-1,-1,-1,-1,-1,9,10,11,-1,-1,-1,-1,-1,-1]
["2015-05-11",-1,-1,-1,-1,-1,3,-1,-1,-1,-1,-1,-1,-1,-1,-1,-1,-1,9,10,11,-1,-1,-1,-1,-1,-1]
["2015-05-12",-1,-1,-1,-1,-1,3,-1,-1,-1,-1,-1,-1,-1,-1,-1,-1,-1,9,10,11,-1,-1,-1,-1,-1,-1]
["2015-05-13",-1,-1,-1,-1,-1,3,-1,-1,-1,-1,-1,-1,-1,-1,-1,-1,-1,9,10,11,-1,-1,-1,-1,-1,-1]
["2015-05-14",-1,-1,-1,-1,-1,3,-1,-1,-1,-1,-1,-1,-1,-1,-1,-1,-1,9,10,11,-1,-1,-1,-1,-1,-1]
["2015-05-15",-1,-1,-1,-1,-1,3,-1,-1,-1,-1,-1,-1,-1,-1,-1,-1,-1,9,10,11,-1,-1,-1,-1,-1,-1]
["2015-05-16",-1,-1,-1,-1,-1,3,-1,-1,-1,-1,-1,-1,-1,-1,-1,-1,-1,9,10,11,-1,-1,-1,-1,-1,-1]
["2015-05-17",-1,-1,-1,-1,-1,3,-1,-1,-1,-1,-1,-1,-1,-1,-1,-1,-1,9,10,11,-1,-1,-1,-1,-1,-1]
["2015-05-18",-1,-1,-1,-1,-1,3,-1,-1,-1,-1,-1,-1,-1,-1,-1,-1,-1,9,10,11,-1,-1,-1,-1,-1,-1]
["2015-05-19",-1,-1,-1,-1,-1,3,-1,-1,-1,-1,-1,-1,-1,-1,-1,-1,-1,9,10,11,-1,-1,-1,-1,-1,-1]
["2015-05-20",-1,-1,-1,-1,-1,3,-1,-1,-1,-1,-1,-1,-1,-1,-1,-1,-1,9,10,11,-1,-1,-1,-1,-1,-1]
["2015-05-21",-1,-1,-1,-1,-1,3,-1,-1,-1,-1,-1,-1,-1,-1,-1,-1,-1,9,10,11,-1,-1,-1,-1,-1,-1]
["2015-05-22",-1,-1,-1,-1,-1,3,-1,-1,-1,-1,-1,-1,-1,-1,-1,-1,-1,9,10,11,-1,-1,-1,-1,-1,-1]
["2015-05-23",-1,-1,-1,-1,-1,3,-1,-1,-1,-1,-1,-1,-1,-1,-1,-1,-1,9,10,11,-1,-1,-1,-1,-1,-1]
["2015-05-24",-1,-1,-1,-1,-1,3,-1,-1,-1,-1,-1,-1,-1,-1,-1,-1,-1,9,10,11,-1,-1,-1,-1,-1,-1]
["2015-05-25",-1,-1,-1,-1,-1,3,-1,-1,-1,-1,-1,-1,-1,-1,-1,-1,-1,9,10,11,-1,-1,-1,-1,-1,-1]
["2015-05-26",-1,-1,-1,-1,-1,3,-1,-1,-1,-1,-1,-1,-1,-1,-1,-1,-1,9,10,11,-1,-1,-1,-1,-1,-1]
["2015-05-27",-1,-1,-1,-1,-1,3,-1,-1,-1,-1,-1,-1,-1,-1,-1,-1,-1,9,10,11,-1,-1,-1,-1,-1,-1]
["2015-05-28",-1,-1,-1,-1,-1,3,-1,-1,-1,-1,-1,-1,-1,-1,-1,-1,-1,9,10,11,-1,-1,-1,-1,-1,-1]
["2015-05-29",-1,-1,-1,-1,-1,3,-1,-1,-1,-1,-1,-1,-1,-1,-1,-1,-1,9,10,11,-1,-1,-1,-1,-1,-1]
["2015-05-30",-1,-1,-1,-1,-1,3,-1,-1,-1,-1,-1,-1,-1,-1,-1,-1,-1,9,10,11,-1,-1,-1,-1,-1,-1]
["2015-05-31",-1,-1,-1,-1,-1,3,-1,-1,-1,-1,-1,-1,-1,-1,-1,-1,-1,9,10,11,-1,-1,-1,-1,-1,-1]
["2015-06-01",-1,-1,-1,-1,-1,3,-1,-1,-1,-1,-1,-1,-1,-1,-1,-1,-1,9,10,11,-1,-1,-1,-1,-1,-1]
["2015-06-02",-1,-1,-1,-1,-1,3,-1,-1,-1,-1,-1,-1,-1,-1,-1,-1,-1,9,10,11,-1,-1,-1,-1,-1,-1]
["2015-06-03",-1,-1,-1,-1,-1,3,-1,-1,-1,-1,-1,-1,-1,-1,-1,-1,-1,9,10,11,-1,-1,-1,-1,-1,-1]
["2015-06-04",-1,-1,-1,-1,-1,3,-1,-1,-1,-1,-1,-1,-1,-1,-1,-1,-1,9,10,11,-1,-1,-1,-1,-1,-1]
["2015-06-05",-1,-1,-1,-1,-1,3,-1,-1,-1,-1,-1,-1,-1,-1,-1,-1,-1,9,10,11,-1,-1,-1,-1,-1,-1]
["2015-06-06",-1,-1,-1,-1,-1,3,-1,-1,-1,-1,-1,-1,-1,-1,-1,-1,-1,9,10,11,-1,-1,-1,-1,-1,-1]
["2015-06-07",-1,-1,-1,-1,-1,3,-1,-1,-1,-1,-1,-1,-1,-1,-1,-1,-1,9,10,11,-1,-1,-1,-1,-1,-1]
["2015-06-08",-1,-1,-1,-1,-1,3,-1,-1,-1,-1,-1,-1,-1,-1,-1,-1,-1,9,10,11,-1,-1,-1,-1,-1,-1]
["2015-06-09",-1,-1,-1,-1,-1,3,-1,-1,-1,-1,-1,-1,-1,-1,-1,-1,-1,9,10,11,-1,-1,-1,-1,-1,-1]
["2015-06-10",-1,-1,-1,-1,-1,3,-1,-1,-1,-1,-1,-1,-1,-1,-1,-1,-1,9,10,11,-1,-1,-1,-1,-1,-1]
["2015-06-11",-1,-1,-1,-1,-1,3,-1,-1,-1,-1,-1,-1,-1,-1,-1,-1,-1,9,10,11,-1,-1,-1,-1,-1,-1]
["2015-06-12",-1,-1,-1,-1,-1,3,-1,-1,-1,-1,-1,-1,-1,-1,-1,-1,-1,9,10,11,-1,-1,-1,-1,-1,-1]
["2015-06-13",-1,-1,-1,-1,-1,3,-1,-1,-1,-1,-1,-1,-1,-1,-1,-1,-1,9,10,11,-1,-1,-1,-1,-1,-1]
["2015-06-14",-1,-1,-1,-1,-1,3,-1,-1,-1,-1,-1,-1,-1,-1,-1,-1,-1,9,10,11,-1,-1,-1,-1,-1,-1]
["2015-06-15",-1,-1,-1,-1,-1,3,-1,-1,-1,-1,-1,-1,-1,-1,-1,-1,-1,9,10,11,-1,-1,-1,-1,-1,-1]
["2015-06-16",{"$f":"IF($F$1<A389,IF($F$2>A387,1,-1),-1)","v":-1},-1,-1,-1,-1,3,-1,-1,-1,-1,-1,-1,-1,-1,-1,-1,-1,9,10,11,-1,-1,-1,-1,-1,-1]
["2015-06-17",-1,{"$f":"IF($B$9<A390,IF($B$10>A388,1,-1),-1)","v":-1},{"$f":"IF($B$11<A390,IF($B$12>A388,2,-1),-1)","v":-1},{"$f":"IF($B$13<A390,IF($B$14>A388,2,-1),-1)","v":-1},{"$f":"IF($B$15<A390,IF($B$16>A388,3,-1),-1)","v":-1},{"$f":"IF($B$17<A390,IF($B$18>A388,3,-1),-1)","v":3},{"$f":"IF($B$19<A390,IF($B$20>A388,4,-1),-1)","v":-1},{"$f":"IF($B$21<A390,IF($B$22>A388,4,-1),-1)","v":-1},{"$f":"IF($B$23<A390,IF($B$24>A388,5,-1),-1)","v":-1},{"$f":"IF($B$25<A390,IF($B$26>A388,5,-1),-1)","v":-1},{"$f":"IF($B$27<A390,IF($B$28>A388,6,-1),-1)","v":-1},{"$f":"IF($B$29<A390,IF($B$30>A388,6,-1),-1)","v":-1},{"$f":"IF($B$31<A390,IF($B$32>A388,7,-1),-1)","v":-1},{"$f":"IF($B$33<A390,IF($B$34>A388,7,-1),-1)","v":-1},{"$f":"IF($B$35<A390,IF($B$36>A388,8,-1),-1)","v":-1},{"$f":"IF($B$37<A390,IF($B$38>A388,8,-1),-1)","v":-1},{"$f":"IF($B$39<A390,IF($B$40>A388,9,-1),-1)","v":-1},{"$f":"IF($B$41<A390,IF($B$42>A388,9,-1),-1)","v":9},10,{"$f":"IF($B$43<A390,IF($B$44>A388,11,-1),-1)","v":11},{"$f":"IF($B$45<A390,IF($B$46>A388,11,-1),-1)","v":-1},{"$f":"IF($B$47<A390,IF($B$48>A388,12,-1),-1)","v":-1},{"$f":"IF($B$49<A390,IF($B$50>A388,13,-1),-1)","v":-1},{"$f":"IF($B$51<A390,IF($B$52>A388,13,-1),-1)","v":-1},{"$f":"IF($B$53<A390,IF($B$54>A388,14,-1),-1)","v":-1},{"$f":"IF($B$55<A390,IF($B$56>A388,14,-1),-1)","v":-1}]
["2015-06-18",-1,-1,-1,-1,-1,3,-1,-1,-1,-1,-1,-1,-1,-1,-1,-1,-1,9,10,11,-1,-1,-1,-1,-1,-1]
["2015-06-19",-1,-1,-1,-1,-1,3,-1,-1,-1,-1,-1,-1,-1,-1,-1,-1,-1,9,10,11,-1,-1,-1,-1,-1,-1]
["2015-06-20",-1,-1,-1,-1,-1,3,-1,-1,-1,-1,-1,-1,-1,-1,-1,-1,-1,9,10,11,-1,-1,-1,-1,-1,-1]
["2015-06-21",-1,-1,-1,-1,-1,3,-1,-1,-1,-1,-1,-1,-1,-1,-1,-1,-1,9,10,11,-1,-1,-1,-1,-1,-1]
["2015-06-22",-1,-1,-1,-1,-1,3,-1,-1,-1,-1,-1,-1,-1,-1,-1,-1,-1,9,10,11,-1,-1,-1,-1,-1,-1]
["2015-06-23",-1,-1,-1,-1,-1,3,-1,-1,-1,-1,-1,-1,-1,-1,-1,-1,-1,9,10,11,-1,-1,-1,-1,-1,-1]
["2015-06-24",-1,-1,-1,-1,-1,3,-1,-1,-1,-1,-1,-1,-1,-1,-1,-1,-1,9,10,11,-1,-1,-1,-1,-1,-1]
["2015-06-25",-1,-1,-1,-1,-1,3,-1,-1,-1,-1,-1,-1,-1,-1,-1,-1,-1,9,10,11,-1,-1,-1,-1,-1,-1]
["2015-06-26",-1,-1,-1,-1,-1,3,-1,-1,-1,-1,-1,-1,-1,-1,-1,-1,-1,9,10,11,-1,-1,-1,-1,-1,-1]
["2015-06-27",-1,-1,-1,-1,-1,3,-1,-1,-1,-1,-1,-1,-1,-1,-1,-1,-1,9,10,11,-1,-1,-1,-1,-1,-1]
["2015-06-28",-1,-1,-1,-1,-1,3,-1,-1,-1,-1,-1,-1,-1,-1,-1,-1,-1,9,10,11,-1,-1,-1,-1,-1,-1]
["2015-06-29",-1,-1,-1,-1,-1,3,-1,-1,-1,-1,-1,-1,-1,-1,-1,-1,-1,9,10,11,-1,-1,-1,-1,-1,-1]
["2015-06-30",-1,-1,-1,-1,-1,3,-1,-1,-1,-1,-1,-1,-1,-1,-1,-1,-1,9,10,11,-1,-1,-1,-1,-1,-1]
["2015-07-01",-1,-1,-1,-1,-1,3,-1,-1,-1,-1,-1,-1,7,-1,-1,-1,-1,9,10,11,-1,-1,13,-1,-1,-1]
["2015-07-02",-1,-1,-1,-1,-1,3,-1,-1,-1,-1,-1,-1,7,-1,-1,-1,-1,9,10,11,-1,-1,13,-1,-1,-1]
["2015-07-03",-1,-1,-1,-1,-1,3,-1,-1,-1,-1,-1,-1,7,-1,-1,-1,-1,9,10,11,-1,-1,13,-1,-1,-1]
["2015-07-04",-1,-1,-1,-1,-1,3,-1,-1,-1,-1,-1,-1,7,-1,-1,-1,-1,9,10,11,-1,-1,13,-1,-1,-1]
["2015-07-05",-1,-1,-1,-1,-1,3,-1,-1,-1,-1,-1,-1,7,-1,-1,-1,-1,9,10,11,-1,-1,13,-1,-1,-1]
["2015-07-06",-1,-1,-1,-1,-1,3,-1,-1,-1,-1,-1,-1,7,-1,-1,-1,-1,9,10,11,-1,-1,13,-1,-1,-1]
["2015-07-07",-1,-1,-1,-1,-1,3,-1,-1,-1,-1,-1,-1,7,-1,-1,-1,-1,9,10,11,-1,-1,13,-1,-1,-1]
["2015-07-08",-1,-1,-1,-1,-1,3,-1,-1,-1,-1,-1,-1,7,-1,-1,-1,-1,9,10,11,-1,-1,13,-1,-1,-1]
["2015-07-09",-1,-1,-1,-1,-1,3,-1,-1,-1,-1,-1,-1,7,-1,-1,-1,-1,9,10,11,-1,-1,13,-1,-1,-1]
["2015-07-10",-1,-1,-1,-1,-1,3,-1,-1,-1,-1,-1,-1,7,-1,-1,-1,-1,9,10,11,-1,-1,13,-1,-1,-1]
["2015-07-11",-1,-1,-1,-1,-1,3,-1,-1,-1,-1,-1,-1,7,-1,-1,-1,-1,9,10,11,-1,-1,13,-1,-1,-1]
["2015-07-12",-1,-1,-1,-1,-1,3,-1,-1,-1,-1,-1,-1,7,-1,-1,-1,-1,9,10,11,-1,-1,13,-1,-1,-1]
["2015-07-13",-1,-1,-1,-1,-1,3,-1,-1,-1,-1,-1,-1,7,-1,-1,-1,-1,9,10,11,-1,-1,13,-1,-1,-1]
["2015-07-14",-1,-1,-1,-1,-1,3,-1,-1,-1,-1,-1,-1,7,-1,-1,-1,-1,9,10,11,-1,-1,13,-1,-1,-1]
["2015-07-15",-1,-1,-1,-1,-1,3,-1,-1,-1,-1,-1,-1,7,-1,-1,-1,-1,9,10,11,-1,-1,13,-1,-1,-1]
["2015-07-16",-1,-1,-1,-1,-1,3,-1,-1,-1,-1,-1,-1,7,-1,-1,-1,-1,9,10,11,-1,-1,13,-1,-1,-1]
["2015-07-17",-1,-1,-1,-1,-1,3,-1,-1,-1,-1,-1,-1,7,-1,-1,-1,-1,9,10,11,-1,-1,13,-1,-1,-1]
["2015-07-18",-1,-1,-1,-1,-1,3,-1,-1,-1,-1,-1,-1,7,-1,-1,-1,-1,9,10,11,-1,-1,13,-1,-1,-1]
["2015-07-19",-1,-1,-1,-1,-1,3,-1,-1,-1,-1,-1,-1,7,-1,-1,-1,-1,9,10,11,-1,-1,13,-1,-1,-1]
["2015-07-20",-1,-1,-1,-1,-1,3,-1,-1,-1,-1,-1,-1,7,-1,-1,-1,-1,9,10,11,-1,-1,13,-1,-1,-1]
["2015-07-21",-1,-1,-1,-1,-1,3,-1,-1,-1,-1,-1,-1,7,-1,-1,-1,-1,9,10,11,-1,-1,13,-1,-1,-1]
["2015-07-22",-1,-1,-1,-1,-1,3,-1,-1,-1,-1,-1,-1,7,-1,-1,-1,-1,9,10,11,-1,-1,13,-1,-1,-1]
["2015-07-23",-1,-1,-1,-1,-1,3,-1,-1,-1,-1,-1,-1,7,-1,-1,-1,-1,9,10,11,-1,-1,13,-1,-1,-1]
["2015-07-24",-1,-1,-1,-1,-1,3,-1,-1,-1,-1,-1,-1,7,-1,-1,-1,-1,9,10,11,-1,-1,13,-1,-1,-1]
["2015-07-25",-1,-1,-1,-1,-1,3,-1,-1,-1,-1,-1,-1,7,-1,-1,-1,-1,9,10,11,-1,-1,13,-1,-1,-1]
["2015-07-26",-1,-1,-1,-1,-1,3,-1,-1,-1,-1,-1,-1,7,-1,-1,-1,-1,9,10,11,-1,-1,13,-1,-1,-1]
["2015-07-27",-1,-1,-1,-1,-1,3,-1,-1,-1,-1,-1,-1,7,-1,-1,-1,-1,9,10,11,-1,-1,13,-1,-1,-1]
["2015-07-28",-1,-1,-1,-1,-1,3,-1,-1,-1,-1,-1,-1,7,-1,-1,-1,-1,9,10,11,-1,-1,13,-1,-1,-1]
["2015-07-29",-1,-1,-1,-1,-1,3,-1,-1,-1,-1,-1,-1,7,-1,-1,-1,-1,9,10,11,-1,-1,13,-1,-1,-1]
["2015-07-30",-1,-1,-1,-1,-1,3,-1,-1,-1,-1,-1,-1,7,-1,-1,-1,-1,9,10,11,-1,-1,13,-1,-1,-1]
["2015-07-31",-1,-1,-1,-1,-1,3,-1,-1,-1,-1,-1,-1,7,-1,-1,-1,-1,9,10,11,-1,-1,13,-1,-1,-1]
["2015-08-01",1,-1,-1,-1,-1,3,-1,-1,5,-1,-1,-1,7,-1,8,-1,-1,-1,10,11,-1,-1,13,-1,-1,-1]
["2015-08-02",1,-1,-1,-1,-1,3,-1,-1,5,-1,-1,-1,7,-1,8,-1,-1,-1,10,11,-1,-1,13,-1,-1,-1]
["2015-08-03",1,-1,-1,-1,-1,3,-1,-1,5,-1,-1,-1,7,-1,8,-1,-1,-1,10,11,-1,-1,13,-1,-1,-1]
["2015-08-04",1,-1,-1,-1,-1,3,-1,-1,5,-1,-1,-1,7,-1,8,-1,-1,-1,10,11,-1,-1,13,-1,-1,-1]
["2015-08-05",1,-1,-1,-1,-1,3,-1,-1,5,-1,-1,-1,7,-1,8,-1,-1,-1,10,11,-1,-1,13,-1,-1,-1]
["2015-08-06",1,-1,-1,-1,-1,3,-1,-1,5,-1,-1,-1,7,-1,8,-1,-1,-1,10,11,-1,-1,13,-1,-1,-1]
["2015-08-07",1,-1,-1,-1,-1,3,-1,-1,5,-1,-1,-1,7,-1,8,-1,-1,-1,10,11,-1,-1,13,-1,-1,-1]
["2015-08-08",1,-1,-1,-1,-1,3,-1,-1,5,-1,-1,-1,7,-1,8,-1,-1,-1,10,11,-1,-1,13,-1,-1,-1]
["2015-08-09",1,-1,-1,-1,-1,3,-1,-1,5,-1,-1,-1,7,-1,8,-1,-1,-1,10,11,-1,-1,13,-1,-1,-1]
["2015-08-10",1,-1,-1,-1,-1,3,-1,-1,5,-1,-1,-1,7,-1,8,-1,-1,-1,10,11,-1,-1,13,-1,-1,-1]
["2015-08-11",1,-1,-1,-1,-1,3,-1,-1,5,-1,-1,-1,7,-1,8,-1,-1,-1,10,11,-1,-1,13,-1,-1,-1]
["2015-08-12",1,-1,-1,-1,-1,3,-1,-1,5,-1,-1,-1,7,-1,8,-1,-1,-1,10,11,-1,-1,13,-1,-1,-1]
["2015-08-13",1,-1,-1,-1,-1,3,-1,-1,5,-1,-1,-1,7,-1,8,-1,-1,-1,10,11,-1,-1,13,-1,-1,-1]
["2015-08-14",1,-1,-1,-1,-1,3,-1,-1,5,-1,-1,-1,7,-1,8,-1,-1,-1,10,11,-1,-1,13,-1,-1,-1]
["2015-08-15",1,-1,-1,-1,-1,3,-1,-1,5,-1,-1,-1,7,-1,8,-1,-1,-1,10,11,-1,-1,13,-1,-1,-1]
["2015-08-16",1,-1,-1,-1,-1,3,-1,-1,5,-1,-1,-1,7,-1,8,-1,-1,-1,10,11,-1,-1,13,-1,-1,-1]
["2015-08-17",1,-1,-1,-1,-1,3,-1,-1,5,-1,-1,-1,7,-1,8,-1,-1,-1,10,11,-1,-1,13,-1,-1,-1]
["2015-08-18",1,-1,-1,-1,-1,3,-1,-1,5,-1,-1,-1,7,-1,8,-1,-1,-1,10,11,-1,-1,13,-1,-1,-1]
["2015-08-19",{"$f":"IF($F$1<A453,IF($F$2>A451,1,-1),-1)","v":1},-1,-1,-1,-1,3,-1,-1,5,-1,-1,-1,7,-1,8,-1,-1,-1,10,11,-1,-1,13,-1,-1,-1]
["2015-08-20",1,{"$f":"IF($B$9<A454,IF($B$10>A452,1,-1),-1)","v":-1},{"$f":"IF($B$11<A454,IF($B$12>A452,2,-1),-1)","v":-1},{"$f":"IF($B$13<A454,IF($B$14>A452,2,-1),-1)","v":-1},{"$f":"IF($B$15<A454,IF($B$16>A452,3,-1),-1)","v":-1},{"$f":"IF($B$17<A454,IF($B$18>A452,3,-1),-1)","v":3},{"$f":"IF($B$19<A454,IF($B$20>A452,4,-1),-1)","v":-1},{"$f":"IF($B$21<A454,IF($B$22>A452,4,-1),-1)","v":-1},{"$f":"IF($B$23<A454,IF($B$24>A452,5,-1),-1)","v":5},{"$f":"IF($B$25<A454,IF($B$26>A452,5,-1),-1)","v":-1},{"$f":"IF($B$27<A454,IF($B$28>A452,6,-1),-1)","v":-1},{"$f":"IF($B$29<A454,IF($B$30>A452,6,-1),-1)","v":-1},{"$f":"IF($B$31<A454,IF($B$32>A452,7,-1),-1)","v":7},{"$f":"IF($B$33<A454,IF($B$34>A452,7,-1),-1)","v":-1},{"$f":"IF($B$35<A454,IF($B$36>A452,8,-1),-1)","v":8},{"$f":"IF($B$37<A454,IF($B$38>A452,8,-1),-1)","v":-1},{"$f":"IF($B$39<A454,IF($B$40>A452,9,-1),-1)","v":-1},{"$f":"IF($B$41<A454,IF($B$42>A452,9,-1),-1)","v":-1},10,{"$f":"IF($B$43<A454,IF($B$44>A452,11,-1),-1)","v":11},{"$f":"IF($B$45<A454,IF($B$46>A452,11,-1),-1)","v":-1},{"$f":"IF($B$47<A454,IF($B$48>A452,12,-1),-1)","v":-1},{"$f":"IF($B$49<A454,IF($B$50>A452,13,-1),-1)","v":13},{"$f":"IF($B$51<A454,IF($B$52>A452,13,-1),-1)","v":-1},{"$f":"IF($B$53<A454,IF($B$54>A452,14,-1),-1)","v":-1},{"$f":"IF($B$55<A454,IF($B$56>A452,14,-1),-1)","v":-1}]
["2015-08-21",1,-1,-1,-1,-1,3,-1,-1,5,-1,-1,-1,7,-1,8,-1,-1,-1,10,11,-1,-1,13,-1,-1,-1]
["2015-08-22",1,-1,-1,-1,-1,3,-1,-1,5,-1,-1,-1,7,-1,8,-1,-1,-1,10,11,-1,-1,13,-1,-1,-1]
["2015-08-23",1,-1,-1,-1,-1,3,-1,-1,5,-1,-1,-1,7,-1,8,-1,-1,-1,10,11,-1,-1,13,-1,-1,-1]
["2015-08-24",1,-1,-1,-1,-1,3,-1,-1,5,-1,-1,-1,7,-1,8,-1,-1,-1,10,11,-1,-1,13,-1,-1,-1]
["2015-08-25",1,-1,-1,-1,-1,3,-1,-1,5,-1,-1,-1,7,-1,8,-1,-1,-1,10,11,-1,-1,13,-1,-1,-1]
["2015-08-26",1,-1,-1,-1,-1,3,-1,-1,5,-1,-1,-1,7,-1,8,-1,-1,-1,10,11,-1,-1,13,-1,-1,-1]
["2015-08-27",1,-1,-1,-1,-1,3,-1,-1,5,-1,-1,-1,7,-1,8,-1,-1,-1,10,11,-1,-1,13,-1,-1,-1]
["2015-08-28",1,-1,-1,-1,-1,3,-1,-1,5,-1,-1,-1,7,-1,8,-1,-1,-1,10,11,-1,-1,13,-1,-1,-1]
["2015-08-29",1,-1,-1,-1,-1,3,-1,-1,5,-1,-1,-1,7,-1,8,-1,-1,-1,10,11,-1,-1,13,-1,-1,-1]
["2015-08-30",1,-1,-1,-1,-1,3,-1,-1,5,-1,-1,-1,7,-1,8,-1,-1,-1,10,11,-1,-1,13,-1,-1,-1]
["2015-08-31",1,-1,-1,-1,-1,3,-1,-1,5,-1,-1,-1,7,-1,8,-1,-1,-1,10,11,-1,-1,13,-1,-1,-1]
["2015-09-01",1,-1,-1,-1,-1,3,-1,-1,5,-1,-1,-1,7,-1,8,-1,-1,-1,10,11,-1,-1,13,-1,-1,-1]
["2015-09-02",1,-1,-1,-1,-1,3,-1,-1,5,-1,-1,-1,7,-1,8,-1,-1,-1,10,11,-1,-1,13,-1,-1,-1]
["2015-09-03",1,-1,-1,-1,-1,3,-1,-1,5,-1,-1,-1,7,-1,8,-1,-1,-1,10,11,-1,-1,13,-1,-1,-1]
["2015-09-04",1,-1,-1,-1,-1,3,-1,-1,5,-1,-1,-1,7,-1,8,-1,-1,-1,10,11,-1,-1,13,-1,-1,-1]
["2015-09-05",1,-1,-1,-1,-1,3,-1,-1,5,-1,-1,-1,7,-1,8,-1,-1,-1,10,11,-1,-1,13,-1,-1,-1]
["2015-09-06",1,-1,-1,-1,-1,3,-1,-1,5,-1,-1,-1,7,-1,8,-1,-1,-1,10,11,-1,-1,13,-1,-1,-1]
["2015-09-07",1,-1,-1,-1,-1,3,-1,-1,5,-1,-1,-1,7,-1,8,-1,-1,-1,10,11,-1,-1,13,-1,-1,-1]
["2015-09-08",1,-1,-1,-1,-1,3,-1,-1,5,-1,-1,-1,7,-1,8,-1,-1,-1,10,11,-1,-1,13,-1,-1,-1]
["2015-09-09",1,-1,-1,-1,-1,3,-1,-1,5,-1,-1,-1,7,-1,8,-1,-1,-1,10,11,-1,-1,13,-1,-1,-1]
["2015-09-10",1,-1,-1,-1,-1,3,-1,-1,5,-1,-1,-1,7,-1,8,-1,-1,-1,10,11,-1,-1,13,-1,-1,-1]
["2015-09-11",1,-1,-1,-1,-1,3,-1,-1,5,-1,-1,-1,7,-1,8,-1,-1,-1,10,11,-1,-1,13,-1,-1,-1]
["2015-09-12",1,-1,-1,-1,-1,3,-1,-1,5,-1,-1,-1,7,-1,8,-1,-1,-1,10,11,-1,-1,13,-1,-1,-1]
["2015-09-13",1,-1,-1,-1,-1,3,-1,-1,5,-1,-1,-1,7,-1,8,-1,-1,-1,10,11,-1,-1,13,-1,-1,-1]
["2015-09-14",1,-1,-1,-1,-1,3,-1,-1,5,-1,-1,-1,7,-1,8,-1,-1,-1,10,11,-1,-1,13,-1,-1,-1]
["2015-09-15",1,-1,-1,-1,-1,3,-1,-1,5,-1,-1,-1,7,-1,8,-1,-1,-1,10,11,-1,-1,13,-1,-1,-1]
["2015-09-16",1,-1,-1,-1,-1,3,-1,-1,5,-1,-1,-1,7,-1,8,-1,-1,-1,10,11,-1,-1,13,-1,-1,-1]
["2015-09-17",1,-1,-1,-1,-1,3,-1,-1,5,-1,-1,-1,7,-1,8,-1,-1,-1,10,11,-1,-1,13,-1,-1,-1]
["2015-09-18",1,-1,-1,-1,-1,3,-1,-1,5,-1,-1,-1,7,-1,8,-1,-1,-1,10,11,-1,-1,13,-1,-1,-1]
["2015-09-19",1,-1,-1,-1,-1,3,-1,-1,5,-1,-1,-1,7,-1,8,-1,-1,-1,10,11,-1,-1,13,-1,-1,-1]
["2015-09-20",1,-1,-1,-1,-1,3,-1,-1,5,-1,-1,-1,7,-1,8,-1,-1,-1,10,11,-1,-1,13,-1,-1,-1]
["2015-09-21",1,-1,-1,-1,-1,3,-1,-1,5,-1,-1,-1,7,-1,8,-1,-1,-1,10,11,-1,-1,13,-1,-1,-1]
["2015-09-22",1,-1,-1,-1,-1,3,4,-1,5,-1,-1,-1,7,-1,8,-1,-1,-1,10,11,-1,-1,13,-1,-1,-1]
["2015-09-23",1,-1,-1,-1,-1,3,4,-1,5,-1,-1,-1,7,-1,8,-1,-1,-1,10,11,-1,-1,13,-1,-1,-1]
["2015-09-24",1,-1,-1,-1,-1,3,4,-1,5,-1,-1,-1,7,-1,8,-1,-1,-1,10,11,-1,-1,13,-1,-1,-1]
["2015-09-25",1,-1,-1,-1,-1,3,4,-1,5,-1,-1,-1,7,-1,8,-1,-1,-1,10,11,-1,-1,13,-1,-1,-1]
["2015-09-26",1,-1,-1,-1,-1,3,4,-1,5,-1,-1,-1,7,-1,8,-1,-1,-1,10,11,-1,-1,13,-1,-1,-1]
["2015-09-27",1,-1,-1,-1,-1,3,4,-1,5,-1,-1,-1,7,-1,8,-1,-1,-1,10,11,-1,-1,13,-1,-1,-1]
["2015-09-28",1,-1,-1,-1,-1,3,4,-1,5,-1,-1,-1,7,-1,8,-1,-1,-1,10,11,-1,-1,13,-1,-1,-1]
["2015-09-29",1,-1,-1,-1,-1,3,4,-1,5,-1,-1,-1,7,-1,8,-1,-1,-1,10,11,-1,-1,13,-1,-1,-1]
["2015-09-30",1,-1,-1,-1,-1,3,4,-1,5,-1,-1,-1,7,-1,8,-1,-1,-1,10,11,-1,-1,13,-1,-1,14]
["2015-10-01",1,-1,-1,-1,-1,3,4,-1,5,-1,-1,-1,7,-1,8,-1,-1,-1,10,11,-1,-1,13,-1,-1,14]
["2015-10-02",1,-1,-1,-1,-1,3,4,-1,5,-1,-1,-1,7,-1,8,-1,-1,-1,10,11,-1,-1,13,-1,-1,14]
["2015-10-03",1,-1,-1,-1,-1,3,4,-1,5,-1,-1,-1,7,-1,8,-1,-1,-1,10,11,-1,-1,13,-1,-1,14]
["2015-10-04",1,-1,-1,-1,-1,3,4,-1,5,-1,-1,-1,7,-1,8,-1,-1,-1,10,11,-1,-1,13,-1,-1,14]
["2015-10-05",1,-1,-1,-1,-1,3,4,-1,5,-1,-1,-1,7,-1,8,-1,-1,-1,10,11,-1,-1,13,-1,-1,14]
["2015-10-06",1,-1,-1,-1,-1,3,4,-1,5,-1,-1,-1,7,-1,8,-1,-1,-1,10,11,-1,-1,13,-1,-1,14]
["2015-10-07",1,-1,-1,-1,-1,3,4,-1,5,-1,-1,-1,7,-1,8,-1,-1,-1,10,11,-1,-1,13,-1,-1,14]
["2015-10-08",1,-1,-1,-1,-1,3,4,-1,5,-1,-1,-1,7,-1,8,-1,-1,-1,10,11,-1,-1,13,-1,-1,14]
["2015-10-09",1,-1,-1,-1,-1,3,4,-1,5,-1,-1,-1,7,-1,8,-1,-1,-1,10,11,-1,-1,13,-1,-1,14]
["2015-10-10",1,-1,-1,-1,-1,3,4,-1,5,-1,-1,-1,7,-1,8,-1,-1,-1,10,11,-1,-1,13,-1,-1,14]
["2015-10-11",1,-1,-1,-1,-1,3,4,-1,5,-1,-1,-1,7,-1,8,-1,-1,-1,10,11,-1,-1,13,-1,-1,14]
["2015-10-12",1,-1,-1,-1,-1,3,4,-1,5,-1,-1,-1,7,-1,8,-1,-1,-1,10,11,-1,-1,13,-1,-1,14]
["2015-10-13",1,-1,-1,-1,-1,3,4,-1,5,-1,-1,-1,7,-1,8,-1,-1,-1,10,11,-1,-1,13,-1,-1,14]
["2015-10-14",1,-1,-1,-1,-1,3,4,-1,5,-1,-1,-1,7,-1,8,-1,-1,-1,10,11,-1,-1,13,-1,-1,14]
["2015-10-15",1,-1,-1,-1,-1,3,4,-1,5,-1,-1,-1,7,-1,8,-1,-1,-1,10,11,-1,-1,13,-1,-1,14]
["2015-10-16",1,-1,-1,-1,-1,3,4,-1,5,-1,-1,-1,7,-1,8,-1,-1,-1,10,11,-1,-1,13,-1,-1,14]
["2015-10-17",1,-1,-1,-1,-1,3,4,-1,5,-1,-1,-1,7,-1,8,-1,-1,-1,10,11,-1,-1,13,-1,-1,14]
["2015-10-18",1,-1,-1,-1,-1,3,4,-1,5,-1,-1,-1,7,-1,8,-1,-1,-1,10,11,-1,-1,13,-1,-1,14]
["2015-10-19",1,-1,-1,-1,-1,3,4,-1,5,-1,-1,-1,7,-1,8,-1,-1,-1,10,11,-1,-1,13,-1,-1,14]
["2015-10-20",1,-1,-1,-1,-1,3,4,-1,5,-1,-1,-1,7,-1,8,-1,-1,-1,10,11,-1,-1,13,-1,-1,14]
["2015-10-21",1,-1,-1,-1,-1,3,4,-1,5,-1,-1,-1,7,-1,8,-1,-1,-1,10,11,-1,-1,13,-1,-1,14]
["2015-10-22",{"$f":"IF($F$1<A517,IF($F$2>A515,1,-1),-1)","v":1},-1,-1,-1,-1,3,4,-1,5,-1,-1,-1,7,-1,8,-1,-1,-1,10,11,-1,-1,13,-1,-1,14]
["2015-10-23",1,{"$f":"IF($B$9<A518,IF($B$10>A516,1,-1),-1)","v":-1},{"$f":"IF($B$11<A518,IF($B$12>A516,2,-1),-1)","v":2},{"$f":"IF($B$13<A518,IF($B$14>A516,2,-1),-1)","v":-1},{"$f":"IF($B$15<A518,IF($B$16>A516,3,-1),-1)","v":-1},{"$f":"IF($B$17<A518,IF($B$18>A516,3,-1),-1)","v":3},{"$f":"IF($B$19<A518,IF($B$20>A516,4,-1),-1)","v":4},{"$f":"IF($B$21<A518,IF($B$22>A516,4,-1),-1)","v":-1},{"$f":"IF($B$23<A518,IF($B$24>A516,5,-1),-1)","v":5},{"$f":"IF($B$25<A518,IF($B$26>A516,5,-1),-1)","v":-1},{"$f":"IF($B$27<A518,IF($B$28>A516,6,-1),-1)","v":-1},{"$f":"IF($B$29<A518,IF($B$30>A516,6,-1),-1)","v":-1},{"$f":"IF($B$31<A518,IF($B$32>A516,7,-1),-1)","v":7},{"$f":"IF($B$33<A518,IF($B$34>A516,7,-1),-1)","v":-1},{"$f":"IF($B$35<A518,IF($B$36>A516,8,-1),-1)","v":8},{"$f":"IF($B$37<A518,IF($B$38>A516,8,-1),-1)","v":-1},{"$f":"IF($B$39<A518,IF($B$40>A516,9,-1),-1)","v":-1},{"$f":"IF($B$41<A518,IF($B$42>A516,9,-1),-1)","v":-1},10,{"$f":"IF($B$43<A518,IF($B$44>A516,11,-1),-1)","v":11},{"$f":"IF($B$45<A518,IF($B$46>A516,11,-1),-1)","v":-1},{"$f":"IF($B$47<A518,IF($B$48>A516,12,-1),-1)","v":-1},{"$f":"IF($B$49<A518,IF($B$50>A516,13,-1),-1)","v":13},{"$f":"IF($B$51<A518,IF($B$52>A516,13,-1),-1)","v":-1},{"$f":"IF($B$53<A518,IF($B$54>A516,14,-1),-1)","v":-1},{"$f":"IF($B$55<A518,IF($B$56>A516,14,-1),-1)","v":14}]
["2015-10-24",1,-1,2,-1,-1,3,4,-1,5,-1,-1,-1,7,-1,8,-1,-1,-1,10,11,-1,-1,13,-1,-1,14]
["2015-10-25",1,-1,2,-1,-1,3,4,-1,5,-1,-1,-1,7,-1,8,-1,-1,-1,10,11,-1,-1,13,-1,-1,14]
["2015-10-26",1,-1,2,-1,-1,3,4,-1,5,-1,-1,-1,7,-1,8,-1,-1,-1,10,11,-1,-1,13,-1,-1,14]
["2015-10-27",1,-1,2,-1,-1,3,4,-1,5,-1,-1,-1,7,-1,8,-1,-1,-1,10,11,-1,-1,13,-1,-1,14]
["2015-10-28",1,-1,2,-1,-1,3,4,-1,5,-1,-1,-1,7,-1,8,-1,-1,-1,10,11,-1,-1,13,-1,-1,14]
["2015-10-29",1,-1,2,-1,-1,3,4,-1,5,-1,-1,-1,7,-1,8,-1,-1,-1,10,11,-1,-1,13,-1,-1,14]
["2015-10-30",1,-1,2,-1,-1,3,4,-1,5,-1,-1,-1,7,-1,8,-1,-1,-1,10,11,-1,-1,13,-1,-1,14]
["2015-10-31",-1,-1,2,-1,-1,3,4,-1,5,-1,-1,-1,-1,-1,8,-1,-1,-1,10,-1,-1,-1,13,-1,-1,14]
["2015-11-01",-1,-1,2,-1,-1,3,4,-1,5,-1,-1,-1,-1,-1,8,-1,-1,-1,10,-1,-1,12,13,-1,-1,14]
["2015-11-02",-1,-1,2,-1,-1,3,4,-1,5,-1,-1,-1,-1,-1,8,-1,-1,-1,10,-1,-1,12,13,-1,-1,14]
["2015-11-03",-1,-1,2,-1,-1,3,4,-1,5,-1,-1,-1,-1,-1,8,-1,-1,-1,10,-1,-1,12,13,-1,-1,14]
["2015-11-04",-1,-1,2,-1,-1,3,4,-1,5,-1,-1,-1,-1,-1,8,-1,-1,-1,10,-1,-1,12,13,-1,-1,14]
["2015-11-05",-1,-1,2,-1,-1,3,4,-1,5,-1,-1,-1,-1,-1,8,-1,-1,-1,10,-1,-1,12,13,-1,-1,14]
["2015-11-06",-1,-1,2,-1,-1,3,4,-1,5,-1,-1,-1,-1,-1,8,-1,-1,-1,10,-1,-1,12,13,-1,-1,14]
["2015-11-07",-1,-1,2,-1,-1,3,4,-1,5,-1,-1,-1,-1,-1,8,-1,-1,-1,10,-1,-1,12,13,-1,-1,14]
["2015-11-08",-1,-1,2,-1,-1,3,4,-1,5,-1,-1,-1,-1,-1,8,-1,-1,-1,10,-1,-1,12,13,-1,-1,14]
["2015-11-09",-1,-1,2,-1,-1,3,4,-1,5,-1,-1,-1,-1,-1,8,-1,-1,-1,10,-1,-1,12,13,-1,-1,14]
["2015-11-10",-1,-1,2,-1,-1,3,4,-1,5,-1,-1,-1,-1,-1,8,-1,-1,-1,10,-1,-1,12,13,-1,-1,14]
["2015-11-11",-1,-1,2,-1,-1,3,4,-1,5,-1,-1,-1,-1,-1,8,-1,-1,-1,10,-1,-1,12,13,-1,-1,14]
["2015-11-12",-1,-1,2,-1,-1,3,4,-1,5,-1,-1,-1,-1,-1,8,-1,-1,-1,10,-1,-1,12,13,-1,-1,14]
["2015-11-13",-1,-1,2,-1,-1,3,4,-1,5,-1,-1,-1,-1,-1,8,-1,-1,-1,10,-1,-1,12,13,-1,-1,14]
["2015-11-14",-1,-1,2,-1,-1,3,4,-1,5,-1,-1,-1,-1,-1,8,-1,-1,-1,10,-1,-1,12,13,-1,-1,14]
["2015-11-15",-1,-1,2,-1,-1,3,4,-1,5,-1,-1,-1,-1,-1,8,-1,-1,-1,10,-1,-1,12,13,-1,-1,14]
["2015-11-16",-1,-1,2,-1,-1,3,4,-1,5,-1,-1,-1,-1,-1,8,-1,-1,-1,10,-1,-1,12,13,-1,-1,14]
["2015-11-17",-1,-1,2,-1,-1,3,4,-1,5,-1,-1,-1,-1,-1,8,-1,-1,-1,10,-1,-1,12,13,-1,-1,14]
["2015-11-18",-1,-1,2,-1,-1,3,4,-1,5,-1,-1,-1,-1,-1,8,-1,-1,-1,10,-1,-1,12,13,-1,-1,14]
["2015-11-19",-1,-1,2,-1,-1,3,4,-1,5,-1,-1,-1,-1,-1,8,-1,-1,-1,10,-1,-1,12,13,-1,-1,14]
["2015-11-20",-1,-1,2,-1,-1,3,4,-1,5,-1,-1,-1,-1,-1,8,-1,-1,-1,10,-1,-1,12,13,-1,-1,14]
["2015-11-21",-1,-1,2,-1,-1,3,4,-1,5,-1,-1,-1,-1,-1,8,-1,-1,-1,10,-1,-1,12,13,-1,-1,14]
["2015-11-22",-1,-1,2,-1,-1,3,4,-1,5,-1,6,-1,-1,-1,8,-1,-1,-1,10,-1,-1,12,13,-1,-1,14]
["2015-11-23",-1,-1,2,-1,-1,3,4,-1,5,-1,6,-1,-1,-1,8,-1,-1,-1,10,-1,-1,12,13,-1,-1,14]
["2015-11-24",-1,-1,2,-1,-1,3,4,-1,5,-1,6,-1,-1,-1,8,-1,-1,-1,10,-1,-1,12,13,-1,-1,14]
["2015-11-25",-1,-1,2,-1,-1,3,4,-1,5,-1,6,-1,-1,-1,8,-1,-1,-1,10,-1,-1,12,13,-1,-1,14]
["2015-11-26",-1,-1,2,-1,-1,3,4,-1,5,-1,6,-1,-1,-1,8,-1,-1,-1,10,-1,-1,12,13,-1,-1,14]
["2015-11-27",-1,-1,2,-1,-1,3,4,-1,5,-1,6,-1,-1,-1,8,-1,-1,-1,10,-1,-1,12,13,-1,-1,14]
["2015-11-28",-1,-1,2,-1,-1,3,4,-1,5,-1,6,-1,-1,-1,8,-1,-1,-1,10,-1,-1,12,13,-1,-1,14]
["2015-11-29",-1,-1,2,-1,-1,3,4,-1,5,-1,6,-1,-1,-1,8,-1,-1,-1,10,-1,-1,12,13,-1,-1,14]
["2015-11-30",-1,-1,2,-1,-1,3,4,-1,5,-1,6,-1,-1,-1,8,-1,-1,-1,10,-1,-1,12,13,-1,-1,14]
["2015-12-01",-1,-1,2,-1,-1,3,4,-1,5,-1,6,-1,-1,-1,8,-1,-1,-1,10,-1,-1,12,13,-1,-1,14]
["2015-12-02",-1,-1,2,-1,-1,3,4,-1,5,-1,6,-1,-1,-1,8,-1,-1,-1,10,-1,-1,12,13,-1,-1,14]
["2015-12-03",-1,-1,2,-1,-1,3,4,-1,5,-1,6,-1,-1,-1,8,-1,-1,-1,10,-1,-1,12,13,-1,-1,14]
["2015-12-04",-1,-1,2,-1,-1,3,4,-1,5,-1,6,-1,-1,-1,8,-1,-1,-1,10,-1,-1,12,13,-1,-1,14]
["2015-12-05",-1,-1,2,-1,-1,3,4,-1,5,-1,6,-1,-1,-1,8,-1,-1,-1,10,-1,-1,12,13,-1,-1,14]
["2015-12-06",-1,-1,2,-1,-1,3,4,-1,5,-1,6,-1,-1,-1,8,-1,-1,-1,10,-1,-1,12,13,-1,-1,14]
["2015-12-07",-1,-1,2,-1,-1,3,4,-1,5,-1,6,-1,-1,-1,8,-1,-1,-1,10,-1,-1,12,13,-1,-1,14]
["2015-12-08",-1,-1,2,-1,-1,3,4,-1,5,-1,6,-1,-1,-1,8,-1,-1,-1,10,-1,-1,12,13,-1,-1,14]
["2015-12-09",-1,-1,2,-1,-1,3,4,-1,5,-1,6,-1,-1,-1,8,-1,-1,-1,10,-1,-1,12,13,-1,-1,14]
["2015-12-10",-1,-1,2,-1,-1,3,4,-1,5,-1,6,-1,-1,-1,8,-1,-1,-1,10,-1,-1,12,13,-1,-1,14]
["2015-12-11",-1,-1,2,-1,-1,3,4,-1,5,-1,6,-1,-1,-1,8,-1,-1,-1,10,-1,-1,12,13,-1,-1,14]
["2015-12-12",-1,-1,2,-1,-1,3,4,-1,5,-1,6,-1,-1,-1,8,-1,-1,-1,10,-1,-1,12,13,-1,-1,14]
["2015-12-13",-1,-1,2,-1,-1,3,4,-1,5,-1,6,-1,-1,-1,8,-1,-1,-1,10,-1,-1,12,13,-1,-1,14]
["2015-12-14",-1,-1,2,-1,-1,3,4,-1,5,-1,6,-1,-1,-1,8,-1,-1,-1,10,-1,-1,12,13,-1,-1,14]
["2015-12-15",-1,-1,2,-1,-1,3,4,-1,5,-1,6,-1,-1,-1,8,-1,-1,-1,10,-1,-1,12,13,-1,-1,14]
["2015-12-16",-1,-1,2,-1,-1,3,4,-1,5,-1,6,-1,-1,-1,8,-1,-1,-1,10,-1,-1,12,13,-1,-1,14]
["2015-12-17",-1,-1,2,-1,-1,3,4,-1,5,-1,6,-1,-1,-1,8,-1,-1,-1,10,-1,-1,12,13,-1,-1,14]
["2015-12-18",-1,-1,2,-1,-1,3,4,-1,5,-1,6,-1,-1,-1,8,-1,-1,-1,10,-1,-1,12,13,-1,-1,14]
["2015-12-19",-1,-1,2,-1,-1,3,4,-1,5,-1,6,-1,-1,-1,8,-1,-1,-1,10,-1,-1,12,13,-1,-1,14]
["2015-12-20",-1,-1,2,-1,-1,3,4,-1,5,-1,6,-1,-1,-1,8,-1,-1,-1,10,-1,-1,12,13,-1,-1,14]
["2015-12-21",-1,-1,2,-1,-1,3,4,-1,5,-1,6,-1,-1,-1,8,-1,-1,-1,10,-1,-1,12,13,-1,-1,14]
["2015-12-22",-1,-1,2,-1,-1,3,4,-1,5,-1,6,-1,-1,-1,8,-1,-1,-1,10,-1,-1,12,13,-1,-1,14]
["2015-12-23",-1,-1,2,-1,-1,3,-1,-1,5,-1,6,-1,-1,-1,8,-1,-1,-1,10,-1,-1,12,13,-1,-1,14]
["2015-12-24",-1,-1,2,-1,-1,3,-1,-1,5,-1,6,-1,-1,-1,8,-1,-1,-1,10,-1,-1,12,13,-1,-1,14]
["2015-12-25",{"$f":"IF($F$1<A581,IF($F$2>A579,1,-1),-1)","v":-1},-1,2,-1,-1,3,-1,-1,5,-1,6,-1,-1,-1,8,-1,-1,-1,10,-1,-1,12,13,-1,-1,14]
["2015-12-26",-1,{"$f":"IF($B$9<A582,IF($B$10>A580,1,-1),-1)","v":-1},{"$f":"IF($B$11<A582,IF($B$12>A580,2,-1),-1)","v":2},{"$f":"IF($B$13<A582,IF($B$14>A580,2,-1),-1)","v":-1},{"$f":"IF($B$15<A582,IF($B$16>A580,3,-1),-1)","v":-1},{"$f":"IF($B$17<A582,IF($B$18>A580,3,-1),-1)","v":3},{"$f":"IF($B$19<A582,IF($B$20>A580,4,-1),-1)","v":-1},{"$f":"IF($B$21<A582,IF($B$22>A580,4,-1),-1)","v":-1},{"$f":"IF($B$23<A582,IF($B$24>A580,5,-1),-1)","v":5},{"$f":"IF($B$25<A582,IF($B$26>A580,5,-1),-1)","v":-1},{"$f":"IF($B$27<A582,IF($B$28>A580,6,-1),-1)","v":6},{"$f":"IF($B$29<A582,IF($B$30>A580,6,-1),-1)","v":-1},{"$f":"IF($B$31<A582,IF($B$32>A580,7,-1),-1)","v":-1},{"$f":"IF($B$33<A582,IF($B$34>A580,7,-1),-1)","v":-1},{"$f":"IF($B$35<A582,IF($B$36>A580,8,-1),-1)","v":8},{"$f":"IF($B$37<A582,IF($B$38>A580,8,-1),-1)","v":-1},{"$f":"IF($B$39<A582,IF($B$40>A580,9,-1),-1)","v":-1},{"$f":"IF($B$41<A582,IF($B$42>A580,9,-1),-1)","v":-1},10,{"$f":"IF($B$43<A582,IF($B$44>A580,11,-1),-1)","v":-1},{"$f":"IF($B$45<A582,IF($B$46>A580,11,-1),-1)","v":-1},{"$f":"IF($B$47<A582,IF($B$48>A580,12,-1),-1)","v":12},{"$f":"IF($B$49<A582,IF($B$50>A580,13,-1),-1)","v":13},{"$f":"IF($B$51<A582,IF($B$52>A580,13,-1),-1)","v":-1},{"$f":"IF($B$53<A582,IF($B$54>A580,14,-1),-1)","v":-1},{"$f":"IF($B$55<A582,IF($B$56>A580,14,-1),-1)","v":14}]
["2015-12-27",-1,-1,2,-1,-1,3,-1,-1,5,-1,6,-1,-1,-1,8,-1,-1,-1,10,-1,-1,12,13,-1,-1,14]
["2015-12-28",-1,-1,2,-1,-1,3,-1,-1,5,-1,6,-1,-1,-1,8,-1,-1,-1,10,-1,-1,12,13,-1,-1,14]
["2015-12-29",-1,-1,2,-1,-1,3,-1,-1,5,-1,6,-1,-1,-1,8,-1,-1,-1,10,-1,-1,12,13,-1,-1,14]
["2015-12-30",-1,-1,2,-1,-1,3,-1,-1,5,-1,6,-1,-1,-1,8,-1,-1,-1,10,-1,-1,12,13,-1,-1,14]
["2015-12-31",-1,-1,2,-1,-1,3,-1,-1,5,-1,6,-1,-1,-1,-1,-1,-1,-1,10,-1,-1,12,13,-1,-1,14]
["2016-01-01",-1,-1,2,-1,-1,3,-1,-1,5,-1,6,-1,-1,-1,-1,-1,-1,-1,10,-1,-1,12,13,-1,-1,14]
["2016-01-02",-1,-1,2,-1,-1,3,-1,-1,5,-1,6,-1,-1,-1,-1,-1,-1,-1,10,-1,-1,12,13,-1,-1,14]
["2016-01-03",-1,-1,2,-1,-1,3,-1,-1,5,-1,6,-1,-1,-1,-1,-1,-1,-1,10,-1,-1,12,13,-1,-1,14]
["2016-01-04",-1,-1,2,-1,-1,3,-1,-1,5,-1,6,-1,-1,-1,-1,-1,-1,-1,10,-1,-1,12,13,-1,-1,14]
["2016-01-05",-1,-1,2,-1,-1,3,-1,-1,5,-1,6,-1,-1,-1,-1,-1,-1,-1,10,-1,-1,12,13,-1,-1,14]
["2016-01-06",-1,-1,2,-1,-1,3,-1,-1,5,-1,6,-1,-1,-1,-1,-1,-1,-1,10,-1,-1,12,13,-1,-1,14]
["2016-01-07",-1,-1,2,-1,-1,3,-1,-1,5,-1,6,-1,-1,-1,-1,-1,-1,-1,10,-1,-1,12,13,-1,-1,14]
["2016-01-08",-1,-1,2,-1,-1,3,-1,-1,5,-1,6,-1,-1,-1,-1,-1,-1,-1,10,-1,-1,12,13,-1,-1,14]
["2016-01-09",-1,-1,2,-1,-1,3,-1,-1,5,-1,6,-1,-1,-1,-1,-1,-1,-1,10,-1,-1,12,13,-1,-1,14]
["2016-01-10",-1,-1,2,-1,-1,3,-1,-1,5,-1,6,-1,-1,-1,-1,-1,-1,-1,10,-1,-1,12,13,-1,-1,14]
["2016-01-11",-1,-1,2,-1,-1,3,-1,-1,5,-1,6,-1,-1,-1,-1,-1,-1,-1,10,-1,-1,12,13,-1,-1,14]
["2016-01-12",-1,-1,2,-1,-1,3,-1,-1,5,-1,6,-1,-1,-1,-1,-1,-1,-1,10,-1,-1,12,13,-1,-1,14]
["2016-01-13",-1,-1,2,-1,-1,3,-1,-1,5,-1,6,-1,-1,-1,-1,-1,-1,-1,10,-1,-1,12,13,-1,-1,14]
["2016-01-14",-1,-1,2,-1,-1,3,-1,-1,5,-1,6,-1,-1,-1,-1,-1,-1,-1,10,-1,-1,12,13,-1,-1,14]
["2016-01-15",-1,-1,2,-1,-1,3,-1,-1,5,-1,6,-1,-1,-1,-1,-1,-1,-1,10,-1,-1,12,13,-1,-1,14]
["2016-01-16",-1,-1,2,-1,-1,3,-1,-1,5,-1,6,-1,-1,-1,-1,-1,-1,-1,10,-1,-1,12,13,-1,-1,14]
["2016-01-17",-1,-1,2,-1,-1,3,-1,-1,5,-1,6,-1,-1,-1,-1,-1,-1,-1,10,-1,-1,12,13,-1,-1,14]
["2016-01-18",-1,-1,2,-1,-1,3,-1,-1,5,-1,6,-1,-1,-1,-1,-1,-1,-1,10,-1,-1,12,13,-1,-1,14]
["2016-01-19",-1,-1,2,-1,-1,3,-1,-1,5,-1,6,-1,-1,-1,-1,-1,-1,-1,10,-1,-1,12,13,-1,-1,14]
["2016-01-20",-1,-1,2,-1,-1,3,-1,-1,5,-1,6,-1,-1,-1,-1,-1,-1,-1,10,-1,-1,12,13,-1,-1,14]
["2016-01-21",-1,-1,2,-1,-1,3,-1,-1,5,-1,6,-1,-1,-1,-1,-1,-1,-1,10,-1,-1,12,13,-1,-1,14]
["2016-01-22",-1,-1,-1,-1,-1,3,-1,-1,-1,-1,6,-1,-1,-1,-1,-1,-1,-1,10,-1,-1,12,13,-1,-1,14]
["2016-01-23",-1,-1,-1,-1,-1,3,-1,-1,-1,-1,6,-1,-1,-1,-1,-1,-1,-1,10,-1,-1,12,13,-1,-1,14]
["2016-01-24",-1,-1,-1,-1,-1,3,-1,-1,-1,-1,6,-1,-1,-1,-1,-1,-1,-1,10,-1,-1,12,13,-1,-1,14]
["2016-01-25",-1,-1,-1,-1,-1,3,-1,-1,-1,-1,6,-1,-1,-1,-1,-1,-1,-1,10,-1,-1,12,13,-1,-1,14]
["2016-01-26",-1,-1,-1,-1,-1,3,-1,-1,-1,-1,6,-1,-1,-1,-1,-1,-1,-1,10,-1,-1,12,13,-1,-1,14]
["2016-01-27",-1,-1,-1,-1,-1,3,-1,-1,-1,-1,6,-1,-1,-1,-1,-1,-1,-1,10,-1,-1,12,13,-1,-1,14]
["2016-01-28",-1,-1,-1,-1,-1,3,-1,-1,-1,-1,6,-1,-1,-1,-1,-1,-1,-1,10,-1,-1,12,13,-1,-1,14]
["2016-01-29",-1,-1,-1,-1,-1,3,-1,-1,-1,-1,6,-1,-1,-1,-1,-1,-1,-1,10,-1,-1,12,13,-1,-1,14]
["2016-01-30",-1,-1,-1,-1,-1,3,-1,-1,-1,-1,6,-1,-1,-1,-1,-1,9,-1,10,-1,-1,12,13,-1,-1,14]
["2016-01-31",-1,-1,-1,-1,-1,-1,-1,-1,-1,-1,6,-1,-1,-1,-1,-1,9,-1,10,-1,-1,12,13,-1,-1,14]
["2016-02-01",-1,-1,-1,-1,-1,-1,-1,-1,-1,-1,6,-1,-1,-1,-1,-1,9,-1,10,-1,-1,12,13,-1,-1,14]
["2016-02-02",-1,-1,-1,-1,-1,-1,-1,-1,-1,-1,6,-1,-1,-1,-1,-1,9,-1,10,-1,-1,12,13,-1,-1,14]
["2016-02-03",-1,-1,-1,-1,-1,-1,-1,-1,-1,-1,6,-1,-1,-1,-1,-1,9,-1,10,-1,-1,12,13,-1,-1,14]
["2016-02-04",-1,-1,-1,-1,-1,-1,-1,-1,-1,-1,6,-1,-1,-1,-1,-1,9,-1,10,-1,-1,12,13,-1,-1,14]
["2016-02-05",-1,-1,-1,-1,-1,-1,-1,-1,-1,-1,6,-1,-1,-1,-1,-1,9,-1,10,-1,-1,12,13,-1,-1,14]
["2016-02-06",-1,-1,-1,-1,-1,-1,-1,-1,-1,-1,6,-1,-1,-1,-1,-1,9,-1,10,-1,-1,12,13,-1,-1,14]
["2016-02-07",-1,-1,-1,-1,-1,-1,-1,-1,-1,-1,6,-1,-1,-1,-1,-1,9,-1,10,-1,-1,12,13,-1,-1,14]
["2016-02-08",-1,-1,-1,-1,-1,-1,-1,-1,-1,-1,6,-1,-1,-1,-1,-1,9,-1,10,-1,-1,12,13,-1,-1,14]
["2016-02-09",-1,-1,-1,-1,-1,-1,-1,-1,-1,-1,6,-1,-1,-1,-1,-1,9,-1,10,-1,-1,12,13,-1,-1,14]
["2016-02-10",-1,-1,-1,-1,-1,-1,-1,-1,-1,-1,6,-1,-1,-1,-1,-1,9,-1,10,-1,-1,12,13,-1,-1,14]
["2016-02-11",-1,-1,-1,-1,-1,-1,-1,-1,-1,-1,6,-1,-1,-1,-1,-1,9,-1,10,-1,-1,12,13,-1,-1,14]
["2016-02-12",-1,-1,-1,-1,-1,-1,-1,-1,-1,-1,6,-1,-1,-1,-1,-1,9,-1,10,-1,-1,12,13,-1,-1,14]
["2016-02-13",-1,-1,-1,-1,-1,-1,-1,-1,-1,-1,6,-1,-1,-1,-1,-1,9,-1,10,-1,-1,12,13,-1,-1,14]
["2016-02-14",-1,-1,-1,-1,-1,-1,-1,-1,-1,-1,6,-1,-1,-1,-1,-1,9,-1,10,-1,-1,12,13,-1,-1,14]
["2016-02-15",-1,-1,-1,-1,-1,-1,-1,-1,-1,-1,6,-1,-1,-1,-1,-1,9,-1,10,-1,-1,12,13,-1,-1,14]
["2016-02-16",-1,-1,-1,-1,-1,-1,-1,-1,-1,-1,6,-1,-1,-1,-1,-1,9,-1,10,-1,-1,12,13,-1,-1,14]
["2016-02-17",-1,-1,-1,-1,-1,-1,-1,-1,-1,-1,6,-1,-1,-1,-1,-1,9,-1,10,-1,-1,12,13,-1,-1,14]
["2016-02-18",-1,-1,-1,-1,-1,-1,-1,-1,-1,-1,6,-1,-1,-1,-1,-1,9,-1,10,-1,-1,12,13,-1,-1,14]
["2016-02-19",-1,-1,-1,-1,-1,-1,-1,-1,-1,-1,6,-1,-1,-1,-1,-1,9,-1,10,-1,-1,12,13,-1,-1,14]
["2016-02-20",-1,-1,-1,-1,-1,-1,-1,-1,-1,-1,6,-1,-1,-1,-1,-1,9,-1,10,-1,-1,12,13,-1,-1,14]
["2016-02-21",-1,-1,-1,-1,-1,-1,-1,-1,-1,-1,6,-1,-1,-1,-1,-1,9,-1,10,-1,-1,12,13,-1,-1,14]
["2016-02-22",-1,-1,-1,-1,-1,-1,-1,-1,-1,-1,-1,-1,-1,-1,-1,-1,9,-1,10,-1,-1,12,13,-1,-1,14]
["2016-02-23",-1,-1,-1,-1,-1,-1,-1,-1,-1,-1,-1,-1,-1,-1,-1,-1,9,-1,10,-1,-1,12,13,-1,-1,14]
["2016-02-24",-1,-1,-1,-1,-1,-1,-1,-1,-1,-1,-1,-1,-1,-1,-1,-1,9,-1,10,-1,-1,12,13,-1,-1,14]
["2016-02-25",-1,-1,-1,-1,-1,-1,-1,-1,-1,-1,-1,-1,-1,-1,-1,-1,9,-1,10,-1,-1,12,13,-1,-1,14]
["2016-02-26",-1,-1,-1,-1,-1,-1,-1,-1,-1,-1,-1,-1,-1,-1,-1,-1,9,-1,10,-1,-1,12,13,-1,-1,14]
["2016-02-27",{"$f":"IF($F$1<A645,IF($F$2>A643,1,-1),-1)","v":-1},-1,-1,-1,-1,-1,-1,-1,-1,-1,-1,-1,-1,-1,-1,-1,9,-1,10,-1,-1,12,13,-1,-1,14]
["2016-02-28",-1,{"$f":"IF($B$9<A646,IF($B$10>A644,1,-1),-1)","v":-1},{"$f":"IF($B$11<A646,IF($B$12>A644,2,-1),-1)","v":-1},{"$f":"IF($B$13<A646,IF($B$14>A644,2,-1),-1)","v":-1},{"$f":"IF($B$15<A646,IF($B$16>A644,3,-1),-1)","v":-1},{"$f":"IF($B$17<A646,IF($B$18>A644,3,-1),-1)","v":-1},{"$f":"IF($B$19<A646,IF($B$20>A644,4,-1),-1)","v":-1},{"$f":"IF($B$21<A646,IF($B$22>A644,4,-1),-1)","v":-1},{"$f":"IF($B$23<A646,IF($B$24>A644,5,-1),-1)","v":-1},{"$f":"IF($B$25<A646,IF($B$26>A644,5,-1),-1)","v":-1},{"$f":"IF($B$27<A646,IF($B$28>A644,6,-1),-1)","v":-1},{"$f":"IF($B$29<A646,IF($B$30>A644,6,-1),-1)","v":-1},{"$f":"IF($B$31<A646,IF($B$32>A644,7,-1),-1)","v":-1},{"$f":"IF($B$33<A646,IF($B$34>A644,7,-1),-1)","v":-1},{"$f":"IF($B$35<A646,IF($B$36>A644,8,-1),-1)","v":-1},{"$f":"IF($B$37<A646,IF($B$38>A644,8,-1),-1)","v":-1},{"$f":"IF($B$39<A646,IF($B$40>A644,9,-1),-1)","v":9},{"$f":"IF($B$41<A646,IF($B$42>A644,9,-1),-1)","v":-1},10,{"$f":"IF($B$43<A646,IF($B$44>A644,11,-1),-1)","v":-1},{"$f":"IF($B$45<A646,IF($B$46>A644,11,-1),-1)","v":-1},{"$f":"IF($B$47<A646,IF($B$48>A644,12,-1),-1)","v":12},{"$f":"IF($B$49<A646,IF($B$50>A644,13,-1),-1)","v":13},{"$f":"IF($B$51<A646,IF($B$52>A644,13,-1),-1)","v":-1},{"$f":"IF($B$53<A646,IF($B$54>A644,14,-1),-1)","v":-1},{"$f":"IF($B$55<A646,IF($B$56>A644,14,-1),-1)","v":14}]
["2016-02-29",-1,-1,-1,-1,-1,-1,-1,-1,-1,-1,-1,-1,-1,-1,-1,-1,9,-1,10,-1,-1,12,13,-1,-1,14]
["2016-03-01",-1,-1,-1,-1,-1,-1,-1,-1,-1,-1,-1,-1,-1,-1,-1,-1,9,-1,10,-1,-1,12,13,-1,-1,14]
["2016-03-02",-1,-1,-1,-1,-1,-1,-1,-1,-1,-1,-1,-1,-1,-1,-1,-1,9,-1,10,-1,-1,12,13,-1,-1,14]
["2016-03-03",-1,-1,-1,-1,-1,-1,-1,-1,-1,-1,-1,-1,-1,-1,-1,-1,9,-1,10,-1,-1,12,13,-1,-1,14]
["2016-03-04",-1,-1,-1,-1,-1,-1,-1,-1,-1,-1,-1,-1,-1,-1,-1,-1,9,-1,10,-1,-1,12,13,-1,-1,14]
["2016-03-05",-1,-1,-1,-1,-1,-1,-1,-1,-1,-1,-1,-1,-1,-1,-1,-1,9,-1,10,-1,-1,12,13,-1,-1,14]
["2016-03-06",-1,-1,-1,-1,-1,-1,-1,-1,-1,-1,-1,-1,-1,-1,-1,-1,9,-1,10,-1,-1,12,13,-1,-1,14]
["2016-03-07",-1,-1,-1,-1,-1,-1,-1,-1,-1,-1,-1,-1,-1,-1,-1,-1,9,-1,10,-1,-1,12,13,-1,-1,14]
["2016-03-08",-1,-1,-1,-1,-1,-1,-1,-1,-1,-1,-1,-1,-1,-1,-1,-1,9,-1,10,-1,-1,12,13,-1,-1,14]
["2016-03-09",-1,-1,-1,-1,-1,-1,-1,-1,-1,-1,-1,-1,-1,-1,-1,-1,9,-1,10,-1,-1,12,13,-1,-1,14]
["2016-03-10",-1,-1,-1,-1,-1,-1,-1,-1,-1,-1,-1,-1,-1,-1,-1,-1,9,-1,10,-1,-1,12,13,-1,-1,14]
["2016-03-11",-1,-1,-1,-1,-1,-1,-1,-1,-1,-1,-1,-1,-1,-1,-1,-1,9,-1,10,-1,-1,12,13,-1,-1,14]
["2016-03-12",-1,-1,-1,-1,-1,-1,-1,-1,-1,-1,-1,-1,-1,-1,-1,-1,9,-1,10,-1,-1,12,13,-1,-1,14]
["2016-03-13",-1,-1,-1,-1,-1,-1,-1,-1,-1,-1,-1,-1,-1,-1,-1,-1,9,-1,10,-1,-1,12,13,-1,-1,14]
["2016-03-14",-1,-1,-1,-1,-1,-1,-1,-1,-1,-1,-1,-1,-1,-1,-1,-1,9,-1,10,-1,-1,12,13,-1,-1,14]
["2016-03-15",-1,-1,-1,-1,-1,-1,-1,-1,-1,-1,-1,-1,-1,-1,-1,-1,9,-1,10,-1,-1,12,13,-1,-1,14]
["2016-03-16",-1,-1,-1,-1,-1,-1,-1,-1,-1,-1,-1,-1,-1,-1,-1,-1,9,-1,10,-1,-1,12,13,-1,-1,14]
["2016-03-17",-1,-1,-1,-1,-1,-1,-1,-1,-1,-1,-1,-1,-1,-1,-1,-1,9,-1,10,-1,-1,12,13,-1,-1,14]
["2016-03-18",-1,-1,-1,-1,-1,-1,-1,-1,-1,-1,-1,-1,-1,-1,-1,-1,9,-1,10,-1,-1,12,13,-1,-1,14]
["2016-03-19",-1,-1,-1,-1,-1,-1,-1,-1,-1,-1,-1,-1,-1,-1,-1,-1,9,-1,10,-1,-1,12,13,-1,-1,14]
["2016-03-20",-1,-1,-1,-1,-1,-1,-1,-1,-1,-1,-1,-1,-1,-1,-1,-1,9,-1,10,-1,-1,12,13,-1,-1,14]
["2016-03-21",-1,-1,-1,-1,-1,-1,-1,-1,-1,-1,-1,-1,-1,-1,-1,-1,9,-1,10,-1,-1,12,13,-1,-1,14]
["2016-03-22",-1,-1,-1,-1,-1,-1,-1,-1,-1,-1,-1,-1,-1,-1,-1,-1,9,-1,10,-1,-1,12,13,-1,-1,14]
["2016-03-23",-1,-1,-1,-1,-1,-1,-1,-1,-1,-1,-1,-1,-1,-1,-1,-1,9,-1,10,-1,-1,12,13,-1,-1,14]
["2016-03-24",-1,-1,-1,-1,-1,-1,-1,-1,-1,-1,-1,-1,-1,-1,-1,-1,9,-1,10,-1,-1,12,13,-1,-1,14]
["2016-03-25",-1,-1,-1,-1,-1,-1,-1,-1,-1,-1,-1,-1,-1,-1,-1,-1,9,-1,10,-1,-1,12,13,-1,-1,14]
["2016-03-26",-1,-1,-1,-1,-1,-1,-1,-1,-1,-1,-1,-1,-1,-1,-1,-1,9,-1,10,-1,-1,12,13,-1,-1,14]
["2016-03-27",-1,-1,-1,-1,-1,-1,-1,-1,-1,-1,-1,-1,-1,-1,-1,-1,9,-1,10,-1,-1,12,13,-1,-1,14]
["2016-03-28",-1,-1,-1,-1,-1,-1,-1,-1,-1,-1,-1,-1,-1,-1,-1,-1,9,-1,10,-1,-1,12,13,-1,-1,14]
["2016-03-29",-1,-1,-1,-1,-1,-1,-1,-1,-1,-1,-1,-1,-1,-1,-1,-1,9,-1,10,-1,-1,12,13,-1,-1,14]
["2016-03-30",-1,-1,-1,-1,-1,-1,-1,-1,-1,-1,-1,-1,-1,-1,-1,-1,9,-1,10,-1,-1,12,13,-1,-1,14]
["2016-03-31",-1,-1,-1,-1,3,-1,-1,-1,-1,-1,-1,-1,-1,-1,-1,-1,9,-1,10,-1,-1,12,13,-1,-1,14]
["2016-04-01",-1,-1,-1,-1,3,-1,-1,-1,-1,-1,-1,-1,-1,-1,-1,-1,9,-1,10,-1,11,-1,-1,-1,-1,14]
["2016-04-02",-1,-1,-1,-1,3,-1,-1,-1,-1,-1,-1,-1,-1,-1,-1,-1,9,-1,10,-1,11,-1,-1,-1,-1,-1]
["2016-04-03",-1,-1,-1,-1,3,-1,-1,-1,-1,-1,-1,-1,-1,-1,-1,-1,9,-1,10,-1,11,-1,-1,-1,-1,-1]
["2016-04-04",-1,-1,-1,-1,3,-1,-1,-1,-1,-1,-1,-1,-1,-1,-1,-1,9,-1,10,-1,11,-1,-1,-1,-1,-1]
["2016-04-05",-1,-1,-1,-1,3,-1,-1,-1,-1,-1,-1,-1,-1,-1,-1,-1,9,-1,10,-1,11,-1,-1,-1,-1,-1]
["2016-04-06",-1,-1,-1,-1,3,-1,-1,-1,-1,-1,-1,-1,-1,-1,-1,-1,9,-1,10,-1,11,-1,-1,-1,-1,-1]
["2016-04-07",-1,-1,-1,-1,3,-1,-1,-1,-1,-1,-1,-1,-1,-1,-1,-1,9,-1,10,-1,11,-1,-1,-1,-1,-1]
["2016-04-08",-1,-1,-1,-1,3,-1,-1,-1,-1,-1,-1,-1,-1,-1,-1,-1,9,-1,10,-1,11,-1,-1,-1,-1,-1]
["2016-04-09",-1,-1,-1,-1,3,-1,-1,-1,-1,-1,-1,-1,-1,-1,-1,-1,9,-1,10,-1,11,-1,-1,-1,-1,-1]
["2016-04-10",-1,-1,-1,-1,3,-1,-1,-1,-1,-1,-1,-1,-1,-1,-1,-1,9,-1,10,-1,11,-1,-1,-1,-1,-1]
["2016-04-11",-1,-1,-1,-1,3,-1,-1,-1,-1,-1,-1,-1,-1,-1,-1,-1,9,-1,10,-1,11,-1,-1,-1,-1,-1]
["2016-04-12",-1,-1,-1,-1,3,-1,-1,-1,-1,-1,-1,-1,-1,-1,-1,-1,9,-1,10,-1,11,-1,-1,-1,-1,-1]
["2016-04-13",-1,-1,-1,-1,3,-1,-1,-1,-1,-1,-1,-1,-1,-1,-1,-1,9,-1,10,-1,11,-1,-1,-1,-1,-1]
["2016-04-14",-1,-1,-1,-1,3,-1,-1,-1,-1,-1,-1,-1,-1,-1,-1,-1,9,-1,10,-1,11,-1,-1,-1,-1,-1]
["2016-04-15",-1,-1,-1,-1,3,-1,-1,-1,-1,-1,-1,-1,-1,-1,-1,-1,9,-1,10,-1,11,-1,-1,-1,-1,-1]
["2016-04-16",-1,-1,-1,-1,3,-1,-1,-1,-1,-1,-1,-1,-1,-1,-1,-1,9,-1,10,-1,11,-1,-1,-1,-1,-1]
["2016-04-17",-1,-1,-1,-1,3,-1,-1,-1,-1,-1,-1,-1,-1,-1,-1,-1,9,-1,10,-1,11,-1,-1,-1,-1,-1]
["2016-04-18",-1,-1,-1,-1,3,-1,-1,-1,-1,-1,-1,-1,-1,-1,-1,-1,9,-1,10,-1,11,-1,-1,-1,-1,-1]
["2016-04-19",-1,-1,-1,-1,3,-1,-1,-1,-1,-1,-1,-1,-1,-1,-1,-1,9,-1,10,-1,11,-1,-1,-1,-1,-1]
["2016-04-20",-1,-1,-1,-1,3,-1,-1,-1,-1,-1,-1,-1,-1,-1,-1,-1,9,-1,10,-1,11,-1,-1,-1,-1,-1]
["2016-04-21",-1,-1,-1,-1,3,-1,-1,-1,-1,-1,-1,-1,-1,-1,-1,-1,9,-1,10,-1,11,-1,-1,-1,-1,-1]
["2016-04-22",-1,-1,-1,-1,3,-1,-1,-1,-1,-1,-1,-1,-1,-1,-1,-1,9,-1,10,-1,11,-1,-1,-1,-1,-1]
["2016-04-23",-1,-1,-1,-1,3,-1,-1,-1,-1,-1,-1,-1,-1,-1,-1,-1,9,-1,10,-1,11,-1,-1,-1,-1,-1]
["2016-04-24",-1,-1,-1,-1,3,-1,-1,-1,-1,-1,-1,-1,-1,-1,-1,-1,9,-1,10,-1,11,-1,-1,-1,-1,-1]
["2016-04-25",-1,-1,-1,-1,3,-1,-1,-1,-1,-1,-1,-1,-1,-1,-1,-1,9,-1,10,-1,11,-1,-1,-1,-1,-1]
["2016-04-26",-1,-1,-1,-1,3,-1,-1,-1,-1,-1,-1,-1,-1,-1,-1,-1,9,-1,10,-1,11,-1,-1,-1,-1,-1]
["2016-04-27",-1,-1,-1,-1,3,-1,-1,-1,-1,-1,-1,-1,-1,-1,-1,-1,9,-1,10,-1,11,-1,-1,-1,-1,-1]
["2016-04-28",-1,-1,-1,-1,3,-1,-1,-1,-1,-1,-1,-1,-1,-1,-1,-1,9,-1,10,-1,11,-1,-1,-1,-1,-1]
["2016-04-29",-1,-1,-1,-1,3,-1,-1,-1,-1,-1,-1,-1,-1,-1,-1,-1,9,-1,10,-1,11,-1,-1,-1,-1,-1]
["2016-04-30",-1,-1,-1,-1,3,-1,-1,-1,-1,-1,-1,-1,-1,-1,-1,-1,9,-1,10,-1,11,-1,-1,-1,-1,-1]
["2016-05-01",{"$f":"IF($F$1<A709,IF($F$2>A707,1,-1),-1)","v":-1},-1,-1,-1,3,-1,-1,-1,-1,-1,-1,-1,-1,-1,-1,-1,9,-1,10,-1,11,-1,-1,-1,-1,-1]
["2016-05-02",-1,{"$f":"IF($B$9<A710,IF($B$10>A708,1,-1),-1)","v":-1},{"$f":"IF($B$11<A710,IF($B$12>A708,2,-1),-1)","v":-1},{"$f":"IF($B$13<A710,IF($B$14>A708,2,-1),-1)","v":-1},{"$f":"IF($B$15<A710,IF($B$16>A708,3,-1),-1)","v":3},{"$f":"IF($B$17<A710,IF($B$18>A708,3,-1),-1)","v":-1},{"$f":"IF($B$19<A710,IF($B$20>A708,4,-1),-1)","v":-1},{"$f":"IF($B$21<A710,IF($B$22>A708,4,-1),-1)","v":-1},{"$f":"IF($B$23<A710,IF($B$24>A708,5,-1),-1)","v":-1},{"$f":"IF($B$25<A710,IF($B$26>A708,5,-1),-1)","v":-1},{"$f":"IF($B$27<A710,IF($B$28>A708,6,-1),-1)","v":-1},{"$f":"IF($B$29<A710,IF($B$30>A708,6,-1),-1)","v":-1},{"$f":"IF($B$31<A710,IF($B$32>A708,7,-1),-1)","v":-1},{"$f":"IF($B$33<A710,IF($B$34>A708,7,-1),-1)","v":-1},{"$f":"IF($B$35<A710,IF($B$36>A708,8,-1),-1)","v":-1},{"$f":"IF($B$37<A710,IF($B$38>A708,8,-1),-1)","v":-1},{"$f":"IF($B$39<A710,IF($B$40>A708,9,-1),-1)","v":9},{"$f":"IF($B$41<A710,IF($B$42>A708,9,-1),-1)","v":-1},10,{"$f":"IF($B$43<A710,IF($B$44>A708,11,-1),-1)","v":-1},{"$f":"IF($B$45<A710,IF($B$46>A708,11,-1),-1)","v":11},{"$f":"IF($B$47<A710,IF($B$48>A708,12,-1),-1)","v":-1},{"$f":"IF($B$49<A710,IF($B$50>A708,13,-1),-1)","v":-1},{"$f":"IF($B$51<A710,IF($B$52>A708,13,-1),-1)","v":-1},{"$f":"IF($B$53<A710,IF($B$54>A708,14,-1),-1)","v":-1},{"$f":"IF($B$55<A710,IF($B$56>A708,14,-1),-1)","v":-1}]
["2016-05-03",-1,-1,-1,-1,3,-1,-1,-1,-1,-1,-1,-1,-1,-1,-1,-1,9,-1,10,-1,11,-1,-1,-1,-1,-1]
["2016-05-04",-1,-1,-1,-1,3,-1,-1,-1,-1,-1,-1,-1,-1,-1,-1,-1,9,-1,10,-1,11,-1,-1,-1,-1,-1]
["2016-05-05",-1,-1,-1,-1,3,-1,-1,-1,-1,-1,-1,-1,-1,-1,-1,-1,9,-1,10,-1,11,-1,-1,-1,-1,-1]
["2016-05-06",-1,-1,-1,-1,3,-1,-1,-1,-1,-1,-1,-1,-1,-1,-1,-1,9,-1,10,-1,11,-1,-1,-1,-1,-1]
["2016-05-07",-1,-1,-1,-1,3,-1,-1,-1,-1,-1,-1,-1,-1,-1,-1,-1,9,-1,10,-1,11,-1,-1,-1,-1,-1]
["2016-05-08",-1,-1,-1,-1,3,-1,-1,-1,-1,-1,-1,-1,-1,-1,-1,-1,9,-1,10,-1,11,-1,-1,-1,-1,-1]
["2016-05-09",-1,-1,-1,-1,3,-1,-1,-1,-1,-1,-1,-1,-1,-1,-1,-1,9,-1,10,-1,11,-1,-1,-1,-1,-1]
["2016-05-10",-1,-1,-1,-1,3,-1,-1,-1,-1,-1,-1,-1,-1,-1,-1,-1,9,-1,10,-1,11,-1,-1,-1,-1,-1]
["2016-05-11",-1,-1,-1,-1,3,-1,-1,-1,-1,-1,-1,-1,-1,-1,-1,-1,9,-1,10,-1,11,-1,-1,-1,-1,-1]
["2016-05-12",-1,-1,-1,-1,3,-1,-1,-1,-1,-1,-1,-1,-1,-1,-1,-1,9,-1,10,-1,11,-1,-1,-1,-1,-1]
["2016-05-13",-1,-1,-1,-1,3,-1,-1,-1,-1,-1,-1,-1,-1,-1,-1,-1,9,-1,10,-1,11,-1,-1,-1,-1,-1]
["2016-05-14",-1,-1,-1,-1,3,-1,-1,-1,-1,-1,-1,-1,-1,-1,-1,-1,9,-1,10,-1,11,-1,-1,-1,-1,-1]
["2016-05-15",-1,-1,-1,-1,3,-1,-1,-1,-1,-1,-1,-1,-1,-1,-1,-1,9,-1,10,-1,11,-1,-1,-1,-1,-1]
["2016-05-16",-1,-1,-1,-1,3,-1,-1,-1,-1,-1,-1,-1,-1,-1,-1,-1,9,-1,10,-1,11,-1,-1,-1,-1,-1]
["2016-05-17",-1,-1,-1,-1,3,-1,-1,-1,-1,-1,-1,-1,-1,-1,-1,-1,9,-1,10,-1,11,-1,-1,-1,-1,-1]
["2016-05-18",-1,-1,-1,-1,3,-1,-1,-1,-1,-1,-1,-1,-1,-1,-1,-1,9,-1,10,-1,11,-1,-1,-1,-1,-1]
["2016-05-19",-1,-1,-1,-1,3,-1,-1,-1,-1,-1,-1,-1,-1,-1,-1,-1,9,-1,10,-1,11,-1,-1,-1,-1,-1]
["2016-05-20",-1,-1,-1,-1,3,-1,-1,-1,-1,-1,-1,-1,-1,-1,-1,-1,9,-1,10,-1,11,-1,-1,-1,-1,-1]
["2016-05-21",-1,-1,-1,-1,3,-1,-1,-1,-1,-1,-1,-1,-1,-1,-1,-1,9,-1,10,-1,11,-1,-1,-1,-1,-1]
["2016-05-22",-1,-1,-1,-1,3,-1,-1,-1,-1,-1,-1,-1,-1,-1,-1,-1,9,-1,10,-1,11,-1,-1,-1,-1,-1]
["2016-05-23",-1,-1,-1,-1,3,-1,-1,-1,-1,-1,-1,-1,-1,-1,-1,-1,9,-1,10,-1,11,-1,-1,-1,-1,-1]
["2016-05-24",-1,-1,-1,-1,3,-1,-1,-1,-1,-1,-1,-1,-1,-1,-1,-1,9,-1,10,-1,11,-1,-1,-1,-1,-1]
["2016-05-25",-1,-1,-1,-1,3,-1,-1,-1,-1,-1,-1,-1,-1,-1,-1,-1,9,-1,10,-1,11,-1,-1,-1,-1,-1]
["2016-05-26",-1,-1,-1,-1,3,-1,-1,-1,-1,-1,-1,-1,-1,-1,-1,-1,9,-1,10,-1,11,-1,-1,-1,-1,-1]
["2016-05-27",-1,-1,-1,-1,3,-1,-1,-1,-1,-1,-1,-1,-1,-1,-1,-1,9,-1,10,-1,11,-1,-1,-1,-1,-1]
["2016-05-28",-1,-1,-1,-1,3,-1,-1,-1,-1,-1,-1,-1,-1,-1,-1,-1,9,-1,10,-1,11,-1,-1,-1,-1,-1]
["2016-05-29",-1,-1,-1,-1,3,-1,-1,-1,-1,-1,-1,-1,-1,-1,-1,-1,9,-1,10,-1,11,-1,-1,-1,-1,-1]
["2016-05-30",-1,-1,-1,-1,3,-1,-1,-1,-1,-1,-1,-1,-1,-1,-1,-1,9,-1,10,-1,11,-1,-1,-1,-1,-1]
["2016-05-31",-1,-1,-1,-1,3,-1,-1,-1,-1,-1,-1,-1,-1,-1,-1,-1,9,-1,10,-1,11,-1,-1,-1,-1,-1]
["2016-06-01",-1,-1,-1,-1,3,-1,-1,-1,-1,-1,-1,-1,-1,-1,-1,-1,9,-1,10,-1,11,-1,-1,-1,-1,-1]
["2016-06-02",-1,-1,-1,-1,3,-1,-1,-1,-1,-1,-1,-1,-1,-1,-1,-1,9,-1,10,-1,11,-1,-1,-1,-1,-1]
["2016-06-03",-1,-1,-1,-1,3,-1,-1,-1,-1,-1,-1,-1,-1,-1,-1,-1,9,-1,10,-1,11,-1,-1,-1,-1,-1]
["2016-06-04",-1,-1,-1,-1,3,-1,-1,-1,-1,-1,-1,-1,-1,-1,-1,-1,9,-1,10,-1,11,-1,-1,-1,-1,-1]
["2016-06-05",-1,-1,-1,-1,3,-1,-1,-1,-1,-1,-1,-1,-1,-1,-1,-1,9,-1,10,-1,11,-1,-1,-1,-1,-1]
["2016-06-06",-1,-1,-1,-1,3,-1,-1,-1,-1,-1,-1,-1,-1,-1,-1,-1,9,-1,10,-1,11,-1,-1,-1,-1,-1]
["2016-06-07",-1,-1,-1,-1,3,-1,-1,-1,-1,-1,-1,-1,-1,-1,-1,-1,9,-1,10,-1,11,-1,-1,-1,-1,-1]
["2016-06-08",-1,-1,-1,-1,3,-1,-1,-1,-1,-1,-1,-1,-1,-1,-1,-1,9,-1,10,-1,11,-1,-1,-1,-1,-1]
["2016-06-09",-1,-1,-1,-1,3,-1,-1,-1,-1,-1,-1,-1,-1,-1,-1,-1,9,-1,10,-1,11,-1,-1,-1,-1,-1]
["2016-06-10",-1,-1,-1,-1,3,-1,-1,-1,-1,-1,-1,-1,-1,-1,-1,-1,9,-1,10,-1,11,-1,-1,-1,-1,-1]
["2016-06-11",-1,-1,-1,-1,3,-1,-1,-1,-1,-1,-1,-1,-1,-1,-1,-1,9,-1,10,-1,11,-1,-1,-1,-1,-1]
["2016-06-12",-1,-1,-1,-1,3,-1,-1,-1,-1,-1,-1,-1,-1,-1,-1,-1,9,-1,10,-1,11,-1,-1,-1,-1,-1]
["2016-06-13",-1,-1,-1,-1,3,-1,-1,-1,-1,-1,-1,-1,-1,-1,-1,-1,9,-1,10,-1,11,-1,-1,-1,-1,-1]
["2016-06-14",-1,-1,-1,-1,3,-1,-1,-1,-1,-1,-1,-1,-1,-1,-1,-1,9,-1,10,-1,11,-1,-1,-1,-1,-1]
["2016-06-15",-1,-1,-1,-1,3,-1,-1,-1,-1,-1,-1,-1,-1,-1,-1,-1,9,-1,10,-1,11,-1,-1,-1,-1,-1]
["2016-06-16",-1,-1,-1,-1,3,-1,-1,-1,-1,-1,-1,-1,-1,-1,-1,-1,9,-1,10,-1,11,-1,-1,-1,-1,-1]
["2016-06-17",-1,-1,-1,-1,3,-1,-1,-1,-1,-1,-1,-1,-1,-1,-1,-1,9,-1,10,-1,11,-1,-1,-1,-1,-1]
["2016-06-18",-1,-1,-1,-1,3,-1,-1,-1,-1,-1,-1,-1,-1,-1,-1,-1,9,-1,10,-1,11,-1,-1,-1,-1,-1]
["2016-06-19",-1,-1,-1,-1,3,-1,-1,-1,-1,-1,-1,-1,-1,-1,-1,-1,9,-1,10,-1,11,-1,-1,-1,-1,-1]
["2016-06-20",-1,-1,-1,-1,3,-1,-1,-1,-1,-1,-1,-1,-1,-1,-1,-1,9,-1,10,-1,11,-1,-1,-1,-1,-1]
["2016-06-21",-1,-1,-1,-1,3,-1,-1,-1,-1,-1,-1,-1,-1,-1,-1,-1,9,-1,10,-1,11,-1,-1,-1,-1,-1]
["2016-06-22",-1,-1,-1,-1,3,-1,-1,-1,-1,-1,-1,-1,-1,-1,-1,-1,9,-1,10,-1,11,-1,-1,-1,-1,-1]
["2016-06-23",-1,-1,-1,-1,3,-1,-1,-1,-1,-1,-1,-1,-1,-1,-1,-1,9,-1,10,-1,11,-1,-1,-1,-1,-1]
["2016-06-24",-1,-1,-1,-1,3,-1,-1,-1,-1,-1,-1,-1,-1,-1,-1,-1,9,-1,10,-1,11,-1,-1,-1,-1,-1]
["2016-06-25",-1,-1,-1,-1,3,-1,-1,-1,-1,-1,-1,-1,-1,-1,-1,-1,9,-1,10,-1,11,-1,-1,-1,-1,-1]
["2016-06-26",-1,-1,-1,-1,3,-1,-1,-1,-1,-1,-1,-1,-1,-1,-1,-1,9,-1,10,-1,11,-1,-1,-1,-1,-1]
["2016-06-27",-1,-1,-1,-1,3,-1,-1,-1,-1,-1,-1,-1,-1,-1,-1,-1,9,-1,10,-1,11,-1,-1,-1,-1,-1]
["2016-06-28",-1,-1,-1,-1,3,-1,-1,-1,-1,-1,-1,-1,-1,-1,-1,-1,9,-1,10,-1,11,-1,-1,-1,-1,-1]
["2016-06-29",-1,-1,-1,-1,3,-1,-1,-1,-1,-1,-1,-1,-1,-1,-1,-1,9,-1,10,-1,11,-1,-1,-1,-1,-1]
["2016-06-30",-1,-1,-1,-1,3,-1,-1,-1,-1,-1,-1,-1,-1,-1,-1,-1,9,-1,10,-1,11,-1,-1,-1,-1,-1]
["2016-07-01",-1,-1,-1,-1,3,-1,-1,-1,-1,-1,-1,-1,-1,-1,-1,-1,9,-1,10,-1,11,-1,-1,-1,-1,-1]
["2016-07-02",-1,-1,-1,-1,3,-1,-1,-1,-1,-1,-1,-1,-1,-1,-1,-1,9,-1,10,-1,11,-1,-1,-1,-1,-1]
["2016-07-03",-1,-1,-1,-1,3,-1,-1,-1,-1,-1,-1,-1,-1,-1,-1,-1,9,-1,10,-1,11,-1,-1,-1,-1,-1]
["2016-07-04",{"$f":"IF($F$1<A773,IF($F$2>A771,1,-1),-1)","v":-1},-1,-1,-1,3,-1,-1,-1,-1,-1,-1,-1,-1,-1,-1,-1,9,-1,10,-1,11,-1,-1,-1,-1,-1]
["2016-07-05",-1,{"$f":"IF($B$9<A774,IF($B$10>A772,1,-1),-1)","v":-1},{"$f":"IF($B$11<A774,IF($B$12>A772,2,-1),-1)","v":-1},{"$f":"IF($B$13<A774,IF($B$14>A772,2,-1),-1)","v":-1},{"$f":"IF($B$15<A774,IF($B$16>A772,3,-1),-1)","v":3},{"$f":"IF($B$17<A774,IF($B$18>A772,3,-1),-1)","v":-1},{"$f":"IF($B$19<A774,IF($B$20>A772,4,-1),-1)","v":-1},{"$f":"IF($B$21<A774,IF($B$22>A772,4,-1),-1)","v":-1},{"$f":"IF($B$23<A774,IF($B$24>A772,5,-1),-1)","v":-1},{"$f":"IF($B$25<A774,IF($B$26>A772,5,-1),-1)","v":-1},{"$f":"IF($B$27<A774,IF($B$28>A772,6,-1),-1)","v":-1},{"$f":"IF($B$29<A774,IF($B$30>A772,6,-1),-1)","v":-1},{"$f":"IF($B$31<A774,IF($B$32>A772,7,-1),-1)","v":-1},{"$f":"IF($B$33<A774,IF($B$34>A772,7,-1),-1)","v":-1},{"$f":"IF($B$35<A774,IF($B$36>A772,8,-1),-1)","v":-1},{"$f":"IF($B$37<A774,IF($B$38>A772,8,-1),-1)","v":-1},{"$f":"IF($B$39<A774,IF($B$40>A772,9,-1),-1)","v":9},{"$f":"IF($B$41<A774,IF($B$42>A772,9,-1),-1)","v":-1},10,{"$f":"IF($B$43<A774,IF($B$44>A772,11,-1),-1)","v":-1},{"$f":"IF($B$45<A774,IF($B$46>A772,11,-1),-1)","v":11},{"$f":"IF($B$47<A774,IF($B$48>A772,12,-1),-1)","v":-1},{"$f":"IF($B$49<A774,IF($B$50>A772,13,-1),-1)","v":-1},{"$f":"IF($B$51<A774,IF($B$52>A772,13,-1),-1)","v":-1},{"$f":"IF($B$53<A774,IF($B$54>A772,14,-1),-1)","v":-1},{"$f":"IF($B$55<A774,IF($B$56>A772,14,-1),-1)","v":-1}]
["2016-07-06",-1,-1,-1,-1,3,-1,-1,-1,-1,-1,-1,-1,-1,-1,-1,-1,9,-1,10,-1,11,-1,-1,-1,-1,-1]
["2016-07-07",-1,-1,-1,-1,3,-1,-1,-1,-1,-1,-1,-1,-1,-1,-1,-1,9,-1,10,-1,11,-1,-1,-1,-1,-1]
["2016-07-08",-1,-1,-1,-1,3,-1,-1,-1,-1,-1,-1,-1,-1,-1,-1,-1,9,-1,10,-1,11,-1,-1,-1,-1,-1]
["2016-07-09",-1,-1,-1,-1,3,-1,-1,-1,-1,-1,-1,-1,-1,-1,-1,-1,9,-1,10,-1,11,-1,-1,-1,-1,-1]
["2016-07-10",-1,-1,-1,-1,3,-1,-1,-1,-1,-1,-1,-1,-1,-1,-1,-1,9,-1,10,-1,11,-1,-1,-1,-1,-1]
["2016-07-11",-1,-1,-1,-1,3,-1,-1,-1,-1,-1,-1,-1,-1,-1,-1,-1,9,-1,10,-1,11,-1,-1,-1,-1,-1]
["2016-07-12",-1,-1,-1,-1,3,-1,-1,-1,-1,-1,-1,-1,-1,-1,-1,-1,9,-1,10,-1,11,-1,-1,-1,-1,-1]
["2016-07-13",-1,-1,-1,-1,3,-1,-1,-1,-1,-1,-1,-1,-1,-1,-1,-1,9,-1,10,-1,11,-1,-1,-1,-1,-1]
["2016-07-14",-1,-1,-1,-1,3,-1,-1,-1,-1,-1,-1,-1,-1,-1,-1,-1,9,-1,10,-1,11,-1,-1,-1,-1,-1]
["2016-07-15",-1,-1,-1,-1,3,-1,-1,-1,-1,-1,-1,-1,-1,-1,-1,-1,9,-1,10,-1,11,-1,-1,-1,-1,-1]
["2016-07-16",-1,-1,-1,-1,3,-1,-1,-1,-1,-1,-1,-1,-1,-1,-1,-1,9,-1,10,-1,11,-1,-1,-1,-1,-1]
["2016-07-17",-1,-1,-1,-1,3,-1,-1,-1,-1,-1,-1,-1,-1,-1,-1,-1,9,-1,10,-1,11,-1,-1,-1,-1,-1]
["2016-07-18",-1,-1,-1,-1,3,-1,-1,-1,-1,-1,-1,-1,-1,-1,-1,-1,9,-1,10,-1,11,-1,-1,-1,-1,-1]
["2016-07-19",-1,-1,-1,-1,3,-1,-1,-1,-1,-1,-1,-1,-1,-1,-1,-1,9,-1,10,-1,11,-1,-1,-1,-1,-1]
["2016-07-20",-1,-1,-1,-1,3,-1,-1,-1,-1,-1,-1,-1,-1,-1,-1,-1,9,-1,10,-1,11,-1,-1,-1,-1,-1]
["2016-07-21",-1,-1,-1,-1,3,-1,-1,-1,-1,-1,-1,-1,-1,-1,-1,-1,9,-1,10,-1,11,-1,-1,-1,-1,-1]
["2016-07-22",-1,-1,-1,-1,3,-1,-1,-1,-1,-1,-1,-1,-1,-1,-1,-1,9,-1,10,-1,11,-1,-1,-1,-1,-1]
["2016-07-23",-1,-1,-1,-1,3,-1,-1,-1,-1,-1,-1,-1,-1,-1,-1,-1,9,-1,10,-1,11,-1,-1,-1,-1,-1]
["2016-07-24",-1,-1,-1,-1,3,-1,-1,-1,-1,-1,-1,-1,-1,-1,-1,-1,9,-1,10,-1,11,-1,-1,-1,-1,-1]
["2016-07-25",-1,-1,-1,-1,3,-1,-1,-1,-1,-1,-1,-1,-1,-1,-1,-1,9,-1,10,-1,11,-1,-1,-1,-1,-1]
["2016-07-26",-1,-1,-1,-1,3,-1,-1,-1,-1,-1,-1,-1,-1,-1,-1,-1,9,-1,10,-1,11,-1,-1,-1,-1,-1]
["2016-07-27",-1,-1,-1,-1,3,-1,-1,-1,-1,-1,-1,-1,-1,-1,-1,-1,9,-1,10,-1,11,-1,-1,-1,-1,-1]
["2016-07-28",-1,-1,-1,-1,3,-1,-1,-1,-1,-1,-1,-1,-1,-1,-1,-1,9,-1,10,-1,11,-1,-1,-1,-1,-1]
["2016-07-29",-1,-1,-1,-1,3,-1,-1,-1,-1,-1,-1,-1,-1,-1,-1,-1,9,-1,10,-1,11,-1,-1,-1,-1,-1]
["2016-07-30",-1,-1,-1,-1,3,-1,-1,-1,-1,-1,-1,-1,-1,-1,-1,-1,9,-1,10,-1,11,-1,-1,-1,-1,-1]
["2016-07-31",-1,-1,-1,-1,-1,-1,-1,-1,-1,-1,-1,-1,-1,-1,-1,-1,-1,-1,10,-1,-1,-1,-1,-1,-1,-1]